Workbook

Sheet N 1.1
A1: Հավելված N 1
A2: ՀՀ կառավարության 2020 թվականի
A3: -ի N -Ն որոշման
A5: «ՀԱՅԱՍՏԱՆԻ ՀԱՆՐԱՊԵՏՈՒԹՅԱՆ 2020 ԹՎԱԿԱՆԻ ՊԵՏԱԿԱՆ ԲՅՈՒՋԵԻ ՄԱՍԻՆ» ՀԱՅԱՍՏԱՆԻ ՀԱՆՐԱՊԵՏՈՒԹՅԱՆ ՕՐԵՆՔԻ N 1 ՀԱՎԵԼՎԱԾԻ N 2 ԱՂՅՈՒՍԱԿՈՒՄ ԿԱՏԱՐՎՈՂ ՎԵՐԱԲԱՇԽՈՒՄԸ ԵՎ ՀԱՅԱՍՏԱՆԻ ՀԱՆՐԱՊԵՏՈՒԹՅԱՆ ԿԱՌԱՎԱՐՈՒԹՅԱՆ 2019 ԹՎԱԿԱՆԻ ԴԵԿՏԵՄԲԵՐԻ 26-Ի N 1919-Ն ՈՐՈՇՄԱՆ N 5 ՀԱՎԵԼՎԱԾԻ N 1 ԱՂՅՈՒՍԱԿՈՒՄ ԿԱՏԱՐՎՈՂ ՓՈՓՈԽՈՒԹՅՈՒՆՆԵՐԸ ԵՎ ԼՐԱՑՈՒՄՆԵՐԸ
E8: (հազ. դրամ)
A9: Ծրագրային դասիչը | C9: Բյուջետային հատկացումների գլխավոր կարգադրիչների, ծրագրերի և միջոցառումների անվանումները | D9: Ցուցանիշների փոփոխությունը (ավելացումները նշված են դրական նշանով, իսկ նվազեցումները՝ փակագծերում)
D10: ինն ամիս | E10: տարի
A11: ծրագիրը | B11: միջոցառումը
C12: Ընդամենը | D12: =D13 -> 0 | E12: =E13 -> 0
C13: ՀՀ կրթության, գիտության, մշակույթի և սպորտի նախարարություն | D13: =D46+D14 -> 0 | E13: =E46+E14+E33 -> 0
A14: 1041 | C14: Ծրագրի անվանումը | D14: =+D21+D27 -> 5850 | E14: =+E21+E27 -> 46810
C15: Մեծ նվաճումների սպորտ
C16: Ծրագրի նպատակը
C17: Նպաստել Հայաստանում մեծ սպորտի շարունակական զարգացմանը և միջազգային հարթակներում ՀՀ դիրքի բարելավմանը
C18: Վերջնական արդյունքի նկարագրությունը
C19: ՀՀ առաջնությունների ընդլայնում, միջազգային սպորտային միջոցառումներին մասնակցության և նվաճումների ապահովում
A20: Ծրագրի միջոցառումներ
B21: 11010 | C21: Միջոցառման անվանումը | D21: 0 | E21: -36377.5
C22: 2020 թվականի Տոկիոյի 32-րդ Օլիմպիական խաղերին Հայաստանի մարզական պատվիրակության նախապատրաստման և մասնակցության ապահովում
C23: Միջոցառման նկարագրությունը
C24: 2020 թվականի Տոկիոյի 32-րդ Օլիմպիական խաղերին Հայաստանի մարզական պատվիրակության նախապատրաստում և մասնակցություն
C25: Միջոցառման տեսակը
C26: Ծառայությունների մատուցում
B27: 12003 | C27: Միջոցառման անվանումը | D27: 5850 | E27: 83187.5
C28: Օլիմպիական խաղերում, աշխարհի և Եվրոպայի առաջնություններում բարձր արդյունքների հասած ՀՀ հավաքական թիմերի մարզիկներին և նրանց մարզիչներին անվանական թոշակի հատկացում
C29: Միջոցառման նկարագրությունը
C30: Օլիմպիական խաղերում, աշխարհի և Եվրոպայի առաջնություններում բարձր արդյունքների հասած ՀՀ հավաքական թիմերի մարզիկներին և նրանց մարզիչներին անվանական թոշակի հատկացում
C31: Միջոցառման տեսակը
C32: Տրանսֆերտի տրամադրում
A33: 1111 | C33: Ծրագրի անվանումը | D33: =D40 -> 0 | E33: =E40 -> -40960
C34: Բարձրագույն և հետբուհական մասնագիտական կրթության ծրագիր
C35: Ծրագրի նպատակը
C36: Ապահովել մատչելի, որակյալ և մրցունակ բարձրագույն և հետբուհական մասնագիտական կրթություն
C37: Վերջնական արդյունքի նկարագրությունը
C38: Գիտելիքների տնտեսության և գիտության զարգացման արդի պահանջներին համապատասխան բարձրագույն և հետբուհական մասնագիտական որակավորում ունեցող մասնագետների պատրաստում
A39: Ծրագրի միջոցառումներ
B40: 12009 | C40: Միջոցառման անվանումը | D40: 0 | E40: -40960
C41: Աջակցություն արտասահմանում սովորող ուսանողներին
C42: Միջոցառման նկարագրությունը
C43: Աջակցություն միջազգային վարկանշավորման ցանկերում ընդգրկված ԲՈՒՀ-երում սովորող ուսանողներին
...

Sheet N 2
H1: Հավելված N 2
H2: ՀՀ կառավարության 2020 թվականի
H3: -ի N -Ն որոշման
D5: ՀԱՅԱUՏԱՆԻ ՀԱՆՐԱՊԵՏՈՒԹՅԱՆ ԿԱՌԱՎԱՐՈՒԹՅԱՆ 2019 ԹՎԱԿԱՆԻ ԴԵԿՏԵՄԲԵՐԻ 26-Ի N 1919-Ն ՈՐՈՇՄԱՆ N 3 ԵՎ 4 ՀԱՎԵԼՎԱԾՆԵՐՈՒՄ ԿԱՏԱՐՎՈՂ ՓՈՓՈԽՈՒԹՅՈՒՆԸ
H6: հազար դրամներով
A7: Գործառական դասիչը | D7: Ծրագրային դասիչը | F7: Բյուջետային հատկացումների գլխավոր կարգադրիչների, ծրագրերի, միջոցառումների և միջոցառումները կատարող պետական մարմինների անվանումները | G7: Ցուցանիշների փոփոխությունը (ավելացումները նշված են դրական նշանով, իսկ նվազեցումները՝ փակագծերում)
A8: Բաժին | B8: Խումբ | C8: Դաս | D8: Ծրագիր | E8: Միջոցառում | G8: ինն ամիս | H8: տարի
F9: ԸՆԴԱՄԵՆԸ Ծախսեր | G9: =G10+G36 -> 0 | H9: =H10+H36 -> 0
A10: 08 | F10: ՀԱՆԳԻՍՏ, ՄՇԱԿՈՒՅԹ ԵՎ ԿՐՈՆ | G10: =G12 -> 5850 | H10: =H12 -> 46810
F11: այդ թվում`
B12: 01 | F12: Հանգստի և սպորտի ծառայություններ | G12: =G14 -> 5850 | H12: =H14 -> 46810
F13: այդ թվում`
C14: 01 | F14: Հանգստի և սպորտի ծառայություններ | G14: =G16 -> 5850 | H14: =H16 -> 46810
F15: այդ թվում`
F16: ՀՀ կրթության, գիտության, մշակույթի և սպորտի նախարարություն | G16: =G17 -> 5850 | H16: =H17 -> 46810
D17: 1041 | F17: Մեծ նվաճումների սպորտ | G17: =G29+G20 -> 5850 | H17: =H29+H20 -> 46810
E18: 11010 | F18: 2020 թվականի Տոկիոյի 32-րդ Օլիմպիական խաղերին Հայաստանի մարզական պատվիրակության նախապատրաստման և մասնակցության ապահովում
F19: Այդ թվում` ըստ կատարողների
F20: ՀՀ կրթության, գիտության, մշակույթի և սպորտի նախարարություն | G20: =G26 -> 0 | H20: =H26 -> -36377.5
F21: այդ թվում` բյուջետային ծախսերի տնտեսագիտական դասակարգման հոդվածներ
F22: ԸՆԴԱՄԵՆԸ ԾԱԽՍԵՐ
F23: ԸՆԹԱՑԻԿ ԾԱԽՍԵՐ
F24: ԴՐԱՄԱՇՆՈՐՀՆԵՐ
F25: Ընթացիկ դրամաշնորհներ պետական հատվածի այլ մակարդակներին
F26: - Այլ ընթացիկ դրամաշնորհներ | G26: 0 | H26: -36377.5
E27: 12003 | F27: Օլիմպիական խաղերում, աշխարհի և Եվրոպայի առաջնություններում բարձր արդյունքների հասած ՀՀ հավաքական թիմերի մարզիկներին և նրանց մարզիչներին անվանական թոշակի հատկացում
F28: Այդ թվում` ըստ կատարողների
F29: ՀՀ կրթության, գիտության, մշակույթի և սպորտի նախարարություն | G29: =G35 -> 5850 | H29: =H35 -> 83187.5
F30: այդ թվում` բյուջետային ծախսերի տնտեսագիտական դասակարգման հոդվածներ
F31: ԸՆԴԱՄԵՆԸ ԾԱԽՍԵՐ
F32: ԸՆԹԱՑԻԿ ԾԱԽՍԵՐ
F33: ՍՈՑԻԱԼ ՆՊԱՍՏՆԵՐ ԵՎ ԿԵՆՍԱԹՈՇԱԿՆԵՐ
F34: Սոցիալական օգնության դրամական արտահայտությամբ նպաստներ (բյուջեից)
F35: - Կրթական, մշակութային և սպորտային նպաստներ բյուջեից | G35: ='N 1.1'!D27 -> 5850 | H35: ='N 1.1'!E27 -> 83187.5
A36: 09 | F36: ԿՐԹՈՒԹՅՈՒՆ | G36: =G38 -> -5850 | H36: =H38 -> -46810
F37: այդ թվում`
B38: 06 | F38: Կրթությանը տրամադրվող օժանդակ ծառայություններ | G38: =G40 -> -5850 | H38: =H40 -> -46810
F39: այդ թվում`
C40: 01 | F40: Կրթությանը տրամադրվող օժանդակ ծառայություններ | G40: =G43 -> -5850 | H40: =H43 -> -46810
F41: այդ թվում`
...

Sheet N3
E3: Հավելված N 3
E4: ՀՀ կառավարության 2020 թվականի
E5: -ի N -Ն որոշման
A9: ՀԱՅԱՍՏԱՆԻ ՀԱՆՐԱՊԵՏՈՒԹՅԱՆ ԿԱՌԱՎԱՐՈՒԹՅԱՆ 2019 ԹՎԱԿԱՆԻ ԴԵԿՏԵՄԲԵՐԻ 26-Ի № 1919-Ն ՈՐՈՇՄԱՆ № 5 ՀԱՎԵԼՎԱԾԻ № 7 ԱՂՅՈՒՍԱԿՈՒՄ ԿԱՏԱՐՎՈՂ ՓՈՓՈԽՈՒԹՅՈՒՆՆԵՐԸ ԵՎ ԼՐԱՑՈՒՄՆԵՐԸ
E10: հազար դրամ
A11: Ծրագրային դասիչը | C11: Բյուջետային հատկացումների գլխավոր կարգադրիչների, ծրագրերի, միջոցառումների, ծախսային ուղղությունների անվանումները | D11: Միջոցառումները կատարող պետական մարմինների և դրամաշնորհ ստացող տնտեսվարող սուբյեկտների անվանումները | E11: Ցուցանիշների փոփոխությունը (ավելացումները նշված են դրական նշանով, իսկ նվազեցումները` փակագծերում)
A12: Ծրագիր | B12: Միջոցառում | E12: Տարի
A13: 1 | B13: 2 | C13: 3 | D13: 4 | E13: 5
A14: ՀՀ կրթության, գիտության, մշակույթի և սպորտի նախարարություն | E14: =E15+E18+E21 -> -83187.5
A15: 1041 | B15: Մեծ նվաճումների սպորտ | E15: =+E17 -> -36377.5
B16: 11010 | C16: 2020 թվականի Տոկիոյի 32-րդ Օլիմպիական խաղերին Հայաստանի մարզական պատվիրակության նախապատրաստման և մասնակցության ապահովում | D16: ՀՀ կրթության, գիտության, մշակույթի և սպորտի նախարարություն | E16: =E17 -> -36377.5
D17: «Հայաստանի ազգային օլիմպիական կոմիտե» իրավաբանական անձանց միություն | E17: -36377.5
A18: 1111 | B18: Բարձրագույն և հետբուհական մասնագիտական կրթության ծրագիր | E18: =+E20 -> -40960
B19: 12009 | C19: Աջակցություն արտասահմանում սովորող ուսանողներին | D19: ՀՀ կրթության, գիտության, մշակույթի և սպորտի նախարարություն | E19: =E20 -> -40960
D20: «Իմ քայլը» հիմնադրամ | E20: -40960
A21: 1146 | B21: Հանրակրթության ծրագիր | E21: =+E23 -> -5850
B22: 12004 | C22: Ատեստավորման միջոցով որակավորում ստացած ուսուցիչներին հավելավճարների տրամադրում | D22: ՀՀ կրթության, գիտության, մշակույթի և սպորտի նախարարություն | E22: =E23 -> -5850
D23: Ատեստավորման միջոցով որակավորում ստացած ուսուցիչներ | E23: -5850

Sheet N4
E1: Հավելված N 4
E2: ՀՀ կառավարության 2020 թվականի
E3: -ի N -Ն որոշման
A6: ՀԱՅԱՍՏԱՆԻ ՀԱՆՐԱՊԵՏՈՒԹՅԱՆ ԿԱՌԱՎԱՐՈՒԹՅԱՆ 2019 ԹՎԱԿԱՆԻ ԴԵԿՏԵՄԲԵՐԻ 26-Ի N 1919-Ն ՈՐՈՇՄԱՆ N 9 ՀԱՎԵԼՎԱԾԻ N 9.14 ԱՂՅՈՒՍԱԿՈՒՄ ԿԱՏԱՐՎՈՂ ՓՈՓՈԽՈՒԹՅՈՒՆՆԵՐԸ ԵՎ ԼՐԱՑՈՒՄՆԵՐԸ
B9: ՀՀ կրթության, գիտության, մշակույթի և սպորտի նախարարություն
B11: ՄԱՍ 2. ՊԵՏԱԿԱՆ ՄԱՐՄՆԻ ԳԾՈՎ ԱՐԴՅՈՒՆՔԱՅԻՆ (ԿԱՏԱՐՈՂԱԿԱՆ) ՑՈՒՑԱՆԻՇՆԵՐԸ
B13: Ծրագրի դասիչը | C13: Ծրագրի անվանումը
B14: 1041 | C14: Մեծ նվաճումների սպորտ
B15: Ծրագրի միջոցառումները
B17: Ծրագրի դասիչը | C17: 1041 | D17: Ցուցանիշների փոփոխությունը (ավելացումները նշված են դրական նշանով)
B18: Միջոցառման դասիչը | C18: 12003 | D18: ինն ամիս | E18: տարի
B19: Միջոցառման անվանումը | C19: Օլիմպիական խաղերում, աշխարհի և Եվրոպայի առաջնություններում բարձր արդյունքների հասած ՀՀ հավաքական թիմերի մարզիկներին և նրանց մարզիչներին անվանական թոշակի հատկացում
B20: Նկարագրությունը | C20: Օլիմպիական խաղերում, աշխարհի և Եվրոպայի առաջնություններում բարձր արդյունքների հասած ՀՀ հավաքական թիմերի մարզիկներին և նրանց մարզիչներին անվանական թոշակի հատկացում
B21: Միջոցառման տեսակը | C21: Տրանսֆերտի տրամադրում
B22: Շահառուների ընտրության չափանիշները | C22: Հայաստանի Հանրապետության կրթության, գիտության, մշակույթի և սպորտի նախարարի հատկացվող գումարի բաշխման կարգը հաստատող հրաման
B23: Արդյունքի չափորոշիչներ
B24: Ազգային հավաքական թիմերում ընգրկված մարզիկներին տրվող թոշակներ (մարզիկների թիվը) | D24: 27 | E24: 27
B25: Ազգային հավաքական թիմերում ընգրկված մարզչական անձնակազմին տրվող թոշակներ (մարզչական անձնակազմի թիվը) | D25: 20 | E25: 20
B26: Մարզիկների թոշակի միջին մեծություն, հազար դրամ
B27: Մարզիչների թոշակի միջին մեծություն, հազար դրամ
B28: Միջոցառման վրա կատարվող ծախսը (հազ. դրամ) | D28: ='N 1.1'!D27 -> 5850 | E28: ='N 1.1'!E27 -> 83187.5
B30: Ծրագրի դասիչը | C30: 1041 | D30: Ցուցանիշների փոփոխությունը (նվազեցումները նշված են փակագծերում)
B31: Միջոցառման դասիչը | C31: 11010 | D31: ինն ամիս | E31: տարի
B32: Միջոցառման անվանումը | C32: 2020 թվականի Տոկիոյի 32-րդ Օլիմպիական խաղերին Հայաստանի մարզական պատվիրակության նախապատրաստման և մասնակցության ապահովում
B33: Նկարագրությունը | C33: 2020 թվականի Տոկիոյի 32-րդ Օլիմպիական խաղերին Հայաստանի մարզական պատվիրակության նախապատրաստում և մասնակցություն
B34: Միջոցառման տեսակը | C34: Ծառայությունների մատուցում
B35: Ծառայությունները մատուցող կազմակերպությունների անվանումը | C35: Մասնագիտացված կազմակերպություն
B36: Արդյունքի չափորոշիչներ
B37: Միջոցառումների թիվ, հատ | D37: 0 | E37: 0
B38: Միջոցառման վրա կատարվող ծախսը (հազ. դրամ) | D38: 0 | E38: -36377.5
B40: Ծրագրի դասիչը | C40: Ծրագրի անվանումը
B41: 1111 | C41: Բարձրագույն և հետբուհական մասնագիտական կրթության ծրագիր
B42: Ծրագրի միջոցառումները
B44: Ծրագրի դասիչը | C44: 1111 | D44: Ցուցանիշների փոփոխությունը (նվազեցումները նշված են փակագծերում)
B45: Միջոցառման դասիչը | C45: 12009 | D45: ինն ամիս | E45: տարի
B46: Միջոցառման անվանումը | C46: Աջակցություն արտասահմանում սովորող ուսանողներին
B47: Նկարագրությունը | C47: Աջակցություն միջազգային վարկանշավորման ցանկերում ընդգրկված ԲՈՒՀ-երում սովորող ուսանողներին
B48: Միջոցառման տեսակը | C48: Տրանսֆերտի տրամադրում
B49: Շահառուների ընտրության չափանիշները | C49: Համաձայն նվիրաբերության պայմանագրի
B50: Արդյունքի չափորոշիչներ
...

Sheet N5
E2: Հավելված N 5
E3: ՀՀ կառավարության 2020 թվականի
E4: -ի N -Ն որոշման
A6: ՀԱՅԱՍՏԱՆԻ ՀԱՆՐԱՊԵՏՈՒԹՅԱՆ ԿԱՌԱՎԱՐՈՒԹՅԱՆ 2019 ԹՎԱԿԱՆԻ ԴԵԿՏԵՄԲԵՐԻ 26-Ի N 1919-Ն ՈՐՈՇՄԱՆ N 9.1 ՀԱՎԵԼՎԱԾԻ N 9.1.14 ԱՂՅՈՒՍԱԿՈՒՄ ԿԱՏԱՐՎՈՂ ՓՈՓՈԽՈՒԹՅՈՒՆՆԵՐԸ ԵՎ ԼՐԱՑՈՒՄՆԵՐԸ
B9: ՀՀ կրթության, գիտության, մշակույթի և սպորտի նախարարություն
B11: ՄԱՍ 2. ՊԵՏԱԿԱՆ ՄԱՐՄՆԻ ԳԾՈՎ ԱՐԴՅՈՒՆՔԱՅԻՆ (ԿԱՏԱՐՈՂԱԿԱՆ) ՑՈՒՑԱՆԻՇՆԵՐԸ
B13: Ծրագրի դասիչը | C13: Ծրագրի անվանումը
B14: 1041 | C14: Մեծ նվաճումների սպորտ
B15: Ծրագրի միջոցառումները
B17: Ծրագրի դասիչը | C17: 1041 | D17: Ցուցանիշների փոփոխությունը (ավելացումները նշված են դրական նշանով)
B18: Միջոցառման դասիչը | C18: 12003 | D18: ինն ամիս | E18: տարի
B19: Միջոցառման անվանումը | C19: Օլիմպիական խաղերում, աշխարհի և Եվրոպայի առաջնություններում բարձր արդյունքների հասած ՀՀ հավաքական թիմերի մարզիկներին և նրանց մարզիչներին անվանական թոշակի հատկացում
B20: Նկարագրությունը | C20: Օլիմպիական խաղերում, աշխարհի և Եվրոպայի առաջնություններում բարձր արդյունքների հասած ՀՀ հավաքական թիմերի մարզիկներին և նրանց մարզիչներին անվանական թոշակի հատկացում
B21: Միջոցառման տեսակը | C21: Տրանսֆերտի տրամադրում
B22: Շահառուների ընտրության չափանիշները | C22: Միջոցառման շրջանակներում շահառուներին անվանական թոշակի հատկացման կարգ
B23: Արդյունքի չափորոշիչներ
B24: Ազգային հավաքական թիմերում ընգրկված մարզիկներին տրվող թոշակներ (մարզիկների թիվը) | D24: 27 | E24: 27
B25: Ազգային հավաքական թիմերում ընգրկված մարզչական անձնակազմին տրվող թոշակներ (մարզչական անձնակազմի թիվը) | D25: 20 | E25: 20
B26: Մարզիկների թոշակի միջին մեծություն, հազար դրամ
B27: Մարզիչների թոշակի միջին մեծություն, հազար դրամ
B28: Շահառուների խմբերի (մարզիկներ, մարզիչներ, բժիշկներ) թիվ, հատ | D28: 0 | E28: 0
B29: Միջոցառման վրա կատարվող ծախսը (հազ. դրամ) | D29: ='N 1.1'!D27 -> 5850 | E29: ='N 1.1'!E27 -> 83187.5
B31: Ծրագրի դասիչը | C31: 1041 | D31: Ցուցանիշների փոփոխությունը (նվազեցումները նշված են փակագծերում)
B32: Միջոցառման դասիչը | C32: 11010 | D32: ինն ամիս | E32: տարի
B33: Միջոցառման անվանումը | C33: 2020 թվականի Տոկիոյի 32-րդ Օլիմպիական խաղերին Հայաստանի մարզական պատվիրակության նախապատրաստման և մասնակցության ապահովում
B34: Նկարագրությունը | C34: 2020 թվականի Տոկիոյի 32-րդ Օլիմպիական խաղերին Հայաստանի մարզական պատվիրակության նախապատրաստում և մասնակցություն
B35: Միջոցառման տեսակը | C35: Ծառայությունների մատուցում
B36: Ծառայությունները մատուցող կազմակերպությունների անվանումը | C36: Մասնագիտացված կազմակերպություն
B37: Արդյունքի չափորոշիչներ
B38: Միջոցառումների թիվ, հատ
B39: Միջոցառման վրա կատարվող ծախսը (հազ. դրամ) | D39: 0 | E39: -36377.5
B41: Ծրագրի դասիչը | C41: Ծրագրի անվանումը
B42: 1111 | C42: Բարձրագույն և հետբուհական մասնագիտական կրթության ծրագիր
B43: Ծրագրի միջոցառումները
B45: Ծրագրի դասիչը | C45: 1111 | D45: Ցուցանիշների փոփոխությունը (նվազեցումները նշված են փակագծերում)
B46: Միջոցառման դասիչը | C46: 12009 | D46: ինն ամիս | E46: տարի
B47: Միջոցառման անվանումը | C47: Աջակցություն արտասահմանում սովորող ուսանողներին
B48: Նկարագրությունը | C48: Աջակցություն միջազգային վարկանշավորման ցանկերում ընդգրկված ԲՈՒՀ-երում սովորող ուսանողներին
B49: Միջոցառման տեսակը | C49: Տրանսֆերտի տրամադրում
B50: Շահառուների ընտրության չափանիշները | C50: Համաձայն նվիրաբերության պայմանագրի
...
