Workbook
Name åû: #REF!
Name åû: #REF!
Name åû: #REF!
Name åû: #REF!
Name åû: #REF!
Name mas: #REF!
Name mas: #REF!
Name mas: #REF!
Name mas: #REF!
Name mas: #REF!
Name mass: #REF!
Name mass: #REF!
Name mass: #REF!
Name mass: #REF!
Name mass: #REF!
Name x: #REF!
Name x: #REF!
Name x: #REF!
Name x: #REF!
Name x: #REF!

Sheet 1
G1: Հավելված N 1
G2: ՀՀ կառավարության 2020 թվականի
G3: ___________ ___-ի N _______ -Ն որոշման
A8: «ՀԱՅԱՍՏԱՆԻ ՀԱՆՐԱՊԵՏՈՒԹՅԱՆ 2020 ԹՎԱԿԱՆԻ ՊԵՏԱԿԱՆ ԲՅՈՒՋԵԻ ՄԱՍԻՆ» ՀԱՅԱՍՏԱՆԻ ՀԱՆՐԱՊԵՏՈՒԹՅԱՆ ՕՐԵՆՔԻ N 1 ՀԱՎԵԼՎԱԾԻ N 2 ԱՂՅՈՒՍԱԿՈՒՄ ԿԱՏԱՐՎՈՂ ՎԵՐԱԲԱՇԽՈՒՄ ԵՎ ՀԱՅԱՍՏԱՆԻ ՀԱՆՐԱՊԵՏՈՒԹՅԱՆ ԿԱՌԱՎԱՐՈՒԹՅԱՆ 2019 ԹՎԱԿԱՆԻ ԴԵԿՏԵՄԲԵՐԻ 26-Ի N 1919-Ն ՈՐՈՇՄԱՆ N 5 ՀԱՎԵԼՎԱԾԻ N 1 ԱՂՅՈՒՍԱԿՈՒՄ ԿԱՏԱՐՎՈՂ ՓՈՓՈԽՈՒԹՅՈՒՆՆԵՐԸ
G10: հազար դրամներով
A11: Ծրագրային դասիչը | C11: Բյուջետային հատկացումների գլխավոր կարգադրիչների, ծրագրերի և միջոցառումների անվանումները | D11: Ցուցանիշների փոփոխություն (ավելավումները նշված են դրական նշանով իսկ պակասեցումները փակագծերում)
D12: Առաջին. եռամսյակ | E12: Առաջին կիսամյակ | F12: Ինն ամիս | G12: Տարի
A13: Ծրագիր | B13: /Միջոցառում
C14: Ընդամենը | D14: =+D35-#REF! -> #REF! | E14: =E35+E15 -> #REF! | F14: =(F35+F15+F67)*-1 -> 9.3132257e-10 | G14: =(G35+G15+G67)*-1 -> 9.3132257e-10
C15: ՀՀ կառավարություն | D15: =+D19 -> 12835 | E15: =+E19 -> 0 | F15: =+F19 -> 0 | G15: =+G17 -> 0
C16: Ծրագրի անվանումը՝
A17: 1139 | C17: ՀՀ կառավարության պահուստային ֆոնդ | E17: =+E23+E29 -> 0 | F17: =+F23+F29 -> 0 | G17: =+G23+G29 -> 0
C18: Ծրագրի նպատակը՝
C19: Պետական բյուջեում չկանխատեսված, ինչպես նաեւ բյուջետային երաշխիքների ապահովման ծախսերի ֆինանսավորման ապահովում | D19: =+D23 -> 12835
C20: Վերջնական արդյունքի նկարագրությունը՝
C21: Պահուստային ֆոնդի կառավարման արդյունավետության և թափանցիկության ապահովում
A22: Ծրագրի միջոցառումներ
B23: 11001 | C23: Միջոցառման անվանումը՝ | D23: 12835 | E23: 0 | F23: =+'2'!I29 -> -6766795.7 | G23: =+'2'!J29 -> -6766795.7
C24: ՀՀ կառավարության պահուստային ֆոնդ
C25: Միջոցառման նկարագրությունը՝
C26: ՀՀ պետական բյուջեում նախատեսված ելքերի լրացուցիչ ֆինանսավորման, պետական բյուջեում չկանխատեսված ելքերի, ինչպես նաև բյուջետային երաշխիքների ապահովման ելքերի ֆինանսավորման ապահովում
C27: Միջոցառման տեսակը
C28: Ծառայությունների մատուցում
B29: 11001 | C29: Միջոցառման անվանումը՝ | D29: 12835 | E29: 0 | F29: =+'2'!I37 -> 6766795.7 | G29: =+'2'!J37 -> 6766795.7
C30: ՀՀ կառավարության պահուստային ֆոնդ
C31: Միջոցառման նկարագրությունը՝
C32: ՀՀ պետական բյուջեում նախատեսված ելքերի լրացուցիչ ֆինանսավորման, պետական բյուջեում չկանխատեսված ելքերի, ինչպես նաև բյուջետային երաշխիքների ապահովման ելքերի ֆինանսավորման ապահովում
C33: Միջոցառման տեսակը
C34: Ծառայությունների մատուցում
C35: ՀՀ պաշտպանության նախարարություն | D35: =+D39 -> 12835 | E35: =+E39 -> #REF! | F35: =+F37 -> 250000 | G35: =+G37 -> 250000
C36: Ծրագրի անվանումը՝
A37: 1169 | C37: ՀՀ պաշտպանության ապահովում | E37: 0 | F37: =+F43+F55+F49+F61 -> 250000 | G37: =+G43+G55+G49+G61 -> 250000
C38: Ծրագրի նպատակը՝
C39: ՀՀ ԶՈւ ռազմավարական ծավալումն ապահովող մարտական պատրաստականության պահպանում՝ արտաքին թշնամուց ՀՀ պետական սահմանների պաշտպանության ապահովում | D39: =+D43 -> 12835 | E39: =+E43+#REF! -> #REF!
C40: Վերջնական արդյունքի նկարագրությունը՝
C41: ՀՀ ԶՈւ ռազմավարական ծավալումն ապահովող մարտական պատրաստականության պահպանում
A42: Ծրագրի միջոցառումներ
B43: 11001 | C43: Միջոցառման անվանումը՝ | D43: 12835 | E43: 0 | F43: =+'2'!I46 -> -3991167.4 | G43: =+'2'!J46 -> -3991167.4
C44: Ռազմական կարիքների բավարարում
C45: Միջոցառման նկարագրությունը՝
C46: Ընթացիկ գործունեության ապահովման գործողություններ
C47: Միջոցառման տեսակը
C48: Ծառայությունների մատուցում
B49: 31001 | C49: Միջոցառման անվանումը՝ | D49: 12835 | E49: 0 | F49: =+'2'!I76 -> -2525628.4 | G49: =+'2'!J76 -> -2525628.4
C50: ՀՀ պաշտպանության նախարարության շենքային պայմանների բարելավում
C51: Միջոցառման նկարագրությունը՝
C52: Պաշտպանության կարիքների համար բնակելի, գրասենյակային և այլ նշանակության շենքերի և շինությունների կառուցում
C53: Միջոցառման տեսակը
C54: Պետական մարմինների կողմից օգտագործվող ոչ ֆինանսական ակտիվների հետ գործառնություններ
B55: 11001 | C55: Միջոցառման անվանումը՝ | D55: 12835 | E55: 0 | F55: =+'2'!I87 -> 4241167.4 | G55: =+'2'!J87 -> 4241167.4
C56: Ռազմական կարիքների բավարարում
C57: Միջոցառման նկարագրությունը՝
C58: Ընթացիկ գործունեության ապահովման գործողություններ
C59: Միջոցառման տեսակը
C60: Ծառայությունների մատուցում
B61: 31001 | C61: Միջոցառման անվանումը՝ | D61: 12835 | E61: 0 | F61: =+'2'!I104 -> 2525628.4 | G61: =+'2'!J104 -> 2525628.4
C62: ՀՀ պաշտպանության նախարարության շենքային պայմանների բարելավում
C63: Միջոցառման նկարագրությունը՝
C64: Պաշտպանության կարիքների համար բնակելի, գրասենյակային և այլ նշանակության շենքերի և շինությունների կառուցում
C65: Միջոցառման տեսակը
C66: Պետական մարմինների կողմից օգտագործվող ոչ ֆինանսական ակտիվների հետ գործառնություններ
C67: ՀՀ աշխատանքի և սոցիալական հարցերի նախարարություն | D67: =+D71 -> 12835 | E67: =+E71 -> #REF! | F67: =+F69 -> -250000 | G67: =+G69 -> -250000
C68: Ծրագրի անվանումը՝
A69: 1098 | C69: Բնակարանային ապահովում | E69: 0 | F69: =+F75 -> -250000 | G69: =+G75 -> -250000
C70: Ծրագրի նպատակը՝
C71: Հանրապետությունում մշտական բնակության վայր չունեցող անօթևան անձանց բնակարանային ապահովմանն աջակցություն | D71: =+D75 -> 12835 | E71: =+E75+#REF! -> #REF!
C72: Վերջնական արդյունքի նկարագրությունը՝
C73: Հանրապետությունում մշտական բնակության վայր չունեցող անօթևան անձանց բնակարանային ապահովվածության բարելավում
A74: Ծրագրի միջոցառումներ
B75: 12002 | C75: Միջոցառման անվանումը՝ | D75: 12835 | E75: 0 | F75: =+'2'!I134 -> -250000 | G75: =+'2'!J134 -> -250000
C76: Զոհված (մահացած) առաջին, երկրորդ և երրորդ կարգի հաշմանդամ զինծառայողների անօթևան ընտանիքներին բնակարանով ապահովում և բնակարանային պայմանների բարելավում
C77: Միջոցառման նկարագրությունը՝
C78: Գնահատման չափանիշների համաձայն բնակարանի բարելավման կարիք ունեցող կարիքավորների ճանաչում, հաշվառում և նրանց անհատույց ֆինասական աջակցության տրամադրման եղանակով բնակարանային խնդիրների լուծում
C79: Միջոցառման տեսակը
C80: Տրանսֆերտների տրամադրում

Sheet 2
I1: Հավելված N 2
F2: ՀՀ կառավարության 2020 թվականի
F3: ___________ ___-ի N _______ -Ն որոշման
A6: ՀԱՅԱՍՏԱՆԻ ՀԱՆՐԱՊԵՏՈՒԹՅԱՆ ԿԱՌԱՎԱՐՈՒԹՅԱՆ 2019 ԹՎԱԿԱՆԻ ԴԵԿՏԵՄԲԵՐԻ 26-Ի N 1919-Ն ՈՐՈՇՄԱՆ N 3 և 4 ՀԱՎԵԼՎԱԾՆԵՐՈՒՄ ԿԱՏԱՐՎՈՂ ՓՈՓՈԽՈՒԹՅՈՒՆՆԵՐԸ
I7: հազար դրամներով
A9: Գործառական դասիչը | D9: Ծրագրային դասիչը | F9: Բյուջետային ծախսերի գործառական դասակարգման բաժինների, խմբերի և դասերի, բյուջետային ծրագրերի միջոցառումների, բյուջետային հատկացումների գլխավոր կարգադրիչների անվանումները | G9: Ցուցանիշների փոփոխություն (ավելացումները նշված են դրական նշանով իսկ պակասեցումները փակագծերում)
G10: Առաջին եռամսյակ | H10: Առաջին կիսամյակ | I10: Ինն ամիս | J10: Տարի
A11: Բաժին | B11: Խումբ | C11: Դաս | D11: Ծրագիր | E11: Միջոցառում
F12: ԸՆԴԱՄԵՆԸ ԾԱԽՍԵՐ այդ թվում՝ | G12: =+G38+#REF! -> #REF! | H12: =+H38 -> #REF! | I12: =SUM(I13+I38+I118)*-1 -> 1.3969839e-09 | J12: =SUM(J13+J38+J118)*-1 -> 1.3969839e-09
A13: 11 | F13: ՀԻՄՆԱԿԱՆ ԲԱԺԻՆՆԵՐԻՆ ՉԴԱՍՎՈՂ ՊԱՀՈՒՍՏԱՅԻՆ ՖՈՆԴԵՐ | G13: =+G15 -> 12835 | H13: =+H15 -> 0 | I13: =+I15 -> 0 | J13: =+J15 -> 0
F14: այդ թվում`
B15: 01 | F15: ՀՀ կառավարության և համայնքների պահուստային ֆոնդ | G15: =+G17 -> 12835 | H15: =+H17 -> 0 | I15: =+I17 -> 0 | J15: =+J17 -> 0
F16: այդ թվում`
C17: 01 | F17: ՀՀ կառավարության պահուստային ֆոնդ | G17: =+G22 -> 12835 | H17: =+H20 -> 0 | I17: =+I20 -> 0 | J17: =+J20 -> 0
F18: այդ թվում`
F19: ՀՀ կառավարություն | G19: =+G20 -> 12835 | H19: =+H20 -> 0 | I19: =+I20 -> 0 | J19: =+J20 -> 0
D20: 1139 | F20: ՀՀ կառավարության պահուստային ֆոնդ | G20: =+G22 -> 12835 | H20: =+H22+H30 -> 0 | I20: =+I22+I30 -> 0 | J20: =+J22+J30 -> 0
F21: այդ թվում`
E22: 11001 | F22: ՀՀ կառավարության պահուստային ֆոնդ | G22: =+G24 -> 12835 | H22: =+H24 -> 0 | I22: =+I24 -> -6766795.7 | J22: =+J24 -> -6766795.7
F23: այդ թվում` ըստ կատարողների
F24: ՀՀ կառավարություն | G24: =+G25 -> 12835 | H24: =H26 -> 0 | I24: =I26 -> -6766795.7 | J24: =J26 -> -6766795.7
F25: այդ թվում` բյուջետային ծախսերի տնտեսագիտական դասակարգման հոդվածներ | G25: 12835
F26: ԸՆԴԱՄԵՆԸ ԾԱԽՍԵՐ | H26: =H27 -> 0 | I26: =I27 -> -6766795.7 | J26: =J27 -> -6766795.7
F27: ԸՆԹԱՑԻԿ ԾԱԽՍԵՐ | H27: =+H28 -> 0 | I27: =+I28 -> -6766795.7 | J27: =+J28 -> -6766795.7
F28: ԱՅԼ ԾԱԽՍԵՐ | H28: 0 | I28: =+I29 -> -6766795.7 | J28: =+J29 -> -6766795.7
F29: - Պահուստային միջոցներ | H29: 0 | I29: =+I46+I76+I126 -> -6766795.7 | J29: =+J46+J76+J126 -> -6766795.7
E30: 11001 | F30: ՀՀ կառավարության պահուստային ֆոնդ | G30: =+G32 -> 12835 | H30: =+H32 -> 0 | I30: =+I32 -> 6766795.7 | J30: =+J32 -> 6766795.7
F31: այդ թվում` ըստ կատարողների
F32: ՀՀ կառավարություն | G32: =+G33 -> 12835 | H32: =H34 -> 0 | I32: =I34 -> 6766795.7 | J32: =J34 -> 6766795.7
F33: այդ թվում` բյուջետային ծախսերի տնտեսագիտական դասակարգման հոդվածներ | G33: 12835
F34: ԸՆԴԱՄԵՆԸ ԾԱԽՍԵՐ | H34: =H35 -> 0 | I34: =I35 -> 6766795.7 | J34: =J35 -> 6766795.7
F35: ԸՆԹԱՑԻԿ ԾԱԽՍԵՐ | H35: =+H36 -> 0 | I35: =+I36 -> 6766795.7 | J35: =+J36 -> 6766795.7
F36: ԱՅԼ ԾԱԽՍԵՐ | H36: 0 | I36: =+I37 -> 6766795.7 | J36: =+J37 -> 6766795.7
F37: - Պահուստային միջոցներ | H37: 0 | I37: =+I87+I104 -> 6766795.7 | J37: =+J87+J104 -> 6766795.7
A38: 02 | F38: ՊԱՇՏՊԱՆՈՒԹՅՈՒՆ | G38: =+G40 -> 12835 | H38: =+H40 -> #REF! | I38: =+I40 -> 250000 | J38: =+J40 -> 250000
F39: այդ թվում`
B40: 01 | F40: Ռազմական պաշտպանություն | G40: =+G42 -> 12835 | H40: =+H42 -> #REF! | I40: =+I42 -> 250000 | J40: =+J42 -> 250000
F41: այդ թվում`
C42: 01 | F42: Ռազմական պաշտպանություն | G42: =+G46 -> 12835 | H42: =+H45 -> #REF! | I42: =+I45 -> 250000 | J42: =+J45 -> 250000
F43: այդ թվում`
F44: ՀՀ պաշտպանության նախարարություն | G44: =+G45 -> 12835 | H44: =+H45 -> #REF! | I44: =+I45 -> 250000 | J44: =+J45 -> 250000
D45: 1169 | F45: ՀՀ պաշտպանության ապահովում | G45: =+G46 -> 12835 | H45: =+H46+#REF! -> #REF! | I45: =+I46+I76+I87+I104 -> 250000 | J45: =+J46+J76+J87+J104 -> 250000
E46: 11001 | F46: Ռազմական կարիքների բավարարում | G46: =+G48 -> 12835 | H46: =+H48 -> 0 | I46: =+I48 -> -3991167.4 | J46: =+J48 -> -3991167.4
F47: այդ թվում` ըստ կատարողների
F48: ՀՀ պաշտպանության նախարարություն | G48: =+G49 -> 12835 | H48: =H50 -> 0 | I48: =I50 -> -3991167.4 | J48: =J50 -> -3991167.4
F49: այդ թվում` բյուջետային ծախսերի տնտեսագիտական դասակարգման հոդվածներ | G49: 12835
F50: ԸՆԴԱՄԵՆԸ ԾԱԽՍԵՐ | H50: =H51 -> 0 | I50: =I51 -> -3991167.4 | J50: =J51 -> -3991167.4
F51: ԸՆԹԱՑԻԿ ԾԱԽՍԵՐ | H51: =H52 -> 0 | I51: =I52+I74 -> -3991167.4 | J51: =J52+J74 -> -3991167.4
F52: ԾԱՌԱՅՈՒԹՅՈՒՆՆԵՐԻ ԵՎ ԱՊՐԱՆՔՆԵՐԻ ՁԵՌՔ ԲԵՐՈՒՄ | H52: =H62 -> 0 | I52: =+I53+I57+I59+I63+I65+I67 -> -3108283.6 | J52: =+J53+J57+J59+J63+J65+J67 -> -3108283.6
F53: ՇԱՐՈՒՆԱԿԱԿԱՆ ԾԱԽՍԵՐ | H53: =#REF! -> #REF! | I53: =SUM(I54:I56) -> -665229.99 | J53: =SUM(J54:J56) -> -665229.99
F54: - Էներգետիկ ծառայություններ | H54: 0 | I54: -585598.99 | J54: -585598.99
F55: - Կոմունալ ծառայություններ | H55: 0 | I55: -77776 | J55: -77776
F56: - Գույքի և սարքավորումների վարձակալություն | H56: 0 | I56: -1855 | J56: -1855
F57: ԾԱՌԱՅՈՂԱԿԱՆ ԳՈՐԾՈՒՂՈՒՄՆԵՐԻ ԳԾՈՎ ԾԱԽՍԵՐ | H57: =#REF! -> #REF! | I57: =SUM(I58) -> -20000 | J57: =SUM(J58) -> -20000
F58: - Արտասահմանյան գործուղումների գծով ծախսեր | H58: 0 | I58: -20000 | J58: -20000
F59: ՊԱՅՄԱՆԱԳՐԱՅԻՆ ԾԱՌԱՅՈՒԹՅՈՒՆՆԵՐԻ ՁԵՌՔ ԲԵՐՈՒՄ | H59: =#REF! -> #REF! | I59: =SUM(I60:I62) -> -94585.082 | J59: =SUM(J60:J62) -> -94585.082
F60: - Տեղեկատվական ծառայություններ | H60: 0 | I60: -7922.2718 | J60: -7922.2718
F61: - Ներկայացուցչական ծախսեր | H61: 0 | I61: -40750 | J61: -40750
F62: - Ընդհանուր բնույթի այլ ծառայություններ | H62: 0 | I62: -45912.811 | J62: -45912.811
F63: ԱՅԼ ՄԱՍՆԱԳԻՏԱԿԱՆ ԾԱՌԱՅՈՒԹՅՈՒՆՆԵՐԻ ՁԵՌՔ ԲԵՐՈՒՄ | H63: =#REF! -> #REF! | I63: =SUM(I64) -> -85419.06 | J63: =SUM(J64) -> -85419.06
F64: - Մասնագիտական ծառայություններ | H64: 0 | I64: -85419.06 | J64: -85419.06
F65: ԸՆԹԱՑԻԿ ՆՈՐՈԳՈՒՄ ԵՎ ՊԱՀՊԱՆՈՒՄ (ԾԱՌԱՅՈՒԹՅՈՒՆՆԵՐ ԵՎ ՆՅՈՒԹԵՐ) | H65: =#REF! -> #REF! | I65: =SUM(I66) -> -14770.8 | J65: =SUM(J66) -> -14770.8
F66: - Մեքենաների և սարքավորումների ընթացիկ նորոգում և պահպանում | H66: 0 | I66: -14770.8 | J66: -14770.8
F67: ՆՅՈՒԹԵՐ | H67: =#REF! -> #REF! | I67: =SUM(I68:I73) -> -2228278.7 | J67: =SUM(J68:J73) -> -2228278.7
F68: - Գրասենյակային նյութեր և հագուստ | H68: 0 | I68: -66119.42 | J68: -66119.42
F69: - Գյուղատնտեսական ապրանքներ | H69: 0 | I69: -13.176 | J69: -13.176
F70: - Տրանսպորտային նյութեր | H70: 0 | I70: -1455867.6 | J70: -1455867.6
F71: - Առողջապահական և լաբորատոր նյութեր | H71: 0 | I71: -86 | J71: -86
F72: - Կենցաղային և հանրային սննդի նյութեր | H72: 0 | I72: -316233.29 | J72: -316233.29
F73: - Հատուկ նպատակային այլ նյութեր | H73: 0 | I73: -389959.21 | J73: -389959.21
F74: ԱՅԼ ԾԱԽՍԵՐ | H74: 0 | I74: =+I75 -> -882883.75 | J74: =+J75 -> -882883.75
F75: - Այլ ծախսեր | H75: 0 | I75: -882883.75 | J75: -882883.75
E76: 31001 | F76: ՀՀ պաշտպանության նախարարության շենքային պայմանների բարելավում | G76: =+G78 -> 12835 | H76: =+H78 -> 0 | I76: =+I78 -> -2525628.4 | J76: =+J78 -> -2525628.4
F77: այդ թվում` ըստ կատարողների
F78: ՀՀ պաշտպանության նախարարություն | G78: =+G79 -> 12835 | H78: =H80 -> 0 | I78: =+I79 -> -2525628.4 | J78: =+J79 -> -2525628.4
F79: այդ թվում` բյուջետային ծախսերի տնտեսագիտական դասակարգման հոդվածներ | G79: 12835 | I79: =+I80 -> -2525628.4 | J79: =+J80 -> -2525628.4
F80: ՈՉ ՖԻՆԱՆՍԱԿԱՆ ԱԿՏԻՎՆԵՐԻ ԳԾՈՎ ԾԱԽՍԵՐ | H80: =H81 -> 0 | I80: =+I81 -> -2525628.4 | J80: =+J81 -> -2525628.4
F81: ՀԻՄՆԱԿԱՆ ՄԻՋՈՑՆԵՐ | H81: =H84 -> 0 | I81: =I84+I82 -> -2525628.4 | J81: =J84+J82 -> -2525628.4
F82: ՇԵՆՔԵՐ ԵՎ ՇԻՆՈՒԹՅՈՒՆՆԵՐ | H82: =H83 -> 0 | I82: =I83 -> -2398575.1 | J82: =J83 -> -2398575.1
F83: - Շենքերի և շինությունների կառուցում | H83: 0 | I83: -2398575.1 | J83: -2398575.1
F84: ՄԵՔԵՆԱՆԵՐ ԵՎ ՍԱՐՔԱՎՈՐՈՒՄՆԵՐ | H84: =H85 -> 0 | I84: =SUM(I85:I86) -> -127053.22 | J84: =SUM(J85:J86) -> -127053.22
F85: - Վարչական սարքավորումներ | H85: 0 | I85: -30602.124 | J85: -30602.124
F86: - Այլ մեքենաներ և սարքավորումներ | H86: 0 | I86: -96451.1 | J86: -96451.1
E87: 11001 | F87: Ռազմական կարիքների բավարարում | G87: =+G89 -> 12835 | H87: =+H89 -> #REF! | I87: =+I89 -> 4241167.4 | J87: =+J89 -> 4241167.4
F88: այդ թվում` ըստ կատարողների
F89: ՀՀ պաշտպանության նախարարություն | G89: =+G90 -> 12835 | H89: =H91 -> #REF! | I89: =+I90 -> 4241167.4 | J89: =+J90 -> 4241167.4
F90: այդ թվում` բյուջետային ծախսերի տնտեսագիտական դասակարգման հոդվածներ | G90: 12835 | I90: =+I91 -> 4241167.4 | J90: =+J91 -> 4241167.4
F91: ԸՆԴԱՄԵՆԸ ԾԱԽՍԵՐ | H91: =H92 -> #REF! | I91: =+I92 -> 4241167.4 | J91: =+J92 -> 4241167.4
F92: ԸՆԹԱՑԻԿ ԾԱԽՍԵՐ | H92: =#REF! -> #REF! | I92: =+I93+I102 -> 4241167.4 | J92: =+J93+J102 -> 4241167.4
F93: ԾԱՌԱՅՈՒԹՅՈՒՆՆԵՐԻ ԵՎ ԱՊՐԱՆՔՆԵՐԻ ՁԵՌՔ ԲԵՐՈՒՄ | H93: =#REF! -> #REF! | I93: =+I94+I96+I98 -> 398905.26 | J93: =+J94+J96+J98 -> 398905.26
F94: ՇԱՐՈՒՆԱԿԱԿԱՆ ԾԱԽՍԵՐ | H94: =#REF! -> #REF! | I94: =SUM(I95:I95) -> 234237.5 | J94: =SUM(J95:J95) -> 234237.5
F95: - Էներգետիկ ծառայություններ | H95: 0 | I95: 234237.5 | J95: 234237.5
F96: ԸՆԹԱՑԻԿ ՆՈՐՈԳՈՒՄ ԵՎ ՊԱՀՊԱՆՈՒՄ (ԾԱՌԱՅՈՒԹՅՈՒՆՆԵՐ ԵՎ ՆՅՈՒԹԵՐ) | H96: =#REF! -> #REF! | I96: =SUM(I97) -> 16915 | J96: =SUM(J97) -> 16915
F97: - Մեքենաների և սարքավորումների ընթացիկ նորոգում և պահպանում | H97: 0 | I97: 16915 | J97: 16915
F98: ՆՅՈՒԹԵՐ | H98: =#REF! -> #REF! | I98: =SUM(I99:I101) -> 147752.76 | J98: =SUM(J99:J101) -> 147752.76
F99: - Գրասենյակային նյութեր և հագուստ | H99: 0 | I99: 7963.9 | J99: 7963.9
F100: - Տրանսպորտային նյութեր | H100: 0 | I100: 133288.86 | J100: 133288.86
F101: - Հատուկ նպատակային այլ նյութեր | H101: 0 | I101: 6500 | J101: 6500
F102: ԱՅԼ ԾԱԽՍԵՐ | H102: 0 | I102: =+I103 -> 3842262.1 | J102: =+J103 -> 3842262.1
F103: - Այլ ծախսեր | H103: 0 | I103: 3842262.1 | J103: 3842262.1
...

Sheet 3
F1: Հավելված N 3
B2: ՀՀ կառավարության 2020 թվականի
B3: ______________ ի ___Ն որոշման
A6: ՀԱՅԱՍՏԱՆԻ ՀԱՆՐԱՊԵՏՈՒԹՅԱՆ ԿԱՌԱՎԱՐՈՒԹՅԱՆ 2019 ԹՎԱԿԱՆԻ ԴԵԿՏԵՄԲԵՐԻ 26-Ի ԹԻՎ 1919-Ն ՈՐՈՇՄԱՆ N 9 ՀԱՎԵԼՎԱԾԻ N 9.47 ԵՎ N 9.1 ՀԱՎԵԼՎԱԾԻ N 9.1.58 ԱՂՅՈՒՍԱԿՆԵՐՈՒՄ ԿԱՏԱՐՎՈՂ ՓՈՓՈԽՈՒԹՅՈՒՆՆԵՐ
A7: ՀՀ կառավարություն
A8: Ծրագրի դասիչը | B8: Ծրագրի անվանումը
A9: 1139 | B9: ՀՀ կառավարության պահուստային ֆոնդ
A11: Ծրագրի միջոցառումները
A13: Ծրագրի դասիչը` | B13: 1139 | C13: Ցուցանիշներ (ավելավումները նշված են դրական նշանով իսկ պակասեցումները փակագծերում)
A14: Միջոցառման դասիչը` | B14: 11001 | C14: Առաջին եռամսյակ | D14: Առաջին կիսամյակ | E14: Ինն ամիս | F14: Տարի
A15: Միջոցառման անվանումը` | B15: ՀՀ կառավարության պահուստային ֆոնդ
A16: Նկարագրությունը` | B16: ՀՀ պետական բյուջեում նախատեսված ելքերի լրացուցիչ ֆինանսավորման, պետական բյուջեում չկանխատեսված ելքերի, ինչպես նաև բյուջետային երաշխիքների ապահովման ելքերի ֆինանսավորման ապահովում
A17: Միջոցառման տեսակը` | B17: Ծառայությունների մատուցում
A18: Միջոցառումն իրականացնողի անվանումը | B18: ՀՀ կառավարություն
A19: Արդյունքի չափորոշիչներ
A20: չի սահմանվում
A21: Միջոցառման վրա կատարվող ծախսը (հազար դրամ) | C21: 43,404,210.90 | D21: ='2'!H36 -> 0 | E21: =+'2'!I22 -> -6766795.7 | F21: =+'2'!J22 -> -6766795.7
A23: Ծրագրի դասիչը` | B23: 1139 | C23: Ցուցանիշներ (ավելավումները նշված են դրական նշանով իսկ պակասեցումները փակագծերում)
A24: Միջոցառման դասիչը` | B24: 11001 | C24: Առաջին եռամսյակ | D24: Առաջին կիսամյակ | E24: Ինն ամիս | F24: Տարի
A25: Միջոցառման անվանումը` | B25: ՀՀ կառավարության պահուստային ֆոնդ
A26: Նկարագրությունը` | B26: ՀՀ պետական բյուջեում նախատեսված ելքերի լրացուցիչ ֆինանսավորման, պետական բյուջեում չկանխատեսված ելքերի, ինչպես նաև բյուջետային երաշխիքների ապահովման ելքերի ֆինանսավորման ապահովում
A27: Միջոցառման տեսակը` | B27: Ծառայությունների մատուցում
A28: Միջոցառումն իրականացնողի անվանումը | B28: ՀՀ կառավարություն
A29: Արդյունքի չափորոշիչներ
A30: չի սահմանվում
A31: Միջոցառման վրա կատարվող ծախսը (հազար դրամ) | C31: 43,404,210.90 | D31: ='2'!H45 -> #REF! | E31: =+'2'!I30 -> 6766795.7 | F31: =+'2'!J30 -> 6766795.7
A33: ՀԱՅԱՍՏԱՆԻ ՀԱՆՐԱՊԵՏՈՒԹՅԱՆ ԿԱՌԱՎԱՐՈՒԹՅԱՆ 2019 ԹՎԱԿԱՆԻ ԴԵԿՏԵՄԲԵՐԻ 26-Ի ԹԻՎ 1919-Ն ՈՐՈՇՄԱՆ N 9 ՀԱՎԵԼՎԱԾԻ N 9.15 ԵՎ N 9.1 ՀԱՎԵԼՎԱԾԻ N 9.1.15 ԱՂՅՈՒՍԱԿՆԵՐՈՒՄ ԿԱՏԱՐՎՈՂ ՓՈՓՈԽՈՒԹՅՈՒՆՆԵՐ
A34: ՀՀ պաշտպանության նախարարություն
A36: Ծրագրի դասիչը | B36: Ծրագրի անվանումը
A37: 1169 | B37: ՀՀ պաշտպանության ապահովում
A39: Ծրագրի միջոցառումները
A41: Ծրագրի դասիչը` | B41: 1169 | C41: Ցուցանիշներ (ավելավումները նշված են դրական նշանով իսկ պակասեցումները փակագծերում)
A42: Միջոցառման դասիչը` | B42: 11001 | C42: Առաջին եռամսյակ | D42: Առաջին կիսամյակ | E42: Ինն ամիս | F42: Տարի
A43: Միջոցառման անվանումը` | B43: Ռազմական կարիքների բավարարում
A44: Նկարագրությունը` | B44: Ընթացիկ գործունեության ապահովման գործողություններ
A45: Միջոցառման տեսակը` | B45: Ծառայությունների մատուցում
A46: Միջոցառումն իրականացնողի անվանումը | B46: ՀՀ պաշտպանության նախարարություն
A47: Արդյունքի չափորոշիչներ
A48: չի սահմանվում
A49: Միջոցառման վրա կատարվող ծախսը (հազար դրամ) | C49: 43,404,210.90 | D49: ='2'!H62 -> 0 | E49: =+'2'!I46 -> -3991167.4 | F49: =+'2'!J46 -> -3991167.4
A51: Ծրագրի դասիչը` | B51: 1169 | C51: Ցուցանիշներ (ավելավումները նշված են դրական նշանով իսկ պակասեցումները փակագծերում)
A52: Միջոցառման դասիչը` | B52: 31001 | C52: Առաջին եռամսյակ | D52: Առաջին կիսամյակ | E52: Ինն ամիս | F52: Տարի
A53: Միջոցառման անվանումը` | B53: ՀՀ պաշտպանության նախարարության շենքային պայմանների բարելավում
A54: Նկարագրությունը` | B54: Պաշտպանության կարիքների համար բնակելի, գրասենյակային և այլ նշանակության շենքերի և շինությունների կառուցում
A55: Միջոցառման տեսակը` | B55: Պետական մարմինների կողմից օգտագործվող ոչ ֆինանսական ակտիվների հետ գործառնություններ
A56: Միջոցառումն իրականացնողի անվանումը | B56: ՀՀ պաշտպանության նախարարություն
A57: Արդյունքի չափորոշիչներ
A58: չի սահմանվում
A59: Միջոցառման վրա կատարվող ծախսը (հազար դրամ) | C59: 43,404,210.90 | D59: =+'[1]3'!H64 -> 0 | E59: =+'2'!I76 -> -2525628.4 | F59: =+'2'!J76 -> -2525628.4
A61: Ծրագրի դասիչը` | B61: 1169 | C61: Ցուցանիշներ (ավելավումները նշված են դրական նշանով իսկ պակասեցումները փակագծերում)
A62: Միջոցառման դասիչը` | B62: 11001 | C62: Առաջին եռամսյակ | D62: Առաջին կիսամյակ | E62: Ինն ամիս | F62: Տարի
A63: Միջոցառման անվանումը` | B63: Ռազմական կարիքների բավարարում
A64: Նկարագրությունը` | B64: Ընթացիկ գործունեության ապահովման գործողություններ
A65: Միջոցառման տեսակը` | B65: Ծառայությունների մատուցում
A66: Միջոցառումն իրականացնողի անվանումը | B66: ՀՀ պաշտպանության նախարարություն
A67: Արդյունքի չափորոշիչներ
A68: չի սահմանվում
A69: Միջոցառման վրա կատարվող ծախսը (հազար դրամ) | C69: 43,404,210.90 | D69: =+'2'!#REF! -> #REF! | E69: =+'2'!I87 -> 4241167.4 | F69: =+'2'!J87 -> 4241167.4
A71: Ծրագրի դասիչը` | B71: 1169 | C71: Ցուցանիշներ (ավելավումները նշված են դրական նշանով իսկ պակասեցումները փակագծերում)
A72: Միջոցառման դասիչը` | B72: 31001 | C72: Առաջին եռամսյակ | D72: Առաջին կիսամյակ | E72: Ինն ամիս | F72: Տարի
A73: Միջոցառման անվանումը` | B73: ՀՀ պաշտպանության նախարարության շենքային պայմանների բարելավում
A74: Նկարագրությունը` | B74: Պաշտպանության կարիքների համար բնակելի, գրասենյակային և այլ նշանակության շենքերի և շինությունների կառուցում
A75: Միջոցառման տեսակը` | B75: Պետական մարմինների կողմից օգտագործվող ոչ ֆինանսական ակտիվների հետ գործառնություններ
A76: Միջոցառումն իրականացնողի անվանումը | B76: ՀՀ պաշտպանության նախարարություն
A77: Արդյունքի չափորոշիչներ
A78: չի սահմանվում
A79: Միջոցառման վրա կատարվող ծախսը (հազար դրամ) | C79: 43,404,210.90 | D79: =+'[1]3'!H84 -> 0 | E79: =+'2'!I104 -> 2525628.4 | F79: =+'2'!J104 -> 2525628.4
A81: ՀԱՅԱՍՏԱՆԻ ՀԱՆՐԱՊԵՏՈՒԹՅԱՆ ԿԱՌԱՎԱՐՈՒԹՅԱՆ 2019 ԹՎԱԿԱՆԻ ԴԵԿՏԵՄԲԵՐԻ 26-Ի ԹԻՎ 1919-Ն ՈՐՈՇՄԱՆ N 9 ՀԱՎԵԼՎԱԾԻ N 9.16 ԵՎ N 9.1 ՀԱՎԵԼՎԱԾԻ N 9.1.15 ԱՂՅՈՒՍԱԿՆԵՐՈՒՄ ԿԱՏԱՐՎՈՂ ՓՈՓՈԽՈՒԹՅՈՒՆՆԵՐ
A82: ՀՀ պաշտպանության նախարարություն
A84: Ծրագրի դասիչը | B84: Ծրագրի անվանումը
A85: 1098 | B85: Բնակարանային ապահովում
A87: Ծրագրի միջոցառումները
A89: Ծրագրի դասիչը` | B89: 1098 | C89: Ցուցանիշներ (ավելավումները նշված են դրական նշանով իսկ պակասեցումները փակագծերում)
A90: Միջոցառման դասիչը` | B90: 12002 | C90: Առաջին եռամսյակ | D90: Առաջին կիսամյակ | E90: Ինն ամիս | F90: Տարի
A91: Միջոցառման անվանումը` | B91: Զոհված (մահացած) առաջին, երկրորդ և երրորդ կարգի հաշմանդամ զինծառայողների անօթևան ընտանիքներին բնակարանով ապահովում և բնակարանային պայմանների բարելավում
A92: Նկարագրությունը` | B92: Գնահատման չափանիշների համաձայն բնակարանի բարելավման կարիք ունեցող կարիքավորների ճանաչում, հաշվառում և նրանց անհատույց ֆինասական աջակցության տրամադրման եղանակով բնակարանային խնդիրների լուծում
A93: Միջոցառման տեսակը` | B93: Տրանսֆերտների տրամադրում
A94: Շահառուների ընտրության չափանիշներ | B94: Զոհված (մահացած) առաջին« երկրորդ և երրորդ կարգի հաշմանդամ զինծառայողների անօթևան և բնակարանային պայմանների բարելավման կարիք ունեցող ընտանիքներ
A95: Արդյունքի չափորոշիչներ
A96: Բնակարանային ապահովման և պայմանների μարելավման նպատակով աջակցություն ստացող շահառուների թիվ, ադ թվում` | E96: =+E97+E102 -> -29 | F96: =+F97+F102 -> -31
A97: 1. Զոհված (մահացած) զինծառայողների ընտանիքներ, այդ թվում | E97: =+E98+E100 -> -29 | F97: =+F98+F100 -> -31
A98: 1.1. ք. Երևան, որից` | E98: =+E99 -> -10 | F98: =+F99 -> -12
A99: անօթևան և բնակարանային պայմանների բարելավման կարիք ունեցող ընտանիքների թիվ, հատ | E99: -10 | F99: -12
A100: 1.2. ՀՀ մարզեր, որից` | E100: =+E101 -> -19 | F100: =+F101 -> -19
A101: անօթևան և μնակարանային պայմանների μարելավման կարիք ունեցող ընտանիքների թիվ, հատ | E101: -19 | F101: -19
A102: 2. Առաջին, երկրորդ և երրորդ կարգի հաշմանդամ զինծառայողների ընտանիքներ, այդ թվում`
A103: Աջակցություն ստացած անօթևան շահառուների տեսակարար կշիռը, որպես բնակարանային պայմանների կարիքավոր հաշվառված շահառուների նկատմամբ, տոկոս | E103: -1.1 | F103: -2.2
A104: Միանվագ
A105: Միջոցառման վրա կատարվող ծախսը (հազար դրամ) | C105: 43,404,210.90 | D105: ='2'!H110 -> 0 | E105: =+'2'!I134 -> -250000 | F105: =+'2'!J134 -> -250000

Sheet 4
E1: Հավելված N 4
E2: ՀՀ կառավարության 2020 թվականի
E3: ________ N ____ որոշման
A6: ՀԱՅԱՍՏԱՆԻ ՀԱՆՐԱՊԵՏՈՒԹՅԱՆ ԿԱՌԱՎԱՐՈՒԹՅԱՆ 2019 ԹՎԱԿԱՆԻ ԴԵԿՏԵՄԲԵՐԻ 26-Ի N 1919-Ն ՈՐՈՇՄԱՆ N 10 ՀԱՎԵԼՎԱԾՈՒՄ ԿԱՏԱՐՎՈՂ ՓՈՓՈԽՈՒԹՅՈՒՆՆԵՐԸ ՈՒ ԼՐԱՑՈՒՄՆԵՐԸ
A8: Կոդը | B8: Անվանումը | C8: Գնման ձևը | D8: Չափման միավորը | E8: Ցուցանիշների փոփոխությունը (ավելացումները նշված են դրական նշանով, իսկ նվազեցումները` փակագծերում)
E9: միավորի գինը (դրամով) | F9: քանակը | G9: գումարը (հազար դրամով)
B10: ՀՀ պաշտպանության նախարարություն | G10: =(G11) -> -2646950.9
A11: Բաժին N02 | B11: Խումբ N01 Դաս N01 | C11: Ռազմական պաշտպանություն | G11: =+G12+G721 -> -2646950.9
A12: 1169 11001 | B12: Ռազմական կարիքների բավարարում | G12: =SUM(G13:G720) -> -2709378.4
A13: 65311100/1 | B13: էլեկտրականության բաշխում | C13: ՄԱ | D13: դրամ | G13: -399998.99 | H13: 4212 | J13: =SUM(G13:G14) -> -509998.99
A14: 65211100/1 | B14: գազի բաշխում | C14: ՄԱ | D14: դրամ | G14: -110000 | H14: 4212
A15: 65111100/1 | B15: խմելու ջրի բաշխում | C15: ՄԱ | D15: դրամ | G15: -77776 | H15: 4213
A16: 70221100/1 | B16: ոչ բնակելի անշարժ գույքի վարձակալության կամ լիզինգի ծառայություններ | C16: ՄԱ | D16: դրամ | G16: -1855 | H16: 4216
A17: 99600000/2 | B17: գնում չհանդիսացող այլ ծախսեր | C17: ԳՉԾ | D17: դրամ | G17: -20000 | H17: 4222
A18: 79991160/1 | B18: արխիվացման ծառայություններ | C18: ԳՀ | D18: դրամ | G18: -461.8218 | H18: 4234 | J18: =SUM(G18:G21) -> -7922.2718
A19: 79821200/336 | B19: այլ պոլիգրաֆիական արտադրանքի տպագրման ծառայություն | C19: ԳՀ | D19: հատ | G19: -5245.45 | H19: 4234
A20: 79821200/339 | B20: այլ պոլիգրաֆիական արտադրանքի տպագրման ծառայություն | C20: ԳՀ | D20: հատ | G20: -55 | H20: 4234
A21: 79821200/340 | B21: այլ պոլիգրաֆիական արտադրանքի տպագրման ծառայություն | C21: ԳՀ | D21: հատ | G21: -2160 | H21: 4234
A22: 39281200/38 | B22: խորհրդանշական նվերներ | C22: ՄԱ | D22: հատ | E22: -50000 | F22: -50 | G22: -2500 | H22: 4237 | J22: =SUM(G22:G25) -> -40750
A23: 39281200/39 | B23: խորհրդանշական նվերներ | C23: ՄԱ | D23: հատ | E23: -40000 | F23: -50 | G23: -2000 | H23: 4237
A24: 39281200/41 | B24: խորհրդանշական նվերներ | C24: ՄԱ | D24: հատ | E24: -25000 | F24: -250 | G24: -6250 | H24: 4237
A25: 98391160/2 | B25: ներկայացուցչական, արարողակարգային ծառայություններ | C25: ՄԱ | D25: դրամ | G25: -30000 | H25: 4237
A26: 63511500/1 | B26: ճամփորդական ծառայություններ | C26: ԳՀ | D26: դրամ | E26: -10000000 | F26: -1 | G26: -10000 | H26: 4239 | J26: =SUM(G26:G112) -> -45912.811
A27: 79821200/10 | B27: այլ պոլիգրաֆիական արտադրանքի տպագրման ծառայություն | C27: ԳՀ | D27: հատ | G27: -88.10175 | H27: 4239
A28: 79821200/102 | B28: այլ պոլիգրաֆիական արտադրանքի տպագրման ծառայություն | C28: ԳՀ | D28: հատ | G28: -43.575 | H28: 4239
A29: 79821200/107 | B29: այլ պոլիգրաֆիական արտադրանքի տպագրման ծառայություն | C29: ԳՀ | D29: հատ | G29: -87.06 | H29: 4239
A30: 79821200/110 | B30: այլ պոլիգրաֆիական արտադրանքի տպագրման ծառայություն | C30: ԳՀ | D30: հատ | G30: -60.687 | H30: 4239
A31: 79821200/111 | B31: այլ պոլիգրաֆիական արտադրանքի տպագրման ծառայություն | C31: ԳՀ | D31: հատ | G31: -45.28825 | H31: 4239
A32: 79821200/112 | B32: այլ պոլիգրաֆիական արտադրանքի տպագրման ծառայություն | C32: ԳՀ | D32: հատ | G32: -60.60656 | H32: 4239
A33: 79821200/114 | B33: այլ պոլիգրաֆիական արտադրանքի տպագրման ծառայություն | C33: ԳՀ | D33: հատ | G33: -44.4393 | H33: 4239
A34: 79821200/118 | B34: այլ պոլիգրաֆիական արտադրանքի տպագրման ծառայություն | C34: ԳՀ | D34: հատ | G34: -52.1277 | H34: 4239
A35: 79821200/125 | B35: այլ պոլիգրաֆիական արտադրանքի տպագրման ծառայություն | C35: ԳՀ | D35: հատ | G35: -108.693 | H35: 4239
A36: 79821200/13 | B36: այլ պոլիգրաֆիական արտադրանքի տպագրման ծառայություն | C36: ԳՀ | D36: հատ | G36: -154.14225 | H36: 4239
A37: 79821200/149 | B37: այլ պոլիգրաֆիական արտադրանքի տպագրման ծառայություն | C37: ԳՀ | D37: հատ | G37: -118.8 | H37: 4239
A38: 79821200/151 | B38: այլ պոլիգրաֆիական արտադրանքի տպագրման ծառայություն | C38: ԳՀ | D38: հատ | G38: -151.2 | H38: 4239
... A94: 79921100/503 | B94: փաթեթավորման ծառայություններ | C94: ԳՀ | D94: դրամ | G94: -7652.2 | H94: 4239
A95: 79951110/4 | B95: մշակութային միջոցառումների կազմակերպման ծառայություններ | C95: ԳՀ | D95: դրամ | E95: -1674640 | F95: -1 | G95: -1674.64 | H95: 4239
A96: 79951110/5 | B96: մշակութային միջոցառումների կազմակերպման ծառայություններ | C96: ԳՀ | D96: դրամ | G96: -850 | H96: 4239
A97: 79951110/6 | B97: մշակութային միջոցառումների կազմակերպման ծառայություններ | C97: ԳՀ | D97: դրամ | G97: -601 | H97: 4239
A98: 98391120/1 | B98: դերձակի ծառայություններ | C98: ԳՀ | D98: դրամ | G98: -390 | H98: 4239
A99: 98391120/12 | B99: դերձակի ծառայություններ | C99: ԲՄ | D99: դրամ | G99: -3120 | H99: 4239
A100: 98391120/17 | B100: դերձակի ծառայություններ | C100: ԲՄ | D100: դրամ | G100: -2500 | H100: 4239
A101: 98391120/18 | B101: դերձակի ծառայություններ | C101: ԲՄ | D101: դրամ | G101: -2500 | H101: 4239
A102: 98391120/2 | B102: դերձակի ծառայություններ | C102: ԳՀ | D102: դրամ | G102: -457.5 | H102: 4239
A103: 98391120/24 | B103: դերձակի ծառայություններ | C103: ԳՀ | D103: դրամ | G103: -1920 | H103: 4239
A104: 98391120/3 | B104: դերձակի ծառայություններ | C104: ԳՀ | D104: դրամ | G104: -390 | H104: 4239
A105: 98391120/32 | B105: դերձակի ծառայություններ | C105: ԲՄ | D105: դրամ | G105: -500 | H105: 4239
A106: 98391120/34 | B106: դերձակի ծառայություններ | C106: ԲՄ | D106: դրամ | G106: -60 | H106: 4239
A107: 98391120/4 | B107: դերձակի ծառայություններ | C107: ԳՀ | D107: դրամ | G107: -390 | H107: 4239
... A112: 98391170/6 | B112: հացամթերքի թխման ծառայություններ | C112: ԷԱՃ | D112: դրամ | G112: -373.3927 | H112: 4239
A113: 79311100/1 | B113: ուսումնասիրությունների իրականացման ծառայություններ | C113: ԳՀ | D113: դրամ | E113: -57000000 | F113: -1 | G113: -57000 | H113: 4241 | J113: =SUM(G113:G114) -> -85419.06
A114: 79211220/1 | B114: գույքագրման ծառայություններ | C114: ԳՀ | D114: դրամ | E114: -28419060 | F114: -1 | G114: -28419.06 | H114: 4241
A115: 45251167/1 | B115: կայանների վերանորոգում ― տեխնիկական սպասարկում | C115: ՄԱ | D115: դրամ | G115: -2320 | H115: 4252 | J115: =SUM(G115:G118) -> -14770.8
A116: 50531150/1 | B116: գազային սարքերի պահպանման ծառայություններ | C116: ԳՀ | D116: հատ | G116: -42 | H116: 4252
A117: 71331600/1 | B117: օժանդակ ինժեներական ծառայություններ | C117: ԳՀ | D117: դրամ | E117: -10000000 | F117: -1 | G117: -10000 | H117: 4252
A118: 71631260/1 | B118: ավտոմեխանիկայի երաշխիքային ― ետերաշխիքային սպասարկման ծառայություններ | C118: ՄԱ | D118: դրամ | G118: -2408.8 | H118: 4252
A119: 03111270/1 | B119: քաթան | C119: ԳՀ | D119: կիլոգրամ | G119: -105.15 | H119: 4261 | J119: =SUM(G119:G268) -> -66119.42
A120: 18231410/2 | B120: կիտել ― տաբատ | C120: ԳՀ | D120: լրակազմ | G120: -95.6 | H120: 4261
A121: 18231410/4 | B121: կիտել ― տաբատ | C121: ԳՀ | D121: լրակազմ | G121: -49.8 | H121: 4261
A122: 18231900/4 | B122: բաճկոնակներ | C122: ԳՀ | D122: հատ | G122: -35.7 | H122: 4261
A123: 18231910/5 | B123: բաճկոն ― տաբատ | C123: ԳՀ | D123: լրակազմ | G123: -0.2 | H123: 4261
A124: 18421120/1 | B124: փողկապներ | C124: ԳՀ | D124: հատ | G124: -56 | H124: 4261
A125: 18421120/2 | B125: փողկապներ | C125: ԳՀ | D125: հատ | G125: -27 | H125: 4261
A126: 18421170/1 | B126: գոտիներ | C126: ԳՀ | D126: հատ | G126: -2208 | H126: 4261
A127: 18421200/1 | B127: ենթաօձիքներ | C127: ԳՀ | D127: հատ | G127: -200 | H127: 4261
A128: 18421200/2 | B128: ենթաօձիքներ | C128: ԳՀ | D128: հատ | G128: -200 | H128: 4261
A129: 18441100/1 | B129: գլխարկներ | C129: ԳՀ | D129: հատ | G129: -66 | H129: 4261
A130: 18441100/2 | B130: գլխարկներ | C130: ԳՀ | D130: հատ | G130: -26.6 | H130: 4261
A131: 18441100/3 | B131: գլխարկներ | C131: ԳՀ | D131: հատ | G131: -39.9 | H131: 4261
... A151: 22991130/2 | B151: թուղթ` պլոտեր սարքի | C151: ԳՀ | D151: կիլոգրամ | G151: -214.3204 | H151: 4261
A152: 22991130/3 | B152: թուղթ` պլոտեր սարքի | C152: ԳՀ | D152: կիլոգրամ | E152: -2000 | F152: -250 | G152: -500 | H152: 4261
A153: 22991190/1 | B153: կավճապատ թուղթ | C153: ԳՀ | D153: կիլոգրամ | G153: -40.176 | H153: 4261
A154: 24911200/2 | B154: սոսինձ, էմուլսիա | C154: ԳՀ | D154: կիլոգրամ | G154: -1082.1631 | H154: 4261
A155: 24931100/2 | B155: լուսանկարչական թիթեղիկներ կամ ժապավեններ | C155: ԳՀ | D155: հատ | G155: -22.004 | H155: 4261
A156: 30121460/15 | B156: տոներային քարտրիջներ | C156: ԳՀ | D156: հատ | E156: -10000 | F156: -120 | G156: -1200 | H156: 4261
A157: 30121470/15 | B157: տոներ լազերային տպիչների/հեռապատճենահանող մեքենաների համար | C157: ԳՀ | D157: կիլոգրամ | E157: -8000 | F157: -2.1 | G157: -16.8 | H157: 4261
A158: 30121500/10 | B158: քարտրիջներ | C158: ԳՀ | D158: հատ | E158: -38750 | F158: -2 | G158: -77.5 | H158: 4261
A159: 30121500/11 | B159: քարտրիջներ | C159: ԳՀ | D159: հատ | E159: -38750 | F159: -2 | G159: -77.5 | H159: 4261
A160: 30121500/12 | B160: քարտրիջներ | C160: ԳՀ | D160: հատ | E160: -38750 | F160: -2 | G160: -77.5 | H160: 4261
A161: 30121500/13 | B161: քարտրիջներ | C161: ԳՀ | D161: հատ | G161: -21 | H161: 4261
A162: 30121500/14 | B162: քարտրիջներ | C162: ԳՀ | D162: հատ | G162: -21 | H162: 4261
A163: 30121500/15 | B163: քարտրիջներ | C163: ԳՀ | D163: հատ | G163: -21 | H163: 4261
A164: 30121500/16 | B164: քարտրիջներ | C164: ԳՀ | D164: հատ | G164: -21 | H164: 4261
A165: 30121500/17 | B165: քարտրիջներ | C165: ԳՀ | D165: հատ | G165: -5.82 | H165: 4261
A166: 30121500/18 | B166: քարտրիջներ | C166: ԳՀ | D166: հատ | G166: -5.82 | H166: 4261
A167: 30121500/19 | B167: քարտրիջներ | C167: ԳՀ | D167: հատ | G167: -5.82 | H167: 4261
A168: 30121500/20 | B168: քարտրիջներ | C168: ԳՀ | D168: հատ | G168: -5.82 | H168: 4261
A169: 30121500/21 | B169: քարտրիջներ | C169: ԳՀ | D169: հատ | G169: -2.2 | H169: 4261
A170: 30121500/22 | B170: քարտրիջներ | C170: ԳՀ | D170: հատ | G170: -14.44 | H170: 4261
A171: 30121500/23 | B171: քարտրիջներ | C171: ԳՀ | D171: հատ | G171: -14.44 | H171: 4261
A172: 30121500/24 | B172: քարտրիջներ | C172: ԳՀ | D172: հատ | G172: -14.44 | H172: 4261
... A188: 30121500/45 | B188: քարտրիջներ | C188: ԳՀ | D188: հատ | G188: -18.66 | H188: 4261
A189: 30121500/9 | B189: քարտրիջներ | C189: ԳՀ | D189: հատ | E189: -38750 | F189: -2 | G189: -77.5 | H189: 4261
A190: 30192100/1 | B190: ռետին հասարակ | C190: ԳՀ | D190: հատ | G190: -151.2 | H190: 4261
A191: 30192114/1 | B191: թանաք, կնիքի բարձիկի համար | C191: ԳՀ | D191: հատ | G191: -40.568 | H191: 4261
A192: 30192121/1 | B192: գրիչ գնդիկավոր | C192: ԳՀ | D192: հատ | G192: -4085 | H192: 4261
A193: 30192128/1 | B193: գրիչ գելային | C193: ԳՀ | D193: հատ | G193: -212.5 | H193: 4261
A194: 30192150/2 | B194: կնիք | C194: ԳՀ | D194: հատ | G194: -315 | H194: 4261
A195: 30192160/1 | B195: շտրիխներ | C195: ԳՀ | D195: հատ | G195: -231.42 | H195: 4261
A196: 30192210/1 | B196: պոլիմերային ինքնակպչուն ժապավեն, 48մմx100մ տնտեսական, մեծ | C196: ԳՀ | D196: հատ | G196: -87.75 | H196: 4261
...

Sheet Sheet1
A1: 4239 | B1: 20939.6
A2: 4252 | B2: 4001.2
A3: 4261 | B3: 24221.5
A4: 4264 | B4: 658398.2
A5: 4267 | B5: 51113.2
A6: 4269 | B6: 58135.2
A7: 5121 | B7: 34800
A8: 5122 | B8: 30780.6
A9: 5129 | B9: 165718.2
A10: 5132 | B10: 33.2
