Workbook
Name åû: #REF!
Name åû: #REF!
Name åû: #REF!
Name åû: #REF!
Name åû: #REF!
Name mas: #REF!
Name mas: #REF!
Name mas: #REF!
Name mas: #REF!
Name mas: #REF!
Name mass: #REF!
Name mass: #REF!
Name mass: #REF!
Name mass: #REF!
Name mass: #REF!
Name x: #REF!
Name x: #REF!
Name x: #REF!
Name x: #REF!
Name x: #REF!

Sheet 1
G1: Հավելված N 1
G2: ՀՀ կառավարության 2020 թվականի
G3: ___________ ___-ի N _______ -Ն որոշման
A8: «ՀԱՅԱՍՏԱՆԻ ՀԱՆՐԱՊԵՏՈՒԹՅԱՆ 2020 ԹՎԱԿԱՆԻ ՊԵՏԱԿԱՆ ԲՅՈՒՋԵԻ ՄԱՍԻՆ» ՀԱՅԱՍՏԱՆԻ ՀԱՆՐԱՊԵՏՈՒԹՅԱՆ ՕՐԵՆՔԻ N 1 ՀԱՎԵԼՎԱԾԻ N 2 ԱՂՅՈՒՍԱԿՈՒՄ ԿԱՏԱՐՎՈՂ ՎԵՐԱԲԱՇԽՈՒՄ ԵՎ ՀԱՅԱՍՏԱՆԻ ՀԱՆՐԱՊԵՏՈՒԹՅԱՆ ԿԱՌԱՎԱՐՈՒԹՅԱՆ 2019 ԹՎԱԿԱՆԻ ԴԵԿՏԵՄԲԵՐԻ 26-Ի N 1919-Ն ՈՐՈՇՄԱՆ N 5 ՀԱՎԵԼՎԱԾԻ N 1 ԱՂՅՈՒՍԱԿՈՒՄ ԿԱՏԱՐՎՈՂ ՓՈՓՈԽՈՒԹՅՈՒՆՆԵՐԸ
G10: հազար դրամներով
A11: Ծրագրային դասիչը | C11: Բյուջետային հատկացումների գլխավոր կարգադրիչների, ծրագրերի և միջոցառումների անվանումները | D11: Ցուցանիշների փոփոխություն (ավելավումները նշված են դրական նշանով իսկ պակասեցումները փակագծերում)
D12: Առաջին. եռամսյակ | E12: Առաջին կիսամյակ | F12: Ինն ամիս | G12: Տարի
A13: Ծրագիր | B13: /Միջոցառում
C14: Ընդամենը | D14: =+D35-#REF! -> #REF! | E14: =E35+E15 -> #REF! | F14: =(F35+F15+F67)*-1 -> 9.3132257e-10 | G14: =(G35+G15+G67)*-1 -> 9.3132257e-10
C15: ՀՀ կառավարություն | D15: =+D19 -> 12835 | E15: =+E19 -> 0 | F15: =+F19 -> 0 | G15: =+G17 -> 0
C16: Ծրագրի անվանումը՝
A17: 1139 | C17: ՀՀ կառավարության պահուստային ֆոնդ | E17: =+E23+E29 -> 0 | F17: =+F23+F29 -> 0 | G17: =+G23+G29 -> 0
C18: Ծրագրի նպատակը՝
C19: Պետական բյուջեում չկանխատեսված, ինչպես նաեւ բյուջետային երաշխիքների ապահովման ծախսերի ֆինանսավորման ապահովում | D19: =+D23 -> 12835
C20: Վերջնական արդյունքի նկարագրությունը՝
C21: Պահուստային ֆոնդի կառավարման արդյունավետության և թափանցիկության ապահովում
A22: Ծրագրի միջոցառումներ
B23: 11001 | C23: Միջոցառման անվանումը՝ | D23: 12835 | E23: 0 | F23: =+'2'!I29 -> -6766795.7 | G23: =+'2'!J29 -> -6766795.7
C24: ՀՀ կառավարության պահուստային ֆոնդ
C25: Միջոցառման նկարագրությունը՝
C26: ՀՀ պետական բյուջեում նախատեսված ելքերի լրացուցիչ ֆինանսավորման, պետական բյուջեում չկանխատեսված ելքերի, ինչպես նաև բյուջետային երաշխիքների ապահովման ելքերի ֆինանսավորման ապահովում
C27: Միջոցառման տեսակը
C28: Ծառայությունների մատուցում
B29: 11001 | C29: Միջոցառման անվանումը՝ | D29: 12835 | E29: 0 | F29: =+'2'!I37 -> 6766795.7 | G29: =+'2'!J37 -> 6766795.7
C30: ՀՀ կառավարության պահուստային ֆոնդ
C31: Միջոցառման նկարագրությունը՝
C32: ՀՀ պետական բյուջեում նախատեսված ելքերի լրացուցիչ ֆինանսավորման, պետական բյուջեում չկանխատեսված ելքերի, ինչպես նաև բյուջետային երաշխիքների ապահովման ելքերի ֆինանսավորման ապահովում
C33: Միջոցառման տեսակը
C34: Ծառայությունների մատուցում
C35: ՀՀ պաշտպանության նախարարություն | D35: =+D39 -> 12835 | E35: =+E39 -> #REF! | F35: =+F37 -> 250000 | G35: =+G37 -> 250000
C36: Ծրագրի անվանումը՝
A37: 1169 | C37: ՀՀ պաշտպանության ապահովում | E37: 0 | F37: =+F43+F55+F49+F61 -> 250000 | G37: =+G43+G55+G49+G61 -> 250000
C38: Ծրագրի նպատակը՝
C39: ՀՀ ԶՈւ ռազմավարական ծավալումն ապահովող մարտական պատրաստականության պահպանում՝ արտաքին թշնամուց ՀՀ պետական սահմանների պաշտպանության ապահովում | D39: =+D43 -> 12835 | E39: =+E43+#REF! -> #REF!
C40: Վերջնական արդյունքի նկարագրությունը՝
C41: ՀՀ ԶՈւ ռազմավարական ծավալումն ապահովող մարտական պատրաստականության պահպանում
A42: Ծրագրի միջոցառումներ
B43: 11001 | C43: Միջոցառման անվանումը՝ | D43: 12835 | E43: 0 | F43: =+'2'!I46 -> -3991167.4 | G43: =+'2'!J46 -> -3991167.4
C44: Ռազմական կարիքների բավարարում
C45: Միջոցառման նկարագրությունը՝
...

Sheet 2
I1: Հավելված N 2
F2: ՀՀ կառավարության 2020 թվականի
F3: ___________ ___-ի N _______ -Ն որոշման
A6: ՀԱՅԱՍՏԱՆԻ ՀԱՆՐԱՊԵՏՈՒԹՅԱՆ ԿԱՌԱՎԱՐՈՒԹՅԱՆ 2019 ԹՎԱԿԱՆԻ ԴԵԿՏԵՄԲԵՐԻ 26-Ի N 1919-Ն ՈՐՈՇՄԱՆ N 3 և 4 ՀԱՎԵԼՎԱԾՆԵՐՈՒՄ ԿԱՏԱՐՎՈՂ ՓՈՓՈԽՈՒԹՅՈՒՆՆԵՐԸ
I7: հազար դրամներով
A9: Գործառական դասիչը | D9: Ծրագրային դասիչը | F9: Բյուջետային ծախսերի գործառական դասակարգման բաժինների, խմբերի և դասերի, բյուջետային ծրագրերի միջոցառումների, բյուջետային հատկացումների գլխավոր կարգադրիչների անվանումները | G9: Ցուցանիշների փոփոխություն (ավելացումները նշված են դրական նշանով իսկ պակասեցումները փակագծերում)
G10: Առաջին եռամսյակ | H10: Առաջին կիսամյակ | I10: Ինն ամիս | J10: Տարի
A11: Բաժին | B11: Խումբ | C11: Դաս | D11: Ծրագիր | E11: Միջոցառում
F12: ԸՆԴԱՄԵՆԸ ԾԱԽՍԵՐ այդ թվում՝ | G12: =+G38+#REF! -> #REF! | H12: =+H38 -> #REF! | I12: =SUM(I13+I38+I118)*-1 -> 1.3969839e-09 | J12: =SUM(J13+J38+J118)*-1 -> 1.3969839e-09
A13: 11 | F13: ՀԻՄՆԱԿԱՆ ԲԱԺԻՆՆԵՐԻՆ ՉԴԱՍՎՈՂ ՊԱՀՈՒՍՏԱՅԻՆ ՖՈՆԴԵՐ | G13: =+G15 -> 12835 | H13: =+H15 -> 0 | I13: =+I15 -> 0 | J13: =+J15 -> 0
F14: այդ թվում`
B15: 01 | F15: ՀՀ կառավարության և համայնքների պահուստային ֆոնդ | G15: =+G17 -> 12835 | H15: =+H17 -> 0 | I15: =+I17 -> 0 | J15: =+J17 -> 0
F16: այդ թվում`
C17: 01 | F17: ՀՀ կառավարության պահուստային ֆոնդ | G17: =+G22 -> 12835 | H17: =+H20 -> 0 | I17: =+I20 -> 0 | J17: =+J20 -> 0
F18: այդ թվում`
F19: ՀՀ կառավարություն | G19: =+G20 -> 12835 | H19: =+H20 -> 0 | I19: =+I20 -> 0 | J19: =+J20 -> 0
D20: 1139 | F20: ՀՀ կառավարության պահուստային ֆոնդ | G20: =+G22 -> 12835 | H20: =+H22+H30 -> 0 | I20: =+I22+I30 -> 0 | J20: =+J22+J30 -> 0
F21: այդ թվում`
E22: 11001 | F22: ՀՀ կառավարության պահուստային ֆոնդ | G22: =+G24 -> 12835 | H22: =+H24 -> 0 | I22: =+I24 -> -6766795.7 | J22: =+J24 -> -6766795.7
F23: այդ թվում` ըստ կատարողների
F24: ՀՀ կառավարություն | G24: =+G25 -> 12835 | H24: =H26 -> 0 | I24: =I26 -> -6766795.7 | J24: =J26 -> -6766795.7
F25: այդ թվում` բյուջետային ծախսերի տնտեսագիտական դասակարգման հոդվածներ | G25: 12835
F26: ԸՆԴԱՄԵՆԸ ԾԱԽՍԵՐ | H26: =H27 -> 0 | I26: =I27 -> -6766795.7 | J26: =J27 -> -6766795.7
F27: ԸՆԹԱՑԻԿ ԾԱԽՍԵՐ | H27: =+H28 -> 0 | I27: =+I28 -> -6766795.7 | J27: =+J28 -> -6766795.7
F28: ԱՅԼ ԾԱԽՍԵՐ | H28: 0 | I28: =+I29 -> -6766795.7 | J28: =+J29 -> -6766795.7
F29: - Պահուստային միջոցներ | H29: 0 | I29: =+I46+I76+I126 -> -6766795.7 | J29: =+J46+J76+J126 -> -6766795.7
E30: 11001 | F30: ՀՀ կառավարության պահուստային ֆոնդ | G30: =+G32 -> 12835 | H30: =+H32 -> 0 | I30: =+I32 -> 6766795.7 | J30: =+J32 -> 6766795.7
F31: այդ թվում` ըստ կատարողների
F32: ՀՀ կառավարություն | G32: =+G33 -> 12835 | H32: =H34 -> 0 | I32: =I34 -> 6766795.7 | J32: =J34 -> 6766795.7
F33: այդ թվում` բյուջետային ծախսերի տնտեսագիտական դասակարգման հոդվածներ | G33: 12835
F34: ԸՆԴԱՄԵՆԸ ԾԱԽՍԵՐ | H34: =H35 -> 0 | I34: =I35 -> 6766795.7 | J34: =J35 -> 6766795.7
F35: ԸՆԹԱՑԻԿ ԾԱԽՍԵՐ | H35: =+H36 -> 0 | I35: =+I36 -> 6766795.7 | J35: =+J36 -> 6766795.7
F36: ԱՅԼ ԾԱԽՍԵՐ | H36: 0 | I36: =+I37 -> 6766795.7 | J36: =+J37 -> 6766795.7
F37: - Պահուստային միջոցներ | H37: 0 | I37: =+I87+I104 -> 6766795.7 | J37: =+J87+J104 -> 6766795.7
A38: 02 | F38: ՊԱՇՏՊԱՆՈՒԹՅՈՒՆ | G38: =+G40 -> 12835 | H38: =+H40 -> #REF! | I38: =+I40 -> 250000 | J38: =+J40 -> 250000
F39: այդ թվում`
B40: 01 | F40: Ռազմական պաշտպանություն | G40: =+G42 -> 12835 | H40: =+H42 -> #REF! | I40: =+I42 -> 250000 | J40: =+J42 -> 250000
F41: այդ թվում`
C42: 01 | F42: Ռազմական պաշտպանություն | G42: =+G46 -> 12835 | H42: =+H45 -> #REF! | I42: =+I45 -> 250000 | J42: =+J45 -> 250000
F43: այդ թվում`
...

Sheet 3
F1: Հավելված N 3
B2: ՀՀ կառավարության 2020 թվականի
B3: ______________ ի ___Ն որոշման
A6: ՀԱՅԱՍՏԱՆԻ ՀԱՆՐԱՊԵՏՈՒԹՅԱՆ ԿԱՌԱՎԱՐՈՒԹՅԱՆ 2019 ԹՎԱԿԱՆԻ ԴԵԿՏԵՄԲԵՐԻ 26-Ի ԹԻՎ 1919-Ն ՈՐՈՇՄԱՆ N 9 ՀԱՎԵԼՎԱԾԻ N 9.47 ԵՎ N 9.1 ՀԱՎԵԼՎԱԾԻ N 9.1.58 ԱՂՅՈՒՍԱԿՆԵՐՈՒՄ ԿԱՏԱՐՎՈՂ ՓՈՓՈԽՈՒԹՅՈՒՆՆԵՐ
A7: ՀՀ կառավարություն
A8: Ծրագրի դասիչը | B8: Ծրագրի անվանումը
A9: 1139 | B9: ՀՀ կառավարության պահուստային ֆոնդ
A11: Ծրագրի միջոցառումները
A13: Ծրագրի դասիչը` | B13: 1139 | C13: Ցուցանիշներ (ավելավումները նշված են դրական նշանով իսկ պակասեցումները փակագծերում)
A14: Միջոցառման դասիչը` | B14: 11001 | C14: Առաջին եռամսյակ | D14: Առաջին կիսամյակ | E14: Ինն ամիս | F14: Տարի
A15: Միջոցառման անվանումը` | B15: ՀՀ կառավարության պահուստային ֆոնդ
A16: Նկարագրությունը` | B16: ՀՀ պետական բյուջեում նախատեսված ելքերի լրացուցիչ ֆինանսավորման, պետական բյուջեում չկանխատեսված ելքերի, ինչպես նաև բյուջետային երաշխիքների ապահովման ելքերի ֆինանսավորման ապահովում
A17: Միջոցառման տեսակը` | B17: Ծառայությունների մատուցում
A18: Միջոցառումն իրականացնողի անվանումը | B18: ՀՀ կառավարություն
A19: Արդյունքի չափորոշիչներ
A20: չի սահմանվում
A21: Միջոցառման վրա կատարվող ծախսը (հազար դրամ) | C21: 43,404,210.90 | D21: ='2'!H36 -> 0 | E21: =+'2'!I22 -> -6766795.7 | F21: =+'2'!J22 -> -6766795.7
A23: Ծրագրի դասիչը` | B23: 1139 | C23: Ցուցանիշներ (ավելավումները նշված են դրական նշանով իսկ պակասեցումները փակագծերում)
A24: Միջոցառման դասիչը` | B24: 11001 | C24: Առաջին եռամսյակ | D24: Առաջին կիսամյակ | E24: Ինն ամիս | F24: Տարի
A25: Միջոցառման անվանումը` | B25: ՀՀ կառավարության պահուստային ֆոնդ
A26: Նկարագրությունը` | B26: ՀՀ պետական բյուջեում նախատեսված ելքերի լրացուցիչ ֆինանսավորման, պետական բյուջեում չկանխատեսված ելքերի, ինչպես նաև բյուջետային երաշխիքների ապահովման ելքերի ֆինանսավորման ապահովում
A27: Միջոցառման տեսակը` | B27: Ծառայությունների մատուցում
A28: Միջոցառումն իրականացնողի անվանումը | B28: ՀՀ կառավարություն
A29: Արդյունքի չափորոշիչներ
A30: չի սահմանվում
A31: Միջոցառման վրա կատարվող ծախսը (հազար դրամ) | C31: 43,404,210.90 | D31: ='2'!H45 -> #REF! | E31: =+'2'!I30 -> 6766795.7 | F31: =+'2'!J30 -> 6766795.7
A33: ՀԱՅԱՍՏԱՆԻ ՀԱՆՐԱՊԵՏՈՒԹՅԱՆ ԿԱՌԱՎԱՐՈՒԹՅԱՆ 2019 ԹՎԱԿԱՆԻ ԴԵԿՏԵՄԲԵՐԻ 26-Ի ԹԻՎ 1919-Ն ՈՐՈՇՄԱՆ N 9 ՀԱՎԵԼՎԱԾԻ N 9.15 ԵՎ N 9.1 ՀԱՎԵԼՎԱԾԻ N 9.1.15 ԱՂՅՈՒՍԱԿՆԵՐՈՒՄ ԿԱՏԱՐՎՈՂ ՓՈՓՈԽՈՒԹՅՈՒՆՆԵՐ
A34: ՀՀ պաշտպանության նախարարություն
A36: Ծրագրի դասիչը | B36: Ծրագրի անվանումը
A37: 1169 | B37: ՀՀ պաշտպանության ապահովում
A39: Ծրագրի միջոցառումները
A41: Ծրագրի դասիչը` | B41: 1169 | C41: Ցուցանիշներ (ավելավումները նշված են դրական նշանով իսկ պակասեցումները փակագծերում)
A42: Միջոցառման դասիչը` | B42: 11001 | C42: Առաջին եռամսյակ | D42: Առաջին կիսամյակ | E42: Ինն ամիս | F42: Տարի
A43: Միջոցառման անվանումը` | B43: Ռազմական կարիքների բավարարում
A44: Նկարագրությունը` | B44: Ընթացիկ գործունեության ապահովման գործողություններ
A45: Միջոցառման տեսակը` | B45: Ծառայությունների մատուցում
A46: Միջոցառումն իրականացնողի անվանումը | B46: ՀՀ պաշտպանության նախարարություն
A47: Արդյունքի չափորոշիչներ
A48: չի սահմանվում
A49: Միջոցառման վրա կատարվող ծախսը (հազար դրամ) | C49: 43,404,210.90 | D49: ='2'!H62 -> 0 | E49: =+'2'!I46 -> -3991167.4 | F49: =+'2'!J46 -> -3991167.4
...

Sheet 4
E1: Հավելված N 4
E2: ՀՀ կառավարության 2020 թվականի
E3: ________ N ____ որոշման
A6: ՀԱՅԱՍՏԱՆԻ ՀԱՆՐԱՊԵՏՈՒԹՅԱՆ ԿԱՌԱՎԱՐՈՒԹՅԱՆ 2019 ԹՎԱԿԱՆԻ ԴԵԿՏԵՄԲԵՐԻ 26-Ի N 1919-Ն ՈՐՈՇՄԱՆ N 10 ՀԱՎԵԼՎԱԾՈՒՄ ԿԱՏԱՐՎՈՂ ՓՈՓՈԽՈՒԹՅՈՒՆՆԵՐԸ ՈՒ ԼՐԱՑՈՒՄՆԵՐԸ
A8: Կոդը | B8: Անվանումը | C8: Գնման ձևը | D8: Չափման միավորը | E8: Ցուցանիշների փոփոխությունը (ավելացումները նշված են դրական նշանով, իսկ նվազեցումները` փակագծերում)
E9: միավորի գինը (դրամով) | F9: քանակը | G9: գումարը (հազար դրամով)
B10: ՀՀ պաշտպանության նախարարություն | G10: =(G11) -> -2646950.9
A11: Բաժին N02 | B11: Խումբ N01 Դաս N01 | C11: Ռազմական պաշտպանություն | G11: =+G12+G721 -> -2646950.9
A12: 1169 11001 | B12: Ռազմական կարիքների բավարարում | G12: =SUM(G13:G720) -> -2709378.4
A13: 65311100/1 | B13: էլեկտրականության բաշխում | C13: ՄԱ | D13: դրամ | G13: -399998.99 | H13: 4212 | J13: =SUM(G13:G14) -> -509998.99
A14: 65211100/1 | B14: գազի բաշխում | C14: ՄԱ | D14: դրամ | G14: -110000 | H14: 4212
A15: 65111100/1 | B15: խմելու ջրի բաշխում | C15: ՄԱ | D15: դրամ | G15: -77776 | H15: 4213
A16: 70221100/1 | B16: ոչ բնակելի անշարժ գույքի վարձակալության կամ լիզինգի ծառայություններ | C16: ՄԱ | D16: դրամ | G16: -1855 | H16: 4216
A17: 99600000/2 | B17: գնում չհանդիսացող այլ ծախսեր | C17: ԳՉԾ | D17: դրամ | G17: -20000 | H17: 4222
A18: 79991160/1 | B18: արխիվացման ծառայություններ | C18: ԳՀ | D18: դրամ | G18: -461.8218 | H18: 4234 | J18: =SUM(G18:G21) -> -7922.2718
A19: 79821200/336 | B19: այլ պոլիգրաֆիական արտադրանքի տպագրման ծառայություն | C19: ԳՀ | D19: հատ | G19: -5245.45 | H19: 4234
A20: 79821200/339 | B20: այլ պոլիգրաֆիական արտադրանքի տպագրման ծառայություն | C20: ԳՀ | D20: հատ | G20: -55 | H20: 4234
A21: 79821200/340 | B21: այլ պոլիգրաֆիական արտադրանքի տպագրման ծառայություն | C21: ԳՀ | D21: հատ | G21: -2160 | H21: 4234
A22: 39281200/38 | B22: խորհրդանշական նվերներ | C22: ՄԱ | D22: հատ | E22: -50000 | F22: -50 | G22: -2500 | H22: 4237 | J22: =SUM(G22:G25) -> -40750
A23: 39281200/39 | B23: խորհրդանշական նվերներ | C23: ՄԱ | D23: հատ | E23: -40000 | F23: -50 | G23: -2000 | H23: 4237
A24: 39281200/41 | B24: խորհրդանշական նվերներ | C24: ՄԱ | D24: հատ | E24: -25000 | F24: -250 | G24: -6250 | H24: 4237
A25: 98391160/2 | B25: ներկայացուցչական, արարողակարգային ծառայություններ | C25: ՄԱ | D25: դրամ | G25: -30000 | H25: 4237
A26: 63511500/1 | B26: ճամփորդական ծառայություններ | C26: ԳՀ | D26: դրամ | E26: -10000000 | F26: -1 | G26: -10000 | H26: 4239 | J26: =SUM(G26:G112) -> -45912.811
A27: 79821200/10 | B27: այլ պոլիգրաֆիական արտադրանքի տպագրման ծառայություն | C27: ԳՀ | D27: հատ | G27: -88.10175 | H27: 4239
A28: 79821200/102 | B28: այլ պոլիգրաֆիական արտադրանքի տպագրման ծառայություն | C28: ԳՀ | D28: հատ | G28: -43.575 | H28: 4239
A29: 79821200/107 | B29: այլ պոլիգրաֆիական արտադրանքի տպագրման ծառայություն | C29: ԳՀ | D29: հատ | G29: -87.06 | H29: 4239
A30: 79821200/110 | B30: այլ պոլիգրաֆիական արտադրանքի տպագրման ծառայություն | C30: ԳՀ | D30: հատ | G30: -60.687 | H30: 4239
A31: 79821200/111 | B31: այլ պոլիգրաֆիական արտադրանքի տպագրման ծառայություն | C31: ԳՀ | D31: հատ | G31: -45.28825 | H31: 4239
A32: 79821200/112 | B32: այլ պոլիգրաֆիական արտադրանքի տպագրման ծառայություն | C32: ԳՀ | D32: հատ | G32: -60.60656 | H32: 4239
A33: 79821200/114 | B33: այլ պոլիգրաֆիական արտադրանքի տպագրման ծառայություն | C33: ԳՀ | D33: հատ | G33: -44.4393 | H33: 4239
A34: 79821200/118 | B34: այլ պոլիգրաֆիական արտադրանքի տպագրման ծառայություն | C34: ԳՀ | D34: հատ | G34: -52.1277 | H34: 4239
A35: 79821200/125 | B35: այլ պոլիգրաֆիական արտադրանքի տպագրման ծառայություն | C35: ԳՀ | D35: հատ | G35: -108.693 | H35: 4239
A36: 79821200/13 | B36: այլ պոլիգրաֆիական արտադրանքի տպագրման ծառայություն | C36: ԳՀ | D36: հատ | G36: -154.14225 | H36: 4239
A37: 79821200/149 | B37: այլ պոլիգրաֆիական արտադրանքի տպագրման ծառայություն | C37: ԳՀ | D37: հատ | G37: -118.8 | H37: 4239
A38: 79821200/151 | B38: այլ պոլիգրաֆիական արտադրանքի տպագրման ծառայություն | C38: ԳՀ | D38: հատ | G38: -151.2 | H38: 4239
... A94: 79921100/503 | B94: փաթեթավորման ծառայություններ | C94: ԳՀ | D94: դրամ | G94: -7652.2 | H94: 4239
A95: 79951110/4 | B95: մշակութային միջոցառումների կազմակերպման ծառայություններ | C95: ԳՀ | D95: դրամ | E95: -1674640 | F95: -1 | G95: -1674.64 | H95: 4239
A96: 79951110/5 | B96: մշակութային միջոցառումների կազմակերպման ծառայություններ | C96: ԳՀ | D96: դրամ | G96: -850 | H96: 4239
A97: 79951110/6 | B97: մշակութային միջոցառումների կազմակերպման ծառայություններ | C97: ԳՀ | D97: դրամ | G97: -601 | H97: 4239
A98: 98391120/1 | B98: դերձակի ծառայություններ | C98: ԳՀ | D98: դրամ | G98: -390 | H98: 4239
...

Sheet Sheet1
A1: 4239 | B1: 20939.6
A2: 4252 | B2: 4001.2
A3: 4261 | B3: 24221.5
A4: 4264 | B4: 658398.2
A5: 4267 | B5: 51113.2
A6: 4269 | B6: 58135.2
A7: 5121 | B7: 34800
A8: 5122 | B8: 30780.6
A9: 5129 | B9: 165718.2
A10: 5132 | B10: 33.2
