Workbook
Name AgencyCode: #REF!
Name AgencyCode: #REF!
Name AgencyCode: #REF!
Name AgencyName: #REF!
Name AgencyName: #REF!
Name AgencyName: #REF!
Name davit: #REF!
Name davit: #REF!
Name Functional1: #REF!
Name Functional1: #REF!
Name Functional1: #REF!
Name PANature: #REF!
Name PANature: #REF!
Name PAType: #REF!
Name PAType: #REF!
Name Performance2: #REF!
Name Performance2: #REF!
Name PerformanceType: #REF!
Name PerformanceType: #REF!
Name Հավելված: #REF!
Name Հավելված: #REF!
Name Մաս: #REF!
Name Մաս: #REF!
Name շախմատիստ: #REF!
Name շախմատիստ: #REF!

Sheet HavN1
C2: Հավելված N 1
C3: ՀՀ կառավարության 2020 թվականի
C4: ------------------------ -ի N ---------- որոշման
B7: «ՀԱՅԱՍՏԱՆԻ ՀԱՆՐԱՊԵՏՈՒԹՅԱՆ 2020 ԹՎԱԿԱՆԻ ՊԵՏԱԿԱՆ ԲՅՈՒՋԵԻ ՄԱՍԻՆ» ՀԱՅԱՍՏԱՆԻ ՀԱՆՐԱՊԵՏՈՒԹՅԱՆ ՕՐԵՆՔԻ 2-ՐԴ ՀՈԴՎԱԾԻ ԱՂՅՈՒՍԱԿՈՒՄ ԿԱՏԱՐՎՈՂ ՓՈՓՈԽՈՒԹՅՈՒՆՆԵՐԸ
C9: (հազար դրամ)
C10: Ցուցանիշների փոփոխությունը (գումարների ավելացումը նշված է դրական նշանով)
B11: Եկամուտների գծով | C11: 748761
B12: Ծախսերի գծով | C12: =+C11 -> 748761
B13: Դեֆիցիտը (պակասուրդը) | C13: -

Sheet HavN2
B1: Հավելված N 2
B2: ՀՀ կառավարության 2020 թվականի
B3: --------------------- -ի N ---------- որոշման
A6: «ՀԱՅԱՍՏԱՆԻ ՀԱՆՐԱՊԵՏՈՒԹՅԱՆ 2020 ԹՎԱԿԱՆԻ ՊԵՏԱԿԱՆ ԲՅՈՒՋԵԻ ՄԱՍԻՆ» ՀԱՅԱՍՏԱՆԻ ՀԱՆՐԱՊԵՏՈՒԹՅԱՆ ՕՐԵՆՔԻ 6-ՐԴ ՀՈԴՎԱԾԻ ԱՂՅՈՒՍԱԿՈՒՄ ԵՎ ՀԱՅԱՍՏԱՆԻ ՀԱՆՐԱՊԵՏՈՒԹՅԱՆ ԿԱՌԱՎԱՐՈՒԹՅԱՆ 2019 ԹՎԱԿԱՆԻ ԴԵԿՏԵՄԲԵՐԻ 26-Ի N 1919-Ն ՈՐՈՇՄԱՆ N 2 ՀԱՎԵԼՎԱԾՈՒՄ ԿԱՏԱՐՎՈՂ ՓՈՓՈԽՈՒԹՅՈՒՆՆԵՐԸ
D8: (հազար դրամ)
B9: Պետական բյուջեի եկամուտները | C9: Ցուցանիշների փոփոխությունը (գումարների ավելացումը նշված է դրական նշանով)
C10: Ինն ամիս | D10: տարի
B11: Ընդամենը | C11: =C13 -> 748761 | D11: =D13 -> 748761
B12: այդ թվում
B13: Հարկային եկամուտներ և պետական տուրքեր | C13: 748761 | D13: 748761

Sheet HavN3
F1: Հավելված N 3
F2: ՀՀ կառավարության 2020 թվականի
F3: ______________ ի ___Ն որոշման
B5: «ՀԱՅԱՍՏԱՆԻ ՀԱՆՐԱՊԵՏՈՒԹՅԱՆ 2020 ԹՎԱԿԱՆԻ ՊԵՏԱԿԱՆ ԲՅՈՒՋԵԻ ՄԱՍԻՆ» ՀԱՅԱՍՏԱՆԻ ՀԱՆՐԱՊԵՏՈՒԹՅԱՆ ՕՐԵՆՔԻ N 1 ՀԱՎԵԼՎԱԾԻ N 2 ԱՂՅՈՒՍԱԿՈՒՄ ԵՎ ՀԱՅԱՍՏԱՆԻ ՀԱՆՐԱՊԵՏՈՒԹՅԱՆ ԿԱՌԱՎԱՐՈՒԹՅԱՆ 2019 ԹՎԱԿԱՆԻ ԴԵԿՏԵՄԲԵՐԻ 26-Ի N 1919-Ն ՈՐՈՇՄԱՆ N 5 ՀԱՎԵԼՎԱԾԻ N1 ԱՂՅՈՒՍԱԿՈՒՄ ԿԱՏԱՐՎՈՂ ՓՈՓՈԽՈՒԹՅՈՒՆՆԵՐԸ ԵՎ ԼՐԱՑՈՒՄԸ
B7: ՀԱՅԱՍՏԱՆԻ ՀԱՆՐԱՊԵՏՈՒԹՅԱՆ ԿԱՌԱՎԱՐՈՒԹՅԱՆ 2019 ԹՎԱԿԱՆԻ ԴԵԿՏԵՄԲԵՐԻ 26-Ի N 1919-Ն ՈՐՈՇՄԱՆ N 5 ՀԱՎԵԼՎԱԾԻ N7 ԱՂՅՈՒՍԱԿՈՒՄ ԿԱՏԱՐՎՈՂ ՓՈՓՈԽՈՒԹՅՈՒՆՆԵՐԸ ԵՎ ԼՐԱՑՈՒՄՆԵՐԸ
F8: (հազար դրամ)
B9: Ծրագրային դասիչը | D9: Բյուջետային գլխավոր կարգադրիչների, ծրագրերի և միջոցառումների անվանումները | E9: Ցուցանիշների փոփոխությունը (ավելացումները նշված են դրական նշանով, իսկ նվազեցումները՝ փակագծերում)
B10: Ծրագիր | C10: Միջոցառում | E10: Ինն ամիս | F10: Տարի
D11: ԸՆԴԱՄԵՆԸ | E11: =E12+E25 -> 748761 | F11: =F12+F25 -> 748761
D12: ՀՀ վարչապետի աշխատակազմ | E12: =E13 -> 748761 | F12: =F13 -> 748761
B13: 1136 | D13: ՀՀ Վարչապետի լիազորությունների իրականացման ապահովում | E13: =E19 -> 748761 | F13: =F19 -> 748761
D14: Ծրագրի նպատակը`
D15: Աջակցել կառավարության, վարչապետի և փոխվարչապետերի գործունեությանը
D16: Վերջնական արդյունքի նկարագրությունը`
D17: ՀՀ կառավարության և վարչապետի որոշումների ու հանձնարարականների կատարման վերահսկողության ապահովում
B18: Ծրագրի միջոցառումներ
C19: 12006 | D19: Միջոցառման անվանումը` | E19: 748761 | F19: 748761
D20: Աջակցության տրամադրում ոչ պետական կազմակերպություններին
D21: Միջոցառման նկարագրությունը`
D22: Աջակցության տրամադրում «Դիլիջան ինտերնեյշնլ սքուլ օֆ Արմենիա» հիմնադրամին` հարկային պարտավորության վճարման գծով
D23: Միջոցառման տեսակը
D24: Տրանսֆերտների տրամադրում
D25: ՀՀ կառավարություն | E25: =E27 -> 0 | F25: =+F27 -> 0
B26: 1139 | D26: Ծրագրի անվանումը`
D27: ՀՀ կառավարության պահուստային ֆոնդ | E27: =E34+E40 -> 0 | F27: =F34+F40 -> 0
D28: Ծրագրի նպատակը`
D29: Պետական բյուջեում չկանխատեսված, ինչպես նաեւ բյուջետային երաշխիքների ապահովման ծախսերի ֆինանսավորման ապահովում_x000D_
D30: Վերջնական արդյունքի նկարագրությունը`
D31: Պահուստային ֆոնդի կառավարման արդյունավետության և թափանցիկության ապահովում_x000D_
B32: Ծրագրի միջոցառումներ
C33: 11001 | D33: Միջոցառման անվանումը`
D34: ՀՀ կառավարության պահուստային ֆոնդ | E34: =E19 -> 748761 | F34: =F19 -> 748761
D35: Միջոցառման նկարագրությունը`
D36: ՀՀ պետական բյուջեում նախատեսված ելքերի լրացուցիչ ֆինանսավորման, պետական բյուջեում չկանխատեսված ելքերի, ինչպես նաև բյուջետային երաշխիքների ապահովման ելքերի ֆինանսավորման ապահովում
D37: Միջոցառման տեսակը
D38: Ծառայությունների մատուցում
C39: 11001 | D39: Միջոցառման անվանումը`
D40: ՀՀ կառավարության պահուստային ֆոնդ | E40: =-E34 -> -748761 | F40: =-F34 -> -748761
D41: Միջոցառման նկարագրությունը`
D42: ՀՀ պետական բյուջեում նախատեսված ելքերի լրացուցիչ ֆինանսավորման, պետական բյուջեում չկանխատեսված ելքերի, ինչպես նաև բյուջետային երաշխիքների ապահովման ելքերի ֆինանսավորման ապահովում
...

Sheet HavN4
H1: Հավելված N 4
H2: ՀՀ կառավարության 2020 թվականի
H3: ______________ ի ___Ն որոշման
B5: ՀԱՅԱՍՏԱՆԻ ՀԱՆՐԱՊԵՏՈՒԹՅԱՆ ԿԱՌԱՎԱՐՈՒԹՅԱՆ 2019 ԹՎԱԿԱՆԻ ԴԵԿՏԵՄԲԵՐԻ 26-Ի N 1919-Ն ՈՐՈՇՄԱՆ N 5 ՀԱՎԵԼՎԱԾԻ N7 ԱՂՅՈՒՍԱԿՈՒՄ ԿԱՏԱՐՎՈՂ ԼՐԱՑՈՒՄԸ
H7: (հազար դրամ)
B9: Ծրագրային դասիչ | D9: Բյուջետային հատկացումների գլխավոր կարգադրիչների, ծրագրերի, միջոցառումների, ծախսային ուղղությունների անվանումները | G9: Միջոցառումները կատարող պետական մարմինների և դրամաշնորհ ստացող տնտեսվարող սուբյեկտների անվանումները | H9: Ցուցանիշների փոփոխությունը (ավելացումները նշված են դրական նշանով)
B10: Ծրագիր | C10: Միջոցառում | H10: տարի
B11: ՀՀ վարչապետի աշխատակազմ | H11: =H12 -> 748761
B12: 1136 | C12: ՀՀ Վարչապետի լիազորությունների իրականացման ապահովում | H12: =H13 -> 748761
C13: 12006 | D13: Աջակցության տրամադրում ոչ պետական կազմակերպություններին | G13: ՀՀ վարչապետի աշխատակազմ | H13: =H14 -> 748761
G14: «Դիլիջան ինտերնեյշնլ սքուլ օֆ Արմենիա» հիմնադրամ | H14: 748761

Sheet HavN5
H1: Հավելված N 5
F2: ՀՀ կառավարության 2020 թվականի
F3: ______________ ի ___Ն որոշման
A5: ՀԱՅԱՍՏԱՆԻ ՀԱՆՐԱՊԵՏՈՒԹՅԱՆ ԿԱՌԱՎԱՐՈՒԹՅԱՆ 2019 ԹՎԱԿԱՆԻ ԴԵԿՏԵՄԲԵՐԻ 26-Ի N 1919-Ն ՈՐՈՇՄԱՆ N 3 ԵՎ N 4 ՀԱՎԵԼՎԱԾՆԵՐՈՒՄ ԿԱՏԱՐՎՈՂ ՓՈՓՈԽՈՒԹՅՈՒՆՆԵՐԸ ԵՎ ԼՐԱՑՈՒՄԸ
H8: հազար դրամներով
A9: Գործառական դասիչը | D9: Ծրագրային դասիչը | F9: Բյուջետային հատկացումների գլխավոր կարգադրիչների, ծրագրերի, միջոցառումների և միջոցառումները կատարող պետական մարմինների անվանումները | G9: Ցուցանիշների փոփոխությունը (ավելացումները նշված են դրական նշանով, իսկ նվազեցումները՝ փակագծերում)
A10: Բաժին | B10: խումբ | C10: Դաս | D10: Ծրագիր | E10: Միջոցառում | G10: Ինն ամիս | H10: Տարի
F11: ԸՆԴԱՄԵՆԸ | G11: =G13+G29 -> 748761 | H11: =H13+H29 -> 748761
F12: այդ թվում`
A13: 01 | F13: ԸՆԴՀԱՆՈՒՐ ԲՆՈՒՅԹԻ ՀԱՆՐԱՅԻՆ ԾԱՌԱՅՈՒԹՅՈՒՆՆԵՐ | G13: =G14 -> 748761 | H13: =H14 -> 748761
B14: 01 | F14: Օրենսդիր և գործադիր մարմիններ, պետական կառավարում, ֆինանսական և հարկաբյուջետային հարաբերություններ, արտաքին հարաբերություններ | G14: =G15 -> 748761 | H14: =H15 -> 748761
C15: 01 | F15: Օրենսդիր և գործադիր մարմիններ, պետական կառավարում | G15: =SUM(G17) -> 748761 | H15: =SUM(H17) -> 748761
F16: այդ թվում`
D17: 1136 | F17: ՀՀ Վարչապետի լիազորությունների իրականացման ապահովում | G17: =G19 -> 748761 | H17: =H19 -> 748761
F18: այդ թվում`
E19: 12006 | F19: Աջակցության տրամադրում ոչ պետական կազմակերպություններին | G19: =G20 -> 748761 | H19: =H20 -> 748761
F20: ՀՀ վարչապետի աշխատակազմ | G20: =G22 -> 748761 | H20: =H22 -> 748761
F21: այդ թվում` ըստ կատարողների
F22: ՀՀ վարչապետի աշխատակազմ | G22: =G24 -> 748761 | H22: =H24 -> 748761
F23: այդ թվում` բյուջետային ծախսերի տնտեսագիտական դասակարգման հոդվածներ
F24: ԸՆԴԱՄԵՆԸ ԾԱԽՍԵՐ | G24: =G25 -> 748761 | H24: =H25 -> 748761
F25: ԸՆԹԱՑԻԿ ԾԱԽՍԵՐ | G25: =G26 -> 748761 | H25: =H26 -> 748761
F26: ԴՐԱՄԱՇՆՈՐՀՆԵՐ | G26: =G27 -> 748761 | H26: =H27 -> 748761
F27: Ընթացիկ դրամաշնորհներ պետական հատվածի այլ մակարդակներին | G27: =G28 -> 748761 | H27: =H28 -> 748761
F28: - Այլ ընթացիկ դրամաշնորհներ | G28: 748761 | H28: 748761
A29: 11 | F29: ՀԻՄՆԱԿԱՆ ԲԱԺԻՆՆԵՐԻՆ ՉԴԱՍՎՈՂ ՊԱՀՈՒՍՏԱՅԻՆ ՖՈՆԴԵՐ | G29: =G31 -> 0 | H29: =H31 -> 0
F30: այդ թվում`
B31: 01 | F31: ՀՀ կառավարության և համայնքների պահուստային ֆոնդ | G31: =G33 -> 0 | H31: =+H33 -> 0
F32: այդ թվում`
C33: 01 | F33: ՀՀ կառավարության պահուստային ֆոնդ | G33: =G35+G44 -> 0 | H33: =H35+H44 -> 0
F34: այդ թվում`
F35: ՀՀ կառավարություն | G35: =G43 -> 748761 | H35: =H43 -> 748761
D36: 1139 | E36: 11001 | F36: ՀՀ կառավարության պահուստային ֆոնդ | G36: =+G38 -> 748761 | H36: =+H38 -> 748761
F37: այդ թվում` ըստ կատարողների
F38: ՀՀ կառավարություն | G38: =+G40 -> 748761 | H38: =+H40 -> 748761
F39: այդ թվում` բյուջետային ծախսերի տնտեսագիտական դասակարգման հոդվածներ
F40: ԸՆԴԱՄԵՆԸ ԾԱԽՍԵՐ | G40: =G41 -> 748761 | H40: =H41 -> 748761
F41: ԸՆԹԱՑԻԿ ԾԱԽՍԵՐ | G41: =G42 -> 748761 | H41: =H42 -> 748761
F42: ԱՅԼ ԾԱԽՍԵՐ | G42: =G43 -> 748761 | H42: =H43 -> 748761
F43: Պահուստային միջոցներ | G43: =HavN3!E34 -> 748761 | H43: =HavN3!F34 -> 748761
...

Sheet HavN6
E1: Հավելված N 6
E2: ՀՀ կառավարության 2020 թվականի
E3: ______________ ի ___Ն որոշման
B7: ՀԱՅԱՍՏԱՆԻ ՀԱՆՐԱՊԵՏՈՒԹՅԱՆ ԿԱՌԱՎԱՐՈՒԹՅԱՆ 2019 ԹՎԱԿԱՆԻ ԴԵԿՏԵՄԲԵՐԻ 26-Ի N 1919-Ն ՈՐՈՇՄԱՆ N 9 ՀԱՎԵԼՎԱԾԻ 9.3 ԵՎ 9.47 ԱՂՅՈՒՍԱԿՆԵՐՈՒՄ ԿԱՏԱՐՎՈՂ ՓՈՓՈԽՈՒԹՅՈՒՆՆԵՐԸ ԵՎ ԼՐԱՑՈՒՄԸ
B9: ՀՀ վարչապետի աշխատակազմ
B11: ՄԱՍ 2. ՊԵՏԱԿԱՆ ՄԱՐՄՆԻ ԳԾՈՎ ԱՐԴՅՈՒՆՔԱՅԻՆ (ԿԱՏԱՐՈՂԱԿԱՆ) ՑՈՒՑԱՆԻՇՆԵՐԸ
B14: Ծրագրի դասիչը | C14: Ծրագրի անվանումը
B15: 1136 | C15: ՀՀ Վարչապետի լիազորությունների իրականացման ապահովում
B17: Ծրագրի միջոցառումները
B19: Ծրագրի դասիչը՝ | C19: 1136 | D19: Ցուցանիշների փոփոխությունը (ավելացումը նշված է դրական նշանով)
B20: Միջոցառման դասիչը՝ | C20: 12006 | D20: Ինն ամիս | E20: Տարի
B21: Միջոցառման անվանումը՝ | C21: Աջակցության տրամադրում ոչ պետական կազմակերպություններին
B22: Նկարագրությունը՝ | C22: Աջակցության տրամադրում «Դիլիջան ինտերնեյշնլ սքուլ օֆ Արմենիա» հիմնադրամին` հարկային պարտավորության վճարման գծով
B23: Միջոցառման տեսակը՝ | C23: Տրանսֆերտների տրամադրում
B24: Միջոցառումն իրականացնողի անվանումը | C24: Մասնագիտացված կազմակերպություն
C25: Արդյունքի չափորոշիչներ
B26: Միջոցառման վրա կատարվող ծախսը (հազար դրամ) | D26: 748761.02 | E26: 748761.02
C30: ՀՀ կառավարություն
C31: ՄԱՍ 1. ՊԵՏԱԿԱՆ ՄԱՐՄՆԻ ԳԾՈՎ ԱՐԴՅՈՒՆՔԱՅԻՆ (ԿԱՏԱՐՈՂԱԿԱՆ) ՑՈՒՑԱՆԻՇՆԵՐԸ
B33: Ծրագրի դասիչը | C33: Ծրագրի անվանումը
B34: 1139 | C34: ՀՀ կառավարության պահուստային ֆոնդ
B37: Ծրագրի դասիչը՝ | C37: 1139 | D37: Ցուցանիշների փոփոխությունը (ավելացումը նշված է դրական նշանով)
B38: Միջոցառման դասիչը՝ | C38: 11001 | D38: ինն ամիս | E38: տարի
B39: Միջոցառման անվանումը՝ | C39: ՀՀ կառավարության պահուստային ֆոնդ
B40: Նկարագրությունը՝ | C40: ՀՀ պետական բյուջեում նախատեսված ելքերի լրացուցիչ ֆինանսավորման, ՀՀ պետական բյուջեում չկանխատեսված ելքերի, ինչպես նաև բյուջետային երաշխիքների ապահովման ելքերի ֆինանսավորման ապահովում
B41: Միջոցառման տեսակը՝ | C41: Ծառայությունների մատուցում
B42: Միջոցառումն իրականացնողի անվանումը՝ | C42: ՀՀ կառավարություն
C43: Արդյունքի չափորոշիչներ
B44: Միջոցառման վրա կատարվող ծախսը (հազար դրամ) | D44: =HavN3!E34 -> 748761 | E44: =HavN3!F34 -> 748761
B46: Ծրագրի դասիչը՝ | C46: 1139 | D46: Ցուցանիշների փոփոխությունը (նվազեցումը նշված է փակագծերում)
B47: Միջոցառման դասիչը՝ | C47: 11001 | D47: ինն ամիս | E47: տարի
B48: Միջոցառման անվանումը՝ | C48: ՀՀ կառավարության պահուստային ֆոնդ
B49: Նկարագրությունը՝ | C49: ՀՀ պետական բյուջեում նախատեսված ելքերի լրացուցիչ ֆինանսավորման, ՀՀ պետական բյուջեում չկանխատեսված ելքերի, ինչպես նաև բյուջետային երաշխիքների ապահովման ելքերի ֆինանսավորման ապահովում
B50: Միջոցառման տեսակը՝ | C50: Ծառայությունների մատուցում
B51: Միջոցառումն իրականացնողի անվանումը՝ | C51: ՀՀ կառավարություն
C52: Արդյունքի չափորոշիչներ
B53: Միջոցառման վրա կատարվող ծախսը (հազար դրամ) | D53: =HavN3!E40 -> -748761 | E53: =HavN3!F40 -> -748761

Sheet HavN7
E1: Հավելված N 7
E2: ՀՀ կառավարության 2020 թվականի
E3: ______________ ի ___Ն որոշման
B7: ՀԱՅԱՍՏԱՆԻ ՀԱՆՐԱՊԵՏՈՒԹՅԱՆ ԿԱՌԱՎԱՐՈՒԹՅԱՆ 2019 ԹՎԱԿԱՆԻ ԴԵԿՏԵՄԲԵՐԻ 26-Ի N 1919-Ն ՈՐՈՇՄԱՆ N 9.1 ՀԱՎԵԼՎԱԾԻ 9.1.3 ԵՎ 9.1.58 ԱՂՅՈՒՍԱԿՆԵՐՈՒՄ ԿԱՏԱՐՎՈՂ ՓՈՓՈԽՈՒԹՅՈՒՆՆԵՐԸ ԵՎ ԼՐԱՑՈՒՄԸ
B9: ՀՀ վարչապետի աշխատակազմ
B11: ՄԱՍ 2. ՊԵՏԱԿԱՆ ՄԱՐՄՆԻ ԳԾՈՎ ԱՐԴՅՈՒՆՔԱՅԻՆ (ԿԱՏԱՐՈՂԱԿԱՆ) ՑՈՒՑԱՆԻՇՆԵՐԸ
B13: Ծրագրի դասիչը | C13: Ծրագրի անվանումը
B14: 1136 | C14: ՀՀ Վարչապետի լիազորությունների իրականացման ապահովում
B16: Ծրագրի միջոցառումները
B18: Ծրագրի դասիչը՝ | C18: 1136 | D18: Ցուցանիշների փոփոխությունը (ավելացումը նշված է դրական նշանով)
B19: Միջոցառման դասիչը՝ | C19: 12006 | D19: Ինն ամիս | E19: Տարի
B20: Միջոցառման անվանումը՝ | C20: Աջակցության տրամադրում ոչ պետական կազմակերպություններին
B21: Նկարագրությունը՝ | C21: Աջակցության տրամադրում «Դիլիջան ինտերնեյշնլ սքուլ օֆ Արմենիա» հիմնադրամին` հարկային պարտավորության վճարման գծով
B22: Միջոցառման տեսակը՝ | C22: Տրանսֆերտների տրամադրում
B23: Միջոցառումն իրականացնողի անվանումը | C23: Մասնագիտացված կազմակերպություն
C24: Արդյունքի չափորոշիչներ
B25: Միջոցառման վրա կատարվող ծախսը (հազար դրամ) | D25: 748761.02 | E25: 748761.02
C27: ՀՀ կառավարություն
C28: ՄԱՍ 1. ՊԵՏԱԿԱՆ ՄԱՐՄՆԻ ԳԾՈՎ ԱՐԴՅՈՒՆՔԱՅԻՆ (ԿԱՏԱՐՈՂԱԿԱՆ) ՑՈՒՑԱՆԻՇՆԵՐԸ
B30: Ծրագրի դասիչը | C30: Ծրագրի անվանումը
B31: 1139 | C31: ՀՀ կառավարության պահուստային ֆոնդ
B34: Ծրագրի դասիչը՝ | C34: 1139 | D34: Ցուցանիշների փոփոխությունը (ավելացումը նշված է դրական նշանով)
B35: Միջոցառման դասիչը՝ | C35: 11001 | D35: ինն ամիս | E35: տարի
B36: Միջոցառման անվանումը՝ | C36: ՀՀ կառավարության պահուստային ֆոնդ
B37: Նկարագրությունը՝ | C37: ՀՀ պետական բյուջեում նախատեսված ելքերի լրացուցիչ ֆինանսավորման, ՀՀ պետական բյուջեում չկանխատեսված ելքերի, ինչպես նաև բյուջետային երաշխիքների ապահովման ելքերի ֆինանսավորման ապահովում
B38: Միջոցառման տեսակը՝ | C38: Ծառայությունների մատուցում
B39: Միջոցառումն իրականացնողի անվանումը՝ | C39: ՀՀ կառավարություն
C40: Արդյունքի չափորոշիչներ
B41: Միջոցառման վրա կատարվող ծախսը (հազար դրամ) | D41: =HavN6!D44 -> 748761 | E41: =HavN6!E44 -> 748761
B43: Ծրագրի դասիչը՝ | C43: 1139 | D43: Ցուցանիշների փոփոխությունը (նվազեցումը նշված է փակագծերում)
B44: Միջոցառման դասիչը՝ | C44: 11001 | D44: ինն ամիս | E44: տարի
B45: Միջոցառման անվանումը՝ | C45: ՀՀ կառավարության պահուստային ֆոնդ
B46: Նկարագրությունը՝ | C46: ՀՀ պետական բյուջեում նախատեսված ելքերի լրացուցիչ ֆինանսավորման, ՀՀ պետական բյուջեում չկանխատեսված ելքերի, ինչպես նաև բյուջետային երաշխիքների ապահովման ելքերի ֆինանսավորման ապահովում
B47: Միջոցառման տեսակը՝ | C47: Ծառայությունների մատուցում
B48: Միջոցառումն իրականացնողի անվանումը՝ | C48: ՀՀ կառավարություն
C49: Արդյունքի չափորոշիչներ
B50: Միջոցառման վրա կատարվող ծախսը (հազար դրամ) | D50: =HavN3!F40 -> -748761 | E50: =HavN3!F40 -> -748761
