Workbook
Name \A: #REF!
Name \A: #REF!
Name Armata: #REF!
Name BOP: #REF!
Name BOPfoot: #REF!
Name DebtCG: '[1]Fis-Debt'!#REF!
Name DebtGG: #REF!
Name MonExo: #REF!
Name MonGrow: [2]BM!#REF!
Name RealExo: #REF!
Name RealPercent: #REF!
Name Table_2._Turkey__Exogenous_assumptions: #REF!
Name է: [2]BM!#REF!
Name ՀՀՀՀՀ: #REF!
Name շախմատիստ: #REF!
Name շախմատիստ: #REF!

Sheet N 1
C1: Հավելված 1 ՀՀ կառավարության 2020 թվականի____________ի N _____-Ն որոշման
A2: «ՀԱՅԱՍՏԱՆԻ ՀԱՆՐԱՊԵՏՈՒԹՅԱՆ 2020 ԹՎԱԿԱՆԻ ՊԵՏԱԿԱՆ ԲՅՈՒՋԵԻ ՄԱՍԻՆ» ՀԱՅԱՍՏԱՆԻ ՀԱՆՐԱՊԵՏՈՒԹՅԱՆ ՕՐԵՆՔԻ N 1 ՀԱՎԵԼՎԱԾԻ N 2 ԱՂՅՈՒՍԱԿՈՒՄ ԿԱՏԱՐՎՈՂ ՎԵՐԱԲԱՇԽՈՒՄԸ ԵՎ ՀԱՅԱՍՏԱՆԻ ՀԱՆՐԱՊԵՏՈՒԹՅԱՆ ԿԱՌԱՎԱՐՈՒԹՅԱՆ 2019 ԹՎԱԿԱՆԻ ԴԵԿՏԵՄԲԵՐԻ 26-Ի N 1919-Ն ՈՐՈՇՄԱՆ N 5 ՀԱՎԵԼՎԱԾԻ N 1 ԱՂՅՈՒՍԱԿՈՒՄ ԿԱՏԱՐՎՈՂ ՓՈՓՈԽՈՒԹՅՈՒՆՆԵՐԸ ԵՎ ԼՐԱՑՈՒՄՆԵՐԸ
D3: (հազար դրամներով)
A4: Ծրագրային դասիչը | C4: Բյուջետային հատկացումների գլխավոր կարգադրիչների, ծրագրերի և միջոցառումների | D4: Ցուցանիշների փոփոխությունը (ավելացումները նշված են դրական նշանով, իսկ նվազեցումները` փակագծերում)
A5: ծրագիրը | B5: միջոցառումը | C5: անվանումները | D5: Ինն ամիս | E5: Տարի
C6: ԸՆԴԱՄԵՆԸ այդ թվում` | D6: =D7+D27 -> 0 | E6: =E7+E27 -> 0
C7: ՀՀ կառավարություն | D7: =D8 -> 0 | E7: =E8 -> 0
A8: 1139 | C8: Ծրագրի անվանումը | D8: =D15+D21 -> 0 | E8: =E15+E21 -> 0
C9: ՀՀ կառավարության պահուստային ֆոնդ
C10: Ծրագրի նպատակը
C11: Պետական բյուջեում չկանխատեսված, ինչպես նաեւ բյուջետային երաշխիքների ապահովման ծախսերի ֆինանսավորման ապահովում
C12: Վերջնական արդյունքի նկարագրությունը
C13: Պահուստային ֆոնդի կառավարման արդյունավետություն և թափանցիկություն
A14: Ծրագրի միջոցառումներ
B15: 11001 | C15: Միջոցառման անվանումը | D15: =-D35 -> 3655.6 | E15: =-E35 -> 3655.6
C16: ՀՀ կառավարության պահուստային ֆոնդ
C17: Միջոցառման նկարագրությունը
C18: ՀՀ պետական բյուջեում նախատեսված ելքերի լրացուցիչ ֆինանսավորման, պետական բյուջեում չկանխատեսված ելքերի, ինչպես նաև բյուջետային երաշխիքների ապահովման ելքերի ֆինանսավորման ապահովում
C19: Միջոցառման տեսակը
C20: Ծառայությունների մատուցում
B21: 11001 | C21: Միջոցառման անվանումը | D21: =-D15 -> -3655.6 | E21: =-E15 -> -3655.6
C22: ՀՀ կառավարության պահուստային ֆոնդ
C23: Միջոցառման նկարագրությունը
C24: ՀՀ պետական բյուջեում նախատեսված ելքերի լրացուցիչ ֆինանսավորման,պետական բյուջեում չկանխատեսված ելքերի, ինչպես նաև բյուջետային երաշխիքների ապահովման ելքերի ֆինանսավորման ապահովում
C25: Միջոցառման տեսակը
C26: Ծառայությունների մատուցում
C27: ՀՀ Շրջակա միջավայրի նախարարություն | D27: =D28+D41 -> 0 | E27: =E28+E41 -> 0
A28: 1173 | C28: Ծրագրի անվանումը` | D28: =D35 -> -3655.6 | E28: =E35 -> -3655.6
C29: Անտառների կառավարում
C30: Ծրագրի նպատակը`
C31: Անտառային տարածքների կայուն կառավարում
C32: Վերջնական արդյունքի նկարագրությունը`
C33: Կայուն կառավարվող անտառային տարածքների աճ
C34: Ծրագրի միջոցառումներ
B35: 31003 | C35: Միջոցառման անվանումը` | D35: ='7 gnum'!G13 -> -3655.6 | E35: =D35 -> -3655.6
C36: ՀՀ շրջակա միջավայրի նախարարության Անտառային կոմիտեի շենքային պայմանների բարելավում
C37: Միջոցառման նկարագրությունը`
C38: Շենքերի և կառույցների հիմնանորոգում_x000D_
C39: Միջոցառման տեսակը
C40: Պետական մարմինների կողմից օգտագործվող ոչ ֆինանսական ակտիվների հետ գործառնություններ
A41: 1155 | C41: Ծրագրի անվանումը` | D41: =D48 -> 3655.6 | E41: =E48 -> 3655.6
C42: Բնական պաշարների և բնության հատուկ պահպանվող տարածքների կառավարում և պահպանում
C43: Ծրագրի նպատակը`
C44: Բնական պաշարների և կենսաբազմազանության արդյունավետ կառավարում և պահպանություն
C45: Վերջնական արդյունքի նկարագրությունը`
C46: Բնական պաշարների և կենսաբազմազանության վերարտադրության աճի ապահովում
C47: Ծրագրի միջոցառումներ
B48: 21001 | C48: Միջոցառման անվանումը` | D48: =-D21 -> 3655.6 | E48: =-E21 -> 3655.6
C49: Սևանա լճի առափնյա հատվածներում ջրածածկ պետական և համայնքային նշանակության շենք-շինությունների ապամոնտաժում
C50: Միջոցառման նկարագրությունը`
C51: Սևանա լճի առափնյա հատվածներում ջրածածկ պետական և համայնքային նշանակության շենք-շինությունների ապամոնտաժման (քանդման) աշխատանքների իրականացում և նախագծանախահաշվային փաստաթղթերի ձեռք բերում
C52: Միջոցառման տեսակը
C53: Պետական մարմինների կողմից օգտագործվող ոչ ֆինանսական ակտիվների հետ գործառնություններ

Sheet N 2
F1: Հավելված 2 ՀՀ կառավարության 2020 թվականի____________ի N _____-Ն որոշման
A3: ՀԱՅԱՍՏԱՆԻ ՀԱՆՐԱՊԵՏՈՒԹՅԱՆ ԿԱՌԱՎԱՐՈՒԹՅԱՆ 2019 ԹՎԱԿԱՆԻ ԴԵԿՏԵՄԲԵՐԻ 26-Ի N 1919-Ն ՈՐՈՇՄԱՆ N3 ԵՎ N4 ՀԱՎԵԼՎԱԾՆԵՐՈՒՄ ԿԱՏԱՐՎՈՂ ՓՈՓՈԽՈՒԹՅՈՒՆՆԵՐԸ ԵՎ ԼՐԱՑՈՒՄՆԵՐԸ
G4: (հազար դրամներով)
A5: Բաժին | B5: Խումբ | C5: Դաս | D5: Ծրագրային դասիչը | F5: Բյուջետային հատկացումների գլխավոր կարգադրիչների, ծրագրերի, միջոցառումների և միջոցառումները կատարող պետական մարմինների անվանումները | G5: Ցուցանիշների փոփոխությունը (ավելացումները նշված են դրական նշանով, իսկ նվազեցումները` փակագծերում)
D6: Ծրագիր | E6: Միջոցառում | G6: Ինն ամիս | H6: Տարի
F7: ԸՆԴԱՄԵՆԸ այդ թվում` | G7: =G8+G29+G43 -> 0 | H7: =H8+H29+H43 -> 0
A8: 11 | F8: ՀԻՄՆԱԿԱՆ ԲԱԺԻՆՆԵՐԻՆ ՉԴԱՍՎՈՂ ՊԱՀՈՒՍՏԱՅԻՆ ՖՈՆԴԵՐ այդ թվում` | G8: =G9 -> 0 | H8: =H9 -> 0
B9: 01 | F9: ՀՀ կառավարության և համայնքների պահուստային ֆոնդ այդ թվում` | G9: =G10 -> 0 | H9: =H10 -> 0
C10: 01 | F10: ՀՀ կառավարության պահուստային ֆոնդ այդ թվում` | G10: =G12 -> 0 | H10: =H12 -> 0
F11: ՀՀ կառավարություն
D12: 1139 | F12: ՀՀ կառավարության պահուստային ֆոնդ այդ թվում` | G12: =G13+G21 -> 0 | H12: =H13+H21 -> 0
E13: 11001 | F13: ՀՀ կառավարության պահուստային ֆոնդ | G13: =G15 -> 3655.6 | H13: =H15 -> 3655.6
F14: այդ թվում` ըստ կատարողների
F15: ՀՀ կառավարություն | G15: =G17 -> 3655.6 | H15: =H17 -> 3655.6
F16: այդ թվում` բյուջետային ծախսերի տնտեսագիտական դասակարգման հոդվածներ
F17: ԸՆԴԱՄԵՆԸ ԾԱԽՍԵՐ | G17: =G18 -> 3655.6 | H17: =H18 -> 3655.6
F18: ԸՆԹԱՑԻԿ ԾԱԽՍԵՐ | G18: =G19 -> 3655.6 | H18: =H19 -> 3655.6
F19: ԱՅԼ ԾԱԽՍԵՐ | G19: =G20 -> 3655.6 | H19: =H20 -> 3655.6
F20: -Պահուստային միջոցներ | G20: =-G34 -> 3655.6 | H20: =-H34 -> 3655.6
E21: 11001 | F21: ՀՀ կառավարության պահուստային ֆոնդ | G21: =G23 -> -3655.6 | H21: =H23 -> -3655.6
F22: այդ թվում` ըստ կատարողների
F23: ՀՀ կառավարություն | G23: =G25 -> -3655.6 | H23: =H25 -> -3655.6
F24: այդ թվում` բյուջետային ծախսերի տնտեսագիտական դասակարգման հոդվածներ
F25: ԸՆԴԱՄԵՆԸ ԾԱԽՍԵՐ | G25: =G26 -> -3655.6 | H25: =H26 -> -3655.6
F26: ԸՆԹԱՑԻԿ ԾԱԽՍԵՐ | G26: =G27 -> -3655.6 | H26: =H27 -> -3655.6
F27: ԱՅԼ ԾԱԽՍԵՐ | G27: =G28 -> -3655.6 | H27: =H28 -> -3655.6
F28: -Պահուստային միջոցներ | G28: =-G20 -> -3655.6 | H28: =-H20 -> -3655.6
A29: 05 | F29: ՇՐՋԱԿԱ ՄԻՋԱՎԱՅՐԻ ՊԱՇՏՊԱՆՈՒԹՅՈՒՆ այդ թվում` | G29: =G30 -> -3655.6 | H29: =H30 -> -3655.6
B30: 06 | F30: Շրջակա միջավայրի պաշտպանություն (այլ դասերին չպատկանող) այդ թվում` | G30: =G31 -> -3655.6 | H30: =H31 -> -3655.6
C31: 01 | F31: Շրջակա միջավայրի պաշտպանություն (այլ դասերին չպատկանող) այդ թվում` | G31: =G32 -> -3655.6 | H31: =H32 -> -3655.6
F32: ՀՀ շրջակա միջավայրի նախարարություն այդ թվում` | G32: =G33 -> -3655.6 | H32: =H33 -> -3655.6
D33: 1173 | F33: Անտառների կառավարում այդ թվում` | G33: =G34 -> -3655.6 | H33: =H34 -> -3655.6
E34: =[4]Gorcarakan!B5197 -> 31003 | F34: =[4]Gorcarakan!C5197 -> ՀՀ շրջակա միջավայրի նախարարության Անտառային կոմիտեի շենքային պայմանների բարելավում | G34: =G36 -> -3655.6 | H34: =H36 -> -3655.6
F35: =[4]Gorcarakan!C5198 -> այդ թվում` ըստ կատարողների
F36: =[4]Gorcarakan!C5199 -> ՀՀ շրջակա միջավայրի նախարարության անտառային կոմիտե | G36: =G42 -> -3655.6 | H36: =H42 -> -3655.6
F37: =[4]Gorcarakan!C5200 -> այդ թվում` բյուջետային ծախսերի տնտեսագիտական դասակարգման հոդվածներ
F38: ԸՆԴԱՄԵՆԸ ԾԱԽՍԵՐ | G38: =G39 -> -3655.6 | H38: =H39 -> -3655.6
F39: ՈՉ ՖԻՆԱՆՍԱԿԱՆ ԱԿՏԻՎՆԵՐԻ ԳԾՈՎ ԾԱԽՍԵՐ | G39: =G40 -> -3655.6 | H39: =H40 -> -3655.6
F40: ՀԻՄՆԱԿԱՆ ՄԻՋՈՑՆԵՐ | G40: =G41 -> -3655.6 | H40: =H41 -> -3655.6
F41: ՇԵՆՔԵՐ ԵՎ ՇԻՆՈՒԹՅՈՒՆՆԵՐ | G41: =G42 -> -3655.6 | H41: =H42 -> -3655.6
F42: - Շենքերի և շինությունների կապիտալ վերանորոգում | G42: ='N 1'!D35 -> -3655.6 | H42: ='N 1'!E35 -> -3655.6
A43: 05 | F43: ՇՐՋԱԿԱ ՄԻՋԱՎԱՅՐԻ ՊԱՇՏՊԱՆՈՒԹՅՈՒՆ այդ թվում` | G43: =G44 -> 3655.6 | H43: =H44 -> 3655.6
B44: 04 | F44: Կենսաբազմազանության և բնության պաշտպանություն այդ թվում` | G44: =G45 -> 3655.6 | H44: =H45 -> 3655.6
C45: 01 | F45: Կենսաբազմազանության և բնության պաշտպանություն այդ թվում` | G45: =G46 -> 3655.6 | H45: =H46 -> 3655.6
F46: ՀՀ շրջակա միջավայրի նախարարություն այդ թվում` | G46: =G47 -> 3655.6 | H46: =H47 -> 3655.6
D47: 1155 | F47: Բնական պաշարների և բնության հատուկ պահպանվող տարածքների կառավարում և պահպանում այդ թվում` | G47: =G48 -> 3655.6 | H47: =H48 -> 3655.6
E48: 21001 | F48: ='N 1'!C49 -> Սևանա լճի առափնյա հատվածներում ջրածածկ պետական և համայնքային նշանակության շենք-շինությունների ապամոնտաժում | G48: =G50 -> 3655.6 | H48: =H50 -> 3655.6
F49: այդ թվում` ըստ կատարողների
F50: ՀՀ շրջակա միջավայրի նախարարություն | G50: =G55+G57 -> 3655.6 | H50: =H55+H57 -> 3655.6
F51: այդ թվում` բյուջետային ծախսերի տնտեսագիտական դասակարգման հոդվածներ
F52: ԸՆԴԱՄԵՆԸ ԾԱԽՍԵՐ | G52: =G53 -> 3655.6 | H52: =H53 -> 3655.6
F53: ՈՉ ՖԻՆԱՆՍԱԿԱՆ ԱԿՏԻՎՆԵՐԻ ԳԾՈՎ ԾԱԽՍԵՐ | G53: =G54 -> 3655.6 | H53: =H54 -> 3655.6
F54: ՀԻՄՆԱԿԱՆ ՄԻՋՈՑՆԵՐ | G54: =G55+G57 -> 3655.6 | H54: =H55+H57 -> 3655.6
F55: ՇԵՆՔԵՐ ԵՎ ՇԻՆՈՒԹՅՈՒՆՆԵՐ | G55: =G56 -> 0 | H55: =H56 -> 0
F56: - Շենքերի և շինությունների շինարարություն
F57: ԱՅԼ ՀԻՄՆԱԿԱՆ ՄԻՋՈՑՆԵՐ | G57: =G58 -> 3655.6 | H57: =H58 -> 3655.6
F58: - Նախագծահետազոտական ծախսեր | G58: ='N 3'!G12 -> 3655.6 | H58: =G58 -> 3655.6

Sheet N 3
A1: Հավելված 3 ՀՀ կառավարության 2020 թվականի____________ի N _____-Ն որոշման
A3: «ՀԱՅԱՍՏԱՆԻ ՀԱՆՐԱՊԵՏՈՒԹՅԱՆ 2020 ԹՎԱԿԱՆԻ ՊԵՏԱԿԱՆ ԲՅՈՒՋԵԻ ՄԱՍԻՆ» ՀԱՅԱՍՏԱՆԻ ՀԱՆՐԱՊԵՏՈՒԹՅԱՆ ՕՐԵՆՔԻ N 1 ՀԱՎԵԼՎԱԾԻ N 3 ԱՂՅՈՒՍԱԿՈՒՄ ԿԱՏԱՐՎՈՂ ՓՈՓՈԽՈՒԹՅՈՒՆՆԵՐԸ ԵՎ ԼՐԱՑՈՒՄՆԵՐԸ
G4: (հազար դրամներով)
A5: Ծրագրային դասիչ | C5: Բյուջետային գլխավոր կարգադրիչների, ծրագրերի, միջոցառումների և ուղղությունների անվանումները | D5: Ընդամենը, | E5: Ցուցանիշների փոփոխությունը (ավելացումները նշված են դրական նշանով, իսկ նվազեցումները` փակագծերում)
E6: այդ թվում՝
A7: Ծրագիր | B7: Միջոցառում | E7: Կառուցման աշխատանքներ | F7: Վերակառուցման, վերանորոգման և վերականգնման աշխատանքներ | G7: Նախագծահե- տազոտական, գեոդեզիա- քարտեզագրա- կան աշխա- տանքներ | H7: Ոչ ֆինանսական այլ ակտիվների ձեռքբերում
C8: ԸՆԴԱՄԵՆԸ | D8: =E8+F8+G8+H8 -> 0 | F8: =F10 -> -3655.6 | G8: =G10 -> 3655.6 | H8: =H10 -> 0
C9: այդ թվում՝
C10: ՀՀ ՇՐՋԱԿԱ ՄԻՋԱՎԱՅՐԻ ՆԱԽԱՐԱՐՈՒԹՅՈՒՆ | D10: =E10+F10+G10+H10 -> 0 | E10: =E11+E12 -> 0 | F10: ='N 1'!D35 -> -3655.6 | G10: =G12 -> 3655.6 | H10: =H11+H12 -> 0
A11: 1173 | B11: 31003 | C11: ՀՀ շրջակա միջավայրի նախարարության Անտառային կոմիտեի շենքային պայմանների բարելավում | D11: =SUM(E11:H11) -> -3655.6 | F11: ='N 1'!D35 -> -3655.6
A12: ='N 1'!A41 -> 1155 | B12: ='N 1'!B48 -> 21001 | C12: ='N 1'!C49 -> Սևանա լճի առափնյա հատվածներում ջրածածկ պետական և համայնքային նշանակության շենք-շինությունների ապամոնտաժում | D12: =E12+F12+G12+H12 -> 3655.6 | E12: 0 | G12: ='7 gnum'!G6 -> 3655.6 | H12: 0

Sheet N 4
A1: Հավելված 4 ՀՀ կառավարության 2020 թվականի____________ի N _____-Ն որոշման
A3: ՀԱՅԱՍՏԱՆԻ ՀԱՆՐԱՊԵՏՈՒԹՅԱՆ ԿԱՌԱՎԱՐՈՒԹՅԱՆ 2019 ԹՎԱԿԱՆԻ ԴԵԿՏԵՄԲԵՐԻ 26-Ի N 1919-Ն ՈՐՈՇՄԱՆ N 5 ՀԱՎԵԼՎԱԾԻ N 2 ԱՂՅՈՒՍԱԿՈՒՄ ԿԱՏԱՐՎՈՂ ՓՈՓՈԽՈՒԹՅՈՒՆՆԵՐԸ ԵՎ ԼՐԱՑՈՒՄՆԵՐԸ
E5: (հազար դրամներով)
A6: Ծրագրային դասիչ | C6: Բյուջետային գլխավոր կարգադրիչների, ծրագրերի, միջոցառումների, միջոցառումները կատարող պետական մարմինների և ուղղությունների անվանումները | D6: Առաջին եռամսյակ | E6: Ցուցանիշների փոփոխությունը (ավելացումները նշված են դրական նշանով, իսկ նվազեցումները` փակագծերում)
A8: Ծրագիր | B8: Միջոցառում | E8: Ինն ամիս | F8: Տարի
C9: ԸՆԴԱՄԵՆԸ | D9: =D10 -> #REF! | E9: =E10 -> 0 | F9: =F10 -> 0
C10: ՀՀ ՇՐՋԱԿԱ ՄԻՋԱՎԱՅՐԻ ՆԱԽԱՐԱՐՈՒԹՅՈՒՆ | D10: =D15 -> #REF! | E10: =E12+E15 -> 0 | F10: =F12+F15 -> 0
C11: այդ թվում`
A12: 1173 | B12: 31003 | C12: ՀՀ շրջակա միջավայրի նախարարության Անտառային կոմիտեի շենքային պայմանների բարելավում | D12: =D14 -> 0 | E12: =E14 -> -3655.6 | F12: =F14 -> -3655.6
C13: այդ թվում` ըստ կատարողների
C14: ՀՀ շրջակա միջավայրի նախարարության անտառային կոմիտե | E14: ='N 1'!D35 -> -3655.6 | F14: ='N 1'!E35 -> -3655.6
A15: ='N 3'!A12 -> 1155 | B15: ='N 3'!B12 -> 21001 | C15: ='N 3'!C12 -> Սևանա լճի առափնյա հատվածներում ջրածածկ պետական և համայնքային նշանակության շենք-շինությունների ապամոնտաժում | D15: =D17 -> #REF! | E15: =E17 -> 3655.6 | F15: =F17 -> 3655.6
C16: այդ թվում` ըստ կատարողների
C17: ՀՀ շրջակա միջավայրի նախարարություն | D17: ='N 2'!#REF! -> #REF! | E17: =-E14 -> 3655.6 | F17: =-F14 -> 3655.6

Sheet  N 5_9
B1: Հավելված 5 ՀՀ կառավարության 2020 թվականի____________ի N _____-Ն որոշման
A3: ՀԱՅԱՍՏԱՆԻ ՀԱՆՐԱՊԵՏՈՒԹՅԱՆ ԿԱՌԱՎԱՐՈՒԹՅԱՆ 2019 ԹՎԱԿԱՆԻ ԴԵԿՏԵՄԲԵՐԻ 26-Ի N 1919-Ն ՈՐՈՇՄԱՆ N9 ՀԱՎԵԼՎԱԾԻ N 9.47 ԱՂՅՈՒՍԱԿՈՒՄ ԿԱՏԱՐՎՈՂ ՓՈՓՈԽՈՒԹՅՈՒՆՆԵՐԸ ԵՎ ԼՐԱՑՈՒՄՆԵՐԸ
A5: ՀՀ կառավարություն
A6: ՄԱՍ 2. ՊԵՏԱԿԱՆ ՄԱՐՄՆԻ ԳԾՈՎ ԱՐԴՅՈՒՆՔԱՅԻՆ (ԿԱՏԱՐՈՂԱԿԱՆ) ՑՈՒՑԱՆԻՇՆԵՐԸ
A8: Ծրագրի դասիչը | B8: Ծրագրի անվանումը
A9: 1139 | B9: ՀՀ կառավարության պահուստային ֆոնդ
A11: Ծրագրի միջոցառումները
A13: Ծրագրի դասիչը` | B13: 1139 | C13: Ցուցանիշների փոփոխությունը (ավելացումները նշված են դրական նշանով)
A14: Միջոցառման դասիչը` | B14: 11001 | C14: Ինն ամիս | D14: Տարի
A15: Միջոցառման անվանումը` | B15: ՀՀ կառավարության պահուստային ֆոնդ
A16: Նկարագրությունը` | B16: ՀՀ պետական բյուջեում նախատեսված ելքերի լրացուցիչ ֆինանսավորման՝ պետական բյուջեում չկանխատեսված ելքերի՝ ինչպես նաև բյուջետային երաշխիքների ապահովման ելքերի ֆինանսավորման ապահովում
A17: Միջոցառման տեսակը` | B17: Ծառայությունների մատուցում
A18: Միջոցառումն իրականացնողի անվանումը | B18: ՀՀ կառավարություն
A19: Արդյունքի չափորոշիչներ
A20: Միջոցառման վրա կատարվող ծախսը (հազար դրամ) | C20: =-C48 -> 3655.6 | D20: =-D48 -> 3655.6
A22: Ծրագրի դասիչը` | B22: 1139 | C22: Ցուցանիշների փոփոխությունը (նվազեցումները նշված են փակագծերում)
A23: Միջոցառման դասիչը` | B23: 11001 | C23: Ինն ամիս | D23: Տարի
A24: Միջոցառման անվանումը` | B24: ՀՀ կառավարության պահուստային ֆոնդ
A25: Նկարագրությունը` | B25: ՀՀ պետական բյուջեում նախատեսված ելքերի լրացուցիչ ֆինանսավորման՝ պետական բյուջեում չկանխատեսված ելքերի՝ ինչպես նաև բյուջետային երաշխիքների ապահովման ելքերի ֆինանսավորման ապահովում
A26: Միջոցառման տեսակը` | B26: Ծառայությունների մատուցում
A27: Միջոցառումն իրականացնողի անվանումը | B27: ՀՀ կառավարություն
A28: Արդյունքի չափորոշիչներ
A29: Միջոցառման վրա կատարվող ծախսը (հազար դրամ) | C29: =-C20 -> -3655.6 | D29: =-D20 -> -3655.6
A31: ՀԱՅԱՍՏԱՆԻ ՀԱՆՐԱՊԵՏՈՒԹՅԱՆ ԿԱՌԱՎԱՐՈՒԹՅԱՆ 2019 ԹՎԱԿԱՆԻ ԴԵԿՏԵՄԲԵՐԻ 26-Ի N 1919-Ն ՈՐՈՇՄԱՆ N 9 ՀԱՎԵԼՎԱԾԻ N 9.13 ԱՂՅՈՒՍԱԿՈՒՄ ԿԱՏԱՐՎՈՂ ՓՈՓՈԽՈՒԹՅՈՒՆՆԵՐԸ ԵՎ ԼՐԱՑՈՒՄՆԵՐԸ
A32: ՀՀ շրջակա միջավայրի նախարարություն
A34: ՄԱՍ 2. ՊԵՏԱԿԱՆ ՄԱՐՄՆԻ ԳԾՈՎ ԱՐԴՅՈՒՆՔԱՅԻՆ (ԿԱՏԱՐՈՂԱԿԱՆ) ՑՈՒՑԱՆԻՇՆԵՐԸ
A36: Ծրագրի դասիչը | B36: Ծրագրի անվանումը
A37: 1173 | B37: Անտառների կառավարում
A39: Ծրագրի միջոցառումները
A41: Ծրագրի դասիչը` | B41: 1173 | C41: Ցուցանիշների փոփոխությունը (նվազեցումները նշված են փակագծերում)
A42: Միջոցառման դասիչը` | B42: 31003 | C42: Ինն ամիս | D42: Տարի
A43: Միջոցառման անվանումը` | B43: ՀՀ շրջակա միջավայրի նախարարության Անտառային կոմիտեի շենքային պայմանների բարելավում
A44: Նկարագրությունը` | B44: Շենքերի և կառույցների հիմնանորոգում_x000D_
A45: Միջոցառման տեսակը` | B45: Պետական մարմինների կողմից օգտագործվող ոչ ֆինանսական ակտիվների հետ գործառնություններ
A46: Միջոցառումն իրականացնողի անվանումը՛ | B46: ՀՀ շրջակա միջավայրի նախարարության Անտառային կոմիտե
A47: Արդյունքի չափորոշիչներ
A48: Միջոցառման վրա կատարվող ծախսը (հազար դրամ) | C48: ='N 2'!G42 -> -3655.6 | D48: ='N 2'!H42 -> -3655.6
A51: Ծրագրի դասիչը | B51: Ծրագրի անվանումը
A52: 1155 | B52: Բնական պաշարների և բնության հատուկ պահպանվող տարածքների կառավարում և պահպանում
A54: Ծրագրի միջոցառումները
A56: Ծրագրի դասիչը` | B56: 1155 | C56: Ցուցանիշների փոփոխությունը (ավելացումները նշված են դրական նշանով)
A57: Միջոցառման դասիչը` | B57: 21001 | C57: Ինն ամիս | D57: Տարի
A58: Միջոցառման անվանումը` | B58: ='N 1'!C49 -> Սևանա լճի առափնյա հատվածներում ջրածածկ պետական և համայնքային նշանակության շենք-շինությունների ապամոնտաժում
A59: Նկարագրությունը` | B59: ='N 1'!C51 -> Սևանա լճի առափնյա հատվածներում ջրածածկ պետական և համայնքային նշանակության շենք-շինությունների ապամոնտաժման (քանդման) աշխատանքների իրականացում և նախագծանախահաշվային փաստաթղթերի ձեռք բերում
A60: Միջոցառման տեսակը` | B60: Պետական մարմինների կողմից օգտագործվող ոչ ֆինանսական ակտիվների հետ գործառնություններ
A61: Միջոցառումն իրականացնողի անվանումը՛ | B61: ՀՀ շրջակա միջավայրի նախարարության
A62: Արդյունքի չափորոշիչներ
A63: Նախագծանախահաշվային փաստաթուղթ, հատ | D63: 1
A64: Ապամոնտաժված օյեկտների քանակ, հատ | D64: 24
A65: Սևանա լճի առափնյա հատվածներում ապամոնտաժված (քանդված) ջրածածկ պետական և համայնքային նշանակության շենք-շինություններ, քառ.մ | D65: 1741.89
A66: Միջոցառման վրա կատարվող ծախսը (հազար դրամ) | C66: =-C29 -> 3655.6 | D66: =-D29 -> 3655.6

Sheet N 6_9.1
A1: Հավելված 6 ՀՀ կառավարության 2020 թվականի____________ի N _____-Ն որոշման
A2: ՀԱՅԱՍՏԱՆԻ ՀԱՆՐԱՊԵՏՈՒԹՅԱՆ ԿԱՌԱՎԱՐՈՒԹՅԱՆ 2019 ԹՎԱԿԱՆԻ ԴԵԿՏԵՄԲԵՐԻ 26-Ի N 1919-Ն ՈՐՈՇՄԱՆ N 9.1 ՀԱՎԵԼՎԱԾԻ N 9.1.58 ԱՂՅՈՒՍԱԿՈՒՄ ԿԱՏԱՐՎՈՂ ՓՈՓՈԽՈՒԹՅՈՒՆՆԵՐԸ ԵՎ ԼՐԱՑՈՒՄՆԵՐԸ
A4: ՀՀ կառավարություն
A6: ՄԱՍ 1. ՊԵՏԱԿԱՆ ՄԱՐՄՆԻ ԳԾՈՎ ԱՐԴՅՈՒՆՔԱՅԻՆ (ԿԱՏԱՐՈՂԱԿԱՆ) ՑՈՒՑԱՆԻՇՆԵՐԸ
A8: Ծրագրի դասիչը | B8: Ծրագրի անվանումը
A9: 1139 | B9: ՀՀ կառավարության պահուստային ֆոնդ
A11: Ծրագրի միջոցառումները
A13: Ծրագրի դասիչը` | B13: 1139 | C13: Ցուցանիշների փոփոխությունը (ավելացումները նշված են դրական նշանով)
A14: Միջոցառման դասիչը` | B14: 11001 | C14: Ինն ամիս | D14: Տարի
A15: Միջոցառման անվանումը` | B15: ՀՀ կառավարության պահուստային ֆոնդ
A16: Նկարագրությունը` | B16: ՀՀ պետական բյուջեում նախատեսված ելքերի լրացուցիչ ֆինանսավորման՝ պետական բյուջեում չկանխատեսված ելքերի՝ ինչպես նաև բյուջետային երաշխիքների ապահովման ելքերի ֆինանսավորման ապահովում
A17: Միջոցառման տեսակը` | B17: Ծառայությունների մատուցում
A18: Միջոցառումն իրականացնողի անվանումը | B18: ՀՀ կառավարություն
A19: Արդյունքի չափորոշիչներ
A20: Միջոցառման վրա կատարվող ծախսը (հազար դրամ) | C20: =-C50 -> 3655.6 | D20: =-D50 -> 3655.6
A22: Ծրագրի դասիչը` | B22: 1139 | C22: Ցուցանիշների փոփոխությունը (նվազեցումները նշված են փակագծերում)
A23: Միջոցառման դասիչը` | B23: 11001 | C23: Ինն ամիս | D23: Տարի
A24: Միջոցառման անվանումը` | B24: ՀՀ կառավարության պահուստային ֆոնդ
A25: Նկարագրությունը` | B25: ՀՀ պետական բյուջեում նախատեսված ելքերի լրացուցիչ ֆինանսավորման՝ պետական բյուջեում չկանխատեսված ելքերի՝ ինչպես նաև բյուջետային երաշխիքների ապահովման ելքերի ֆինանսավորման ապահովում
A26: Միջոցառման տեսակը` | B26: Ծառայությունների մատուցում
A27: Միջոցառումն իրականացնողի անվանումը | B27: ՀՀ կառավարություն
A28: Արդյունքի չափորոշիչներ
A29: Միջոցառման վրա կատարվող ծախսը (հազար դրամ) | C29: =-C20 -> -3655.6 | D29: =-D20 -> -3655.6
A32: ՀԱՅԱՍՏԱՆԻ ՀԱՆՐԱՊԵՏՈՒԹՅԱՆ ԿԱՌԱՎԱՐՈՒԹՅԱՆ 2019 ԹՎԱԿԱՆԻ ԴԵԿՏԵՄԲԵՐԻ 26-Ի N 1919-Ն ՈՐՈՇՄԱՆ N 9.1 ՀԱՎԵԼՎԱԾԻ N 9.1.46 ԱՂՅՈՒՍԱԿՈՒՄ ԿԱՏԱՐՎՈՂ ՓՈՓՈԽՈՒԹՅՈՒՆՆԵՐԸ ԵՎ ԼՐԱՑՈՒՄՆԵՐԸ
A34: ՀՀ շրջակա միջավայրի նախարարության անտառային կոմիտե
A36: ՄԱՍ 1. ՊԵՏԱԿԱՆ ՄԱՐՄՆԻ ԳԾՈՎ ԱՐԴՅՈՒՆՔԱՅԻՆ (ԿԱՏԱՐՈՂԱԿԱՆ) ՑՈՒՑԱՆԻՇՆԵՐԸ
A38: Ծրագրի դասիչը | B38: Ծրագրի անվանումը
A39: 1173 | B39: Անտառների կառավարում
A41: Ծրագրի միջոցառումները
A43: Ծրագրի դասիչը` | B43: 1173 | C43: Ցուցանիշների փոփոխությունը (նվազեցումները նշված են փակագծերում)
A44: Միջոցառման դասիչը` | B44: 31003 | C44: Ինն ամիս | D44: Տարի
A45: Միջոցառման անվանումը` | B45: ՀՀ շրջակա միջավայրի նախարարության Անտառային կոմիտեի շենքային պայմանների բարելավում
A46: Նկարագրությունը` | B46: Շենքերի և կառույցների հիմնանորոգում_x000D_
A47: Միջոցառման տեսակը` | B47: Պետական մարմինների կողմից օգտագործվող ոչ ֆինանսական ակտիվների հետ գործառնություններ
A48: Միջոցառումն իրականացնողի անվանումը՛ | B48: ՀՀ շրջակա միջավայրի նախարարության Անտառային կոմիտե
A49: Արդյունքի չափորոշիչներ
A50: Միջոցառման վրա կատարվող ծախսը (հազար դրամ) | C50: =' N 5_9'!C48 -> -3655.6 | D50: =' N 5_9'!D48 -> -3655.6
A52: ՀԱՅԱՍՏԱՆԻ ՀԱՆՐԱՊԵՏՈՒԹՅԱՆ ԿԱՌԱՎԱՐՈՒԹՅԱՆ 2019 ԹՎԱԿԱՆԻ ԴԵԿՏԵՄԲԵՐԻ 26-Ի N 1919-Ն ՈՐՈՇՄԱՆ N 9.1 ՀԱՎԵԼՎԱԾԻ N 9.1.13 ԱՂՅՈՒՍԱԿՈՒՄ ԿԱՏԱՐՎՈՂ ՓՈՓՈԽՈՒԹՅՈՒՆՆԵՐԸ ԵՎ ԼՐԱՑՈՒՄՆԵՐԸ
A54: ՀՀ շրջակա միջավայրի նախարարություն
A55: ՄԱՍ 1. ՊԵՏԱԿԱՆ ՄԱՐՄՆԻ ԳԾՈՎ ԱՐԴՅՈՒՆՔԱՅԻՆ (ԿԱՏԱՐՈՂԱԿԱՆ) ՑՈՒՑԱՆԻՇՆԵՐԸ
A57: Ծրագրի դասիչը | B57: Ծրագրի անվանումը
A58: 1155 | B58: Բնական պաշարների և բնության հատուկ պահպանվող տարածքների կառավարում և պահպանում
A60: Ծրագրի միջոցառումները
A62: Ծրագրի դասիչը` | B62: 1155 | C62: Ցուցանիշների փոփոխությունը (ավելացումները նշված են դրական նշանով)
A63: Միջոցառման դասիչը` | B63: 21001 | C63: Ինն ամիս | D63: Տարի
A64: Միջոցառման անվանումը` | B64: =' N 5_9'!B58 -> Սևանա լճի առափնյա հատվածներում ջրածածկ պետական և համայնքային նշանակության շենք-շինությունների ապամոնտաժում
A65: Նկարագրությունը` | B65: =' N 5_9'!B59 -> Սևանա լճի առափնյա հատվածներում ջրածածկ պետական և համայնքային նշանակության շենք-շինությունների ապամոնտաժման (քանդման) աշխատանքների իրականացում և նախագծանախահաշվային փաստաթղթերի ձեռք բերում
A66: Միջոցառման տեսակը` | B66: Պետական մարմինների կողմից օգտագործվող ոչ ֆինանսական ակտիվների հետ գործառնություններ
A67: Միջոցառումն իրականացնողի անվանումը՛ | B67: ՀՀ շրջակա միջավայրի նախարարության
A68: Արդյունքի չափորոշիչներ
A69: Նախագծանախահաշվային փաստաթուղթ, հատ | D69: 1
A70: Ապամոնտաժված օյեկտների քանակ, հատ | D70: 24
A71: =' N 5_9'!A65:B65 -> Սևանա լճի առափնյա հատվածներում ապամոնտաժված (քանդված) ջրածածկ պետական և համայնքային նշանակության շենք-շինություններ, քառ.մ | D71: =' N 5_9'!D65 -> 1741.89
A72: Միջոցառման վրա կատարվող ծախսը (հազար դրամ) | C72: =-C29 -> 3655.6 | D72: =-D29 -> 3655.6

Sheet 7 gnum
D1: Հավելված 7 ՀՀ կառավարության 2020 թվականի____________ի N _____-Ն որոշման
A3: ՀԱՅԱՍՏԱՆԻ ՀԱՆՐԱՊԵՏՈՒԹՅԱՆ ԿԱՌԱՎԱՐՈՒԹՅԱՆ 2019 ԹՎԱԿԱՆԻ ԴԵԿՏԵՄԲԵՐԻ 26-Ի N 1919-Ն ՈՐՈՇՄԱՆ N10 ՀԱՎԵԼՎԱԾՈՒՄ ԿԱՏԱՐՎՈՂ ԼՐԱՑՈՒՄՆԵՐԸ
A4: Կոդը | B4: Անվանումը | C4: Գնման ձևը | D4: Չափի միավորը | E4: Միավորի գինը | F4: Ցուցանիշների փոփոխությունը (ավելացումները նշված են դրական նշանով, նվազեցումները՝ փակագծերում)
F5: քանակը | G5: գումարը (հազար դրամ)
A6: ՀՀ շրջակա միջավայրի նախարարություն | G6: =G7 -> 3655.6
A7: ԾՐԱԳԻՐ 1155 Բնական պաշարների և բնության հատուկ պահպանվող տարածքների կառավարում և պահպանում ՄԻՋՈՑԱՌՈՒՄ 21001 Սևանա լճի առափնյա հատվածներում ջրածածկ պետական և համայնքային նշանակության շենք-շինությունների ապամոնտաժում | G7: =G9+G11 -> 3655.6
A8: Բաժին N 05 Խումբ N 04. դաս N 01. Ծրագիր 1155 Միջոցառում 21001
B9: ՄԱՍ II. ԱՇԽԱՏԱՆՔՆԵՐ | G9: =SUM(G10:G10) -> 3300
A10: 71241200/502 | B10: նախագծերի պատրաստում, ծախսերի գնահատում | C10: ԳՀ | D10: դրամ | E10: 3300000 | F10: 1 | G10: =E10*F10/1000 -> 3300
B11: ՄԱՍ III. Ծառայություններ | G11: =SUM(G12:G12) -> 355.6
A12: 50531140/1 | B12: փորձաքննության ծառայություններ | C12: ՄԱ | D12: դրամ | E12: 355600 | F12: 1 | G12: =F12*E12/1000 -> 355.6
A13: ՀՀ շրջակա միջավայրի նախարարության անտառային կոմիտե | G13: =G14 -> -3655.6
A14: ԾՐԱԳԻՐ 1173 Անտառների կառավարում ՄԻՋՈՑԱՌՈՒՄ 31003 ՀՀ շրջակա միջավայրի նախարարության անտառային կոմիտե շենքային պայմանների բարելավում | G14: =G16 -> -3655.6
A15: Բաժին N 05 Խումբ N 06. դաս N 01 Ծրագիր 1173 Միջոցառում 31003
B16: ՄԱՍ II. ԱՇԽԱՏԱՆՔՆԵՐ | G16: =SUM(G17:G17) -> -3655.6
A17: 45221142/1 | B17: ընդհանուր շինարարական աշխատանքներ | C17: ԳՀ | D17: դրամ | G17: -3655.6
