Workbook
Name åû: #REF!
Name åû: #REF!
Name åû: #REF!
Name åû: #REF!
Name åû: #REF!
Name mas: #REF!
Name mas: #REF!
Name mas: #REF!
Name mas: #REF!
Name mas: #REF!
Name mass: #REF!
Name mass: #REF!
Name mass: #REF!
Name mass: #REF!
Name mass: #REF!
Name x: #REF!
Name x: #REF!
Name x: #REF!
Name x: #REF!
Name x: #REF!

Sheet 1
G1: Հավելված N 1
G2: ՀՀ կառավարության 2020 թվականի
G3: ___________ ___-ի N _______ -Ն որոշման
A8: «ՀԱՅԱՍՏԱՆԻ ՀԱՆՐԱՊԵՏՈՒԹՅԱՆ 2020 ԹՎԱԿԱՆԻ ՊԵՏԱԿԱՆ ԲՅՈՒՋԵԻ ՄԱՍԻՆ» ՀԱՅԱՍՏԱՆԻ ՀԱՆՐԱՊԵՏՈՒԹՅԱՆ ՕՐԵՆՔԻ N 1 ՀԱՎԵԼՎԱԾԻ N 2 ԱՂՅՈՒՍԱԿՈՒՄ ԿԱՏԱՐՎՈՂ ՎԵՐԱԲԱՇԽՈՒՄ ԵՎ ՀԱՅԱՍՏԱՆԻ ՀԱՆՐԱՊԵՏՈՒԹՅԱՆ ԿԱՌԱՎԱՐՈՒԹՅԱՆ 2019 ԹՎԱԿԱՆԻ ԴԵԿՏԵՄԲԵՐԻ 26-Ի N 1919-Ն ՈՐՈՇՄԱՆ N 5 ՀԱՎԵԼՎԱԾԻ N 1 ԱՂՅՈՒՍԱԿՈՒՄ ԿԱՏԱՐՎՈՂ ՓՈՓՈԽՈՒԹՅՈՒՆՆԵՐԸ
G9: հազար դրամներով
A10: Ծրագրային դասիչը | C10: Բյուջետային հատկացումների գլխավոր կարգադրիչների, ծրագրերի և միջոցառումների անվանումները | D10: Ցուցանիշների փոփոխություն (ավելավումները նշված են դրական նշանով իսկ նվազեցումները՝ փակագծերում)
D11: Առաջին. եռամսյակ | E11: Առաջին կիսամյակ | F11: Ինն ամիս | G11: Տարի
A12: Ծրագիր | B12: /Միջոցառում
C13: Ընդամենը | D13: =+D34-#REF! -> #REF! | E13: =E34+E14 -> 0 | F13: =F34+F14 -> 0 | G13: =G34+G14 -> 0
C14: ՀՀ կառավարություն | D14: =+D18 -> 12835 | E14: =+E18 -> 0 | F14: =+F18 -> 0 | G14: =+G16 -> 0
C15: Ծրագրի անվանումը՝
A16: 1139 | C16: ՀՀ կառավարության պահուստային ֆոնդ | E16: =+E22+E28 -> 0 | F16: =+F22+F28 -> 0 | G16: =+G22+G28 -> 0
C17: Ծրագրի նպատակը՝
C18: Պետական բյուջեում չկանխատեսված, ինչպես նաեւ բյուջետային երաշխիքների ապահովման ծախսերի ֆինանսավորման ապահովում | D18: =+D22 -> 12835
C19: Վերջնական արդյունքի նկարագրությունը՝
C20: Պահուստային ֆոնդի կառավարման արդյունավետության և թափանցիկության ապահովում
A21: Ծրագրի միջոցառումներ
B22: 11001 | C22: Միջոցառման անվանումը՝ | D22: 12835 | E22: 0 | F22: =+'3'!I29 -> 2473608.6 | G22: =+'3'!J29 -> 2473608.6
C23: ՀՀ կառավարության պահուստային ֆոնդ
C24: Միջոցառման նկարագրությունը՝
C25: ՀՀ պետական բյուջեում նախատեսված ելքերի լրացուցիչ ֆինանսավորման, պետական բյուջեում չկանխատեսված ելքերի, ինչպես նաև բյուջետային երաշխիքների ապահովման ելքերի ֆինանսավորման ապահովում
C26: Միջոցառման տեսակը
C27: Ծառայությունների մատուցում
B28: 11001 | C28: Միջոցառման անվանումը՝ | D28: 12835 | E28: 0 | F28: =+'3'!I37 -> -2473608.6 | G28: =+'3'!J37 -> -2473608.6
C29: ՀՀ կառավարության պահուստային ֆոնդ
C30: Միջոցառման նկարագրությունը՝
C31: ՀՀ պետական բյուջեում նախատեսված ելքերի լրացուցիչ ֆինանսավորման, պետական բյուջեում չկանխատեսված ելքերի, ինչպես նաև բյուջետային երաշխիքների ապահովման ելքերի ֆինանսավորման ապահովում
C32: Միջոցառման տեսակը
C33: Ծառայությունների մատուցում
C34: ՀՀ պաշտպանության նախարարություն | D34: =+D38 -> 12835 | E34: =+E38 -> 0 | F34: =+F38 -> 0 | G34: =+G36 -> 0
C35: Ծրագրի անվանումը՝
A36: 1169 | C36: ՀՀ պաշտպանության ապահովում | E36: 0 | F36: =+F42+F48+F54 -> 0 | G36: =+G42+G48+G54 -> 0
C37: Ծրագրի նպատակը՝
C38: ՀՀ ԶՈւ ռազմավարական ծավալումն ապահովող մարտական պատրաստականության պահպանում՝ արտաքին թշնամուց ՀՀ պետական սահմանների պաշտպանության ապահովում | D38: =+D42 -> 12835 | E38: =+E42+E48 -> 0
C39: Վերջնական արդյունքի նկարագրությունը՝
C40: ՀՀ ԶՈւ ռազմավարական ծավալումն ապահովող մարտական պատրաստականության պահպանում
A41: Ծրագրի միջոցառումներ
B42: 11001 | C42: Միջոցառման անվանումը՝ | D42: 12835 | E42: 0 | F42: =+'3'!I46 -> -865313.52 | G42: =+'3'!J46 -> -865313.52
C43: Ռազմական կարիքների բավարարում
C44: Միջոցառման նկարագրությունը՝
...

Sheet 2
A1: Հավելված N 2
A2: ՀՀ կառավարության 2020 թվականի
A3: ______________ ի ___Ն որոշման
A5: «ՀԱՅԱՍՏԱՆԻ ՀԱՆՐԱՊԵՏՈՒԹՅԱՆ 2020 ԹՎԱԿԱՆԻ ՊԵՏԱԿԱՆ ԲՅՈՒՋԵԻ ՄԱՍԻՆ» ՀԱՅԱՍՏԱՆԻ ՀԱՆՐԱՊԵՏՈՒԹՅԱՆ ՕՐԵՆՔԻ N 1 ՀԱՎԵԼՎԱԾԻ N 3 ԱՂՅՈՒՍԱԿՈՒՄ ԿԱՏԱՐՎՈՂ ՓՈՓՈԽՈՒԹՅՈՒՆԸ
G6: հազար դրամներով
A7: Ծրագրային դասիչ | C7: Բյուջետային գլխավոր կարգադրիչների, ծրագրերի, միջոցառումների և ուղղությունների անվանումները | D7: Ցուցանիշների փոփոխություն (ավելավումները նշված են դրական նշանով)
D8: Ընդամենը, | E8: այդ թվում՝
A9: Ծրագիր | B9: Միջոցառում | E9: Կառուցման աշխատանքներ | F9: Վերակառուցման, վերանորոգման և վերականգնման աշխատանքներ | G9: Նախագծահե- տազոտական, գեոդեզիա- քարտեզագրա- կան աշխա- տանքներ | H9: Ոչ ֆինանսական այլ ակտիվների ձեռքբերում
C10: ԸՆԴԱՄԵՆԸ | D10: =+D12 -> 865313.52 | E10: =+E12 -> 865313.52
C11: այդ թվում՝
C12: ՀՀ ՊԱՇՏՊԱՆՈՒԹՅԱՆ ՆԱԽԱՐԱՐՈՒԹՅՈՒՆ | D12: =+D14 -> 865313.52 | E12: =+E14 -> 865313.52
C13: այդ թվում`
A14: 1169 | B14: 31001 | C14: ՀՀ պաշտպանության նախարարության շենքային պայմաններ բարելավում | D14: =SUM(E14:H14) -> 865313.52 | E14: =+'3'!I64+'3'!I77 -> 865313.52

Sheet 3
I1: Հավելված N 3
F2: ՀՀ կառավարության 2020 թվականի
F3: ___________ ___-ի N _______ -Ն որոշման
A6: ՀԱՅԱՍՏԱՆԻ ՀԱՆՐԱՊԵՏՈՒԹՅԱՆ ԿԱՌԱՎԱՐՈՒԹՅԱՆ 2019 ԹՎԱԿԱՆԻ ԴԵԿՏԵՄԲԵՐԻ 26-Ի N 1919-Ն ՈՐՈՇՄԱՆ N 3 և 4 ՀԱՎԵԼՎԱԾՆԵՐՈՒՄ ԿԱՏԱՐՎՈՂ ՓՈՓՈԽՈՒԹՅՈՒՆՆԵՐԸ
I7: հազար դրամներով
A9: Գործառական դասիչը | D9: Ծրագրային դասիչը | F9: Բյուջետային ծախսերի գործառական դասակարգման բաժինների, խմբերի և դասերի, բյուջետային ծրագրերի միջոցառումների, բյուջետային հատկացումների գլխավոր կարգադրիչների անվանումները | G9: Ցուցանիշների փոփոխություն (ավելավումները նշված են դրական նշանով իսկ նվազեցումները՝ փակագծերում)
G10: Առաջին եռամսյակ | H10: Առաջին կիսամյակ | I10: Ինն ամիս | J10: Տարի
A11: Բաժին | B11: Խումբ | C11: Դաս | D11: Ծրագիր | E11: Միջոցառում
F12: ԸՆԴԱՄԵՆԸ ԾԱԽՍԵՐ այդ թվում՝ | G12: =+G38+#REF! -> #REF! | H12: =+H38 -> 0 | I12: =+I38 -> 0 | J12: =+J38 -> 0
A13: 11 | F13: ՀԻՄՆԱԿԱՆ ԲԱԺԻՆՆԵՐԻՆ ՉԴԱՍՎՈՂ ՊԱՀՈՒՍՏԱՅԻՆ ՖՈՆԴԵՐ | G13: =+G15 -> 12835 | H13: =+H15 -> 0 | I13: =+I15 -> 0 | J13: =+J15 -> 0
F14: այդ թվում`
B15: 01 | F15: ՀՀ կառավարության և համայնքների պահուստային ֆոնդ | G15: =+G17 -> 12835 | H15: =+H17 -> 0 | I15: =+I17 -> 0 | J15: =+J17 -> 0
F16: այդ թվում`
C17: 01 | F17: ՀՀ կառավարության պահուստային ֆոնդ | G17: =+G22 -> 12835 | H17: =+H20 -> 0 | I17: =+I20 -> 0 | J17: =+J20 -> 0
F18: այդ թվում`
F19: ՀՀ կառավարություն | G19: =+G20 -> 12835 | H19: =+H20 -> 0 | I19: =+I20 -> 0 | J19: =+J20 -> 0
D20: 1139 | F20: ՀՀ կառավարության պահուստային ֆոնդ | G20: =+G22 -> 12835 | H20: =+H22+H30 -> 0 | I20: =+I22+I30 -> 0 | J20: =+J22+J30 -> 0
F21: այդ թվում`
E22: 11001 | F22: ՀՀ կառավարության պահուստային ֆոնդ | G22: =+G24 -> 12835 | H22: =+H24 -> 0 | I22: =+I24 -> 2473608.6 | J22: =+J24 -> 2473608.6
F23: այդ թվում` ըստ կատարողների
F24: ՀՀ կառավարություն | G24: =+G25 -> 12835 | H24: =H26 -> 0 | I24: =I26 -> 2473608.6 | J24: =J26 -> 2473608.6
F25: այդ թվում` բյուջետային ծախսերի տնտեսագիտական դասակարգման հոդվածներ | G25: 12835
F26: ԸՆԴԱՄԵՆԸ ԾԱԽՍԵՐ | H26: =H27 -> 0 | I26: =I27 -> 2473608.6 | J26: =J27 -> 2473608.6
F27: ԸՆԹԱՑԻԿ ԾԱԽՍԵՐ | H27: =+H28 -> 0 | I27: =+I28 -> 2473608.6 | J27: =+J28 -> 2473608.6
F28: ԱՅԼ ԾԱԽՍԵՐ | H28: 0 | I28: =+I29 -> 2473608.6 | J28: =+J29 -> 2473608.6
F29: - Պահուստային միջոցներ | H29: 0 | I29: 2473608.6 | J29: 2473608.6
E30: 11001 | F30: ՀՀ կառավարության պահուստային ֆոնդ | G30: =+G32 -> 12835 | H30: =+H32 -> 0 | I30: =+I32 -> -2473608.6 | J30: =+J32 -> -2473608.6
F31: այդ թվում` ըստ կատարողների
F32: ՀՀ կառավարություն | G32: =+G33 -> 12835 | H32: =H34 -> 0 | I32: =I34 -> -2473608.6 | J32: =J34 -> -2473608.6
F33: այդ թվում` բյուջետային ծախսերի տնտեսագիտական դասակարգման հոդվածներ | G33: 12835
F34: ԸՆԴԱՄԵՆԸ ԾԱԽՍԵՐ | H34: =H35 -> 0 | I34: =I35 -> -2473608.6 | J34: =J35 -> -2473608.6
F35: ԸՆԹԱՑԻԿ ԾԱԽՍԵՐ | H35: =+H36 -> 0 | I35: =+I36 -> -2473608.6 | J35: =+J36 -> -2473608.6
F36: ԱՅԼ ԾԱԽՍԵՐ | H36: 0 | I36: =+I37 -> -2473608.6 | J36: =+J37 -> -2473608.6
F37: - Պահուստային միջոցներ | H37: 0 | I37: -2473608.6 | J37: -2473608.6
A38: 02 | F38: ՊԱՇՏՊԱՆՈՒԹՅՈՒՆ | G38: =+G40 -> 12835 | H38: =+H40 -> 0 | I38: =+I40 -> 0 | J38: =+J40 -> 0
F39: այդ թվում`
B40: 01 | F40: Ռազմական պաշտպանություն | G40: =+G42 -> 12835 | H40: =+H42 -> 0 | I40: =+I42 -> 0 | J40: =+J42 -> 0
F41: այդ թվում`
C42: 01 | F42: Ռազմական պաշտպանություն | G42: =+G46 -> 12835 | H42: =+H45 -> 0 | I42: =+I45 -> 0 | J42: =+J45 -> 0
F43: այդ թվում`
...

Sheet 4
A1: Հավելված N 4
A2: ՀՀ կառավարության 2020 թվականի
A3: ______________ ի ___Ն որոշման
A5: Հայաստանի Հանրապետության կառավարության 2019 թվականի դեկտեմբերի 26-ի N 1919-Ն որոշման N 5 հավելվածի N 2 աղյուսակում կատարվող փոփոխությունները
E6: հազար դրամներով
A7: Ծրագրային դասիչ | C7: Բյուջետային գլխավոր կարգադրիչների, ծրագրերի, միջոցառումների, միջոցառումները կատարող պետական մարմինների և ուղղությունների անվանումները | D7: Ցուցանիշների փոփոխություն (ավելացումները նշված են դրական նշանով)
A8: Ծրագիր | B8: Միջոցառում | D8: Առաջին կիսամյակ | E8: Ինն ամիս | F8: Տարի
C10: ԸՆԴԱՄԵՆԸ | D10: =+D12 -> 0 | E10: =+E12 -> 865313.52 | F10: =+F12 -> 865313.52
C11: այդ թվում՝
C12: ՀՀ ՊԱՇՏՊԱՆՈՒԹՅԱՆ ՆԱԽԱՐԱՐՈՒԹՅՈՒՆ | D12: =+D14 -> 0 | E12: =+E14 -> 865313.52 | F12: =+F14 -> 865313.52
C13: այդ թվում`
A14: 1169 | B14: 31001 | C14: ՀՀ պաշտպանության նախարարության շենքային պայմաններ բարելավում | D14: =+D16 -> 0 | E14: =+E16 -> 865313.52 | F14: =F16 -> 865313.52
C15: այդ թվում` ըստ կատարողների
C16: ՀՀ պաշտպանության նախարարություն | D16: 0 | E16: =+'3'!I64+'3'!I77 -> 865313.52 | F16: =+'3'!J64+'3'!J77 -> 865313.52

Sheet 5
F1: Հավելված N 5
B2: ՀՀ կառավարության 2020 թվականի
B3: ______________ ի ___Ն որոշման
A6: ՀԱՅԱՍՏԱՆԻ ՀԱՆՐԱՊԵՏՈՒԹՅԱՆ ԿԱՌԱՎԱՐՈՒԹՅԱՆ 2019 ԹՎԱԿԱՆԻ ԴԵԿՏԵՄԲԵՐԻ 26-Ի ԹԻՎ 1919-Ն ՈՐՈՇՄԱՆ N 9 ՀԱՎԵԼՎԱԾԻ N 9.47 ԵՎ N 9.1 ՀԱՎԵԼՎԱԾԻ N 9.1.58 ԱՂՅՈՒՍԱԿՆԵՐՈՒՄ ԿԱՏԱՐՎՈՂ ՓՈՓՈԽՈՒԹՅՈՒՆՆԵՐ
A7: ՀՀ կառավարություն
A8: Ծրագրի դասիչը | B8: Ծրագրի անվանումը
A9: 1139 | B9: ՀՀ կառավարության պահուստային ֆոնդ
A11: Ծրագրի միջոցառումները
A13: Ծրագրի դասիչը` | B13: 1139 | C13: Ցուցանիշների փոփոխությունը (ավելավումները նշված են դրական նշանով)
A14: Միջոցառման դասիչը` | B14: 11001 | C14: Առաջին եռամսյակ | D14: Առաջին կիսամյակ | E14: Ինն ամիս | F14: Տարի
A15: Միջոցառման անվանումը` | B15: ՀՀ կառավարության պահուստային ֆոնդ
A16: Նկարագրությունը` | B16: ՀՀ պետական բյուջեում նախատեսված ելքերի լրացուցիչ ֆինանսավորման, պետական բյուջեում չկանխատեսված ելքերի, ինչպես նաև բյուջետային երաշխիքների ապահովման ելքերի ֆինանսավորման ապահովում
A17: Միջոցառման տեսակը` | B17: Ծառայությունների մատուցման միջոցառումներ
A18: Միջոցառումն իրականացնողի անվանումը | B18: ՀՀ կառավարություն
A19: Արդյունքի չափորոշիչներ
A20: չի սահմանվում
A21: Միջոցառման վրա կատարվող ծախսը (հազար դրամ) | C21: 43,404,210.90 | D21: ='3'!H36 -> 0 | E21: =+'3'!I22 -> 2473608.6 | F21: =+'3'!J22 -> 2473608.6
A23: Ծրագրի դասիչը` | B23: 1139 | C23: Ցուցանիշների փոփոխությունը (նվազեցումները նշված փակագծերում)
A24: Միջոցառման դասիչը` | B24: 11001 | C24: Առաջին եռամսյակ | D24: Առաջին կիսամյակ | E24: Ինն ամիս | F24: Տարի
A25: Միջոցառման անվանումը` | B25: ՀՀ կառավարության պահուստային ֆոնդ
A26: Նկարագրությունը` | B26: ՀՀ պետական բյուջեում նախատեսված ելքերի լրացուցիչ ֆինանսավորման, պետական բյուջեում չկանխատեսված ելքերի, ինչպես նաև բյուջետային երաշխիքների ապահովման ելքերի ֆինանսավորման ապահովում
A27: Միջոցառման տեսակը` | B27: Ծառայությունների մատուցման միջոցառումներ
A28: Միջոցառումն իրականացնողի անվանումը | B28: ՀՀ կառավարություն
A29: Արդյունքի չափորոշիչներ
A30: չի սահմանվում
A31: Միջոցառման վրա կատարվող ծախսը (հազար դրամ) | C31: 43,404,210.90 | D31: ='3'!H45 -> 0 | E31: =+'3'!I30 -> -2473608.6 | F31: =+'3'!J30 -> -2473608.6
A33: ՀԱՅԱՍՏԱՆԻ ՀԱՆՐԱՊԵՏՈՒԹՅԱՆ ԿԱՌԱՎԱՐՈՒԹՅԱՆ 2019 ԹՎԱԿԱՆԻ ԴԵԿՏԵՄԲԵՐԻ 26-Ի ԹԻՎ 1919-Ն ՈՐՈՇՄԱՆ N 9 ՀԱՎԵԼՎԱԾԻ N 9.15 ԵՎ N 9.1 ՀԱՎԵԼՎԱԾԻ N 9.1.15 ԱՂՅՈՒՍԱԿՆԵՐՈՒՄ ԿԱՏԱՐՎՈՂ ՓՈՓՈԽՈՒԹՅՈՒՆՆԵՐ
A34: ՀՀ պաշտպանության նախարարություն
A36: Ծրագրի դասիչը | B36: Ծրագրի անվանումը
A37: 1169 | B37: ՀՀ պաշտպանության ապահովում
A39: Ծրագրի միջոցառումները
A41: Ծրագրի դասիչը` | B41: 1169 | C41: Ցուցանիշների փոփոխությունը (նվազեցումները նշված փակագծերում)
A42: Միջոցառման դասիչը` | B42: 11001 | C42: Առաջին եռամսյակ | D42: Առաջին կիսամյակ | E42: Ինն ամիս | F42: Տարի
A43: Միջոցառման անվանումը` | B43: Ռազմական կարիքների բավարարում
A44: Նկարագրությունը` | B44: Ընթացիկ գործունեության ապահովման գործողություններ
A45: Միջոցառման տեսակը` | B45: Ծառայությունների մատուցման միջոցառումներ
A46: Միջոցառումն իրականացնողի անվանումը | B46: ՀՀ պաշտպանության նախարարություն
A47: Արդյունքի չափորոշիչներ
A48: չի սահմանվում
A49: Միջոցառման վրա կատարվող ծախսը (հազար դրամ) | C49: 43,404,210.90 | D49: ='3'!H54 -> 0 | E49: =+'3'!I46 -> -865313.52 | F49: =+'3'!J46 -> -865313.52
...

Sheet 6
F1: Հավելված N 6
F2: ՀՀ կառավարության 2020 թվականի
F3: ________ N ____ որոշման
B6: ՀԱՅԱՍՏԱՆԻ ՀԱՆՐԱՊԵՏՈՒԹՅԱՆ ԿԱՌԱՎԱՐՈՒԹՅԱՆ 2019 ԹՎԱԿԱՆԻ ԴԵԿՏԵՄԲԵՐԻ 26-Ի N 1919-Ն ՈՐՈՇՄԱՆ N 10 ՀԱՎԵԼՎԱԾՈՒՄ ԿԱՏԱՐՎՈՂ ՓՈՓՈԽՈՒԹՅՈՒՆՆԵՐԸ
B8: Կոդը | C8: Անվանումը | D8: Գնման ձևը | E8: Չափման միավորը | F8: Ցուցանիշների փոփոխությունը (նվազեցումները նշված են փակագծերում)
F9: միավորի գինը (դրամով) | G9: քանակը | H9: գումարը (հազար դրամով)
C10: ՀՀ պաշտպանության նախարարություն | H10: =(H11) -> -1076330
B11: Բաժին N02 | C11: Խումբ N01 Դաս N01 | D11: Ռազմական պաշտպանություն | H11: =+H12+H186 -> -1076330
B12: 1169 11001 | C12: Ռազմական կարիքների բավարարում | H12: =SUM(H13:H185) -> -864193.52
A13: 423911 | B13: 92311110/1 | C13: թատերական խմբերի, երգչախմբերի, երաժշտական խմբերի, նվագախմբերի կողմից մատուցվող ժամանցային ծառայություններ | D13: գհ | E13: հատ | H13: -10.00032 | I13: 426123
A14: 425291 | B14: 45311146/1 | C14: այլ էլեկտրական մոնտաժային աշխատանքներ | D14: գհ | E14: դրամ | F14: -30000000 | G14: -1 | H14: -30000 | I14: 426123
A15: 426131 | B15: 03121200/504 | C15: ծաղիկներ | D15: գհ | E15: հատ | H15: -21.6 | I15: 426123
A16: 426131 | B16: 03121210/501 | C16: ծաղկային կոմպոզիցիաներ | D16: գհ | E16: հատ | H16: -20 | I16: 426123
A17: 426131 | B17: 03121210/502 | C17: ծաղկային կոմպոզիցիաներ | D17: գհ | E17: հատ | H17: -436 | I17: 426123
A18: 426123 | B18: 18811180/504 | C18: հողաթափեր | D18: գհ | E18: զույգ | H18: -2496 | I18: 426123
A19: 426123 | B19: 18341200/501 | C19: շապիկ և վարտիք | D19: ԲՄ | E19: լրակազմ | H19: -42448 | I19: 426123
A20: 426123 | B20: 18331300/510 | C20: պոլո շապիկներ | D20: գհ | E20: հատ | H20: -6804 | I20: 426911
A21: 426123 | B21: 18331300/511 | C21: պոլո շապիկներ | D21: ԲՄ | E21: հատ | H21: -2900 | I21: 423611
A22: 426123 | B22: 18311120/509 | C22: կիսավարտիքներ | D22: գհ | E22: հատ | H22: -10200 | I22: 426123
A23: 426123 | B23: 18311160/519 | C23: գուլպաներ | D23: ԲՄ | E23: զույգ | H23: -9800 | I23: 426123
A24: 426123 | B24: 18311160/520 | C24: գուլպաներ | D24: ԲՄ | E24: զույգ | H24: -46612.5 | I24: 426911
A25: 426123 | B25: 18421170/505 | C25: գոտիներ | D25: գհ | E25: հատ | H25: -16036 | I25: 426911
A26: 426123 | B26: 18421170/506 | C26: գոտիներ | D26: գհ | E26: հատ | H26: -9180 | I26: 426491
... A157: 426911 | B157: 31625300/4 | C157: գողության դեպքում ահազանգման սարքեր | D157: գհ | E157: հատ | H157: -150 | I157: 426413
A158: 426911 | B158: 32571500/4 | C158: հաղորդակցման մալուխներ հատուկ կիրառման համար | D158: գհ | E158: մետր | H158: -11700
A159: 426911 | B159: 32571500/5 | C159: հաղորդակցման մալուխներ հատուկ կիրառման համար | D159: գհ | E159: մետր | H159: -570
A160: 426911 | B160: 32571500/6 | C160: հաղորդակցման մալուխներ հատուկ կիրառման համար | D160: գհ | E160: մետր | H160: -1652.4
A161: 426911 | B161: 32421100/1 | C161: ցանցային մալուխներ | D161: գհ | E161: մետր | H161: -8700
A162: 426911 | B162: 32421100/2 | C162: ցանցային մալուխներ | D162: գհ | E162: մետր | H162: -882
A163: 426911 | B163: 31681700/1 | C163: բաժանարար տուփ | D163: գհ | E163: հատ | H163: -16
A164: 426911 | B164: 32551160/1 | C164: հեռախոսային սարքեր | D164: գհ | E164: հատ | H164: -1155
A165: 426911 | B165: 32551160/2 | C165: հեռախոսային սարքեր | D165: գհ | E165: հատ | H165: -1560
A166: 426911 | B166: 31221200/1 | C166: խրոցների եղանիկներ և վարդակներ | D166: գհ | E166: հատ | H166: -14.4
A167: 426911 | B167: 31431400/1 | C167: լիթիումային կուտակիչներ | D167: գհ | E167: հատ | H167: -3066
A168: 426911 | B168: 31431400/2 | C168: լիթիումային կուտակիչներ | D168: գհ | E168: հատ | H168: -2250
A169: 426911 | B169: 31431400/3 | C169: լիթիումային կուտակիչներ | D169: գհ | E169: հատ | H169: -155
... A185: 426911 | B185: 42951400/501 | C185: զտիչ սարքերի մասեր | D185: գհ | E185: հատ | H185: -1440
B186: 1169 31001 | C186: ՀՀ պաշտպանության նախարարության շենքային պայմանների բարելավում | H186: =SUM(H187:H260) -> -212136.48
A187: 512112 | B187: 43211100/501 | C187: բուլդոզերներ | D187: ՀԲՄ | E187: հատ | H187: -88200 | I187: 512981
A188: 512112 | B188: 43221100/501 | C188: ավտոուղեհարթիչներ (գրեյդերներ) և հարթեցնող սարքեր | D188: գհ | E188: հատ | H188: -560.001 | I188: 426412
...

Sheet Sheet1
A1: 4239 | B1: 20939.6
A2: 4252 | B2: 4001.2
A3: 4261 | B3: 24221.5
A4: 4264 | B4: 658398.2
A5: 4267 | B5: 51113.2
A6: 4269 | B6: 58135.2
A7: 5121 | B7: 34800
A8: 5122 | B8: 30780.6
A9: 5129 | B9: 165718.2
A10: 5132 | B10: 33.2
