Workbook
Name åû: #REF!
Name åû: #REF!
Name åû: #REF!
Name åû: #REF!
Name åû: #REF!
Name mas: #REF!
Name mas: #REF!
Name mas: #REF!
Name mas: #REF!
Name mas: #REF!
Name mass: #REF!
Name mass: #REF!
Name mass: #REF!
Name mass: #REF!
Name mass: #REF!
Name x: #REF!
Name x: #REF!
Name x: #REF!
Name x: #REF!
Name x: #REF!

Sheet 1
G1: Հավելված N 1
G2: ՀՀ կառավարության 2020 թվականի
G3: ___________ ___-ի N _______ -Ն որոշման
A8: «ՀԱՅԱՍՏԱՆԻ ՀԱՆՐԱՊԵՏՈՒԹՅԱՆ 2020 ԹՎԱԿԱՆԻ ՊԵՏԱԿԱՆ ԲՅՈՒՋԵԻ ՄԱՍԻՆ» ՀԱՅԱՍՏԱՆԻ ՀԱՆՐԱՊԵՏՈՒԹՅԱՆ ՕՐԵՆՔԻ N 1 ՀԱՎԵԼՎԱԾԻ N 2 ԱՂՅՈՒՍԱԿՈՒՄ ԿԱՏԱՐՎՈՂ ՎԵՐԱԲԱՇԽՈՒՄ ԵՎ ՀԱՅԱՍՏԱՆԻ ՀԱՆՐԱՊԵՏՈՒԹՅԱՆ ԿԱՌԱՎԱՐՈՒԹՅԱՆ 2019 ԹՎԱԿԱՆԻ ԴԵԿՏԵՄԲԵՐԻ 26-Ի N 1919-Ն ՈՐՈՇՄԱՆ N 5 ՀԱՎԵԼՎԱԾԻ N 1 ԱՂՅՈՒՍԱԿՈՒՄ ԿԱՏԱՐՎՈՂ ՓՈՓՈԽՈՒԹՅՈՒՆՆԵՐԸ
G9: հազար դրամներով
A10: Ծրագրային դասիչը | C10: Բյուջետային հատկացումների գլխավոր կարգադրիչների, ծրագրերի և միջոցառումների անվանումները | D10: Ցուցանիշների փոփոխություն (ավելավումները նշված են դրական նշանով իսկ նվազեցումները՝ փակագծերում)
D11: Առաջին. եռամսյակ | E11: Առաջին կիսամյակ | F11: Ինն ամիս | G11: Տարի
A12: Ծրագիր | B12: /Միջոցառում
C13: Ընդամենը | D13: =+D34-#REF! -> #REF! | E13: =E34+E14 -> 0 | F13: =F34+F14 -> 0 | G13: =G34+G14 -> 0
C14: ՀՀ կառավարություն | D14: =+D18 -> 12835 | E14: =+E18 -> 0 | F14: =+F18 -> 0 | G14: =+G16 -> 0
C15: Ծրագրի անվանումը՝
A16: 1139 | C16: ՀՀ կառավարության պահուստային ֆոնդ | E16: =+E22+E28 -> 0 | F16: =+F22+F28 -> 0 | G16: =+G22+G28 -> 0
C17: Ծրագրի նպատակը՝
C18: Պետական բյուջեում չկանխատեսված, ինչպես նաեւ բյուջետային երաշխիքների ապահովման ծախսերի ֆինանսավորման ապահովում | D18: =+D22 -> 12835
C19: Վերջնական արդյունքի նկարագրությունը՝
C20: Պահուստային ֆոնդի կառավարման արդյունավետության և թափանցիկության ապահովում
A21: Ծրագրի միջոցառումներ
B22: 11001 | C22: Միջոցառման անվանումը՝ | D22: 12835 | E22: 0 | F22: =+'3'!I29 -> 2473608.6 | G22: =+'3'!J29 -> 2473608.6
C23: ՀՀ կառավարության պահուստային ֆոնդ
C24: Միջոցառման նկարագրությունը՝
C25: ՀՀ պետական բյուջեում նախատեսված ելքերի լրացուցիչ ֆինանսավորման, պետական բյուջեում չկանխատեսված ելքերի, ինչպես նաև բյուջետային երաշխիքների ապահովման ելքերի ֆինանսավորման ապահովում
C26: Միջոցառման տեսակը
C27: Ծառայությունների մատուցում
B28: 11001 | C28: Միջոցառման անվանումը՝ | D28: 12835 | E28: 0 | F28: =+'3'!I37 -> -2473608.6 | G28: =+'3'!J37 -> -2473608.6
C29: ՀՀ կառավարության պահուստային ֆոնդ
C30: Միջոցառման նկարագրությունը՝
C31: ՀՀ պետական բյուջեում նախատեսված ելքերի լրացուցիչ ֆինանսավորման, պետական բյուջեում չկանխատեսված ելքերի, ինչպես նաև բյուջետային երաշխիքների ապահովման ելքերի ֆինանսավորման ապահովում
C32: Միջոցառման տեսակը
C33: Ծառայությունների մատուցում
C34: ՀՀ պաշտպանության նախարարություն | D34: =+D38 -> 12835 | E34: =+E38 -> 0 | F34: =+F38 -> 0 | G34: =+G36 -> 0
C35: Ծրագրի անվանումը՝
A36: 1169 | C36: ՀՀ պաշտպանության ապահովում | E36: 0 | F36: =+F42+F48+F54 -> 0 | G36: =+G42+G48+G54 -> 0
C37: Ծրագրի նպատակը՝
C38: ՀՀ ԶՈւ ռազմավարական ծավալումն ապահովող մարտական պատրաստականության պահպանում՝ արտաքին թշնամուց ՀՀ պետական սահմանների պաշտպանության ապահովում | D38: =+D42 -> 12835 | E38: =+E42+E48 -> 0
C39: Վերջնական արդյունքի նկարագրությունը՝
C40: ՀՀ ԶՈւ ռազմավարական ծավալումն ապահովող մարտական պատրաստականության պահպանում
A41: Ծրագրի միջոցառումներ
B42: 11001 | C42: Միջոցառման անվանումը՝ | D42: 12835 | E42: 0 | F42: =+'3'!I46 -> -865313.52 | G42: =+'3'!J46 -> -865313.52
C43: Ռազմական կարիքների բավարարում
C44: Միջոցառման նկարագրությունը՝
C45: Ընթացիկ գործունեության ապահովման գործողություններ
C46: Միջոցառման տեսակը
C47: Ծառայությունների մատուցում
B48: 31001 | C48: Միջոցառման անվանումը՝ | D48: 12835 | E48: 0 | F48: =+'3'!I64 -> -1608295.1 | G48: =+'3'!J64 -> -1608295.1
C49: ՀՀ պաշտպանության նախարարության շենքային պայմանների բարելավում
C50: Միջոցառման նկարագրությունը՝
C51: Պաշտպանության կարիքների համար բնակելի, գրասենյակային և այլ նշանակության շենքերի և շինությունների կառուցում
C52: Միջոցառման տեսակը
C53: Պետական մարմինների կողմից օգտագործվող ոչ ֆինանսական ակտիվների հետ գործառնություններ
B54: 31001 | C54: Միջոցառման անվանումը՝ | D54: 12835 | E54: 0 | F54: =+'3'!I77 -> 2473608.6 | G54: =+'3'!J77 -> 2473608.6
C55: ՀՀ պաշտպանության նախարարության շենքային պայմանների բարելավում
C56: Միջոցառման նկարագրությունը՝
C57: Պաշտպանության կարիքների համար բնակելի, գրասենյակային և այլ նշանակության շենքերի և շինությունների կառուցում
C58: Միջոցառման տեսակը
C59: Պետական մարմինների կողմից օգտագործվող ոչ ֆինանսական ակտիվների հետ գործառնություններ

Sheet 2
A1: Հավելված N 2
A2: ՀՀ կառավարության 2020 թվականի
A3: ______________ ի ___Ն որոշման
A5: «ՀԱՅԱՍՏԱՆԻ ՀԱՆՐԱՊԵՏՈՒԹՅԱՆ 2020 ԹՎԱԿԱՆԻ ՊԵՏԱԿԱՆ ԲՅՈՒՋԵԻ ՄԱՍԻՆ» ՀԱՅԱՍՏԱՆԻ ՀԱՆՐԱՊԵՏՈՒԹՅԱՆ ՕՐԵՆՔԻ N 1 ՀԱՎԵԼՎԱԾԻ N 3 ԱՂՅՈՒՍԱԿՈՒՄ ԿԱՏԱՐՎՈՂ ՓՈՓՈԽՈՒԹՅՈՒՆԸ
G6: հազար դրամներով
A7: Ծրագրային դասիչ | C7: Բյուջետային գլխավոր կարգադրիչների, ծրագրերի, միջոցառումների և ուղղությունների անվանումները | D7: Ցուցանիշների փոփոխություն (ավելավումները նշված են դրական նշանով)
D8: Ընդամենը, | E8: այդ թվում՝
A9: Ծրագիր | B9: Միջոցառում | E9: Կառուցման աշխատանքներ | F9: Վերակառուցման, վերանորոգման և վերականգնման աշխատանքներ | G9: Նախագծահե- տազոտական, գեոդեզիա- քարտեզագրա- կան աշխա- տանքներ | H9: Ոչ ֆինանսական այլ ակտիվների ձեռքբերում
C10: ԸՆԴԱՄԵՆԸ | D10: =+D12 -> 865313.52 | E10: =+E12 -> 865313.52
C11: այդ թվում՝
C12: ՀՀ ՊԱՇՏՊԱՆՈՒԹՅԱՆ ՆԱԽԱՐԱՐՈՒԹՅՈՒՆ | D12: =+D14 -> 865313.52 | E12: =+E14 -> 865313.52
C13: այդ թվում`
A14: 1169 | B14: 31001 | C14: ՀՀ պաշտպանության նախարարության շենքային պայմաններ բարելավում | D14: =SUM(E14:H14) -> 865313.52 | E14: =+'3'!I64+'3'!I77 -> 865313.52

Sheet 3
I1: Հավելված N 3
F2: ՀՀ կառավարության 2020 թվականի
F3: ___________ ___-ի N _______ -Ն որոշման
A6: ՀԱՅԱՍՏԱՆԻ ՀԱՆՐԱՊԵՏՈՒԹՅԱՆ ԿԱՌԱՎԱՐՈՒԹՅԱՆ 2019 ԹՎԱԿԱՆԻ ԴԵԿՏԵՄԲԵՐԻ 26-Ի N 1919-Ն ՈՐՈՇՄԱՆ N 3 և 4 ՀԱՎԵԼՎԱԾՆԵՐՈՒՄ ԿԱՏԱՐՎՈՂ ՓՈՓՈԽՈՒԹՅՈՒՆՆԵՐԸ
I7: հազար դրամներով
A9: Գործառական դասիչը | D9: Ծրագրային դասիչը | F9: Բյուջետային ծախսերի գործառական դասակարգման բաժինների, խմբերի և դասերի, բյուջետային ծրագրերի միջոցառումների, բյուջետային հատկացումների գլխավոր կարգադրիչների անվանումները | G9: Ցուցանիշների փոփոխություն (ավելավումները նշված են դրական նշանով իսկ նվազեցումները՝ փակագծերում)
G10: Առաջին եռամսյակ | H10: Առաջին կիսամյակ | I10: Ինն ամիս | J10: Տարի
A11: Բաժին | B11: Խումբ | C11: Դաս | D11: Ծրագիր | E11: Միջոցառում
F12: ԸՆԴԱՄԵՆԸ ԾԱԽՍԵՐ այդ թվում՝ | G12: =+G38+#REF! -> #REF! | H12: =+H38 -> 0 | I12: =+I38 -> 0 | J12: =+J38 -> 0
A13: 11 | F13: ՀԻՄՆԱԿԱՆ ԲԱԺԻՆՆԵՐԻՆ ՉԴԱՍՎՈՂ ՊԱՀՈՒՍՏԱՅԻՆ ՖՈՆԴԵՐ | G13: =+G15 -> 12835 | H13: =+H15 -> 0 | I13: =+I15 -> 0 | J13: =+J15 -> 0
F14: այդ թվում`
B15: 01 | F15: ՀՀ կառավարության և համայնքների պահուստային ֆոնդ | G15: =+G17 -> 12835 | H15: =+H17 -> 0 | I15: =+I17 -> 0 | J15: =+J17 -> 0
F16: այդ թվում`
C17: 01 | F17: ՀՀ կառավարության պահուստային ֆոնդ | G17: =+G22 -> 12835 | H17: =+H20 -> 0 | I17: =+I20 -> 0 | J17: =+J20 -> 0
F18: այդ թվում`
F19: ՀՀ կառավարություն | G19: =+G20 -> 12835 | H19: =+H20 -> 0 | I19: =+I20 -> 0 | J19: =+J20 -> 0
D20: 1139 | F20: ՀՀ կառավարության պահուստային ֆոնդ | G20: =+G22 -> 12835 | H20: =+H22+H30 -> 0 | I20: =+I22+I30 -> 0 | J20: =+J22+J30 -> 0
F21: այդ թվում`
E22: 11001 | F22: ՀՀ կառավարության պահուստային ֆոնդ | G22: =+G24 -> 12835 | H22: =+H24 -> 0 | I22: =+I24 -> 2473608.6 | J22: =+J24 -> 2473608.6
F23: այդ թվում` ըստ կատարողների
F24: ՀՀ կառավարություն | G24: =+G25 -> 12835 | H24: =H26 -> 0 | I24: =I26 -> 2473608.6 | J24: =J26 -> 2473608.6
F25: այդ թվում` բյուջետային ծախսերի տնտեսագիտական դասակարգման հոդվածներ | G25: 12835
F26: ԸՆԴԱՄԵՆԸ ԾԱԽՍԵՐ | H26: =H27 -> 0 | I26: =I27 -> 2473608.6 | J26: =J27 -> 2473608.6
F27: ԸՆԹԱՑԻԿ ԾԱԽՍԵՐ | H27: =+H28 -> 0 | I27: =+I28 -> 2473608.6 | J27: =+J28 -> 2473608.6
F28: ԱՅԼ ԾԱԽՍԵՐ | H28: 0 | I28: =+I29 -> 2473608.6 | J28: =+J29 -> 2473608.6
F29: - Պահուստային միջոցներ | H29: 0 | I29: 2473608.6 | J29: 2473608.6
E30: 11001 | F30: ՀՀ կառավարության պահուստային ֆոնդ | G30: =+G32 -> 12835 | H30: =+H32 -> 0 | I30: =+I32 -> -2473608.6 | J30: =+J32 -> -2473608.6
F31: այդ թվում` ըստ կատարողների
F32: ՀՀ կառավարություն | G32: =+G33 -> 12835 | H32: =H34 -> 0 | I32: =I34 -> -2473608.6 | J32: =J34 -> -2473608.6
F33: այդ թվում` բյուջետային ծախսերի տնտեսագիտական դասակարգման հոդվածներ | G33: 12835
F34: ԸՆԴԱՄԵՆԸ ԾԱԽՍԵՐ | H34: =H35 -> 0 | I34: =I35 -> -2473608.6 | J34: =J35 -> -2473608.6
F35: ԸՆԹԱՑԻԿ ԾԱԽՍԵՐ | H35: =+H36 -> 0 | I35: =+I36 -> -2473608.6 | J35: =+J36 -> -2473608.6
F36: ԱՅԼ ԾԱԽՍԵՐ | H36: 0 | I36: =+I37 -> -2473608.6 | J36: =+J37 -> -2473608.6
F37: - Պահուստային միջոցներ | H37: 0 | I37: -2473608.6 | J37: -2473608.6
A38: 02 | F38: ՊԱՇՏՊԱՆՈՒԹՅՈՒՆ | G38: =+G40 -> 12835 | H38: =+H40 -> 0 | I38: =+I40 -> 0 | J38: =+J40 -> 0
F39: այդ թվում`
B40: 01 | F40: Ռազմական պաշտպանություն | G40: =+G42 -> 12835 | H40: =+H42 -> 0 | I40: =+I42 -> 0 | J40: =+J42 -> 0
F41: այդ թվում`
C42: 01 | F42: Ռազմական պաշտպանություն | G42: =+G46 -> 12835 | H42: =+H45 -> 0 | I42: =+I45 -> 0 | J42: =+J45 -> 0
F43: այդ թվում`
F44: ՀՀ պաշտպանության նախարարություն | G44: =+G45 -> 12835 | H44: =+H45 -> 0 | I44: =+I45 -> 0 | J44: =+J45 -> 0
D45: 1169 | F45: ՀՀ պաշտպանության ապահովում | G45: =+G46 -> 12835 | H45: =+H46+H64 -> 0 | I45: =+I46+I64+I77 -> 0 | J45: =+J46+J64+J77 -> 0
E46: 11001 | F46: Ռազմական կարիքների բավարարում | G46: =+G48 -> 12835 | H46: =+H48 -> 0 | I46: =+I48 -> -865313.52 | J46: =+J48 -> -865313.52
F47: այդ թվում` ըստ կատարողների
F48: ՀՀ պաշտպանության նախարարություն | G48: =+G49 -> 12835 | H48: =H50 -> 0 | I48: =I50 -> -865313.52 | J48: =J50 -> -865313.52
F49: այդ թվում` բյուջետային ծախսերի տնտեսագիտական դասակարգման հոդվածներ | G49: 12835
F50: ԸՆԴԱՄԵՆԸ ԾԱԽՍԵՐ | H50: =H51 -> 0 | I50: =I51 -> -865313.52 | J50: =J51 -> -865313.52
F51: ԸՆԹԱՑԻԿ ԾԱԽՍԵՐ | H51: =H52 -> 0 | I51: =I52+I62 -> -865313.52 | J51: =J52+J62 -> -865313.52
F52: ԾԱՌԱՅՈՒԹՅՈՒՆՆԵՐԻ ԵՎ ԱՊՐԱՆՔՆԵՐԻ ՁԵՌՔ ԲԵՐՈՒՄ | H52: =H54 -> 0 | I52: =+I53+I57+I55 -> -864193.52 | J52: =+J53+J57+J55 -> -864193.52
F53: ՊԱՅՄԱՆԱԳՐԱՅԻՆ ԾԱՌԱՅՈՒԹՅՈՒՆՆԵՐԻ ՁԵՌՔ ԲԵՐՈՒՄ | H53: =H64 -> 0 | I53: =SUM(I54) -> -10.00032 | J53: =SUM(J54) -> -10.00032
F54: - Ընդհանուր բնույթի այլ ծառայություններ | H54: 0 | I54: =+'6'!H13 -> -10.00032 | J54: =+'6'!H13 -> -10.00032
F55: ԸՆԹԱՑԻԿ ՆՈՐՈԳՈՒՄ ԵՎ ՊԱՀՊԱՆՈՒՄ (ԾԱՌԱՅՈՒԹՅՈՒՆՆԵՐ ԵՎ ՆՅՈՒԹԵՐ) | H55: =H68 -> 0 | I55: =SUM(I56) -> -30000 | J55: =SUM(J56) -> -30000
F56: - Մեքենաների և սարքավորումների ընթացիկ նորոգում և պահպանում | H56: 0 | I56: =+'6'!H14 -> -30000 | J56: =+'6'!H14 -> -30000
F57: ՆՅՈՒԹԵՐ | H57: =H68 -> 0 | I57: =SUM(I58:I61) -> -834183.52 | J57: =SUM(J58:J61) -> -834183.52
F58: - Գրասենյակային նյութեր և հագուստ | H58: 0 | I58: =SUM('6'!H15:H77) -> -173929.24 | J58: =SUM('6'!H15:H77) -> -173929.24
F59: - Տրանսպորտային նյութեր | H59: 0 | I59: =SUM('6'!H78:H98) -> -505652.44 | J59: =SUM('6'!H78:H98) -> -505652.44
F60: - Կենցաղային և հանրային սննդի նյութեր | H60: 0 | I60: =SUM('6'!H99:H127) -> -24302.193 | J60: =SUM('6'!H99:H127) -> -24302.193
F61: - Հատուկ նպատակային այլ նյութեր | H61: 0 | I61: =SUM('6'!H128:H185) -> -130299.65 | J61: =SUM('6'!H128:H185) -> -130299.65
F62: ԱՅԼ ԾԱԽՍԵՐ | H62: 0 | I62: =+I63 -> -1120 | J62: =+J63 -> -1120
F63: - Այլ ծախսեր | H63: 0 | I63: -1120 | J63: -1120
E64: 31001 | F64: ՀՀ պաշտպանության նախարարության շենքային պայմանների բարելավում | G64: =+G66 -> 12835 | H64: =+H66 -> 0 | I64: =+I66 -> -1608295.1 | J64: =+J66 -> -1608295.1
F65: այդ թվում` ըստ կատարողների
F66: ՀՀ պաշտպանության նախարարություն | G66: =+G67 -> 12835 | H66: =H68 -> 0 | I66: =+I67 -> -1608295.1 | J66: =+J67 -> -1608295.1
F67: այդ թվում` բյուջետային ծախսերի տնտեսագիտական դասակարգման հոդվածներ | G67: 12835 | I67: =+I68 -> -1608295.1 | J67: =+J68 -> -1608295.1
F68: ՈՉ ՖԻՆԱՆՍԱԿԱՆ ԱԿՏԻՎՆԵՐԻ ԳԾՈՎ ԾԱԽՍԵՐ | H68: =H69 -> 0 | I68: =+I69 -> -1608295.1 | J68: =+J69 -> -1608295.1
F69: ՀԻՄՆԱԿԱՆ ՄԻՋՈՑՆԵՐ | H69: =H72 -> 0 | I69: =I72+I70 -> -1608295.1 | J69: =J72+J70 -> -1608295.1
F70: ՇԵՆՔԵՐ ԵՎ ՇԻՆՈՒԹՅՈՒՆՆԵՐ | H70: =H71 -> 0 | I70: =I71 -> -1396158.6 | J70: =J71 -> -1396158.6
F71: - Շենքերի և շինությունների կառուցում | H71: 0 | I71: -1396158.6 | J71: -1396158.6
F72: ՄԵՔԵՆԱՆԵՐ ԵՎ ՍԱՐՔԱՎՈՐՈՒՄՆԵՐ | H72: =H74 -> 0 | I72: =I74+I75+I73+I76 -> -212136.48 | J72: =J74+J75+J73+J76 -> -212136.48
F73: - Տրանսպորտային սարքավորումներ | H73: 0 | I73: =SUM('6'!H187:H190) -> -97965.001 | J73: =SUM('6'!H187:H190) -> -97965.001
F74: - Վարչական սարքավորումներ | H74: 0 | I74: =SUM('6'!H191:H207) -> -11506.26 | J74: =SUM('6'!H191:H207) -> -11506.26
F75: - Այլ մեքենաներ և սարքավորումներ | H75: 0 | I75: =SUM('6'!H208:H260) -> -102665.22 | J75: =SUM('6'!H208:H260) -> -102665.22
F76: - Ոչ-նյութական հիմնական միջոցներ | H76: 0 | I76: 0 | J76: 0
E77: 31001 | F77: ՀՀ պաշտպանության նախարարության շենքային պայմանների բարելավում | G77: =+G79 -> 12835 | H77: =+H79 -> 0 | I77: =+I79 -> 2473608.6 | J77: =+J79 -> 2473608.6
F78: այդ թվում` ըստ կատարողների
F79: ՀՀ պաշտպանության նախարարություն | G79: =+G80 -> 12835 | H79: =H81 -> 0 | I79: =+I80 -> 2473608.6 | J79: =+J80 -> 2473608.6
F80: այդ թվում` բյուջետային ծախսերի տնտեսագիտական դասակարգման հոդվածներ | G80: 12835 | I80: =+I81 -> 2473608.6 | J80: =+J81 -> 2473608.6
F81: ՈՉ ՖԻՆԱՆՍԱԿԱՆ ԱԿՏԻՎՆԵՐԻ ԳԾՈՎ ԾԱԽՍԵՐ | H81: =H82 -> 0 | I81: =+I82 -> 2473608.6 | J81: =+J82 -> 2473608.6
F82: ՀԻՄՆԱԿԱՆ ՄԻՋՈՑՆԵՐ | H82: =H83 -> 0 | I82: =I83 -> 2473608.6 | J82: =J83 -> 2473608.6
F83: ՇԵՆՔԵՐ ԵՎ ՇԻՆՈՒԹՅՈՒՆՆԵՐ | H83: =H84 -> 0 | I83: =I84 -> 2473608.6 | J83: =J84 -> 2473608.6
F84: - Շենքերի և շինությունների կառուցում | H84: 0 | I84: 2473608.6 | J84: 2473608.6

Sheet 4
A1: Հավելված N 4
A2: ՀՀ կառավարության 2020 թվականի
A3: ______________ ի ___Ն որոշման
A5: Հայաստանի Հանրապետության կառավարության 2019 թվականի դեկտեմբերի 26-ի N 1919-Ն որոշման N 5 հավելվածի N 2 աղյուսակում կատարվող փոփոխությունները
E6: հազար դրամներով
A7: Ծրագրային դասիչ | C7: Բյուջետային գլխավոր կարգադրիչների, ծրագրերի, միջոցառումների, միջոցառումները կատարող պետական մարմինների և ուղղությունների անվանումները | D7: Ցուցանիշների փոփոխություն (ավելացումները նշված են դրական նշանով)
A8: Ծրագիր | B8: Միջոցառում | D8: Առաջին կիսամյակ | E8: Ինն ամիս | F8: Տարի
C10: ԸՆԴԱՄԵՆԸ | D10: =+D12 -> 0 | E10: =+E12 -> 865313.52 | F10: =+F12 -> 865313.52
C11: այդ թվում՝
C12: ՀՀ ՊԱՇՏՊԱՆՈՒԹՅԱՆ ՆԱԽԱՐԱՐՈՒԹՅՈՒՆ | D12: =+D14 -> 0 | E12: =+E14 -> 865313.52 | F12: =+F14 -> 865313.52
C13: այդ թվում`
A14: 1169 | B14: 31001 | C14: ՀՀ պաշտպանության նախարարության շենքային պայմաններ բարելավում | D14: =+D16 -> 0 | E14: =+E16 -> 865313.52 | F14: =F16 -> 865313.52
C15: այդ թվում` ըստ կատարողների
C16: ՀՀ պաշտպանության նախարարություն | D16: 0 | E16: =+'3'!I64+'3'!I77 -> 865313.52 | F16: =+'3'!J64+'3'!J77 -> 865313.52

Sheet 5
F1: Հավելված N 5
B2: ՀՀ կառավարության 2020 թվականի
B3: ______________ ի ___Ն որոշման
A6: ՀԱՅԱՍՏԱՆԻ ՀԱՆՐԱՊԵՏՈՒԹՅԱՆ ԿԱՌԱՎԱՐՈՒԹՅԱՆ 2019 ԹՎԱԿԱՆԻ ԴԵԿՏԵՄԲԵՐԻ 26-Ի ԹԻՎ 1919-Ն ՈՐՈՇՄԱՆ N 9 ՀԱՎԵԼՎԱԾԻ N 9.47 ԵՎ N 9.1 ՀԱՎԵԼՎԱԾԻ N 9.1.58 ԱՂՅՈՒՍԱԿՆԵՐՈՒՄ ԿԱՏԱՐՎՈՂ ՓՈՓՈԽՈՒԹՅՈՒՆՆԵՐ
A7: ՀՀ կառավարություն
A8: Ծրագրի դասիչը | B8: Ծրագրի անվանումը
A9: 1139 | B9: ՀՀ կառավարության պահուստային ֆոնդ
A11: Ծրագրի միջոցառումները
A13: Ծրագրի դասիչը` | B13: 1139 | C13: Ցուցանիշների փոփոխությունը (ավելավումները նշված են դրական նշանով)
A14: Միջոցառման դասիչը` | B14: 11001 | C14: Առաջին եռամսյակ | D14: Առաջին կիսամյակ | E14: Ինն ամիս | F14: Տարի
A15: Միջոցառման անվանումը` | B15: ՀՀ կառավարության պահուստային ֆոնդ
A16: Նկարագրությունը` | B16: ՀՀ պետական բյուջեում նախատեսված ելքերի լրացուցիչ ֆինանսավորման, պետական բյուջեում չկանխատեսված ելքերի, ինչպես նաև բյուջետային երաշխիքների ապահովման ելքերի ֆինանսավորման ապահովում
A17: Միջոցառման տեսակը` | B17: Ծառայությունների մատուցման միջոցառումներ
A18: Միջոցառումն իրականացնողի անվանումը | B18: ՀՀ կառավարություն
A19: Արդյունքի չափորոշիչներ
A20: չի սահմանվում
A21: Միջոցառման վրա կատարվող ծախսը (հազար դրամ) | C21: 43,404,210.90 | D21: ='3'!H36 -> 0 | E21: =+'3'!I22 -> 2473608.6 | F21: =+'3'!J22 -> 2473608.6
A23: Ծրագրի դասիչը` | B23: 1139 | C23: Ցուցանիշների փոփոխությունը (նվազեցումները նշված փակագծերում)
A24: Միջոցառման դասիչը` | B24: 11001 | C24: Առաջին եռամսյակ | D24: Առաջին կիսամյակ | E24: Ինն ամիս | F24: Տարի
A25: Միջոցառման անվանումը` | B25: ՀՀ կառավարության պահուստային ֆոնդ
A26: Նկարագրությունը` | B26: ՀՀ պետական բյուջեում նախատեսված ելքերի լրացուցիչ ֆինանսավորման, պետական բյուջեում չկանխատեսված ելքերի, ինչպես նաև բյուջետային երաշխիքների ապահովման ելքերի ֆինանսավորման ապահովում
A27: Միջոցառման տեսակը` | B27: Ծառայությունների մատուցման միջոցառումներ
A28: Միջոցառումն իրականացնողի անվանումը | B28: ՀՀ կառավարություն
A29: Արդյունքի չափորոշիչներ
A30: չի սահմանվում
A31: Միջոցառման վրա կատարվող ծախսը (հազար դրամ) | C31: 43,404,210.90 | D31: ='3'!H45 -> 0 | E31: =+'3'!I30 -> -2473608.6 | F31: =+'3'!J30 -> -2473608.6
A33: ՀԱՅԱՍՏԱՆԻ ՀԱՆՐԱՊԵՏՈՒԹՅԱՆ ԿԱՌԱՎԱՐՈՒԹՅԱՆ 2019 ԹՎԱԿԱՆԻ ԴԵԿՏԵՄԲԵՐԻ 26-Ի ԹԻՎ 1919-Ն ՈՐՈՇՄԱՆ N 9 ՀԱՎԵԼՎԱԾԻ N 9.15 ԵՎ N 9.1 ՀԱՎԵԼՎԱԾԻ N 9.1.15 ԱՂՅՈՒՍԱԿՆԵՐՈՒՄ ԿԱՏԱՐՎՈՂ ՓՈՓՈԽՈՒԹՅՈՒՆՆԵՐ
A34: ՀՀ պաշտպանության նախարարություն
A36: Ծրագրի դասիչը | B36: Ծրագրի անվանումը
A37: 1169 | B37: ՀՀ պաշտպանության ապահովում
A39: Ծրագրի միջոցառումները
A41: Ծրագրի դասիչը` | B41: 1169 | C41: Ցուցանիշների փոփոխությունը (նվազեցումները նշված փակագծերում)
A42: Միջոցառման դասիչը` | B42: 11001 | C42: Առաջին եռամսյակ | D42: Առաջին կիսամյակ | E42: Ինն ամիս | F42: Տարի
A43: Միջոցառման անվանումը` | B43: Ռազմական կարիքների բավարարում
A44: Նկարագրությունը` | B44: Ընթացիկ գործունեության ապահովման գործողություններ
A45: Միջոցառման տեսակը` | B45: Ծառայությունների մատուցման միջոցառումներ
A46: Միջոցառումն իրականացնողի անվանումը | B46: ՀՀ պաշտպանության նախարարություն
A47: Արդյունքի չափորոշիչներ
A48: չի սահմանվում
A49: Միջոցառման վրա կատարվող ծախսը (հազար դրամ) | C49: 43,404,210.90 | D49: ='3'!H54 -> 0 | E49: =+'3'!I46 -> -865313.52 | F49: =+'3'!J46 -> -865313.52
A51: Ծրագրի դասիչը` | B51: 1169 | C51: Ցուցանիշների փոփոխությունը (նվազեցումները նշված փակագծերում)
A52: Միջոցառման դասիչը` | B52: 31001 | C52: Առաջին եռամսյակ | D52: Առաջին կիսամյակ | E52: Ինն ամիս | F52: Տարի
A53: Միջոցառման անվանումը` | B53: ՀՀ պաշտպանության նախարարության շենքային պայմանների բարելավում
A54: Նկարագրությունը` | B54: Պաշտպանության կարիքների համար բնակելի, գրասենյակային և այլ նշանակության շենքերի և շինությունների կառուցում
A55: Միջոցառման տեսակը` | B55: Պետական մարմինների կողմից օգտագործվող ոչ ֆինանսական ակտիվների հետ գործառնություններ
A56: Միջոցառումն իրականացնողի անվանումը | B56: ՀՀ պաշտպանության նախարարություն
A57: Արդյունքի չափորոշիչներ
A58: չի սահմանվում
A59: Միջոցառման վրա կատարվող ծախսը (հազար դրամ) | C59: 43,404,210.90 | D59: =+'3'!H64 -> 0 | E59: =+'3'!I64 -> -1608295.1 | F59: =+'3'!J64 -> -1608295.1
A61: Ծրագրի դասիչը` | B61: 1169 | C61: Ցուցանիշների փոփոխությունը (ավելավումները նշված են դրական նշանով)
A62: Միջոցառման դասիչը` | B62: 31001 | C62: Առաջին եռամսյակ | D62: Առաջին կիսամյակ | E62: Ինն ամիս | F62: Տարի
A63: Միջոցառման անվանումը` | B63: ՀՀ պաշտպանության նախարարության շենքային պայմանների բարելավում
A64: Նկարագրությունը` | B64: Պաշտպանության կարիքների համար բնակելի, գրասենյակային և այլ նշանակության շենքերի և շինությունների կառուցում
A65: Միջոցառման տեսակը` | B65: Պետական մարմինների կողմից օգտագործվող ոչ ֆինանսական ակտիվների հետ գործառնություններ
A66: Միջոցառումն իրականացնողի անվանումը | B66: ՀՀ պաշտպանության նախարարություն
A67: Արդյունքի չափորոշիչներ
A68: չի սահմանվում
A69: Միջոցառման վրա կատարվող ծախսը (հազար դրամ) | C69: 43,404,210.90 | D69: =+'3'!H74 -> 0 | E69: =+'3'!I77 -> 2473608.6 | F69: =+'3'!J77 -> 2473608.6

Sheet 6
F1: Հավելված N 6
F2: ՀՀ կառավարության 2020 թվականի
F3: ________ N ____ որոշման
B6: ՀԱՅԱՍՏԱՆԻ ՀԱՆՐԱՊԵՏՈՒԹՅԱՆ ԿԱՌԱՎԱՐՈՒԹՅԱՆ 2019 ԹՎԱԿԱՆԻ ԴԵԿՏԵՄԲԵՐԻ 26-Ի N 1919-Ն ՈՐՈՇՄԱՆ N 10 ՀԱՎԵԼՎԱԾՈՒՄ ԿԱՏԱՐՎՈՂ ՓՈՓՈԽՈՒԹՅՈՒՆՆԵՐԸ
B8: Կոդը | C8: Անվանումը | D8: Գնման ձևը | E8: Չափման միավորը | F8: Ցուցանիշների փոփոխությունը (նվազեցումները նշված են փակագծերում)
F9: միավորի գինը (դրամով) | G9: քանակը | H9: գումարը (հազար դրամով)
C10: ՀՀ պաշտպանության նախարարություն | H10: =(H11) -> -1076330
B11: Բաժին N02 | C11: Խումբ N01 Դաս N01 | D11: Ռազմական պաշտպանություն | H11: =+H12+H186 -> -1076330
B12: 1169 11001 | C12: Ռազմական կարիքների բավարարում | H12: =SUM(H13:H185) -> -864193.52
A13: 423911 | B13: 92311110/1 | C13: թատերական խմբերի, երգչախմբերի, երաժշտական խմբերի, նվագախմբերի կողմից մատուցվող ժամանցային ծառայություններ | D13: գհ | E13: հատ | H13: -10.00032 | I13: 426123
A14: 425291 | B14: 45311146/1 | C14: այլ էլեկտրական մոնտաժային աշխատանքներ | D14: գհ | E14: դրամ | F14: -30000000 | G14: -1 | H14: -30000 | I14: 426123
A15: 426131 | B15: 03121200/504 | C15: ծաղիկներ | D15: գհ | E15: հատ | H15: -21.6 | I15: 426123
A16: 426131 | B16: 03121210/501 | C16: ծաղկային կոմպոզիցիաներ | D16: գհ | E16: հատ | H16: -20 | I16: 426123
A17: 426131 | B17: 03121210/502 | C17: ծաղկային կոմպոզիցիաներ | D17: գհ | E17: հատ | H17: -436 | I17: 426123
A18: 426123 | B18: 18811180/504 | C18: հողաթափեր | D18: գհ | E18: զույգ | H18: -2496 | I18: 426123
A19: 426123 | B19: 18341200/501 | C19: շապիկ և վարտիք | D19: ԲՄ | E19: լրակազմ | H19: -42448 | I19: 426123
A20: 426123 | B20: 18331300/510 | C20: պոլո շապիկներ | D20: գհ | E20: հատ | H20: -6804 | I20: 426911
A21: 426123 | B21: 18331300/511 | C21: պոլո շապիկներ | D21: ԲՄ | E21: հատ | H21: -2900 | I21: 423611
A22: 426123 | B22: 18311120/509 | C22: կիսավարտիքներ | D22: գհ | E22: հատ | H22: -10200 | I22: 426123
A23: 426123 | B23: 18311160/519 | C23: գուլպաներ | D23: ԲՄ | E23: զույգ | H23: -9800 | I23: 426123
A24: 426123 | B24: 18311160/520 | C24: գուլպաներ | D24: ԲՄ | E24: զույգ | H24: -46612.5 | I24: 426911
A25: 426123 | B25: 18421170/505 | C25: գոտիներ | D25: գհ | E25: հատ | H25: -16036 | I25: 426911
A26: 426123 | B26: 18421170/506 | C26: գոտիներ | D26: գհ | E26: հատ | H26: -9180 | I26: 426491
... A157: 426911 | B157: 31625300/4 | C157: գողության դեպքում ահազանգման սարքեր | D157: գհ | E157: հատ | H157: -150 | I157: 426413
A158: 426911 | B158: 32571500/4 | C158: հաղորդակցման մալուխներ հատուկ կիրառման համար | D158: գհ | E158: մետր | H158: -11700
A159: 426911 | B159: 32571500/5 | C159: հաղորդակցման մալուխներ հատուկ կիրառման համար | D159: գհ | E159: մետր | H159: -570
A160: 426911 | B160: 32571500/6 | C160: հաղորդակցման մալուխներ հատուկ կիրառման համար | D160: գհ | E160: մետր | H160: -1652.4
A161: 426911 | B161: 32421100/1 | C161: ցանցային մալուխներ | D161: գհ | E161: մետր | H161: -8700
A162: 426911 | B162: 32421100/2 | C162: ցանցային մալուխներ | D162: գհ | E162: մետր | H162: -882
A163: 426911 | B163: 31681700/1 | C163: բաժանարար տուփ | D163: գհ | E163: հատ | H163: -16
A164: 426911 | B164: 32551160/1 | C164: հեռախոսային սարքեր | D164: գհ | E164: հատ | H164: -1155
A165: 426911 | B165: 32551160/2 | C165: հեռախոսային սարքեր | D165: գհ | E165: հատ | H165: -1560
A166: 426911 | B166: 31221200/1 | C166: խրոցների եղանիկներ և վարդակներ | D166: գհ | E166: հատ | H166: -14.4
A167: 426911 | B167: 31431400/1 | C167: լիթիումային կուտակիչներ | D167: գհ | E167: հատ | H167: -3066
A168: 426911 | B168: 31431400/2 | C168: լիթիումային կուտակիչներ | D168: գհ | E168: հատ | H168: -2250
A169: 426911 | B169: 31431400/3 | C169: լիթիումային կուտակիչներ | D169: գհ | E169: հատ | H169: -155
... A185: 426911 | B185: 42951400/501 | C185: զտիչ սարքերի մասեր | D185: գհ | E185: հատ | H185: -1440
B186: 1169 31001 | C186: ՀՀ պաշտպանության նախարարության շենքային պայմանների բարելավում | H186: =SUM(H187:H260) -> -212136.48
A187: 512112 | B187: 43211100/501 | C187: բուլդոզերներ | D187: ՀԲՄ | E187: հատ | H187: -88200 | I187: 512981
A188: 512112 | B188: 43221100/501 | C188: ավտոուղեհարթիչներ (գրեյդերներ) և հարթեցնող սարքեր | D188: գհ | E188: հատ | H188: -560.001 | I188: 426412
A189: 512112 | B189: 31731100/501 | C189: էլեկտրատեխնիկական սարքեր | D189: գհ | E189: հատ | H189: -9200 | I189: 426412
A190: 512191 | B190: 50111220/508 | C190: բեռնատարների վերանորոգման ծառայություններ | D190: ԲՄ | E190: դրամ | H190: -5 | I190: 426413
A191: 512221 | B191: 31711330/523 | C191: վակուումային լամպեր | D191: գհ | E191: հատ | H191: -96
A192: 512221 | B192: 30211280/3 | C192: համակարգիչ ամբողջը մեկում | D192: գհ | E192: հատ | H192: -80
A193: 512221 | B193: 32551290/511 | C193: մոդեմներ | D193: գհ | E193: հատ | H193: -222 | I193: 426412
A194: 512221 | B194: 32551290/2 | C194: մոդեմներ | D194: գհ | E194: հատ | H194: -5376 | I194: 426412
A195: 512221 | B195: 30232110/4 | C195: լազերային տպիչներ | D195: գհ | E195: հատ | H195: -3810 | I195: 426413
A196: 512231 | B196: 31211260/511 | C196: բաշխիչ ցանցի փոխակերպիչ | D196: գհ | E196: հատ | H196: -0.5 | I196: 426413
A197: 512231 | B197: 32551120/1 | C197: հեռախոսային կայաններ | D197: գհ | E197: հատ | H197: -300 | I197: 426413
A198: 512231 | B198: 32551120/2 | C198: հեռախոսային կայաններ | D198: գհ | E198: հատ | H198: -498.96 | I198: 426413
A199: 512231 | B199: 32541400/519 | C199: ավտոմատային հեռախոսային կայանների սարքեր | D199: գհ | E199: հատ | H199: -12.4 | I199: 426413
A200: 512231 | B200: 31171400/510 | C200: սնուցման աղբյուրների փոխակերպիչներ | D200: գհ | E200: հատ | H200: -40 | I200: 426413
A201: 512231 | B201: 32351150/505 | C201: ալեհավաքներ և արտացոլիչներ | D201: գհ | E201: հատ | H201: -180 | I201: 426413
A202: 512231 | B202: 32351150/506 | C202: ալեհավաքներ և արտացոլիչներ | D202: գհ | E202: հատ | H202: -252 | I202: 426413
A203: 512231 | B203: 32351150/507 | C203: ալեհավաքներ և արտացոլիչներ | D203: գհ | E203: հատ | H203: -21 | I203: 426413
A204: 512231 | B204: 32351150/508 | C204: ալեհավաքներ և արտացոլիչներ | D204: գհ | E204: հատ | H204: -81 | I204: 426413
... A225: 512981 | B225: 30211290/501 | C225: համակարգչային պլանշետ | D225: գհ | E225: հատ | H225: -3000 | I225: 426413
A226: 512981 | B226: 44611200/507 | C226: գազի բալոններ | D226: գհ | E226: հատ | H226: -4820.128 | I226: 426413
A227: 512981 | B227: 37491200/501 | C227: կրովի ուսումնանյութական բազայի արկղեր | D227: գհ | E227: լրակազմ | H227: -1581.408 | I227: 426413
A228: 512981 | B228: 37491200/502 | C228: կրովի ուսումնանյութական բազայի արկղեր | D228: գհ | E228: լրակազմ | H228: -1813.56 | I228: 426413
A229: 512981 | B229: 37491200/503 | C229: կրովի ուսումնանյութական բազայի արկղեր | D229: գհ | E229: լրակազմ | H229: -11 | I229: 426413
A230: 512981 | B230: 42431000/501 | C230: ամբարձիչներ | D230: գհ | E230: հատ | H230: -0.2 | I230: 426413
A231: 512981 | B231: 31171400/509 | C231: սնուցման աղբյուրների փոխակերպիչներ | D231: գհ | E231: հատ | H231: -0.32 | I231: 426413
A232: 512981 | B232: 42661400/507 | C232: եռակցման էլեկտրական սարքեր | D232: գհ | E232: հատ | H232: -80 | I232: 426413
A233: 512981 | B233: 42651200/509 | C233: ձեռքի էլեկտրամեխանիկական գործիքներ | D233: գհ | E233: հատ | H233: -46.8 | I233: 426413
A234: 512981 | B234: 42651200/510 | C234: ձեռքի էլեկտրամեխանիկական գործիքներ | D234: գհ | E234: հատ | H234: -20.15 | I234: 426413
A235: 512981 | B235: 16711100/501 | C235: հետիոտն մեքենավարի կողմից կառավարվող գյուղատնտեսական տրակտորներ | D235: գհ | E235: հատ | H235: -1800 | I235: 426413
A236: 512981 | B236: 37431270/501 | C236: մարզագունդ (հանտել) | D236: գհ | E236: հատ | H236: -380 | I236: 426412
A237: 512981 | B237: 37421180/501 | C237: մարմնամարզական պարագաներ` մագլցման համար | D237: գհ | E237: հատ | H237: -27 | I237: 426412
A238: 512981 | B238: 37461160/501 | C238: սեղանի թենիսի սեղաններ | D238: գհ | E238: հատ | H238: -380 | I238: 426413
... A251: 512981 | B251: 38341130/520 | C251: էլեկտրական պարամետրերի չափման գործիքներ | D251: գհ | E251: հատ | H251: -0.008 | I251: 512981
A252: 512981 | B252: 31171400/511 | C252: սնուցման աղբյուրների փոխակերպիչներ | D252: գհ | E252: հատ | H252: -60
A253: 512981 | B253: 42121230/501 | C253: վառելիքի պոմպեր | D253: գհ | E253: հատ | H253: -888
A254: 512981 | B254: 42121590/505 | C254: վառելիքի պոմպերի մասեր | D254: գհ | E254: հատ | H254: -507
A255: 512981 | B255: 42121590/503 | C255: վառելիքի պոմպերի մասեր | D255: գհ | E255: հատ | H255: -5652
A256: 512981 | B256: 42121590/504 | C256: վառելիքի պոմպերի մասեր | D256: գհ | E256: հատ | H256: -1363.2
A257: 512981 | B257: 43221200/501 | C257: ավտոբեռնիչներ | D257: գհ | E257: հատ | H257: -2600
A258: 512981 | B258: 38591200/501 | C258: քիմիական լաբորատորիայում կիրառվող սարքեր | D258: գհ | E258: հատ | H258: -300
A259: 512981 | B259: 38591200/502 | C259: քիմիական լաբորատորիայում կիրառվող սարքեր | D259: գհ | E259: հատ | H259: -230
A260: 512981 | B260: 31211360/503 | C260: ճնշման ցուցիչներ | D260: գհ | E260: հատ | H260: -32

Sheet Sheet1
A1: 4239 | B1: 20939.6
A2: 4252 | B2: 4001.2
A3: 4261 | B3: 24221.5
A4: 4264 | B4: 658398.2
A5: 4267 | B5: 51113.2
A6: 4269 | B6: 58135.2
A7: 5121 | B7: 34800
A8: 5122 | B8: 30780.6
A9: 5129 | B9: 165718.2
A10: 5132 | B10: 33.2
