Workbook
Name AgencyCode: #REF!
Name AgencyCode: #REF!
Name AgencyName: #REF!
Name AgencyName: #REF!
Name Functional1: #REF!
Name Functional1: #REF!
Name havelvac: #REF!
Name PANature: #REF!
Name PANature: #REF!
Name PAType: #REF!
Name PAType: #REF!
Name Performance2: #REF!
Name Performance2: #REF!
Name PerformanceType: #REF!
Name PerformanceType: #REF!

Sheet 1
E1: Հավելված N1
E2: ՀՀ կառավարության 2020 թվականի
E3: ___________ ___-ի N _______ -Ն որոշման
A6: «ՀԱՅԱUՏԱՆԻ ՀԱՆՐԱՊԵՏՈՒԹՅԱՆ 2020 ԹՎԱԿԱՆԻ ՊԵՏԱԿԱՆ ԲՅՈՒՋԵԻ ՄԱUԻՆ» ՀԱՅԱUՏԱՆԻ ՀԱՆՐԱՊԵՏՈՒԹՅԱՆ OՐԵՆՔԻ N 1 ՀԱՎԵԼՎԱԾԻ N 2 ԱՂՅՈՒՍԱԿՈՒՄ ԿԱՏԱՐՎՈՂ ՎԵՐԱԲԱՇԽՈՒՄԸ ԵՎ ՀԱՅԱՍՏԱՆԻ ՀԱՆՐԱՊԵՏՈՒԹՅԱՆ ԿԱՌԱՎԱՐՈՒԹՅԱՆ 2019 ԹՎԱԿԱՆԻ ԴԵԿՏԵՄԲԵՐԻ 26-Ի N 1919-Ն ՈՐՈՇՄԱՆ N 5 ՀԱՎԵԼՎԱԾԻ N 1 ԱՂՅՈՒՍԱԿՈՒՄ ԿԱՏԱՐՎՈՂ ՓՈՓՈԽՈՒԹՅՈՒՆՆԵՐԸ ԵՎ ԼՐԱՑՈՒՄՆԵՐԸ
E8: հազար դրամներով
A9: Ծրագրային դասիչը | C9: Բյուջետային հատկացումների գլխավոր կարգադրիչների, ծրագրերի և միջոցառումների անվանումները | D9: Ցուցանիշների փոփոխությունները (Ավելացումները նշված են դրական նշանով,իսկ նվազեցումները՝ փակագծերում)
A10: Ծրագիր | B10: Միջոցառում | D10: Ինն ամիս | E10: Տարի
C11: ԸՆԴԱՄԵՆԸ | D11: =+D13+D26 -> 0 | E11: =+E13+E26 -> 0
B12: ՀՀ արտակարգ իրավիճակների նախարարություն | D12: =+D13+D26 -> 0 | E12: =+E13+E26 -> 0
A13: 1089 | C13: Ծրագրի անվանումը` | D13: =+D20 -> -7770 | E13: =+E20 -> -15540
C14: Սեյսմիկ պաշտպանություն
C15: Ծրագրի նպատակը`
C16: Սեյսմիկ ռիսկերի գնահատում և նվազեցում
C17: Վերջնական արդյունքի նկարագրությունը`
C18: Սեյսմիկ վտանգի և ռիսկերի պատշաճ գնահատում և սեյսմիկ խոցելիության և սեյսմիկ ռիսկերի նվազեցում
A19: Ծրագրի միջոցառումներ
B20: 11001 | C20: Միջոցառման անվանումը` | D20: =-D26 -> -7770 | E20: =-E26 -> -15540
C21: Սեյսմիկ պաշտպանության ոլորտում ծառայությունների տրամադրում
C22: Միջոցառման նկարագրությունը`
C23: Սեյսմիկ վտանգի մոնիտորինգի ապահովում, դրա հետ կապված այլ երկրորդային վտանգների գնահատում, ՀՀ տարածքում և տարածաշրջանում տեղի ունեցող երկրաշարժների գրանցում, մշակում և դրանց մասին հաղորդագրությունների տրամադրում
C24: Միջոցառման տեսակը
C25: Ծառայությունների մատուցում
A26: 1090 | C26: Ծրագրի անվանումը` | D26: =+D33 -> 7770 | E26: =+E33 -> 15540
C27: Փրկարարական ծառայություններ
C28: Ծրագրի նպատակը`
C29: Արտակարգ իրավիճակների արդյունավետ արձագանք
C30: Վերջնական արդյունքի նկարագրությունը`
C31: Արտակարգ իրավիճակների հնարավոր դեպքերի կանխում՝ դրանց ժամանակին արձագանքում՝ հետևանքների նվազեցում և բնակչության պաշտպանություն
A32: Ծրագրի միջոցառումներ
B33: 11003 | C33: Միջոցառման անվանումը` | D33: 7770 | E33: 15540
C34: Արտակարգ իրավիճակներում մարդասիրական աջակցության կազմակերպում
C35: Միջոցառման նկարագրությունը`
C36: ՀՀ, ՌԴ և երրորդ երկրների տարածքում արտակարգ իրավիճակների կանխարգելման աշխատանքների մասնակցություն և արտակարգ իրավիճակներից տուժած բնակչությանը մարդասիրական օգնության ցուցաբերում_x000D_
C37: Միջոցառման տեսակը
C38: Ծառայությունների մատուցում
A41: ՀԱՅԱՍՏԱՆԻ ՀԱՆՐԱՊԵՏՈՒԹՅԱՆ ՎԱՐՉԱՊԵՏԻ ԱՇԽԱՏԱԿԱԶՄԻ
A42: ՂԵԿԱՎԱՐ Է. ԱՂԱՋԱՆՅԱՆ

Sheet 2
H1: Հավելված N2
H2: ՀՀ կառավարության 2020 թվականի
H3: ___________ ___-ի N _______ -Ն որոշման
A5: ՀԱՅԱՍՏԱՆԻ ՀԱՆՐԱՊԵՏՈՒԹՅԱՆ ԿԱՌԱՎԱՐՈՒԹՅԱՆ 2019 ԹՎԱԿԱՆԻ ԴԵԿՏԵՄԲԵՐԻ 26-Ի N 1919-Ն ՈՐՈՇՄԱՆ N 3 ԵՎ N 4 ՀԱՎԵԼՎԱԾՆԵՐՈՒՄ ԿԱՏԱՐՎՈՂ ՓՈՓՈԽՈՒԹՅՈՒՆՆԵՐԸ ԵՎ ԼՐԱՑՈՒՄՆԵՐԸ
H6: հազար դրամներով
A7: Գործառական դասիչը | D7: Ծրագրային դասիչը | F7: Բյուջետային ծախսերի գործառական դասակարգման բաժինների, խմբերի և դասերի, բյուջետային հատկացումների գլխավոր կարգադրիչների, ծրագրերի, միջոցառումների և միջոցառումները կատարող պետական մարմինների անվանումները | G7: Ցուցանիշների փոփոխությունները (ավելացումները նշված են դրական նշանով,իսկ նվազեցումները՝ փակագծերում)
A8: Բաժին | B8: Խումբ | C8: Դաս | D8: Ծրագիր | E8: Միջոցառում | G8: Ինն ամիս | H8: Տարի
A9: 01 | F9: ԸՆԴՀԱՆՈՒՐ ԲՆՈՒՅԹԻ ՀԱՆՐԱՅԻՆ ԾԱՌԱՅՈՒԹՅՈՒՆՆԵՐ | G9: =+G11 -> -7770 | H9: =+H11 -> -15540
F10: այդ թվում`
B11: 06 | F11: Ընդհանուր բնույթի հանրային ծառայություններ (այլ դասերին չպատկանող) | G11: =+G13 -> -7770 | H11: =+H13 -> -15540
F12: այդ թվում`
C13: 01 | F13: Ընդհանուր բնույթի հանրային ծառայություններ (այլ դասերին չպատկանող) | G13: =+G15 -> -7770 | H13: =+H15 -> -15540
F14: այդ թվում`
D15: 1089 | F15: Սեյսմիկ պաշտպանություն | G15: =+G17 -> -7770 | H15: =+H17 -> -15540
F16: այդ թվում`
E17: 11001 | F17: Սեյսմիկ պաշտպանության ոլորտում ծառայությունների տրամադրում | G17: =+G19 -> -7770 | H17: =+H19 -> -15540
F18: այդ թվում` ըստ կատարողների
F19: ՀՀ արտակարգ իրավիճակների նախարարություն | G19: =+G21 -> -7770 | H19: =+H21 -> -15540
F20: այդ թվում` բյուջետային ծախսերի տնտեսագիտական դասակարգման հոդվածներ
F21: ԸՆԴԱՄԵՆԸ ԾԱԽՍԵՐ | G21: =+G22 -> -7770 | H21: =+H22 -> -15540
F22: ԸՆԹԱՑԻԿ ԾԱԽՍԵՐ | G22: =+G23 -> -7770 | H22: =+H23 -> -15540
F23: ԴՐԱՄԱՇՆՈՐՀՆԵՐ | G23: =+G24 -> -7770 | H23: =+H24 -> -15540
F24: Ընթացիկ դրամաշնորհներ պետական հատվածի այլ մակարդակներին | G24: =+G25 -> -7770 | H24: =+H25 -> -15540
F25: - Ընթացիկ դրամաշնորհներ պետական և համայնքային ոչ առևտրային կազմակերպություններին | G25: =+'1'!D13 -> -7770 | H25: =+'1'!E13 -> -15540
A26: 03 | F26: ՀԱՍԱՐԱԿԱԿԱՆ ԿԱՐԳ, ԱՆՎՏԱՆԳՈՒԹՅՈՒՆ ԵՎ ԴԱՏԱԿԱՆ ԳՈՐԾՈՒՆԵՈՒԹՅՈՒՆ | G26: =+G28 -> 7770 | H26: =+H28 -> 15540
F27: այդ թվում`
B28: 02 | F28: Փրկարար ծառայություն | G28: =+G30 -> 7770 | H28: =+H30 -> 15540
F29: այդ թվում`
C30: 01 | F30: Փրկարար ծառայություն | G30: =+G32 -> 7770 | H30: =+H32 -> 15540
F31: այդ թվում
D32: 1090 | F32: Փրկարարական ծառայություններ | G32: =+G34 -> 7770 | H32: =+H34 -> 15540
F33: այդ թվում`
E34: 11003 | F34: Արտակարգ իրավիճակներում մարդասիրական աջակցության կազմակերպում | G34: =+G36 -> 7770 | H34: =+H36 -> 15540
F35: այդ թվում` ըստ կատարողների
F36: ՀՀ արտակարգ իրավիճակների նախարարություն | G36: =+G38 -> 7770 | H36: =+H38 -> 15540
F37: այդ թվում` բյուջետային ծախսերի տնտեսագիտական դասակարգման հոդվածներ
F38: ԸՆԴԱՄԵՆԸ ԾԱԽՍԵՐ | G38: =+G39 -> 7770 | H38: =+H39 -> 15540
F39: ԸՆԹԱՑԻԿ ԾԱԽՍԵՐ | G39: =+G40 -> 7770 | H39: =+H40 -> 15540
F40: ԴՐԱՄԱՇՆՈՐՀՆԵՐ | G40: =+G41 -> 7770 | H40: =+H41 -> 15540
F41: Ընթացիկ դրամաշնորհներ պետական հատվածի այլ մակարդակներին | G41: =+G42 -> 7770 | H41: =+H42 -> 15540
...

Sheet 3
D1: Հավելված N3
D2: ՀՀ կառավարության 2020 թվականի
D3: ___________ ___-ի N _______ -Ն որոշման
A5: ՀԱՅԱՍՏԱՆԻ ՀԱՆՐԱՊԵՏՈՒԹՅԱՆ ԿԱՌԱՎԱՐՈՒԹՅԱՆ 2019 ԹՎԱԿԱՆԻ ԴԵԿՏԵՄԲԵՐԻ 26-Ի ԹԻՎ 1919-Ն ՈՐՈՇՄԱՆ N9 ՀԱՎԵԼՎԱԾԻ 9.19 ԱՂՅՈՒՍԱԿՈՒՄ ԿԱՏԱՐՎՈՂ ՓՈՓՈԽՈՒԹՅՈՒՆՆԵՐԸ ԵՎ ԼՐԱՑՈՒՄՆԵՐԸ
A7: ՀՀ արտակարգ իրավիճակների նախարարություն
A9: ՄԱՍ 2. ՊԵՏԱԿԱՆ ՄԱՐՄՆԻ ԳԾՈՎ ԱՐԴՅՈՒՆՔԱՅԻՆ (ԿԱՏԱՐՈՂԱԿԱՆ) ՑՈՒՑԱՆԻՇՆԵՐԸ
A10: Ծրագրի դասիչը | B10: Ծրագրի անվանումը
A11: 1089 | B11: Սեյսմիկ պաշտպանություն
A12: Ծրագրի միջոցառումները
A13: Ծրագրի դասիչը՝ | B13: 1089 | C13: Ցուցանիշների փոփոխությունը (նվազեցումները նշված են փակագծերում)
A14: Միջոցառման դասիչը՝ | B14: 11001 | C14: Ինն ամիս | D14: Տարի
A15: Միջոցառման անվանումը՝ | B15: Սեյսմիկ պաշտպանության ոլորտում ծառայությունների տրամադրում
A16: Նկարագրությունը՝ | B16: Սեյսմիկ վտանգի մոնիտորինգի ապահովում, դրա հետ կապված այլ երկրորդային վտանգների գնահատում, ՀՀ տարածքում և տարածաշրջանում տեղի ունեցող երկրաշարժների գրանցում, մշակում և դրանց մասին հաղորդագրությունների տրամադրում
A17: Միջոցառման տեսակը՝ | B17: Ծառայությունների մատուցում
A18: Միջոցառումն իրականացնողի անվանումը` | B18: Մասնագիտացված կազմակերպություն
A19: Արդյունքի չափորոշիչներ
A20: Øß³ÏíáÕ ÝáñÙ³ïÇí Çñ³í³Ï³Ý ³Ïï»ñÇ Ý³Ë³·Í»ñÇ ù³Ý³Ï, Ñ³ï
A21: Ð³Ù³Ï³ñ·íáÕ, Çñ³Ï³Ý³óíáÕ ¨ í»ñ³ÑëÏÙ³Ý »ÝÃ³ñÏíáÕ ÙÇçáó³éáõÙÝ»ñÇ ù³Ý³Ï, Ñ³ï
A22: Միջոցառման վրա կատարվող ծախսը (հազար դրամ) | C22: =+'2'!G15 -> -7770 | D22: =+'2'!H15 -> -15540
A23: Ծրագրի դասիչը | B23: Ծրագրի անվանումը
A24: 1090 | B24: Փրկարարական ծառայություններ
A25: Ծրագրի միջոցառումները
A26: Ծրագրի դասիչը՝ | B26: 1090 | C26: Ցուցանիշների փոփոխությունները` (ավելացումները նշված են դրական նշանով)
A27: Միջոցառման դասիչը՝ | B27: 11003 | C27: Ինն ամիս | D27: Տարի
A28: Միջոցառման անվանումը՝ | B28: Արտակարգ իրավիճակներում մարդասիրական աջակցության կազմակերպում
A29: Նկարագրությունը՝ | B29: ՀՀ, ՌԴ և երրորդ երկրների տարածքում արտակարգ իրավիճակների կանխարգելման աշխատանքների մասնակցություն և արտակարգ իրավիճակներից տուժած բնակչությանը մարդասիրական օգնության ցուցաբերում_x000D_
A30: Միջոցառման տեսակը՝ | B30: Ծառայությունների մատուցում
A31: Միջոցառումն իրականացնողի անվանումը` | B31: Մասնագիտացված կազմակերպություն
A32: Արդյունքի չափորոշիչներ
A33: Øß³ÏíáÕ ÝáñÙ³ïÇí Çñ³í³Ï³Ý ³Ïï»ñÇ Ý³Ë³·Í»ñÇ ù³Ý³Ï, Ñ³ï
A34: Ð³Ù³Ï³ñ·íáÕ, Çñ³Ï³Ý³óíáÕ ¨ í»ñ³ÑëÏÙ³Ý »ÝÃ³ñÏíáÕ ÙÇçáó³éáõÙÝ»ñÇ ù³Ý³Ï, Ñ³ï
A35: Միջոցառման վրա կատարվող ծախսը (հազար դրամ) | C35: =+'2'!G34 -> 7770 | D35: =+'2'!H34 -> 15540
A38: ՀԱՅԱՍՏԱՆԻ ՀԱՆՐԱՊԵՏՈՒԹՅԱՆ ՎԱՐՉԱՊԵՏԻ ԱՇԽԱՏԱԿԱԶՄԻ
A39: ՂԵԿԱՎԱՐ Է. ԱՂԱՋԱՆՅԱՆ

Sheet 4
B1: Հավելված N 4 ՀՀ կառավարության 2020 թվականի __________-ի ____-ի N _____-Ն որոշման
A2: ՀԱՅԱՍՏԱՆԻ ՀԱՆՐԱՊԵՏՈՒԹՅԱՆ ԿԱՌԱՎԱՐՈՒԹՅԱՆ 2019ԹՎԱԿԱՆԻ ԴԵԿՏԵՄԲԵՐԻ 26-Ի ԹԻՎ 1919-Ն ՈՐՈՇՄԱՆ N9.1 ՀԱՎԵԼՎԱԾԻ 9.1.19 ԱՂՅՈՒՍԱԿՈՒՄ ԿԱՏԱՐՎՈՂ ՓՈՓՈԽՈՒԹՅՈՒՆՆԵՐԸ ԵՎ ԼՐԱՑՈՒՄՆԵՐԸ
A4: ՀՀ արտակարգ իրավիճակների նախարարություն
A6: ՄԱՍ 1 ՊԵՏԱԿԱՆ ՄԱՐՄՆԻ ԳԾՈՎ ԱՐԴՅՈՒՆՔԱՅԻՆ (ԿԱՏԱՐՈՂԱԿԱՆ) ՑՈՒՑԱՆԻՇՆԵՐԸ
A8: Ծրագրի դասիչը | B8: Ծրագրի անվանումը
A9: 1089 | B9: Սեյսմիկ պաշտպանություն
A10: Ծրագրի միջոցառումները
A11: Ծրագրի դասիչը՝ | B11: 1089 | C11: Ցուցանիշների փոփոխությունը (նվազեցումները նշված են փակագծերում)
A12: Միջոցառման դասիչը՝ | B12: 11001 | C12: Ինն ամիս | D12: Տարի
A13: Միջոցառման անվանումը՝ | B13: Սեյսմիկ պաշտպանության ոլորտում ծառայությունների տրամադրում
A14: Նկարագրությունը՝ | B14: Սեյսմիկ վտանգի մոնիտորինգի ապահովում, դրա հետ կապված այլ երկրորդային վտանգների գնահատում, ՀՀ տարածքում և տարածաշրջանում տեղի ունեցող երկրաշարժների գրանցում, մշակում և դրանց մասին հաղորդագրությունների տրամադրում
A15: Միջոցառման տեսակը՝ | B15: Ծառայությունների մատուցում
A16: Միջոցառումն իրականացնողի անվանումը` | B16: Մասնագիտացված կազմակերպություն
A17: Արդյունքի չափորոշիչներ
A18: Øß³ÏíáÕ ÝáñÙ³ïÇí Çñ³í³Ï³Ý ³Ïï»ñÇ Ý³Ë³·Í»ñÇ ù³Ý³Ï, Ñ³ï
A19: Ð³Ù³Ï³ñ·íáÕ, Çñ³Ï³Ý³óíáÕ ¨ í»ñ³ÑëÏÙ³Ý »ÝÃ³ñÏíáÕ ÙÇçáó³éáõÙÝ»ñÇ ù³Ý³Ï, Ñ³ï
A20: Միջոցառման վրա կատարվող ծախսը (հազար դրամ) | C20: =+'2'!G11 -> -7770 | D20: =+'2'!H11 -> -15540
A21: Ծրագրի դասիչը | B21: Ծրագրի անվանումը
A22: 1090 | B22: Փրկարարական ծառայություններ
A23: Ծրագրի միջոցառումները
A24: Ծրագրի դասիչը՝ | B24: 1090 | C24: Ցուցանիշների փոփոխությունը (ավելացումները նշված են դրական նշանով)
A25: Միջոցառման դասիչը՝ | B25: 11003 | C25: Ինն ամիս | D25: Տարի
A26: Միջոցառման անվանումը՝ | B26: Արտակարգ իրավիճակներում մարդասիրական աջակցության կազմակերպում
A27: Նկարագրությունը՝ | B27: ՀՀ, ՌԴ և երրորդ երկրների տարածքում արտակարգ իրավիճակների կանխարգելման աշխատանքների մասնակցություն և արտակարգ իրավիճակներից տուժած բնակչությանը մարդասիրական օգնության ցուցաբերում_x000D_
A28: Միջոցառման տեսակը՝ | B28: Ծառայությունների մատուցում
A29: Միջոցառումն իրականացնողի անվանումը` | B29: Մասնագիտացված կազմակերպություն
A30: Արդյունքի չափորոշիչներ
A31: Øß³ÏíáÕ ÝáñÙ³ïÇí Çñ³í³Ï³Ý ³Ïï»ñÇ Ý³Ë³·Í»ñÇ ù³Ý³Ï, Ñ³ï
A32: Ð³Ù³Ï³ñ·íáÕ, Çñ³Ï³Ý³óíáÕ ¨ í»ñ³ÑëÏÙ³Ý »ÝÃ³ñÏíáÕ ÙÇçáó³éáõÙÝ»ñÇ ù³Ý³Ï, Ñ³ï
A33: Միջոցառման վրա կատարվող ծախսը (հազար դրամ) | C33: =+'2'!G30 -> 7770 | D33: =+'2'!H30 -> 15540
A36: ՀԱՅԱՍՏԱՆԻ ՀԱՆՐԱՊԵՏՈՒԹՅԱՆ ՎԱՐՉԱՊԵՏԻ ԱՇԽԱՏԱԿԱԶՄԻ
A37: ՂԵԿԱՎԱՐ Է. ԱՂԱՋԱՆՅԱՆ

Sheet 5
G1: Հավելված N5
G2: ՀՀ կառավարության 2020 թվականի
G3: ______________ ի ___Ն որոշման
A5: ՀԱՅԱՍՏԱՆԻ ՀԱՆՐԱՊԵՏՈՒԹՅԱՆ ԿԱՌԱՎԱՐՈՒԹՅԱՆ 2019 ԹՎԱԿԱՆԻ ԴԵԿՏԵՄԲԵՐԻ 26-Ի N 1919-Ն ՈՐՈՇՄԱՆ N 5 ՀԱՎԵԼՎԱԾԻ N 7 ԱՂՅՈՒՍԱԿՈՒՄ ԿԱՏԱՐՎՈՂ ՓՈՓՈԽՈՒԹՅՈՒՆՆԵՐԸ ԵՎ ԼՐԱՑՈՒՄԸ
F7: հազար դրամներով
A8: Ծրագրային դասիչ | C8: Բյուջետային հատկացումների գլխավոր կարգադրիչների, ծրագրերի, միջոցառումների, ծախսային ուղղությունների անվանումները | F8: Միջոցառումները կատարող պետական մարմինների և դրամաշնորհ ստացող տնտեսվարող սուբյեկտների անվանումները | G8: Տարի
A9: Ծրագիր | B9: Միջոցառում
A10: 1 | B10: 2 | C10: 3 | F10: 4 | G10: 5
A11: 1089 | B11: Սեյսմիկ պաշտպանություն | G11: =+G12 -> -15540
B12: 11001 | C12: Սեյսմիկ պաշտպանության ոլորտում ծառայությունների տրամադրում | F12: ՀՀ արտակարգ իրավիճակների նախարարություն | G12: =+G13 -> -15540
F13: «Սեյսմիկ պաշտպանության արևելյան ծառայություն» ՊՈԱԿ | G13: =+'2'!H15 -> -15540
A14: 1090 | B14: Փրկարարական ծառայություններ | G14: =+G15 -> 15540
B15: 11003 | C15: Արտակարգ իրավիճակներում մարդասիրական աջակցության կազմակերպում | F15: ՀՀ արտակարգ իրավիճակների նախարարություն | G15: =G16 -> 15540
F16: «Ռուս-հայկական մարդասիրական արձագանքման կենտրոն» ՄՈԱԿ | G16: =+'2'!H28 -> 15540
