Workbook
Name AgencyCode: #REF!
Name AgencyCode: #REF!
Name AgencyCode: #REF!
Name AgencyCode: #REF!
Name AgencyName: #REF!
Name AgencyName: #REF!
Name AgencyName: #REF!
Name AgencyName: #REF!
Name Functional1: #REF!
Name Functional1: #REF!
Name Functional1: #REF!
Name Functional1: #REF!
Name PANature: #REF!
Name PANature: #REF!
Name PANature: #REF!
Name PANature: #REF!
Name PAType: #REF!
Name PAType: #REF!
Name PAType: #REF!
Name PAType: #REF!
Name Performance2: #REF!
Name Performance2: #REF!
Name Performance2: #REF!
Name Performance2: #REF!
Name PerformanceType: #REF!
Name PerformanceType: #REF!
Name PerformanceType: #REF!
Name PerformanceType: #REF!

Sheet 1
F1: Հավելված N1
F2: ՀՀ կառավարության 2020 թվականի
F3: ______________ ի ___Ն որոշման
B5: «ՀԱՅԱՍՏԱՆԻ ՀԱՆՐԱՊԵՏՈՒԹՅԱՆ 2020 ԹՎԱԿԱՆԻ ՊԵՏԱԿԱՆ ԲՅՈՒՋԵԻ ՄԱՍԻՆ» ՀԱՅԱՍՏԱՆԻ ՀԱՆՐԱՊԵՏՈՒԹՅԱՆ ՕՐԵՆՔԻ N 1 ՀԱՎԵԼՎԱԾԻ N 2 ԱՂՅՈՒՍԱԿՈՒՄ ԿԱՏԱՐՎՈՂ ՎԵՐԱԲԱՇԽՈՒՄԸ ԵՎ ՀԱՅԱՍՏԱՆԻ ՀԱՆՐԱՊԵՏՈՒԹՅԱՆ ԿԱՌԱՎԱՐՈՒԹՅԱՆ 2019 ԹՎԱԿԱՆԻ ԴԵԿՏԵՄԲԵՐԻ 26-Ի N 1919-Ն ՈՐՈՇՄԱՆ N 5 ՀԱՎԵԼՎԱԾԻ N 1 ԱՂՅՈՒՍԱԿՈՒՄ ԿԱՏԱՐՎՈՂ ՓՈՓՈԽՈՒԹՅՈՒՆՆԵՐԸ
E7: հազար դրամներով
B8: Ծրագրային դասիչը | D8: Բյուջետային ծախսերի գործառական դասակարգման բաժինների, խմբերի և դասերի, բյուջետային հատկացումների գլխավոր կարգադրիչների, ծրագրերի, միջոցառումների և միջոցառումները կատարող պետական մարմինների անվանումները | E8: Ցուցանիշների փոփոխությունը (ավելացումները նշված են դրական նշանով, իսկ նվազեցումները` փակագծերում)
B9: Ծրագիր | C9: Միջոցա ռում | E9: Ինն ամիս | F9: Տարի
D10: ԸՆԴԱՄԵՆԸ ԾԱԽՍԵՐ | E10: =+E12 -> 0 | F10: =+F12 -> 0
D11: այդ թվում`
D12: ՀՀ տարածքային կառավարման և ենթակառուցվածքների նախարարություն | E12: =+E13+E32+E51 -> 0 | F12: =+F13+F32+F51 -> 0
B13: 1004 | D13: Ծրագրի անվանումը` | E13: =+E26+E20 -> -645000.2 | F13: =+F26+F20 -> -1562552.2
D14: Ոռոգման համակարգի առողջացում
D15: Ծրագրի նպատակը`
D16: Ոռոգման ծառայությունների հասանելիության և մատչելիության ապահովում
D17: Վերջնական արդյունքի նկարագրությունը`
D18: Ոռոգման ջրի մատակարարման արդյունավետության և հասանելիության բարելավում, կորուստների կրճատում
B19: Ծրագրի միջոցառումներ
C20: 31004 | D20: Միջոցառման անվանումը` | E20: =+'2'!F22 -> -645000.2 | F20: ='2'!I17 -> -1290000.3
D21: Գերմանիայի զարգացման վարկերի բանկի աջակցությամբ իրականացվող Ախուրյան գետի ջրային ռեսուրսների ինտեգրված կառավարման ծրագրի շրջանակներում ջրային տնտեսության ենթակառուցվածքների հիմնանորոգում
D22: Միջոցառման նկարագրությունը`
D23: Գերմանիայի զարգացման վարկերի բանկի աջակցությամբ իրականացվող Ախուրյան գետի ջրային ռեսուրսների ինտեգրված կառավարման ծրագիր_x000D_
D24: Միջոցառման տեսակը
D25: Պետական մարմինների կողմից օգտագործվող ոչ ֆինանսական ակտիվների հետ գործառնություններ
C26: 31006 | D26: Միջոցառման անվանումը` | E26: =+'4'!G29 -> 0 | F26: =+'4'!H29 -> -272551.9
D27: Գերմանիայի զարգացման վարկերի բանկի աջակցությամբ իրականացվող Ախուրյան գետի ջրային ռեսուրսների ինտեգրացված կառավարման ծրագրի երկրորդ փուլի շրջանակներում ջրային տնտեսության ենթակառուցվածքների հիմնանորոգում
D28: Միջոցառման նկարագրությունը`
D29: Գերմանիայի զարգացման վարկերի բանկի աջակցությամբ իրականացվող Ախուրյան գետի ջրային ռեսուրսների ինտեգրացված կառավարման ծրագրի երկրորդ փուլ_x000D_
D30: Միջոցառման տեսակը
D31: Պետական մարմինների կողմից օգտագործվող ոչ ֆինանսական ակտիվների հետ գործառնություններ
B32: 1049 | D32: Ծրագրի անվանումը` | E32: =+E39+E45 -> 645000.2 | F32: =+F39+F45 -> 1888914.1
D33: Ճանապարհային ցանցի բարելավում
D34: Ծրագրի նպատակը`
D35: Ճանապարհային ցանցի բարելավում և անվտանգ երթևեկության ապահովում
D36: Վերջնական արդյունքի նկարագրությունը`
D37: Ճանապարհների ծածկի որակի և փոխադրումների արդյունավետության բարելավում, ճանապարհների վիճակով պայմանավորված պատահարների նվազում
B38: Ծրագրի միջոցառումներ
C39: 21001 | D39: Միջոցառման անվանումը` | E39: =+'4'!G57 -> 923536.3 | F39: =+'4'!H57 -> 2167450.2
D40: Պետական նշանակության ավտոճանապարհների հիմնանորոգում
D41: Միջոցառման նկարագրությունը`
D42: Միջպետական, հանրապետական և մարզային նշանակության ավտոճոնապարհների քայքայված ծածկի վերանորոգում, մաշված ծածկի փոխարինում
...

Sheet 2
I1: Հավելված N2
I2: ՀՀ կառավարության 2020 թվականի
I3: ______________ ի ___Ն որոշման
C5: «ՀԱՅԱՍՏԱՆԻ ՀԱՆՐԱՊԵՏՈՒԹՅԱՆ 2020 ԹՎԱԿԱՆԻ ՊԵՏԱԿԱՆ ԲՅՈՒՋԵԻ ՄԱՍԻՆ» ՀԱՅԱՍՏԱՆԻ ՀԱՆՐԱՊԵՏՈՒԹՅԱՆ ՕՐԵՆՔԻ N 1 ՀԱՎԵԼՎԱԾԻ N 4 ԱՂՅՈՒՍԱԿՈՒՄ ԿԱՏԱՐՎՈՂ ՎԵՐԱԲԱՇԽՈՒՄԸ ԵՎ ՀԱՅԱՍՏԱՆԻ ՀԱՆՐԱՊԵՏՈՒԹՅԱՆ ԿԱՌԱՎԱՐՈՒԹՅԱՆ 2019 ԹՎԱԿԱՆԻ ԴԵԿՏԵՄԲԵՐԻ 26-Ի N 1919-Ն ՈՐՈՇՄԱՆ N 5 ՀԱՎԵԼՎԱԾԻ N 3 ԱՂՅՈՒՍԱԿՈՒՄ ԿԱՏԱՐՎՈՂ ՓՈՓՈԽՈՒԹՅՈՒՆՆԵՐԸ
I7: հազար դրամներով
A8: Ծրագրային դասիչը | C8: Բյուջետային հատկացումների գլխավոր կարգադրիչների, ծրագրերի, միջոցառումների և միջոցառումները կատարող պետական մարմինների անվանումները | D8: Ինն ամիս | G8: Տարի
A9: Ծրագիր | B9: Միջո ց_x000D_առում | D9: Ընդամենը | E9: այդ թվում | G9: Ընդամենը | H9: այդ թվում
E10: Վարկային միջոցներ | F10: Համաֆինան սավորում | H10: Վարկային միջոցներ | I10: Համաֆինան սավորում
C11: ԸՆԴԱՄԵՆԸ_x000D_ այդ թվում` | D11: =E11+F11 -> -923536.3 | E11: =E12+E13 -> 0 | F11: =F12+F13 -> -923536.3 | G11: =H11+I11 -> -1841088.3 | H11: =H12+H13 -> 0 | I11: =I12+I13 -> -1841088.3
C12: - ԸՆԹԱՑԻԿ ԾԱԽՍԵՐ | D12: 0 | E12: 0 | F12: 0 | G12: 0 | H12: 0 | I12: 0
C13: - ՈՉ ՖԻՆԱՆՍԱԿԱՆ ԱԿՏԻՎՆԵՐԻ ԳԾՈՎ ԾԱԽՍԵՐ | D13: =+D14 -> -923536.3 | E13: =+E14 -> 0 | F13: =+F14 -> -923536.3 | G13: =+G14 -> -1841088.3 | H13: =+H14 -> 0 | I13: =+I14 -> -1841088.3
C14: ՀՀ ՏԱՐԱԾՔԱՅԻՆ ԿԱՌԱՎԱՐՄԱՆ ԵՎ ԵՆԹԱԿԱՌՈՒՑՎԱԾՔՆԵՐԻ ՆԱԽԱՐԱՐՈՒԹՅՈՒՆ_x000D_ այդ թվում` | D14: =D15+D30 -> -923536.3 | E14: =E15+E30 -> 0 | F14: =F15+F30 -> -923536.3 | G14: =G15+G30 -> -1841088.3 | H14: =H15+H30 -> 0 | I14: =I15+I30 -> -1841088.3
A15: 1004 | C15: Ոռոգման համակարգի առողջացում | D15: =+D17+D23 -> -645000.2 | E15: =+E17+E23 -> 0 | F15: =+F17+F23 -> -645000.2 | G15: =+G17+G23 -> -1562552.2 | H15: =+H17+H23 -> 0 | I15: =+I17+I23 -> -1562552.2
C16: այդ թվում`
B17: 31004 | C17: Գերմանիայի զարգացման վարկերի բանկի աջակցությամբ իրականացվող Ախուրյան գետի ջրային ռեսուրսների ինտեգրված կառավարման ծրագրի շրջանակներում ջրային տնտեսության_x000D_ ենթակառուցվածքների հիմնանորոգում | D17: =E17+F17 -> -645000.2 | E17: =E21 -> 0 | F17: =F21 -> -645000.2 | G17: =H17+I17 -> -1290000.3 | H17: =H21 -> 0 | I17: =I21 -> -1290000.3
C18: այդ թվում` ըստ կատարողների
C19: ՀՀ տարածքային կառավարման և ենթակառուցվածքների նախարարության ջրային կոմիտե | D19: =E19+F19 -> -645000.2 | E19: =E17 -> 0 | F19: =F17 -> -645000.2 | G19: =H19+I19 -> -1290000.3 | H19: =H17 -> 0 | I19: =I17 -> -1290000.3
C20: այդ թվում` բյուջետային ծախսերի տնտեսագիտական դասակարգման հոդվածներ
C21: ՈՉ ՖԻՆԱՆՍԱԿԱՆ ԱԿՏԻՎՆԵՐԻ ԳԾՈՎ ԾԱԽՍԵՐ | D21: =E21+F21 -> -645000.2 | E21: =E22 -> 0 | F21: =F22 -> -645000.2 | G21: =H21+I21 -> -1290000.3 | H21: =H22 -> 0 | I21: =I22 -> -1290000.3
C22: - Շենքերի և շինությունների շինարարություն | D22: =E22+F22 -> -645000.2 | F22: -645000.2 | G22: =H22+I22 -> -1290000.3 | I22: -1290000.3
B23: 31006 | C23: Գերմանիայի զարգացման վարկերի բանկի աջակցությամբ իրականացվող Ախուրյան գետի ջրային ռեսուրսների ինտեգրացված կառավարման ծրագրի երկրորդ փուլի շրջանակներում ջրային տնտեսության ենթակառուցվածքնների հիմնանորոգում | D23: =E23+F23 -> 0 | E23: =E27 -> 0 | F23: =F27 -> 0 | G23: =H23+I23 -> -272551.9 | H23: =H27 -> 0 | I23: =I27 -> -272551.9
C24: այդ թվում` ըստ կատարողների
C25: ՀՀ տարածքային կառավարման և ենթակառուցվածքների նախարարության ջրային կոմիտե | D25: =E25+F25 -> 0 | E25: =E23 -> 0 | F25: =F23 -> 0 | G25: =H25+I25 -> -272551.9 | H25: =H23 -> 0 | I25: =I23 -> -272551.9
C26: այդ թվում` բյուջետային ծախսերի տնտեսագիտական դասակարգման հոդվածներ
C27: ՈՉ ՖԻՆԱՆՍԱԿԱՆ ԱԿՏԻՎՆԵՐԻ ԳԾՈՎ ԾԱԽՍԵՐ | D27: =E27+F27 -> 0 | E27: =E28 -> 0 | F27: =F28 -> 0 | G27: =H27+I27 -> -272551.9 | H27: =H28 -> 0 | I27: =I28 -> -272551.9
C28: - Շենքերի և շինությունների շինարարություն | D28: =E28+F28 -> 0 | E28: 0 | F28: 0 | G28: =H28+I28 -> -272551.9 | I28: -272551.9
A30: 1049 | C30: Ճանապարհային ցանցի բարելավում | D30: =+D32+D38 -> -278536.1 | E30: =+E32+E38 -> 0 | F30: =+F32+F38 -> -278536.1 | G30: =+G32+G38 -> -278536.1 | H30: =+H32+H38 -> 0 | I30: =+I32+I38 -> -278536.1
C31: այդ թվում`
B32: 21004 | C32: Ասիական զարգացման բանկի աջակցությամբ իրականացվող Մ6 Վանաձոր-Ալավերդի-Վրաստանի սահման միջպետական նշանակության ճանապարհի ծրագրի կառուցում և հիմնանորոգում | D32: =E32+F32 -> -278536.1 | E32: =E36 -> 0 | F32: =F36 -> -278536.1 | G32: =H32+I32 -> -278536.1 | H32: =H36 -> 0 | I32: =I36 -> -278536.1
C33: այդ թվում` ըստ կատարողների
C34: ՀՀ տարածքային կառավարման և ենթակառուցվածքների նախարարություն | D34: =E34+F34 -> -278536.1 | E34: =E32 -> 0 | F34: =F32 -> -278536.1 | G34: =H34+I34 -> -278536.1 | H34: =H32 -> 0 | I34: =I32 -> -278536.1
C35: այդ թվում` բյուջետային ծախսերի տնտեսագիտական դասակարգման հոդվածներ
C36: ՈՉ ՖԻՆԱՆՍԱԿԱՆ ԱԿՏԻՎՆԵՐԻ ԳԾՈՎ ԾԱԽՍԵՐ | D36: =E36+F36 -> -278536.1 | E36: =E37 -> 0 | F36: =F37 -> -278536.1 | G36: =H36+I36 -> -278536.1 | H36: =H37 -> 0 | I36: =I37 -> -278536.1
C37: - Շենքերի և շինությունների կապիտալ վերանորոգում | D37: =E37+F37 -> -278536.1 | F37: -278536.1 | G37: =H37+I37 -> -278536.1 | I37: -278536.1
B38: 21011 | C38: Ասիական զարգացման բանկի աջակցությամբ իրականացվող Հյուսիս-հարավ միջանցքի զարգացման վարկային ծրագիր, Տրանշ 3 | D38: =+E38+F38 -> 0 | E38: =+E42 -> 0 | F38: =+F42 -> 0 | G38: =+H38+I38 -> 0 | H38: =+H42 -> 0 | I38: =+I42 -> 0
C39: այդ թվում` ըստ կատարողների
C40: ՀՀ տարածքային կառավարման և ենթակառուցվածքների նախարարություն | D40: =+E40+F40 -> 0 | E40: =+E38 -> 0 | F40: =+F38 -> 0 | G40: =+H40+I40 -> 0 | H40: =+H38 -> 0 | I40: =+I38 -> 0
C41: այդ թվում` բյուջետային ծախսերի տնտեսագիտական դասակարգման հոդվածներ
C42: ՈՉ ՖԻՆԱՆՍԱԿԱՆ ԱԿՏԻՎՆԵՐԻ ԳԾՈՎ ԾԱԽՍԵՐ | D42: =+E42+F42 -> 0 | E42: =+E43+E44+E45 -> 0 | F42: =+F43+F44+F45 -> 0 | G42: =+H42+I42 -> 0 | H42: =+H43+H44+H45 -> 0 | I42: =+I43+I44+I45 -> 0
C43: - Շենքերի և շինությունների շինարարություն | D43: =+E43+F43 -> 0 | G43: =+H43+I43 -> 0
...

Sheet 3
J1: Հավելված N3
J2: ՀՀ կառավարության 2020 թվականի
J3: ______________ ի ___Ն որոշման
C5: «ՀԱՅԱՍՏԱՆԻ ՀԱՆՐԱՊԵՏՈՒԹՅԱՆ 2020 ԹՎԱԿԱՆԻ ՊԵՏԱԿԱՆ ԲՅՈՒՋԵԻ ՄԱՍԻՆ» ՀԱՅԱՍՏԱՆԻ ՀԱՆՐԱՊԵՏՈՒԹՅԱՆ ՕՐԵՆՔԻ N 1 ՀԱՎԵԼՎԱԾԻ N 5 ԱՂՅՈՒՍԱԿՈՒՄ ԿԱՏԱՐՎՈՂ ՎԵՐԱԲԱՇԽՈՒՄԸ ԵՎ ՀԱՅԱՍՏԱՆԻ ՀԱՆՐԱՊԵՏՈՒԹՅԱՆ ԿԱՌԱՎԱՐՈՒԹՅԱՆ 2019 ԹՎԱԿԱՆԻ ԴԵԿՏԵՄԲԵՐԻ 26-Ի N 1919-Ն ՈՐՈՇՄԱՆ N 5 ՀԱՎԵԼՎԱԾԻ N 4 ԱՂՅՈՒՍԱԿՈՒՄ ԿԱՏԱՐՎՈՂ ՓՈՓՈԽՈՒԹՅՈՒՆՆԵՐԸ
I7: հազար դրամներով
B8: Ծրագրային դասիչը | D8: Բյուջետային հատկացումների գլխավոր կարգադրիչների, ծրագրերի, միջոցառումների և միջոցառումները կատարող պետական մարմինների անվանումները | E8: Ինն ամիս | H8: Տարի
B9: Ծրագիր | C9: Միջոց_x000D_ առում | E9: Ընդամենը | F9: այդ թվում | H9: Ընդամենը | I9: այդ թվում
F10: Դրամաշնոր_x000D_ հային միջոցներ | G10: Համաֆինանս ավորում | I10: Դրամաշնոր_x000D_ հային միջոցներ | J10: Համաֆինանս ավորում
D11: ԸՆԴԱՄԵՆԸ_x000D_ այդ թվում` | E11: =+E12+E13 -> 0 | F11: =+F12+F13 -> 0 | G11: =+G12+G13 -> 0 | H11: =+H12+H13 -> -326361.9 | I11: =+I12+I13 -> 0 | J11: =+J12+J13 -> -326361.9
D12: - ԸՆԹԱՑԻԿ ԾԱԽՍԵՐ | E12: 0 | F12: 0 | G12: 0 | H12: 0 | I12: 0 | J12: 0
D13: - ՈՉ ՖԻՆԱՆՍԱԿԱՆ ԱԿՏԻՎՆԵՐԻ ԳԾՈՎ ԾԱԽՍԵՐ | E13: =+E17 -> 0 | F13: =+F17 -> 0 | G13: =+G17 -> 0 | H13: =+H17 -> -326361.9 | I13: =+I17 -> 0 | J13: =+J17 -> -326361.9
D14: ՀՀ ՏԱՐԱԾՔԱՅԻՆ ԿԱՌԱՎԱՐՄԱՆ ԵՎ ԵՆԹԱԿԱՌՈՒՑՎԱԾՔՆԵՐԻ ՆԱԽԱՐԱՐՈՒԹՅՈՒՆ_x000D_ այդ թվում` | E14: =+E15 -> 0 | F14: =+F15 -> 0 | G14: =+G15 -> 0 | H14: =+H15 -> -326361.9 | I14: =+I15 -> 0 | J14: =+J15 -> -326361.9
B15: 1072 | D15: Ջրամատակարարաման և ջրահեռացման բարելավում | E15: =+E17 -> 0 | F15: =+F17 -> 0 | G15: =+G17 -> 0 | H15: =+H17 -> -326361.9 | I15: =+I17 -> 0 | J15: =+J17 -> -326361.9
D16: այդ թվում`
C17: 12001 | D17: Գերմանիայի զարգացման և Եվրոպական միության հարևանության ներդրումային բանկի_x000D_ աջակցությամբ իրականացվող ջրամատակարարման և ջրահեռացման ենթակառուցվածքների_x000D_ դրամաշնորհային ծրագիր` երրորդ փուլ | E17: =F17+G17 -> 0 | F17: =F21 -> 0 | G17: =G21 -> 0 | H17: =I17+J17 -> -326361.9 | I17: =I21 -> 0 | J17: =J21 -> -326361.9
D18: այդ թվում` ըստ կատարողների
D19: ՀՀ տարածքային կառավարման և ենթակառուցվածքների նախարարության ջրային կոմիտե | E19: =F19+G19 -> 0 | G19: =G17 -> 0 | H19: =I19+J19 -> -326361.9 | J19: =J17 -> -326361.9
D20: այդ թվում` բյուջետային ծախսերի տնտեսագիտական դասակարգման հոդվածներ
D21: ՈՉ ՖԻՆԱՆՍԱԿԱՆ ԱԿՏԻՎՆԵՐԻ ԳԾՈՎ ԾԱԽՍԵՐ | E21: =F21+G21 -> 0 | F21: =F22+F23 -> 0 | G21: =G22+G23 -> 0 | H21: =I21+J21 -> -326361.9 | I21: =I22+I23 -> 0 | J21: =J22+J23 -> -326361.9
D22: - Շենքերի և շինությունների շինարարություն | E22: =F22+G22 -> 0 | F22: 0 | G22: 0 | H22: =I22+J22 -> -326361.9 | J22: -326361.9

Sheet 4
H1: Հավելված N4
H2: ՀՀ կառավարության 2020 թվականի
H3: ______________ ի ___Ն որոշման
A5: ՀԱՅԱՍՏԱՆԻ ՀԱՆՐԱՊԵՏՈՒԹՅԱՆ ԿԱՌԱՎԱՐՈՒԹՅԱՆ 2019 ԹՎԱԿԱՆԻ ԴԵԿՏԵՄԲԵՐԻ 26-Ի N 1919-Ն ՈՐՈՇՄԱՆ N 3 ԵՎ N 4 ՀԱՎԵԼՎԱԾՆԵՐՈՒՄ ԿԱՏԱՐՎՈՂ ՓՈՓՈԽՈՒԹՅՈՒՆՆԵՐԸ
G7: հազար դրամներով
A8: Գործառական դասիչը | D8: Ծրագրային դասիչը | F8: Բյուջետային ծախսերի գործառական դասակարգման բաժինների, խմբերի և դասերի, բյուջետային հատկացումների գլխավոր կարգադրիչների, ծրագրերի, միջոցառումների և միջոցառումները կատարող պետական մարմինների անվանումները | G8: Ցուցանիշների փոփոխությունը (ավելացումները նշված են դրական նշանով, իսկ նվազեցումները` փակագծերում)
A9: Բաժին | B9: Խումբ | C9: Դաս | D9: Ծրագիր | E9: Միջոցա ռում | G9: Ինն ամիս | H9: Տարի
F10: ԸՆԴԱՄԵՆԸ ԾԱԽՍԵՐ | G10: =+G12+G68 -> 0 | H10: =+H12+H68 -> 0
F11: այդ թվում`
A12: 04 | F12: ՏՆՏԵՍԱԿԱՆ ՀԱՐԱԲԵՐՈՒԹՅՈՒՆՆԵՐ | G12: =+G14+G38 -> 0 | H12: =+H14+H38 -> 326361.9
F13: այդ թվում`
B14: 02 | F14: Գյուղատնտեսություն, անտառային տնտեսություն, ձկնորսություն և որսորդություն | G14: =+G16 -> -645000.2 | H14: =+H16 -> -1562552.2
F15: այդ թվում`
C16: 04 | F16: Ոռոգում | G16: =+G18 -> -645000.2 | H16: =+H18 -> -1562552.2
F17: այդ թվում`
D18: 1004 | F18: Ոռոգման համակարգի առողջացում | G18: =+G20+G29 -> -645000.2 | H18: =+H20+H29 -> -1562552.2
F19: այդ թվում`
E20: 31004 | F20: Գերմանիայի զարգացման վարկերի բանկի աջակցությամբ իրականացվող Ախուրյան գետի ջրային ռեսուրսների ինտեգրված կառավարման ծրագրի շրջանակներում ջրային տնտեսության ենթակառուցվածքների հիմնանորոգում | G20: =+G22 -> -645000.2 | H20: =+H22 -> -1290000.3
F21: այդ թվում` ըստ կատարողների
F22: ՀՀ տարածքային կառավարման և ենթակառուցվածքների նախարարության ջրային կոմիտե | G22: =+G24 -> -645000.2 | H22: =+H24 -> -1290000.3
F23: այդ թվում` բյուջետային ծախսերի տնտեսագիտական դասակարգման հոդվածներ
F24: ԸՆԴԱՄԵՆԸ ԾԱԽՍԵՐ | G24: =+G25 -> -645000.2 | H24: =+H25 -> -1290000.3
F25: ՈՉ ՖԻՆԱՆՍԱԿԱՆ ԱԿՏԻՎՆԵՐԻ ԳԾՈՎ ԾԱԽՍԵՐ | G25: =+G26 -> -645000.2 | H25: =+H26 -> -1290000.3
F26: ՀԻՄՆԱԿԱՆ ՄԻՋՈՑՆԵՐ | G26: =+G27 -> -645000.2 | H26: =+H27 -> -1290000.3
F27: ՇԵՆՔԵՐ ԵՎ ՇԻՆՈՒԹՅՈՒՆՆԵՐ | G27: =+G28 -> -645000.2 | H27: =+H28 -> -1290000.3
F28: - Շենքերի և շինությունների շինարարություն | G28: -645000.2 | H28: -1290000.3
E29: 31006 | F29: Գերմանիայի զարգացման վարկերի բանկի աջակցությամբ իրականացվող Ախուրյան գետի ջրային ռեսուրսների ինտեգրացված կառավարման ծրագրի երկրորդ փուլի շրջանակներում ջրային տնտեսության ենթակառուցվածքների հիմնանորոգում | G29: =+G31 -> 0 | H29: =+H31 -> -272551.9
F30: այդ թվում` ըստ կատարողների
F31: ՀՀ տարածքային կառավարման և ենթակառուցվածքների նախարարության ջրային կոմիտե | G31: =+G33 -> 0 | H31: =+H33 -> -272551.9
F32: այդ թվում` բյուջետային ծախսերի տնտեսագիտական դասակարգման հոդվածներ
F33: ԸՆԴԱՄԵՆԸ ԾԱԽՍԵՐ | G33: =+G34 -> 0 | H33: =+H34 -> -272551.9
F34: ՈՉ ՖԻՆԱՆՍԱԿԱՆ ԱԿՏԻՎՆԵՐԻ ԳԾՈՎ ԾԱԽՍԵՐ | G34: =+G35 -> 0 | H34: =+H35 -> -272551.9
F35: ՀԻՄՆԱԿԱՆ ՄԻՋՈՑՆԵՐ | G35: =+G36 -> 0 | H35: =+H36 -> -272551.9
F36: ՇԵՆՔԵՐ ԵՎ ՇԻՆՈՒԹՅՈՒՆՆԵՐ | G36: =+G37 -> 0 | H36: =+H37 -> -272551.9
F37: - Շենքերի և շինությունների շինարարություն | G37: 0 | H37: -272551.9
B38: 05 | F38: Տրանսպորտ | G38: =G40 -> 645000.2 | H38: =H40 -> 1888914.1
F39: այդ թվում`
C40: 01 | F40: Ճանապարհային տրանսպորտ | G40: =G42 -> 645000.2 | H40: =H42 -> 1888914.1
F41: այդ թվում`
F42: ՀՀ ՏԱՐԱԾՔԱՅԻՆ ԿԱՌԱՎԱՐՄԱՆ ԵՎ ԵՆԹԱԿԱՌՈՒՑՎԱԾՔՆԵՐԻ ՆԱԽԱՐԱՐՈՒԹՅՈՒՆ | G42: =G44 -> 645000.2 | H42: =H44 -> 1888914.1
...

Sheet 5
H1: Հավելված N5
H2: ՀՀ կառավարության 2020 թվականի
H3: ______________ ի ___Ն որոշման
A4: «ՀԱՅԱՍՏԱՆԻ ՀԱՆՐԱՊԵՏՈՒԹՅԱՆ 2020 ԹՎԱԿԱՆԻ ՊԵՏԱԿԱՆ ԲՅՈՒՋԵԻ ՄԱՍԻՆ» ՀԱՅԱՍՏԱՆԻ ՀԱՆՐԱՊԵՏՈՒԹՅԱՆ ՕՐԵՆՔԻ N 1 ՀԱՎԵԼՎԱԾԻ N 3 ԱՂՅՈՒՍԱԿՈՒՄ ԿԱՏԱՐՎՈՂ ՎԵՐԱԲԱՇԽՈՒՄԸ
G5: հազար դրամներով
A6: Ծրագրային դասիչ | C6: Բյուջետային գլխավոր կարգադրիչների, ծրագրերի, միջոցառումների և ուղղությունների անվանումները | D6: Ցուցանիշների փոփոխությունը (ավելացումները նշված են դրական նշանով, իսկ նվազեցումները` փակագծերում)
D7: Ընդամենը, | E7: այդ թվում՝
A8: Ծրագիր | B8: Միջոցառում | E8: Կառուցման աշխատանքներ | F8: Վերակառուցման, վերանորոգման և վերականգնման աշխատանքներ | G8: Նախագծահե- տազոտական, գեոդեզիա- քարտեզագրա- կան աշխա- տանքներ | H8: Ոչ ֆինանսական այլ ակտիվների ձեռքբերում
C9: ԸՆԴԱՄԵՆԸ | D9: =+E9+F9+G9+H9 -> 2167450.2 | E9: =E11 -> 0 | F9: =F11 -> 2167450.2 | G9: =G11 -> 0 | H9: =H11 -> 0
C10: այդ թվում՝
C11: ՀՀ ՏԱՐԱԾՔԱՅԻՆ ԿԱՌԱՎԱՐՄԱՆ ԵՎ ԵՆԹԱԿԱՌՈՒՑՎԱԾՔՆԵՐԻ ՆԱԽԱՐԱՐՈՒԹՅՈՒՆ | D11: =+E11+F11+G11+H11 -> 2167450.2 | E11: =+E13 -> 0 | F11: =+F13 -> 2167450.2 | G11: =+G13 -> 0 | H11: =+H13 -> 0
C12: այդ թվում`
A13: 1049 | B13: 21001 | C13: Պետական նշանակության ավտոճանապարհների հիմնանորոգում | D13: =+E13+F13+G13+H13 -> 2167450.2 | E13: =+E15 -> 0 | F13: =+F15 -> 2167450.2 | G13: =+G15 -> 0 | H13: =+H15 -> 0
C14: այդ թվում`
B15: 1 | C15: Միջպետական նշանակության ավտոճանապարհներ, այդ թվում | D15: =+E15+F15+G15+H15 -> 2167450.2 | E15: =+E16 -> 0 | F15: =+F16+F18 -> 2167450.2 | G15: =+G16 -> 0 | H15: =+H16 -> 0
C16: Մ- 3, Թուրքիայի սահման-Մարգարա-Վանաձոր-Տաշիր-Վրաստանի սահման | D16: =+E16+F16+G16+H16 -> 1732805.2 | E16: =SUM(E17:E17) -> 0 | F16: =SUM(F17:F17) -> 1732805.2 | G16: =SUM(G17:G17) -> 0 | H16: =SUM(H17:H17) -> 0
C17: կմ45+300-կմ53+000 հատվածի հիմնանորոգում | D17: =+E17+F17+G17+H17 -> 1732805.2 | F17: =+'6'!E19 -> 1732805.2
C18: Մ-9, Մ-1-Թալին-Քարակերտ-Թուրքիայի սահման | D18: =+E18+F18+G18+H18 -> 434645 | E18: =SUM(E19:E19) -> 0 | F18: =SUM(F19:F19) -> 434645 | G18: =SUM(G19:G19) -> 0 | H18: =SUM(H19:H19) -> 0
C19: կմ 1+300-կմ 3+600 հատվածի հիմնանորոգում | D19: =+E19+F19+G19+H19 -> 434645 | F19: =+'6'!E21 -> 434645

Sheet 6
E1: Հավելված N6
E2: ՀՀ կառավարության 2020 թվականի
E3: ______________ ի ___Ն որոշման
A5: ՀԱՅԱՍՏԱՆԻ ՀԱՆՐԱՊԵՏՈՒԹՅԱՆ ԿԱՌԱՎԱՐՈՒԹՅԱՆ 2019 ԹՎԱԿԱՆԻ ԴԵԿՏԵՄԲԵՐԻ 26-Ի N 1919-Ն ՈՐՈՇՄԱՆ N 5 ՀԱՎԵԼՎԱԾԻ N 2 ԱՂՅՈՒՍԱԿՈՒՄ ԿԱՏԱՐՎՈՂ ՓՈՓՈԽՈՒԹՅՈՒՆՆԵՐԸ ԵՎ ԼՐԱՑՈՒՄՆԵՐԸ
E6: հազար դրամներով
A7: Ծրագրային դասիչ | C7: Բյուջետային գլխավոր կարգադրիչների, ծրագրերի, միջոցառումների և ուղղությունների անվանումները | D7: Ցուցանիշների փոփոխությունը (ավելացումները նշված են դրական նշանով, իսկ նվազեցումները` փակագծերում)
A8: Ծրագիր | B8: Միջոցառում | D8: Ինն ամիս | E8: Տարի
C9: ԸՆԴԱՄԵՆԸ | D9: =D11 -> 923536.3 | E9: =E11 -> 2167450.2
C10: այդ թվում՝
C11: ՀՀ ՏԱՐԱԾՔԱՅԻՆ ԿԱՌԱՎԱՐՄԱՆ ԵՎ ԵՆԹԱԿԱՌՈՒՑՎԱԾՔՆԵՐԻ ՆԱԽԱՐԱՐՈՒԹՅՈՒՆ | D11: =+D13 -> 923536.3 | E11: =+E13 -> 2167450.2
C12: այդ թվում`
A13: 1049 | B13: 21001 | C13: Պետական նշանակության ավտոճանապարհների հիմնանորոգում | D13: =+D15 -> 923536.3 | E13: =+E15 -> 2167450.2
C14: այդ թվում` ըստ կատարողների
C15: ՀՀ տարածքային կառավարման և ենթակառուցվածքների նախարարություն | D15: =+D17 -> 923536.3 | E15: =+E17 -> 2167450.2
C16: այդ թվում՝ ըստ ուղղությունների
B17: 1 | C17: Միջպետական նշանակության ավտոճանապարհներ, այդ թվում | D17: =+D18+D20 -> 923536.3 | E17: =+E18+E20 -> 2167450.2
C18: Մ- 3, Թուրքիայի սահման-Մարգարա-Վանաձոր-Տաշիր-Վրաստանի սահման | D18: =SUM(D19:D19) -> 726283.3 | E18: =SUM(E19:E19) -> 1732805.2
C19: կմ45+300-կմ53+000 հատվածի հիմնանորոգում | D19: =693122.1+33161.2 -> 726283.3 | E19: 1732805.2
C20: Մ-9, Մ-1-Թալին-Քարակերտ-Թուրքիայի սահման | D20: =+D21 -> 197253 | E20: =+E21 -> 434645
C21: կմ 1+300-կմ 3+600 հատվածի հիմնանորոգում | D21: 197253 | E21: 434645

Sheet 7
D1: Հավելված N7
D2: ՀՀ կառավարության 2020 թվականի
D3: -ի N -Ն որոշման
A5: ՀԱՅԱՍՏԱՆԻ ՀԱՆՐԱՊԵՏՈՒԹՅԱՆ ԿԱՌԱՎԱՐՈՒԹՅԱՆ 2019 ԹՎԱԿԱՆԻ ԴԵԿՏԵՄԲԵՐԻ 26-Ի N 1919-Ն ՈՐՈՇՄԱՆ N 9 ՀԱՎԵԼՎԱԾԻ N 9.8 ԱՂՅՈՒՍԱԿՈՒՄ ԿԱՏԱՐՎՈՂ ՓՈՓՈԽՈՒԹՅՈՒՆՆԵՐԸ
A7: ՀՀ ՏԱՐԱԾՔԱՅԻՆ ԿԱՌԱՎԱՐՄԱՆ ԵՎ ԵՆԹԱԿԱՌՈՒՑՎԱԾՔՆԵՐԻ ՆԱԽԱՐԱՐՈՒԹՅՈՒՆ
A8: ՄԱՍ 2. ՊԵՏԱԿԱՆ ՄԱՐՄՆԻ ԳԾՈՎ ԱՐԴՅՈՒՆՔԱՅԻՆ (ԿԱՏԱՐՈՂԱԿԱՆ) ՑՈՒՑԱՆԻՇՆԵՐԸ
A10: Ծրագրի դասիչը | B10: Ծրագրի անվանումը
A11: 1049 | B11: Ճանապարհային ցանցի բարելավում
A12: Ծրագրի միջոցառումները
A13: Ծրագրի դասիչը` | B13: 1049 | C13: Ցուցանիշների փոփոխությունը (ավելացումները նշված են դրական նշանով, իսկ նվազեցումները` փակագծերում)
A14: Միջոցառման դասիչը` | B14: 21001 | C14: Ինն ամիս | D14: Տարի
A15: Միջոցառման անվանումը` | B15: Պետական նշանակության ավտոճանապարհների հիմնանորոգում
A16: Նկարագրությունը` | B16: Միջպետական՝ հանրապետական և մարզային նշանակության ավտոճանապարհների քայքայված ծածկի վերանորոգում՝ մաշված ծածկի փոխարինում_x000D_
A17: Միջոցառման տեսակը` | B17: Հանրության կողմից անմիջականորեն օգտագործվող ակտիվների հետ կապված միջոցառումներ
A18: Արդյունքի չափորոշիչներ
A19: Հիմնանորոգվող ավտոճանապարհների երկարությունը/կիլոմետր/ այդ թվում՛ | D19: =+D20 -> 10
A20: Միջպետական նշանակության ավտոճանապարհներ | D20: 10
A21: Հանրապետական նշանակության ավտոճանապարհներ
A22: Մարզային նշանակության ավտոճանապարհներ
A23: Աշխատանքների ավարտվածության աստիճան, %
A24: Միջոցառման վրա կատարվող ծախսը (հազար դրամ) | C24: =+'4'!G46 -> 923536.3 | D24: =+'4'!H46 -> 2167450.2
A26: Ծրագրի դասիչը` | B26: 1049 | C26: Ցուցանիշների փոփոխությունը (ավելացումները նշված են դրական նշանով, իսկ նվազեցումները` փակագծերում) | D26: Ցուցանիշների փոփոխությունը (ավելացումները նշված են դրական նշանով, իսկ նվազեցումները` փակագծերում)
A27: Միջոցառման դասիչը` | B27: 21004 | C27: Ինն ամիս | D27: Տարի
A28: Միջոցառման անվանումը` | B28: Ասիական զարգացման բանկի աջակցությամբ իրականացվող Մ6 Վանաձոր-Ալավերդի-Վրաստանի սահման միջպետական նշանակության ճանապարհի ծրագրի կառուցում և հիմնանորոգում
A29: Նկարագրությունը` | B29: Ճանապարհաշինական աշխատանքներ
A30: Միջոցառման տեսակը` | B30: Հանրության կողմից անմիջականորեն օգտագործվող ակտիվների հետ կապված միջոցառումներ
A31: Ակտիվն օգտագործող կազմակերպության(ների) անվանում(ները)՛ | B31: Մասնագիտացված միավոր
A32: Արդյունքի չափորոշիչներ
A33: Կապալի պայմանագրերի քանակը
A34: Միջոցառման վրա կատարվող ծախսը (հազար դրամ) | C34: ='4'!G59 -> -278536.1 | D34: ='4'!H59 -> -278536.1
A36: Ծրագրի դասիչը | B36: Ծրագրի անվանումը
A37: 1004 | B37: Ոռոգման համակարգի առողջացում
A39: Ծրագրի դասիչը` | B39: 1004 | C39: Ցուցանիշների փոփոխությունը (ավելացումները նշված են դրական նշանով, իսկ նվազեցումները` փակագծերում)
A40: Միջոցառման դասիչը` | B40: 31004 | C40: Ինն ամիս | D40: Տարի
A41: Միջոցառման անվանումը` | B41: Գերմանիայի զարգացման վարկերի բանկի աջակցությամբ իրականացվող Ախուրյան գետի ջրային ռեսուրսների ինտեգրված կառավարման ծրագրի շրջանակներում ջրային տնտեսության ենթակառուցվածքների հիմնանորոգում
A42: Նկարագրությունը` | B42: Գերմանիայի զարգացման վարկերի բանկի աջակցությամբ իրականացվող Ախուրյան գետի ջրային ռեսուրսների ինտեգրված կառավարման ծրագիր_x000D_
A43: Միջոցառման տեսակը` | B43: Պետական մարմինների կողմից օգտագործվող ոչ ֆինանսական ակտիվների հետ գործառնություններ
A44: Ակտիվն օգտագործող կազմակերպության(ների) անվանում(ները)՛ | B44: Մասնագիտացված միավոր
A45: Արդյունքի չափորոշիչներ
A46: Նոր կառուցվող պատվարի երկարություն, մ | C46: -3 | D46: -7
...

Sheet 8
D1: Հավելված N8
D2: ՀՀ կառավարության 2020 թվականի
D3: -ի N -Ն որոշման
A4: ՀԱՅԱՍՏԱՆԻ ՀԱՆՐԱՊԵՏՈՒԹՅԱՆ ԿԱՌԱՎԱՐՈՒԹՅԱՆ 2019 ԹՎԱԿԱՆԻ ԴԵԿՏԵՄԲԵՐԻ 26-Ի N 1919-Ն ՈՐՈՇՄԱՆ N 9.1 ՀԱՎԵԼՎԱԾԻ NN 9.1.8 ԵՎ 9.1.26 ԱՂՅՈՒՍԱԿՈՒՄ ԿԱՏԱՐՎՈՂ ՓՈՓՈԽՈՒԹՅՈՒՆՆԵՐԸ
D5: Աղյուսակ 1
A6: ՀՀ ՏԱՐԱԾՔԱՅԻՆ ԿԱՌԱՎԱՐՄԱՆ ԵՎ ԵՆԹԱԿԱՌՈՒՑՎԱԾՔՆԵՐԻ ՆԱԽԱՐԱՐՈՒԹՅՈՒՆ
A7: ՄԱՍ 1. ՊԵՏԱԿԱՆ ՄԱՐՄՆԻ ԳԾՈՎ ԱՐԴՅՈՒՆՔԱՅԻՆ (ԿԱՏԱՐՈՂԱԿԱՆ) ՑՈՒՑԱՆԻՇՆԵՐԸ
A8: Ծրագրի դասիչը | B8: Ծրագրի անվանումը
A9: 1049 | B9: Ճանապարհային ցանցի բարելավում
A10: Ծրագրի միջոցառումները
A11: Ծրագրի դասիչը` | B11: 1049 | C11: Ցուցանիշների փոփոխությունը (ավելացումները նշված են դրական նշանով, իսկ նվազեցումները` փակագծերում)
A12: Միջոցառման դասիչը` | B12: 21001 | C12: Ինն ամիս | D12: Տարի
A13: Միջոցառման անվանումը` | B13: Պետական նշանակության ավտոճանապարհների հիմնանորոգում
A14: Նկարագրությունը` | B14: Միջպետական՝ հանրապետական և մարզային նշանակության ավտոճանապարհների քայքայված ծածկի վերանորոգում՝ մաշված ծածկի փոխարինում_x000D_
A15: Միջոցառման տեսակը` | B15: Հանրության կողմից անմիջականորեն օգտագործվող ակտիվների հետ կապված միջոցառումներ
A16: Արդյունքի չափորոշիչներ
A17: Հիմնանորոգվող ավտոճանապարհների երկարությունը/կիլոմետր/ այդ թվում՛ | D17: =+D18 -> 10
A18: Միջպետական նշանակության ավտոճանապարհներ | D18: 10
A19: Հանրապետական նշանակության ավտոճանապարհներ
A20: Մարզային նշանակության ավտոճանապարհներ
A21: Աշխատանքների ավարտվածության աստիճան, %
A22: Միջոցառման վրա կատարվող ծախսը (հազար դրամ) | C22: 923536.3 | D22: 2167450.2
A24: Ծրագրի դասիչը` | B24: 1049 | C24: Ցուցանիշների փոփոխությունը (ավելացումները նշված են դրական նշանով, իսկ նվազեցումները` փակագծերում) | D24: Ցուցանիշների փոփոխությունը (ավելացումները նշված են դրական նշանով, իսկ նվազեցումները` փակագծերում)
A25: Միջոցառման դասիչը` | B25: 21004 | C25: Ինն ամիս | D25: Տարի
A26: Միջոցառման անվանումը` | B26: Ասիական զարգացման բանկի աջակցությամբ իրականացվող Մ6 Վանաձոր-Ալավերդի-Վրաստանի սահման միջպետական նշանակության ճանապարհի ծրագրի կառուցում և հիմնանորոգում
A27: Նկարագրությունը` | B27: Ճանապարհաշինական աշխատանքներ
A28: Միջոցառման տեսակը` | B28: Հանրության կողմից անմիջականորեն օգտագործվող ակտիվների հետ կապված միջոցառումներ
A29: Ակտիվն օգտագործող կազմակերպության(ների) անվանում(ները)՛ | B29: Մասնագիտացված միավոր
A30: Արդյունքի չափորոշիչներ
A31: Կապալի պայմանագրերի քանակը
A32: Միջոցառման վրա կատարվող ծախսը (հազար դրամ) | C32: -278536.1 | D32: -278536.1
D35: Աղյուսակ 2
A36: ՀՀ տարածքային կառավարման և ենթակառուցվածքների նախարարության ջրային կոմիտե
A37: ՄԱՍ 1. ՊԵՏԱԿԱՆ ՄԱՐՄՆԻ ԳԾՈՎ ԱՐԴՅՈՒՆՔԱՅԻՆ (ԿԱՏԱՐՈՂԱԿԱՆ) ՑՈՒՑԱՆԻՇՆԵՐԸ
A39: Ծրագրի դասիչը | B39: Ծրագրի անվանումը
A40: 1004 | B40: Ոռոգման համակարգի առողջացում
A42: Ծրագրի դասիչը` | B42: 1004 | C42: Ցուցանիշների փոփոխությունը (ավելացումները նշված են դրական նշանով, իսկ նվազեցումները` փակագծերում)
A43: Միջոցառման դասիչը` | B43: 31004 | C43: Ինն ամիս | D43: Տարի
A44: Միջոցառման անվանումը` | B44: Գերմանիայի զարգացման վարկերի բանկի աջակցությամբ իրականացվող Ախուրյան գետի ջրային ռեսուրսների ինտեգրված կառավարման ծրագրի շրջանակներում ջրային տնտեսության ենթակառուցվածքների հիմնանորոգում
A45: Նկարագրությունը` | B45: Գերմանիայի զարգացման վարկերի բանկի աջակցությամբ իրականացվող Ախուրյան գետի ջրային ռեսուրսների ինտեգրված կառավարման ծրագիր_x000D_
...

Sheet 9
A1: Հավելված N9
A2: ՀՀ կառավարության 2020 թվականի
A3: ______________ ի ___Ն որոշման
A6: ՀԱՅԱՍՏԱՆԻ ՀԱՆՐԱՊԵՏՈՒԹՅԱՆ ԿԱՌԱՎԱՐՈՒԹՅԱՆ 2019 ԹՎԱԿԱՆԻ ԴԵԿՏԵՄԲԵՐԻ 26-Ի N 1919-Ն ՈՐՈՇՄԱՆ N 10 ՀԱՎԵԼՎԱԾՈՒՄ ԿԱՏԱՐՎՈՂ ԼՐԱՑՈՒՄՆԵՐԸ
A7: Կոդը | B7: Անվանումը | C7: Գնման ձևը | D7: Չափման միավորը | E7: Միավորի գինը | F7: Ցուցանիշների փոփոխությունը (ավելացումները նշված են դրական նշանով, իսկ նվազեցումները` փակագծերում)
F8: Քանակը | G8: Գումարը (հազար դրամով)
A9: ՀՀ տարածքային կառավարման և ենթակառուցվածքների նախարարություն | G9: =+G10 -> 2167450.2
A10: Բաժին N 04 | B10: Խումբ N 05 | C10: Դաս N 01 | D10: Ճանապարհային տրանսպորտ | G10: =+G11 -> 2167450.2
A11: 1049 21001 | B11: Պետական նշանակության ավտոճանապարհների հիմնանորոգում | G11: =+G12+G15 -> 2167450.2
A12: ՄԱՍ II. ԱՇԽԱՏԱՆՔՆԵՐ | G12: =+G14+G13 -> 2150470.4
A13: 45231177 | B13: ճանապարհների վերանորոգման աշխատանքներ | C13: ԲՄ | D13: դրամ | E13: 428000000 | F13: 1 | G13: =+F13*E13/1000 -> 428000
A14: 45231177 | B14: ճանապարհների վերանորոգման աշխատանքներ | C14: ԲՄ | D14: դրամ | E14: 1722470400 | F14: 1 | G14: =+F14*E14/1000 -> 1722470.4
A15: ՄԱՍ III. ԾԱՌԱՅՈՒԹՅՈՒՆՆԵՐ | G15: =SUM(G16:G17) -> 16979.8
A16: 98111140 | B16: հեղինակային հսկողության ծառայություններ | C16: ՄԱ | D16: դրամ | E16: 6645000 | F16: 1 | G16: =+F16*E16/1000 -> 6645
A17: 98111140 | B17: հեղինակային հսկողության ծառայություններ | C17: ՄԱ | D17: դրամ | E17: 10334800 | F17: 1 | G17: =+F17*E17/1000 -> 10334.8
