Workbook

Sheet Հավելված 1
E1: Հավելված N 1
D2: ՀՀ կառավարության 2020 թվականի
B3: ___________ ___-ի N _______ -Ն որոշման
A4: «ՀԱՅԱՍՏԱՆԻ ՀԱՆՐԱՊԵՏՈՒԹՅԱՆ 2020 ԹՎԱԿԱՆԻ ՊԵՏԱԿԱՆ ԲՅՈՒՋԵԻ ՄԱՍԻՆ» ՀԱՅԱՍՏԱՆԻ ՀԱՆՐԱՊԵՏՈՒԹՅԱՆ ՕՐԵՆՔԻN 1 ՀԱՎԵԼՎԱԾԻ N 2 ԱՂՅՈՒՍԱԿՈՒՄ ԿԱՏԱՐՎՈՂ ՎԵՐԱԲԱՇԽՈՒՄԸ ԵՎ ՀԱՅԱՍՏԱՆԻ ՀԱՆՐԱՊԵՏՈՒԹՅԱՆ ԿԱՌԱՎԱՐՈՒԹՅԱՆ 2019 ԹՎԱԿԱՆԻ ԴԵԿՏԵՄԲԵՐԻ 26-Ի N 1919-ՆՈՐՈՇՄԱՆ N 5 ՀԱՎԵԼՎԱԾԻ N 1 ԱՂՅՈՒՍԱԿՈՒՄ ԿԱՏԱՐՎՈՂ ՓՈՓՈԽՈՒԹՅՈՒՆԸ ԵՎ ԼՐԱՑՈՒՄԸ
E5: (հազ.դրամ)
A6: Ծրագրային դասիչը | C6: Բյուջետային հատկացումների գլխավոր կարգադրիչների, ծրագրերի և միջոցառումների անվանումները | D6: Ցուցանիշների փոփոխությունը (ավելացումները նշված են դրական նշանով, իսկ նվազեցումները` փակագծերում)
A7: ծրագիրը | B7: միջոցառումը | D7: առաջին կիսամյակ | E7: ինն ամիս | F7: տարի
C8: Ընդամենը
A9: ՀՀ տարածքային կառավարման և ենթակառուցվածքների նախարարություն | D9: =D10 -> 47014 | E9: =E10 -> 47014 | F9: =F10 -> 47014
A10: 1079 | C10: Ծրագրի անվանումը | D10: =D18 -> 47014 | E10: =E18 -> 47014 | F10: =F18 -> 47014
C11: Պետական գույքի կառավարում
C12: Ծրագրի նպատակը
C13: Պետական գույքի համալիր և արդյունավետ կառավարման ապահովում
C14: Վերջնական արդյունքի նկարագրությունը
C15: Պետական գույքի կառավարման արդյունավետության բարձրացում
A16: Ծրագրի միջոցառումներ
B17: 12002 | C17: Միջոցառման անվանումը
C18: Ֆինանսական աջակցություն լուծարման գործընթացում գտնվող գիտակրթական հիմնադրամին | D18: 47014 | E18: 47014 | F18: 47014
C19: Միջոցառման նկարագրությունը
C20: «Նորավանք» գիտակրթական հիմնադրամի լուծարման գործընթացի կանոնակարգում և պարտավորությունների մարում
C21: Միջոցառման տեսակը
C22: Տրանսֆերտների տրամադրում
C23: ՀՀ կառավարություն | D23: =D25 -> -47014 | E23: =E25 -> -47014 | F23: =F25 -> -47014
A24: 1139 | C24: Ծրագրի անվանումը
C25: ՀՀ կառավարության պահուստային ֆոնդ | D25: =D32 -> -47014 | E25: =E32 -> -47014 | F25: =F32 -> -47014
C26: Ծրագրի նպատակը
C27: Պետական բյուջեում չկանխատեսված, ինչպես նաև բյուջետային երաշխիքների ապահովման ծախսերի ֆինանսավորման ապահովում
C28: Վերջնական արդյունքի նկարագրությունը
C29: Պահուստային ֆոնդի կառավարման արդյունավետության և թափանցիկության ապահովում
B31: 11001 | C31: Միջոցառման անվանումը
C32: ՀՀ կառավարության պահուստային ֆոնդ | D32: -47014 | E32: -47014 | F32: -47014
C33: Միջոցառման նկարագրությունը
C34: ՀՀ պետական բյուջեում նախատեսված ելքերի լրացուցիչ ֆինանսավորման՝ պետական բյուջեում չկանխատեսված ելքերի, ինչպես նաև բյուջետային երաշխիքների ապահովման ելքերի ֆինանսավորման ապահովում
C35: Միջոցառման տեսակը
C36: Ծառայությունների մատուցում

Sheet Հավելված 2
E1: Հավելված N 2
C2: ՀՀ կառավարության 2020 թվականի
C3: ___________ ___-ի N _______ -Ն որոշման
A5: ՀԱՅԱՍՏԱՆԻ ՀԱՆՐԱՊԵՏՈՒԹՅԱՆ ԿԱՌԱՎԱՐՈՒԹՅԱՆ 2019 ԹՎԱԿԱՆԻ ԴԵԿՏԵՄԲԵՐԻ 26-Ի N 1919-Ն ՈՐՈՇՄԱՆ N N 3 ԵՎ 4 ՀԱՎԵԼՎԱԾՆԵՐՈՒՄ ԿԱՏԱՐՎՈՂ ՓՈՓՈԽՈՒԹՅՈՒՆՆԵՐԸ ԵՎ ԼՐԱՑՈՒՄՆԵՐԸ
H7: (հազ.դրամ)
A8: Գործառական դասիչը | D8: Ծրագրային դասիչը | F8: Բյուջետային ծախսերի գործառական դասակարգման բաժինների, խմբերի և դասերի, բյուջետային ծրագրերի միջոցառումների, բյուջետային հատկացումների գլխավոր կարգադրիչների անվանումները | G8: Ցուցանիշների փոփոխությունը (ավելացումները նշված են դրական նշանով, իսկ նվազեցումները` փակագծերում)
A9: բաժինը | B9: խումբը | C9: դասը | D9: ծրագիրը | E9: միջոցառումը | G9: առաջին կիսամյակ | H9: ինն ամիս | I9: տարի
F10: ԸՆԴԱՄԵՆԸ՝ ԾԱԽՍԵՐ | G10: - | H10: - | I10: -
F11: այդ թվում`
A12: 01 | F12: ԸՆԴՀԱՆՈՒՐ ԲՆՈՒՅԹԻ ՀԱՆՐԱՅԻՆ ԾԱՌԱՅՈՒԹՅՈՒՆՆԵՐ | G12: =G14 -> 47014 | H12: =H14 -> 47014 | I12: =I14 -> 47014
F13: այդ թվում`
B14: 03 | F14: Ընդհանուր բնույթի ծառայություններ | G14: =G16 -> 47014 | H14: =H16 -> 47014 | I14: =I16 -> 47014
F15: այդ թվում`
C16: 03 | F16: Ընդհանուր բնույթի այլ ծառայություններ այդ թվում` | G16: =G19 -> 47014 | H16: =H19 -> 47014 | I16: =I19 -> 47014
F17: ՀՀ տարածքային կառավարման և ենթակառուցվածքների նախարարություն
F18: այդ թվում`
D19: 1079 | F19: Պետական գույքի կառավարում | G19: =G20 -> 47014 | H19: =H20 -> 47014 | I19: =I20 -> 47014
E20: 12002 | F20: ='Հավելված 1'!C18 -> Ֆինանսական աջակցություն լուծարման գործընթացում գտնվող գիտակրթական հիմնադրամին | G20: =G22 -> 47014 | H20: =H22 -> 47014 | I20: =I22 -> 47014
F21: այդթվում` ըստ կատարողների
F22: ՀՀ տարածքային կառավարման և ենթակառուցվածքների նախարարության պետական գույքի կառավարման կոմիտե | G22: =G24 -> 47014 | H22: =H24 -> 47014 | I22: =I24 -> 47014
F23: այդ թվում` բյուջետային ծախսերի տնտեսագիտական դասակարգման հոդվածներ
F24: ԸՆԴԱՄԵՆԸ՝ ԾԱԽՍԵՐ | G24: =G25 -> 47014 | H24: =H25 -> 47014 | I24: =I25 -> 47014
F25: ԸՆԹԱՑԻԿ ԾԱԽՍԵՐ | G25: =G26 -> 47014 | H25: =H26 -> 47014 | I25: =I26 -> 47014
F26: ԴՐԱՄԱՇՆՈՐՀՆԵՐ | G26: =G27 -> 47014 | H26: =H27 -> 47014 | I26: =I27 -> 47014
F27: -Այլ ընթացիկ դրամաշնորհներ | G27: ='Հավելված 1'!D18 -> 47014 | H27: ='Հավելված 1'!E18 -> 47014 | I27: ='Հավելված 1'!F18 -> 47014
A29: 11 | F29: ՀԻՄՆԱԿԱՆ ԲԱԺԻՆՆԵՐԻՆ ՉԴԱՍՎՈՂ ՊԱՀՈՒՍՏԱՅԻՆ ՖՈՆԴԵՐ | G29: =G31 -> -47014 | H29: =H31 -> -47014 | I29: =I31 -> -47014
F30: այդ թվում`
B31: 01 | F31: ՀՀ կառավարության և համայնքների պահուստային ֆոնդ | G31: =G33 -> -47014 | H31: =H33 -> -47014 | I31: =I33 -> -47014
F32: այդ թվում`
C33: 01 | F33: ՀՀ կառավարության պահուստային ֆոնդ | G33: =G35 -> -47014 | H33: =H35 -> -47014 | I33: =I35 -> -47014
F34: այդ թվում`
D35: 1139 | F35: ՀՀ կառավարության պահուստային ֆոնդ | G35: =G38 -> -47014 | H35: =H38 -> -47014 | I35: =I38 -> -47014
E36: 11001 | F36: ՀՀ կառավարության պահուստային ֆոնդ
F37: այդ թվում` ըստ կատարողների
F38: ՀՀ կառավարություն | G38: =G40 -> -47014 | H38: =H40 -> -47014 | I38: =I40 -> -47014
F39: այդ թվում` բյուջետային ծախսերի տնտեսագիտական դասակարգման հոդվածներ
F40: ԸՆԴԱՄԵՆԸ՝ ԾԱԽՍԵՐ | G40: =G41 -> -47014 | H40: =H41 -> -47014 | I40: =I41 -> -47014
F41: ԸՆԹԱՑԻԿ ԾԱԽՍԵՐ | G41: =G42 -> -47014 | H41: =H42 -> -47014 | I41: =I42 -> -47014
F42: ԱՅԼ ԾԱԽՍԵՐ | G42: =G43 -> -47014 | H42: =H43 -> -47014 | I42: =I43 -> -47014
F43: Պահուստային միջոցներ | G43: ='Հավելված 1'!D32 -> -47014 | H43: ='Հավելված 1'!E32 -> -47014 | I43: ='Հավելված 1'!F32 -> -47014

Sheet Հավելված 3
E1: Հավելված N 3
A2: ՀՀ կառավարության 2020 թվականի
A3: ___________ ___-ի N _______ -Ն
A4: ՀԱՅԱՍՏԱՆԻ ՀԱՆՐԱՊԵՏՈՒԹՅԱՆ ԿԱՌԱՎԱՐՈՒԹՅԱՆ 2019 ԹՎԱԿԱՆԻԴԵԿՏԵՄԲԵՐԻ 26-Ի N 1919-Ն ՈՐՈՇՄԱՆ N 5 ՀԱՎԵԼՎԱԾԻ N 7 ԱՂՅՈՒՍԱԿՈՒՄ ԿԱՏԱՐՎՈՂ ԼՐԱՑՈՒՄՆԵՐԸ
E6: (հազ. դրամ)
A7: Ծրագրային դասիչը | C7: Բյուջետային հատկացումների գլխավոր կարգադրիչների, ծրագրերի, միջոցառումների, ծախսային ուղղությունների անվանումները | D7: Միջոցառումները կատարող պետական մարմինների և դրամաշնորհ ստացող տնտեսավարող սուբյեկտների անվանումները | E7: Ցուցանիշների փոփոխությունը (ավելացումները նշված են դրական նշանով)
A8: ծրագիրը | B8: միջոցառումը | E8: տարի
A9: ՀՀ տարածքայինկառավարման և ենթակառուցվածքների նախարարություն | E9: =E12 -> 47014
A10: 1079 | B10: Պետական գույքի կառավարում | E10: =E12 -> 47014
B11: 12002 | C11: ='Հավելված 1'!C18 -> Ֆինանսական աջակցություն լուծարման գործընթացում գտնվող գիտակրթական հիմնադրամին | D11: ՀՀ տարածքային կառավարման և ենթակառուցվածքների նախարարության պետական գույքի կառավարման կոմիտե | E11: =E12 -> 47014
D12: «Նորավանք» գիտակրթական հիմնադրամ | E12: ='Հավելված 2'!G12 -> 47014

Sheet Հավելված 4
E1: Հավելված N4
A2: ՀՀ կառավարության 2020 թվականի
A3: ___________ ___-ի N _______ -Ն
A4: ՀԱՅԱՍՏԱՆԻ ՀԱՆՐԱՊԵՏՈՒԹՅԱՆ ԿԱՌԱՎԱՐՈՒԹՅԱՆ 2019 ԹՎԱԿԱՆԻ ԴԵԿՏԵՄԲԵՐԻ 26-Ի N 1919-Ն ՈՐՈՇՄԱՆ N9 ՀԱՎԵԼՎԱԾԻ N 9.8 ԱՂՅՈՒՍԱԿՈՒՄ ԿԱՏԱՐՎՈՂ ԼՐԱՑՈՒՄԸ
A6: ՀՀ տարածքային կառավարման և ենթակառուցվածքների նախարարություն
A8: ՄԱՍ 2. ՊԵՏԱԿԱՆ ՄԱՐՄՆԻ ԳԾՈՎ ԱՐԴՅՈՒՆՔԱՅԻՆ (ԿԱՏԱՐՈՂԱԿԱՆ) ՑՈՒՑԱՆԻՇՆԵՐԸ
A11: Ծրագրի դասիչը | B11: Ծրագրի անվանումը
A12: 1079 | B12: Պետական գույքի կառավարում
A14: Ծրագրի միջոցառումները
A16: Ծրագրի դասիչը | B16: 1079 | C16: Ցուցանիշների փոփոխությունը (ավելացումները նշված են դրական նշանով)
A17: Միջոցառման դասիչը | B17: 12002 | C17: առաջին կիսամյակ | D17: ինն ամիս | E17: տարի
A18: Միջոցառման անվանումը | B18: ='Հավելված 2'!F20 -> Ֆինանսական աջակցություն լուծարման գործընթացում գտնվող գիտակրթական հիմնադրամին
A19: Նկարագրությունը | B19: ='Հավելված 1'!C20 -> «Նորավանք» գիտակրթական հիմնադրամի լուծարման գործընթացի կանոնակարգում և պարտավորությունների մարում
A20: Միջոցառման տեսակը | B20: Տրանսֆերտների տրամադրում
A21: Միջոցառումն իրականացնողի անվանումը | B21: ՀՀ տարածքային կառավարման և ենթակառուցվածքների նախարարության պետական գույքի կառավարման կոմիտե
A22: Արդյունքի չափորոշիչներ
A23: Միջոցառման վրա կատարվող ծախսը (հազ.դրամ) | C23: ='Հավելված 1'!D18 -> 47014 | D23: ='Հավելված 1'!E18 -> 47014 | E23: ='Հավելված 1'!F18 -> 47014
A25: ՀԱՅԱՍՏԱՆԻ ՀԱՆՐԱՊԵՏՈՒԹՅԱՆ ԿԱՌԱՎԱՐՈՒԹՅԱՆ 2019 ԹՎԱԿԱՆԻ ԴԵԿՏԵՄԲԵՐԻ 26-Ի N 1919-Ն ՈՐՈՇՄԱՆ N9 ՀԱՎԵԼՎԱԾԻ
A26: N 9.47 ԱՂՅՈՒՍԱԿՈՒՄ ԿԱՏԱՐՎՈՂ ՓՈՓՈԽՈՒԹՅՈՒՆԸ
A28: ՀՀ կառավարություն
A30: ՄԱՍ 2. ՊԵՏԱԿԱՆ ՄԱՐՄՆԻ ԳԾՈՎ ԱՐԴՅՈՒՆՔԱՅԻՆ (ԿԱՏԱՐՈՂԱԿԱՆ) ՑՈՒՑԱՆԻՇՆԵՐԸ
A32: Ծրագրի դասիչը | B32: Ծրագրի անվանումը
A33: 1139 | B33: ՀՀ կառավարության պահուստային ֆոնդ
A35: Ծրագրի միջոցառումները
A37: Ծրագրի դասիչը | B37: 1139 | C37: Ցուցանիշների փոփոխությունը (նվազեցումները նշված են փակագծերում)
A38: Միջոցառման դասիչը | B38: 11001 | C38: առաջին կիսամյակ | D38: ինն ամիս | E38: տարի
A39: Միջոցառման անվանումը | B39: ՀՀ կառավարության պահուստային ֆոնդ
A40: Նկարագրությունը | B40: ՀՀ պետական բյուջեում նախատեսված ելքերի լրացուցիչ ֆինանսավորման՝ պետական բյուջեում չկանխատեսված ելքերի, ինչպես նաև բյուջետային երաշխիքների ապահովման ելքերի ֆինանսավորման ապահովում
A41: Միջոցառման տեսակը | B41: Ծառայությունների մատուցում
A42: Միջոցառումն իրականացնողի անվանումը | B42: ՀՀ կառավարություն
A43: Արդյունքի չափորոշիչներ
A44: Միջոցառման վրա կատարվող ծախսը (հազ.դրամ) | C44: ='Հավելված 1'!D32 -> -47014 | D44: ='Հավելված 1'!E32 -> -47014 | E44: ='Հավելված 1'!F32 -> -47014

Sheet Հավելված 5
E1: Հավելված N5
A2: ՀՀ կառավարության 2020 թվականի
A3: ___________ ___-ի N _______ -Ն
A4: ՀԱՅԱՍՏԱՆԻ ՀԱՆՐԱՊԵՏՈՒԹՅԱՆ ԿԱՌԱՎԱՐՈՒԹՅԱՆ 2019 ԹՎԱԿԱՆԻ ԴԵԿՏԵՄԲԵՐԻ 26-Ի N 1919-Ն ՈՐՈՇՄԱՆ N 9.1 ՀԱՎԵԼՎԱԾԻ N 9.1.34 ԱՂՅՈՒՍԱԿՈՒՄ ԿԱՏԱՐՎՈՂ ԼՐԱՑՈՒՄԸ
A6: ՀՀ տարածքային կառավարման և ենթակառուցվածքների նախարարության պետական գույքի կառավարման կոմիտե
A8: ՄԱՍ 1. ՊԵՏԱԿԱՆ ՄԱՐՄՆԻ ԳԾՈՎ ԱՐԴՅՈՒՆՔԱՅԻՆ (ԿԱՏԱՐՈՂԱԿԱՆ) ՑՈՒՑԱՆԻՇՆԵՐԸ
A11: Ծրագրի դասիչը | B11: Ծրագրի անվանումը
A12: 1079 | B12: Պետական գույքի կառավարում
A14: Ծրագրիմիջոցառումները
A16: Ծրագրի դասիչը | B16: 1079 | C16: Ցուցանիշների փոփոխությունը (ավելացումները նշված են դրական նշանով)
A17: Միջոցառման դասիչը | B17: 12002 | C17: առաջին կիսամյակ | D17: ինն ամիս | E17: տարի
A18: Միջոցառմանանվանունը | B18: ='Հավելված 4'!B18 -> Ֆինանսական աջակցություն լուծարման գործընթացում գտնվող գիտակրթական հիմնադրամին
A19: Նկարագրությունը | B19: ='Հավելված 4'!B19 -> «Նորավանք» գիտակրթական հիմնադրամի լուծարման գործընթացի կանոնակարգում և պարտավորությունների մարում
A20: Միջոցառման տեսակը | B20: ='Հավելված 4'!B20 -> Տրանսֆերտների տրամադրում
A21: Միջոցառում նիրականացնողի անվանումը | B21: ='Հավելված 4'!B21 -> ՀՀ տարածքային կառավարման և ենթակառուցվածքների նախարարության պետական գույքի կառավարման կոմիտե
A22: Արդյունքի չափորոշիչներ
A23: Միջոցառման վրա կատարվող ծախսը (հազ.դրամ) | C23: ='Հավելված 1'!D18 -> 47014 | D23: ='Հավելված 1'!E18 -> 47014 | E23: ='Հավելված 1'!F18 -> 47014
A25: ՀԱՅԱՍՏԱՆԻ ՀԱՆՐԱՊԵՏՈՒԹՅԱՆ ԿԱՌԱՎԱՐՈՒԹՅԱՆ 2019 ԹՎԱԿԱՆԻ ԴԵԿՏԵՄԲԵՐԻ 26-Ի N 1919-Ն ՈՐՈՇՄԱՆ N9.1 ՀԱՎԵԼՎԱԾԻ
A26: N 9.1.58 ԱՂՅՈՒՍԱԿՈՒՄ ԿԱՏԱՐՎՈՂ ՓՈՓՈԽՈՒԹՅՈՒՆԸ
A28: ՀՀ կառավարություն
A30: ՄԱՍ 2. ՊԵՏԱԿԱՆ ՄԱՐՄՆԻ ԳԾՈՎ ԱՐԴՅՈՒՆՔԱՅԻՆ (ԿԱՏԱՐՈՂԱԿԱՆ) ՑՈՒՑԱՆԻՇՆԵՐԸ
A33: Ծրագրի դասիչը | B33: Ծրագրի անվանումը
A34: 1139 | B34: ՀՀ կառավարության պահուստային ֆոնդ
A36: Ծրագրիմիջոցառումները
A38: Ծրագրի դասիչը | B38: 1139 | C38: Ցուցանիշների փոփոխությունը (նվազեցումները նշված են փակագծերում)
A39: Միջոցառման դասիչը | B39: 11001 | C39: առաջին կիսամյակ | D39: ինն ամիս | E39: տարի
A40: Միջոցառման անվանումը | B40: ՀՀ կառավարության պահուստային ֆոնդ
A41: Նկարագրությունը | B41: ='Հավելված 4'!B40 -> ՀՀ պետական բյուջեում նախատեսված ելքերի լրացուցիչ ֆինանսավորման՝ պետական բյուջեում չկանխատեսված ելքերի, ինչպես նաև բյուջետային երաշխիքների ապահովման ելքերի ֆինանսավորման ապահովում
A42: Միջոցառման տեսակը | B42: Ծառայությունների մատուցում
A43: Միջոցառումն իրականացնողի անվանումը | B43: ՀՀ կառավարություն
A44: Արդյունքի չափորոշիչներ
A45: Միջոցառման վրա կատարվող ծախսը (հազ.դրամ) | C45: ='Հավելված 1'!D23 -> -47014 | D45: ='Հավելված 1'!E23 -> -47014 | E45: ='Հավելված 1'!F23 -> -47014
