Workbook
Name _tab10: #REF!
Name _tab10: #REF!
Name _tab10: #REF!
Name _tab11: #REF!
Name _tab11: #REF!
Name _tab11: #REF!
Name _tab12: #REF!
Name _tab12: #REF!
Name _tab12: #REF!
Name _tab13: #REF!
Name _tab13: #REF!
Name _tab13: #REF!
Name _tab14: #REF!
Name _tab14: #REF!
Name _tab14: #REF!
Name _tab15: #REF!
Name _tab15: #REF!
Name _tab15: #REF!
Name _tab16: #REF!
Name _tab16: #REF!
Name _tab16: #REF!
Name _tab17: #REF!
Name _tab17: #REF!
Name _tab17: #REF!
Name _tab18: #REF!
Name _tab18: #REF!
Name _tab18: #REF!
Name _tab19: #REF!
Name _tab19: #REF!
Name _tab19: #REF!
Name _tab20: #REF!
Name _tab20: #REF!
Name _tab20: #REF!
Name _tab21: #REF!
Name _tab21: #REF!
Name _tab21: #REF!
Name _tab22: #REF!
Name _tab22: #REF!
Name _tab22: #REF!
Name _tab23: #REF!
Name _tab23: #REF!
Name _tab23: #REF!
Name _tab24: #REF!
Name _tab24: #REF!
Name _tab24: #REF!
Name _tab5: #REF!
Name _tab5: #REF!
Name _tab5: #REF!
Name _tab6: #REF!
Name _tab6: #REF!
Name _tab6: #REF!
Name _tab7: #REF!
Name _tab7: #REF!
Name _tab7: #REF!
Name _tab8: #REF!
Name _tab8: #REF!
Name _tab8: #REF!
Name _tab9: #REF!
Name _tab9: #REF!
Name _tab9: #REF!

Sheet 1
E1: Հավելված № 1
E2: ՀՀ կառավարության 2020 թվականի
E3: -------------- ի № ---- -Ն որոշման
B5: «ՀԱՅԱՍՏԱՆԻ ՀԱՆՐԱՊԵՏՈՒԹՅԱՆ 2020 ԹՎԱԿԱՆԻ ՊԵՏԱԿԱՆ ԲՅՈՒՋԵԻ ՄԱՍԻՆ» ՀԱՅԱՍՏԱՆԻ ՀԱՆՐԱՊԵՏՈՒԹՅԱՆ ՕՐԵՆՔԻ № 3 ՀՈԴՎԱԾԻ ԱՂՅՈՒՍԱԿՈՒՄ, № 4 ՀԱՎԵԼՎԱԾԻ № 1 ԱՂՅՈՒՍԱԿՈՒՄ ԵՎ ՀՀ ԿԱՌԱՎԱՐՈՒԹՅԱՆ 2019 ԹՎԱԿԱՆԻ ԴԵԿՏԵՄԲԵՐԻ 26-Ի № 1919-Ն ՈՐՈՇՄԱՆ № 1 ՀԱՎԵԼՎԱԾԻ № 1 ԱՂՅՈՒՍԱԿԻ ՑՈՒՑԱՆԻՇՆԵՐՈՒՄ ԿԱՏԱՐՎՈՂ ՓՈՓՈԽՈՒԹՅՈՒՆՆԵՐԸ
E6: հազար դրամներով
B7: Պետական բյուջեի դեֆիցիտի ֆինանսավորման աղբյուրների ու դրանց տարրերի անվանումները | C7: Ցուցանիշների փոփոխությունը (մուտքերի նվազումը և ելքերի ավելացումը ներկայացված է փակագծերում)
C8: Առաջին կիսամյակ | D8: Ինն ամիս | E8: Տարի
B9: ԸՆԴԱՄԵՆԸ | C9: =+C11 -> 0 | D9: =+D11 -> 1997912 | E9: =+E11 -> 0
B10: այդ թվում՝
B11: Ա.Ներքին աղբյուրներ-ընդամենը | C11: =+C12 -> 0 | D11: =+D12 -> 1997912 | E11: =+E12 -> 0
B12: 2. Ֆինանսական զուտ ակտիվներ | C12: =+C14 -> 0 | D12: =+D14 -> 1997912 | E12: =+E14 -> 0
B13: այդ թվում՝
B14: 2.6.Այլ | C14: =SUM(C15:C15) -> 0 | D14: =SUM(D15:D15) -> 1997912 | E14: =SUM(E15:E15) -> 0
B15: ժամանակավորապես ազատ միջոցներ | C15: =+'3'!D9 -> 0 | D15: =+'3'!E9 -> 1997912 | E15: =+'3'!F9 -> 0

Sheet 2
A1: Հավելված № 2
A2: ՀՀ կառավարության 2020 թվականի
A3: ___________ ի № ------------ -Ն որոշման
A5: ՀԱՅԱՍՏԱՆԻ ՀԱՆՐԱՊԵՏՈՒԹՅԱՆ 2020 ԹՎԱԿԱՆԻ ՊԵՏԱԿԱՆ ԲՅՈՒՋԵԻ ՄԱՍԻՆ» ՀԱՅԱՍՏԱՆԻ ՀԱՆՐԱՊԵՏՈՒԹՅԱՆ ՕՐԵՆՔԻ № 1 ՀԱՎԵԼՎԱԾԻ № 1 ԱՂՅՈՒՍԱԿՈՒՄ ԿԱՏԱՐՎՈՂ ՓՈՓՈԽՈՒԹՅՈՒՆՆԵՐԸ
C6: հազար դրամներով
A7: Ծրագրային դասիչը | B7: Ծրագրի անվանումը | C7: Ցուցանիշների փոփոխությունները (ավելացումները նշված են դրական նշանով իսկ նվազեցումները` փակագծերում)
C8: Տարի
A9: Ընդամենը | C9: =+C10+C11 -> 0
A10: 1049 | B10: Ճանապարհային ցանցի բարելավում | C10: =-C11 -> 6165281.2
A11: 1212 | B11: Տարածքային զարգացում | C11: =-'5'!F10 -> -6165281.2

Sheet 3
F1: Հավելված № 3
F2: ՀՀ կառավարության 2020 թվականի
F3: -------------- ի № ---- -Ն որոշման
A5: ՀԱՅԱՍՏԱՆԻ ՀԱՆՐԱՊԵՏՈՒԹՅԱՆ 2020 ԹՎԱԿԱՆԻ ՊԵՏԱԿԱՆ ԲՅՈՒՋԵԻ ՄԱՍԻՆ» ՀԱՅԱՍՏԱՆԻ ՀԱՆՐԱՊԵՏՈՒԹՅԱՆ ՕՐԵՆՔԻ № 1 ՀԱՎԵԼՎԱԾԻ № 2 ԱՂՅՈՒՍԱԿՈՒՄ ԿԱՏԱՐՎՈՂ ՎԵՐԱԲԱՇԽՈՒՄԸ ԵՎ ՀԱՅԱՍՏԱՆԻ ՀԱՆՐԱՊԵՏՈՒԹՅԱՆ ԿԱՌԱՎԱՐՈՒԹՅԱՆ 2019 ԹՎԱԿԱՆԻ ԴԵԿՏԵՄԲԵՐԻ 26-Ի № 1919-Ն ՈՐՈՇՄԱՆ № 5 ՀԱՎԵԼՎԱԾԻ № 1 ԱՂՅՈՒՍԱԿՈՒՄ ԿԱՏԱՐՎՈՂ ՓՈՓՈԽՈՒԹՅՈՒՆՆԵՐԸ ԵՎ ԼՐԱՑՈՒՄԸ
F6: հազար դրամներով
A7: Ծրագրային դասիչը | C7: Բյուջետային հատկացումների գլխավոր կարգադրիչների, ծրագրերի և միջոցառումների անվանումները | D7: Ցուցանիշների փոփոխությունները (ավելացումները նշված են դրական նշանով իսկ նվազեցումները` փակագծերում)
A8: Ծրագիր | B8: Միջոցառում | D8: Առաջին կիսամյակ | E8: Ինն ամիս | F8: Տարի
C9: ԸՆԴԱՄԵՆԸ | D9: =D10 -> 0 | E9: =E10 -> 1997912 | F9: =F10 -> 0
C10: ՀՀ տարածքային կառավարման և ենթակառուցվածքների նախարարություն | D10: =D12+D31 -> 0 | E10: =E12+E31 -> 1997912 | F10: =F12+F31 -> 0
C11: Ծրագրի անվանումը
A12: 1049 | C12: Ճանապարհային ցանցի բարելավում | D12: =+D19+D25 -> 0 | E12: =+E19+E25 -> 2529710 | F12: =+F19+F25 -> 6165281.2
C13: Ծրագրի նպատակը
C14: Ճանապարհային ցանցի բարելավում և անվտանգ երթևեկություն
C15: Վերջնական արդյունքի նկարագրությունը
C16: Ճանապարհների ծածկի որակի և փոխադրումների արդյունավետության բարելավում, ճանապարհների վիճակով պայմանավորված պատահարների նվազում
A17: Ծրագրի միջոցառումներ
B18: 21001 | C18: Միջոցառման անվանումը
C19: Պետական նշանակության ավտոճանապարհների հիմնանորոգում | D19: =+'6'!E13 -> 0 | E19: =+'6'!F13 -> 2503326.2 | F19: =+'6'!G13 -> 6138897.4
C20: Միջոցառման նկարագրությունը
C21: Միջպետական, հանրապետական և մարզային նշանակության ավտոճանապարհների քայքայված ծածկի վերանորոգում, մշակված ծածկի փոխարինում
C22: Միջոցառման տեսակը
C23: Հանրության կողմից անմիջականորեն օգտագործվող ակտիվների հետ կապված միջոցառումներ
B24: 21002 | C24: Միջոցառման անվանումը`
C25: Տրանսպորտային օբյեկտների հիմնանորոգում | D25: =+'4'!G37 -> 0 | E25: =+'4'!H37 -> 26383.8 | F25: =+'4'!I37 -> 26383.8
C26: Միջոցառման նկարագրությունը`
C27: Ավտոմոբիլային ճանապարհների վրա գտնվող կամուրջների հիմնանորոգում
C28: Միջոցառման տեսակը
C29: Հանրության կողմից անմիջականորեն օգտագործվող ակտիվների հետ կապված միջոցառումներ
C30: Ծրագրի անվանումը
A31: 1212 | C31: Տարածքային զարգացում | D31: =D38 -> 0 | E31: =E38 -> -531798 | F31: =F38 -> -6165281.2
C32: Ծրագրի նպատակը
C33: Տարածքային համաչափ զարգացման խթանում
C34: Վերջնական արդյունքի նկարագրությունը
C35: ՀՀ համայնքների կառավարման արդյունավետության բարձրացում և տնտեսական գործունեության խթանում
A36: Ծրագրի միջոցառումներ
B37: 12007 | C37: Միջոցառման անվանումը
C38: ՀՀ մարզերին սուբվենցիաների տրամադրում՛ ենթակառուցվածքների զարգացման նպատակով | D38: =+'4'!G56 -> 0 | E38: -531798 | F38: =+'4'!I56 -> -6165281.2
C39: Միջոցառման նկարագրությունը
C40: ՀՀ մարզերին սուբվենցիաների տրամադրում՛ ենթակառուցվածքների զարգացման նպատակով
C41: Միջոցառման տեսակը
...

Sheet 4
I1: Հավելված № 4
I2: ՀՀ կառավարության 2020 թվականի
I3: -------------- ի № ---- -Ն որոշման
A5: ՀԱՅԱՍՏԱՆԻ ՀԱՆՐԱՊԵՏՈՒԹՅԱՆ ԿԱՌԱՎԱՐՈՒԹՅԱՆ 2019 ԹՎԱԿԱՆԻ ԴԵԿՏԵՄԲԵՐԻ 26-Ի № 1919-Ն ՈՐՈՇՄԱՆ №№ 3 և 4 ՀԱՎԵԼՎԱԾՆԵՐՈՒՄ ԿԱՏԱՐՎՈՂ ՓՈՓՈԽՈՒԹՅՈՒՆՆԵՐԸ
H6: հազար դրամներով
A7: Գործառական դասիչը | D7: Ծրագրային դասիչը | F7: Բյուջետային հատկացումների գլխավոր կարգադրիչների, ծրագրերի, միջոցառումների և միջոցառումները կատարող պետական մարմինների անվանումները | G7: Ցուցանիշների փոփոխությունները (ավելացումները նշված են դրական նշանով իսկ նվազեցումները` փակագծերում)
A8: բաժին | B8: խումբ | C8: դաս | D8: Ծրագիր | E8: Միջոցառում | G8: Առաջին կիսամյակ | H8: Ինն ամիս | I8: Տարի
A9: ԸՆԴԱՄԵՆԸ ԾԱԽՍԵՐ | G9: =+G10+G38 -> 0 | H9: =+H10+H38 -> 1997912 | I9: =+I10+I38 -> 0
A10: 04 | F10: ՏՆՏԵՍԱԿԱՆ ՀԱՐԱԲԵՐՈՒԹՅՈՒՆՆԵՐ | G10: =G12 -> 0 | H10: =H12 -> 2529710 | I10: =I12 -> 6165281.2
F11: այդ թվում՝
B12: 05 | F12: Տրանսպորտ | G12: =G14 -> 0 | H12: =H14 -> 2529710 | I12: =I14 -> 6165281.2
F13: այդ թվում՝
C14: 01 | F14: Ճանապարհային տրանսպորտ | G14: =G18 -> 0 | H14: =H18 -> 2529710 | I14: =I18 -> 6165281.2
F15: այդ թվում՝
F16: ՀՀ տարածքային կառավարման և ենթակառուցվածքների նախարարություն | G16: =G18 -> 0 | H16: =H18 -> 2529710 | I16: =I18 -> 6165281.2
F17: այդ թվում՝
D18: 1049 | F18: Ճանապարհային ցանցի բարելավում | G18: =+G20+G29 -> 0 | H18: =+H20+H29 -> 2529710 | I18: =+I20+I29 -> 6165281.2
F19: այդ թվում`
E20: 21001 | F20: Պետական նշանակության ավտոճանապարհների հիմնանորոգում | G20: =G22 -> 0 | H20: =H22 -> 2503326.2 | I20: =I22 -> 6138897.4
F21: այդ թվում ըստ կատարողների
F22: ՀՀ տարածքային կառավարման և ենթակառուցվածքների նախարարություն | G22: =G24 -> 0 | H22: =H24 -> 2503326.2 | I22: =I24 -> 6138897.4
F23: այդ թվում` բյուջետային ծախսերի տնտեսագիտական դասակարգման հոդվածներ
F24: ԸՆԴԱՄԵՆԸ ԾԱԽՍԵՐ | G24: =G26 -> 0 | H24: =H26 -> 2503326.2 | I24: =I26 -> 6138897.4
F25: ՈՉ ՖԻՆԱՆՍԱԿԱՆ ԱԿՏԻՎՆԵՐԻ ԾԱԽՍԵՐ | G25: =G26 -> 0 | H25: =H26 -> 2503326.2 | I25: =I26 -> 6138897.4
F26: ՀԻՄՆԱԿԱՆ ՄԻՋՈՑՆԵՐ | G26: =+G27 -> 0 | H26: =+H27 -> 2503326.2 | I26: =+I27 -> 6138897.4
F27: ՇԵՆՔԵՐ և ՇԻՆՈՒԹՅՈՒՆՆԵՐ | G27: =G28 -> 0 | H27: =H28 -> 2503326.2 | I27: =I28 -> 6138897.4
F28: - Շենքերի և շինությունների կապիտալ վերանորոգում | G28: =+'6'!E13 -> 0 | H28: =+'6'!F13 -> 2503326.2 | I28: =+'6'!G13 -> 6138897.4
E29: 21002 | F29: Տրանսպորտային օբյեկտների հիմնանորոգում | G29: =G31 -> 0 | H29: =H31 -> 26383.8 | I29: =I31 -> 26383.8
F30: այդ թվում` ըստ կատարողների
F31: ՀՀ տարածքային կառավարման և ենթակառուցվածքների նախարարություն | G31: =G33 -> 0 | H31: =H33 -> 26383.8 | I31: =I33 -> 26383.8
F32: այդ թվում` բյուջետային ծախսերի տնտեսագիտական դասակարգման հոդվածների
F33: ԸՆԴԱՄԵՆԸ ԾԱԽՍԵՐ | G33: =G35 -> 0 | H33: =H35 -> 26383.8 | I33: =I35 -> 26383.8
F34: ՈՉ ՖԻՆԱՆՍԱԿԱՆ ԱԿՏԻՎՆԵՐԻ ԾԱԽՍԵՐ | G34: =G35 -> 0 | H34: =H35 -> 26383.8 | I34: =I35 -> 26383.8
F35: ՀԻՄՆԱԿԱՆ ՄԻՋՈՑՆԵՐ | G35: =+G36 -> 0 | H35: =+H36 -> 26383.8 | I35: =+I36 -> 26383.8
F36: ՇԵՆՔԵՐ և ՇԻՆՈՒԹՅՈՒՆՆԵՐ | G36: =G37 -> 0 | H36: =H37 -> 26383.8 | I36: =I37 -> 26383.8
F37: - Շենքերի և շինությունների կապիտալ վերանորոգում | G37: 0 | H37: 26383.8 | I37: 26383.8
A38: 01 | F38: ԸՆԴՀԱՆՈՒՐ ԲՆՈՒՅԹԻ ՀԱՆՐԱՅԻՆ ԾԱՌԱՅՈՒԹՅՈՒՆՆԵՐ | G38: =+'6'!E31 -> 0 | H38: =H40 -> -531798 | I38: =I40 -> -6165281.2
F39: այդ թվում՝
B40: 08 | F40: Կառավարության տարբեր մակարդակների միջև իրականացվող ընդհանուր բնույթի տրանսֆերտներ | G40: =G42 -> 0 | H40: =H42 -> -531798 | I40: =I42 -> -6165281.2
F41: այդ թվում՝
...

Sheet 5
H1: Հավելված № 5
H2: ՀՀ կառավարության 2020 թվականի
H3: -------------- ի № ---- -Ն որոշման
A5: «ՀԱՅԱՍՏԱՆԻ ՀԱՆՐԱՊԵՏՈՒԹՅԱՆ 2020 ԹՎԱԿԱՆԻ ՊԵՏԱԿԱՆ ԲՅՈՒՋԵԻ ՄԱՍԻՆ» ՀԱՅԱՍՏԱՆԻ ՀԱՆՐԱՊԵՏՈՒԹՅԱՆ ՕՐԵՆՔԻ № 1 ՀԱՎԵԼՎԱԾԻ № 3 ԱՂՅՈՒՍԱԿՈՒՄ ԿԱՏԱՐՎՈՂ ՓՈՓՈԽՈՒԹՅՈՒՆՆԵՐԸ
G6: հազար դրամներով
A7: Ծրագրային դասիչ | C7: Բյուջետային գլխավոր կարգադրիչների, ծրագրերի, միջոցառումների և ուղղությունների անվանումները | D7: Ցուցանիշների փոփոխությունը (ավելացումները նշված են դրական նշանով, իսկ նվազեցումները` փակագծերում)
D8: Ընդամենը, | E8: այդ թվում՝
A9: Ծրագիր | B9: Միջոցառում | E9: Կառուցման աշխատանքներ | F9: Վերակառուցման, վերանորոգման և վերականգնման աշխատանքներ | G9: Նախագծահե- տազոտական, գեոդեզիա- քարտեզագրա- կան աշխա- տանքներ | H9: Ոչ ֆինանսական այլ ակտիվների ձեռքբերում
C10: ԸՆԴԱՄԵՆԸ | D10: =+E10+F10+G10+H10 -> 6165281.2 | E10: =E12 -> 0 | F10: =F12 -> 6165281.2 | G10: =G12 -> 0 | H10: =H12 -> 0
C11: այդ թվում՝
C12: ՀՀ ՏԱՐԱԾՔԱՅԻՆ ԿԱՌԱՎԱՐՄԱՆ ԵՎ ԵՆԹԱԿԱՌՈՒՑՎԱԾՔՆԵՐԻ ՆԱԽԱՐԱՐՈՒԹՅՈՒՆ | D12: =+E12+F12+G12+H12 -> 6165281.2 | E12: =E14+E30 -> 0 | F12: =F14+F30 -> 6165281.2 | G12: =G14+G30 -> 0 | H12: =H14+H30 -> 0
C13: այդ թվում`
A14: 1049 | B14: 21001 | C14: Պետական նշանակության ավտոճանապարհների հիմնանորոգում | D14: =+E14+F14+G14+H14 -> 6138897.4 | E14: =+E16+E19+E25 -> 0 | F14: =+F16+F19+F25 -> 6138897.4 | G14: =+G16+G19+G25 -> 0 | H14: =+H16+H19+H25 -> 0
C15: այդ թվում`
B16: 1 | C16: Միջպետական նշանակության ավտոճանապարհներ, այդ թվում | D16: =+E16+F16+G16+H16 -> 1207123.3 | E16: =+E17 -> 0 | F16: =+F17 -> 1207123.3 | G16: =+G17 -> 0 | H16: =+H17 -> 0
C17: Մ-1, Երևան - Գյումրի - Վրաստանի սահման | D17: =+E17+F17+G17+H17 -> 1207123.3 | E17: =+E18 -> 0 | F17: =+F18 -> 1207123.3 | G17: =+G18 -> 0 | H17: =+H18 -> 0
C18: կմ134+500-կմ141+500 հատվածի հիմնանորոգում | D18: =+E18+F18+G18+H18 -> 1207123.3 | E18: 0 | F18: 1207123.3 | G18: 0 | H18: 0
B19: 2 | C19: Հանրապետական նշանակության ավտոճանապարհներ, այդ թվում | D19: =+E19+F19+G19+H19 -> 3913701.3 | E19: =SUM(E20:E24) -> 0 | F19: =SUM(F20:F24) -> 3913701.3 | G19: =SUM(G20:G24) -> 0 | H19: =SUM(H20:H24) -> 0
C20: Հ-21, Հոռոմ-Արթիկ-Ալագյազ ավտոճանապարհի կմ 4+000-կմ8+500 հատվածի հիմնանորոգում | D20: =+E20+F20+G20+H20 -> 406299.4 | E20: 0 | F20: 406299.4 | G20: 0 | H20: 0
C21: Հ31, /Մ-1/ - Վարդաղբյուր - Տաշիր - /Մ-3/ ավտոճանապարհի կմ35+300 - կմ45+300 հատվածի հիմնանորոգում | D21: =+E21+F21+G21+H21 -> 1013519.3 | E21: 0 | F21: 1013519.3 | G21: 0 | H21: 0
C22: Հ34, Մ3-Ստեփանավան-Պրիվոլնոյե-Վրաստանի սահման կմ 5+000 - կմ 18+000 հատվածի հիմնանորոգում | D22: =+E22+F22+G22+H22 -> 1143303.3 | E22: 0 | F22: 1143303.3 | G22: 0 | H22: 0
C23: Հ-46, Մ2-Տաթև-Աղվանի-Մ2 (Սյունիք) ավտոճանապարհի կմ 25+000-կմ37+500 հատվածի հիմնանորոգում | D23: =+E23+F23+G23+H23 -> 1178402.8 | E23: 0 | F23: 1178402.8 | G23: 0 | H23: 0
C24: Հ-53, Մ-4 - Սեմյոնովկա - Մ-4 հանրապետական նշանակության ավտոճանապարհի անցանելիության բարելավում | D24: =+E24+F24+G24+H24 -> 172176.5 | E24: 0 | F24: 172176.5 | G24: 0 | H24: 0
B25: 3 | C25: Մարզային նշանակության ավտոճանապարհներ, այդ թվում | D25: =+E25+F25+G25+H25 -> 1018072.8 | E25: =SUM(E26:E29) -> 0 | F25: =SUM(F26:F29) -> 1018072.8 | G25: =SUM(G26:G29) -> 0 | H25: =SUM(H26:H29) -> 0
C26: /Հ-13/ - Նորաբաց - /Հ-14/ ավտոճանապարհի 5,2 կմ հատվածի հիմնանորոգում | D26: =+E26+F26+G26+H26 -> 462175.9 | F26: 462175.9
C27: ՀՀ Տավուշի մարզի Բերդավան համայնքի ներհամայնքային երկու փողոցների 2,1 կմ երկարությամբ հատվածների հիմնանորոգում | D27: =+E27+F27+G27+H27 -> 254760.5 | F27: 254760.5
C28: ՀՀ Տավուշի մարզի Վերին Կարմիր Աղբյուր համայնքի 1,65 կմ երկարությամբ հատվածի հիմնանորոգում | D28: =+E28+F28+G28+H28 -> 221524.3 | F28: 221524.3
C29: Արարատի մարզի Գեղանիստ-Արբաթ միջհամայնքային ճանապարհի 1.127 կմ հատվածի հիմնանորոգում | D29: =+E29+F29+G29+H29 -> 79612.1 | F29: =+'6'!G30 -> 79612.1
A30: 1049 | B30: 21002 | C30: Տրանսպորտային օբյեկտների հիմնանորոգում | D30: =+D32 -> 26383.8 | E30: =+E32 -> 0 | F30: =+F32 -> 26383.8 | G30: =+G32 -> 0 | H30: =+H32 -> 0
C31: այդ թվում`
B32: 4 | C32: Տրանսպորտային օբյեկտների հիմնանորոգում, այդ թվում | D32: =+E32+F32+G32+H32 -> 26383.8 | E32: =+E33 -> 0 | F32: =+F33 -> 26383.8 | G32: =+G33 -> 0 | H32: =+H33 -> 0
C33: Հ-12, Մասիսի տրանսպորտային հանգույց-Մասիս-Ռանչպար-Արաքս-Ջրառատ-/Մ-3/ | D33: =+E33+F33+G33+H33 -> 26383.8 | F33: =+F34 -> 26383.8
C34: կմ3+450 հատվածում փլուզված կամրջի հիմնանորոգում | D34: =+E34+F34+G34+H34 -> 26383.8 | F34: =+'6'!G36 -> 26383.8

Sheet 6
G1: Հավելված № 6
G2: ՀՀ կառավարության 2020 թվականի
G3: -------------- ի № ---- -Ն որոշման
B5: ՀԱՅԱՍՏԱՆԻ ՀԱՆՐԱՊԵՏՈՒԹՅԱՆ ԿԱՌԱՎԱՐՈՒԹՅԱՆ 2019 ԹՎԱԿԱՆԻ ԴԵԿՏԵՄԲԵՐԻ 26-Ի № 1919-Ն ՈՐՈՇՄԱՆ № 5 ՀԱՎԵԼՎԱԾԻ № 2 ԱՂՅՈՒՍԱԿՈՒՄ ԿԱՏԱՐՎՈՂ ՓՈՓՈԽՈՒԹՅՈՒՆՆԵՐԸ ԵՎ ԼՐԱՑՈՒՄՆԵՐԸ
G6: հազար դրամներով
B7: Ծրագրային դասիչ | D7: Բյուջետային գլխավոր կարգադրիչների, ծրագրերի, միջոցառումների և ուղղությունների անվանումները | E7: Ցուցանիշների փոփոխությունը (ավելացումները նշված են դրական նշանով, իսկ նվազեցումները` փակագծերում)
B8: Ծրագիր | C8: Միջոցառում | E8: Առաջին կիսամյակ | F8: Ինն ամիս | G8: Տարի
D9: ԸՆԴԱՄԵՆԸ | E9: =E11 -> 0 | F9: =F11 -> 2529710 | G9: =G11 -> 6165281.2
D10: այդ թվում՝
D11: ՀՀ ՏԱՐԱԾՔԱՅԻՆ ԿԱՌԱՎԱՐՄԱՆ ԵՎ ԵՆԹԱԿԱՌՈՒՑՎԱԾՔՆԵՐԻ ՆԱԽԱՐԱՐՈՒԹՅՈՒՆ | E11: =+E13+E31 -> 0 | F11: =+F13+F31 -> 2529710 | G11: =+G13+G31 -> 6165281.2
D12: այդ թվում`
B13: 1049 | C13: 21001 | D13: Պետական նշանակության ավտոճանապարհների հիմնանորոգում | E13: =+E15 -> 0 | F13: =+F15 -> 2503326.2 | G13: =+G15 -> 6138897.4
D14: այդ թվում` ըստ կատարողների
D15: ՀՀ տարածքային կառավարման և ենթակառուցվածքների նախարարություն | E15: =+E17+E20+E26 -> 0 | F15: =+F17+F20+F26 -> 2503326.2 | G15: =+G17+G20+G26 -> 6138897.4
D16: այդ թվում՝ ըստ ուղղությունների
C17: 1 | D17: Միջպետական նշանակության ավտոճանապարհներ, այդ թվում | E17: =+E18 -> 0 | F17: =+F18 -> 482849.3 | G17: =+G18 -> 1207123.3
D18: Մ-1, Երևան - Գյումրի - Վրաստանի սահման | E18: =+E19 -> 0 | F18: =+F19 -> 482849.3 | G18: =+G19 -> 1207123.3
D19: կմ134+500-կմ141+500 հատվածի հիմնանորոգում | E19: 0 | F19: 482849.3 | G19: 1207123.3
C20: 2 | D20: Հանրապետական նշանակության ավտոճանապարհներ, այդ թվում | E20: =SUM(E21:E25) -> 0 | F20: =SUM(F21:F25) -> 1565480.5 | G20: =SUM(G21:G25) -> 3913701.3
D21: Հ-21, Հոռոմ-Արթիկ-Ալագյազ ավտոճանապարհի կմ 4+000-կմ8+500 հատվածի հիմնանորոգում | E21: 0 | F21: 162519.8 | G21: 406299.4
D22: Հ31, /Մ-1/ - Վարդաղբյուր - Տաշիր - /Մ-3/ ավտոճանապարհի կմ35+300 - կմ45+300 հատվածի հիմնանորոգում | E22: 0 | F22: 405407.7 | G22: 1013519.3
D23: Հ34, Մ3-Ստեփանավան-Պրիվոլնոյե-Վրաստանի սահման կմ 5+000 - կմ 18+000 հատվածի հիմնանորոգում | E23: 0 | F23: 457321.3 | G23: 1143303.3
D24: Հ-46, Մ2-Տաթև-Աղվանի-Մ2 (Սյունիք) ավտոճանապարհի կմ 25+000-կմ37+500 հատվածի հիմնանորոգում | E24: 0 | F24: 471361.1 | G24: 1178402.8
D25: Հ-53, Մ-4 - Սեմյոնովկա - Մ-4 հանրապետական նշանակության ավտոճանապարհի անցանելիության բարելավում | E25: 0 | F25: 68870.6 | G25: 172176.5
C26: 3 | D26: Մարզային նշանակության ավտոճանապարհներ, այդ թվում | E26: =SUM(E27:E30) -> 0 | F26: =SUM(F27:F30) -> 454996.42 | G26: =SUM(G27:G30) -> 1018072.8
D27: /Հ-13/ - Նորաբաց - /Հ-14/ ավտոճանապարհի 5,2 կմ հատվածի հիմնանորոգում | E27: 0 | F27: 184870.4 | G27: 462175.9
D28: ՀՀ Տավուշի մարզի Բերդավան համայնքի ներհամայնքային երկու փողոցների 2,1 կմ երկարությամբ հատվածների հիմնանորոգում | E28: 0 | F28: 101904.2 | G28: 254760.5
D29: ՀՀ Տավուշի մարզի Վերին Կարմիր Աղբյուր համայնքի 1,65 կմ երկարությամբ հատվածի հիմնանորոգում | E29: 0 | F29: =+G29/100*40 -> 88609.72 | G29: 221524.3
D30: Արարատի մարզի Գեղանիստ-Արբաթ միջհամայնքային ճանապարհի 1.127 կմ հատվածի հիմնանորոգում | E30: 0 | F30: =+G30 -> 79612.1 | G30: =78212.7+1399.4 -> 79612.1
B31: 1049 | C31: 21002 | D31: Տրանսպորտային օբյեկտների հիմնանորոգում | E31: =+E33 -> 0 | F31: =+F33 -> 26383.8 | G31: =+G33 -> 26383.8
D32: այդ թվում` ըստ կատարողների
D33: ՀՀ տարածքային կառավարման և ենթակառուցվածքների նախարարություն | E33: =+E35 -> 0 | F33: =+F35 -> 26383.8 | G33: =+G35 -> 26383.8
D34: այդ թվում՝ ըստ ուղղությունների
D35: Հ-12, Մասիսի տրանսպորտային հանգույց-Մասիս-Ռանչպար-Արաքս-Ջրառատ-/Մ-3/ | E35: =+E36 -> 0 | F35: =+F36 -> 26383.8 | G35: =+G36 -> 26383.8
D36: կմ3+450 հատվածում փլուզված կամրջի հիմնանորոգում | F36: =+G36 -> 26383.8 | G36: 26383.8

Sheet 7
E1: Հավելված № 7
E2: ՀՀ կառավարության 2020 թվականի
E3: -------------- ի № ---- -Ն որոշման
A5: ՀԱՅԱՍՏԱՆԻ ՀԱՆՐԱՊԵՏՈՒԹՅԱՆ ԿԱՌԱՎԱՐՈՒԹՅԱՆ 2019 ԹՎԱԿԱՆԻ ԴԵԿՏԵՄԲԵՐԻ 26-Ի № 1919-Ն ՈՐՈՇՄԱՆ № 9 ՀԱՎԵԼՎԱԾԻ № 9.8 ԱՂՅՈՒՍԱԿՈՒՄ ԿԱՏԱՐՎՈՂ ՓՈՓՈԽՈՒԹՅՈՒՆՆԵՐԸ
A6: ՀՀ տարածքային կառավարման և ենթակառուցվածքների նախարարություն
A7: ՄԱՍ 2. ՊԵՏԱԿԱՆ ՄԱՐՄՆԻ ԳԾՈՎ ԱՐԴՅՈՒՆՔԱՅԻՆ (ԿԱՏԱՐՈՂԱԿԱՆ) ՑՈՒՑԱՆԻՇՆԵՐԸ
A8: Ծրագրի դասիչը | B8: Ծրագրի անվանումը
A9: 1049 | B9: Ճանապարհային ցանցի բարելավում
A11: Ծրագրի միջոցառումները
A12: Ծրագրի դասիչը` | B12: 1049 | C12: Ցուցանիշների փոփոխությունները (ավելացումները նշված են դրական նշանով)
A13: Միջոցառման դասիչը` | B13: 21001 | C13: Առաջին կիսամյակ | D13: Ինն ամիս | E13: Տարի
A14: Միջոցառման անվանումը` | B14: Պետական նշանակության ավտոճանապարհների հիմնանորոգում
A15: Նկարագրությունը` | B15: Միջպետական, հանրապետական և մարզային նշանակության ավտոճանապարհների քայքայված ծածկի վերանորոգում, մշակված ծածկի փոխարինում
A16: Միջոցառման տեսակը` | B16: Հանրության կողմից անմիջականորեն օգտագործվող ակտիվների հետ կապված միջոցառումներ
A17: Միջոցառումն իրականացնողի անվանումը | B17: ՀՀ տարածքային կառավարման և ենթակառուցվածքների նախարարություն
A18: Արդյունքի չափորոշիչներ
A19: Հիմնանորոգվող ավտոճանապարհների երկարությունը/կիլոմետր/ այդ թվում՛ | E19: =E20+E21+E22 -> 70.977
A20: Միջպետական նշանակության ավտոճանապարհներ | E20: 7
A21: Հանրապետական նշանակության ավտոճանապարհներ | E21: 53.9
A22: Մարզային նշանակության ավտոճանապարհներ | E22: 10.077
A23: Աշխատանքների ավարտվածության աստիճան, %
A24: Միջոցառման վրա կատարվող ծախսը (հազար դրամ) | C24: 0 | D24: =+'6'!F9-D36 -> 2503326.2 | E24: =+'6'!G9-E36 -> 6138897.4
A26: Ծրագրի դասիչը` | B26: 1049 | C26: Ցուցանիշների փոփոխությունները (ավելացումները նշված են դրական նշանով)
A27: Միջոցառման դասիչը` | B27: 21002 | C27: Առաջին կիսամյակ | D27: Ինն ամիս | E27: Տարի
A28: Միջոցառման անվանումը` | B28: Տրանսպորտային օբյեկտների հիմնանորոգում
A29: Նկարագրությունը` | B29: Ավտոմոբիլային ճանապարհների վրա գտնվող կամուրջների հիմնանորոգում
A30: Միջոցառման տեսակը` | B30: Հանրության կողմից անմիջականորեն օգտագործվող ակտիվների հետ կապված միջոցառումներ
A31: Արդյունքի չափորոշիչներ
A32: Հիմնանորոգվող տրանսպորտային օբյեկտների թիվը, այդ թվում՛ | E32: =+E33 -> 1
A33: Կամուրջներ | E33: 1
A34: Կամուրջներ (մ)
A35: Աշխատանքների ավարտվածության աստիճան, %
A36: Միջոցառման վրա կատարվող ծախսը (հազար դրամ) | C36: =+'6'!E33 -> 0 | D36: =+'6'!F33 -> 26383.8 | E36: =+'6'!G33 -> 26383.8
A38: Ծրագրի դասիչը | B38: Ծրագրի անվանումը
A39: 1212 | B39: Տարածքային զարգացում
A41: Ծրագրի միջոցառումները
A43: Ծրագրի դասիչը` | B43: 1212 | C43: Ցուցանիշների փոփոխությունները (նվազեցումները նշված են փակագծերում)
A44: Միջոցառման դասիչը` | B44: 12007 | C44: Առաջին կիսամյակ | D44: Ինն ամիս | E44: Տարի
A45: Միջոցառման անվանումը` | B45: ՀՀ մարզերին սուբվենցիաների տրամադրում` ենթակառուցվածքների զարգացման նպատակով_x000D_
A46: Նկարագրությունը` | B46: ՀՀ մարզերին սուբվենցիաների տրամադրում` ենթակառուցվածքների զարգացման նպատակով
...

Sheet 8
E1: Հավելված № 8
E2: ՀՀ կառավարության 2020 թվականի
E3: -------------- ի № ---- -Ն որոշման
A5: ՀԱՅԱՍՏԱՆԻ ՀԱՆՐԱՊԵՏՈՒԹՅԱՆ ԿԱՌԱՎԱՐՈՒԹՅԱՆ 2019 ԹՎԱԿԱՆԻ ԴԵԿՏԵՄԲԵՐԻ 26-Ի № 1919-Ն ՈՐՈՇՄԱՆ № 9.1 ՀԱՎԵԼՎԱԾԻ №№ 9.1.8 և 9.1.58 ԱՂՅՈՒՍԱԿՆԵՐՈՒՄ ԿԱՏԱՐՎՈՂ ՓՈՓՈԽՈՒԹՅՈՒՆՆԵՐԸ
A6: ՀՀ տարածքային կառավարման և ենթակառուցվածքների նախարարություն
A7: ՄԱՍ 1. ՊԵՏԱԿԱՆ ՄԱՐՄՆԻ ԳԾՈՎ ԱՐԴՅՈՒՆՔԱՅԻՆ (ԿԱՏԱՐՈՂԱԿԱՆ) ՑՈՒՑԱՆԻՇՆԵՐԸ
A8: Ծրագրի դասիչը | B8: Ծրագրի անվանումը
A9: 1049 | B9: Ճանապարհային ցանցի բարելավում
A11: Ծրագրի միջոցառումները
A12: Ծրագրի դասիչը` | B12: 1049 | C12: Ցուցանիշների փոփոխությունները (ավելացումները նշված են դրական նշանով)
A13: Միջոցառման դասիչը` | B13: 21001 | C13: Առաջին կիսամյակ | D13: Ինն ամիս | E13: Տարի
A14: Միջոցառման անվանումը` | B14: Պետական նշանակության ավտոճանապարհների հիմնանորոգում
A15: Նկարագրությունը` | B15: Միջպետական, հանրապետական և մարզային նշանակության ավտոճանապարհների քայքայված ծածկի վերանորոգում, մշակված ծածկի փոխարինում
A16: Միջոցառման տեսակը` | B16: Հանրության կողմից անմիջականորեն օգտագործվող ակտիվների հետ կապված միջոցառումներ
A17: Միջոցառումն իրականացնողի անվանումը | B17: ՀՀ տարածքային կառավարման և ենթակառուցվածքների նախարարություն
A18: Արդյունքի չափորոշիչներ
A19: Հիմնանորոգվող ավտոճանապարհների երկարությունը/կիլոմետր/ այդ թվում՛ | E19: =E20+E21+E22 -> 70.977
A20: Միջպետական նշանակության ավտոճանապարհներ | E20: 7
A21: Հանրապետական նշանակության ավտոճանապարհներ | E21: 53.9
A22: Մարզային նշանակության ավտոճանապարհներ | E22: 10.077
A23: Աշխատանքների ավարտվածության աստիճան, %
A24: Միջոցառման վրա կատարվող ծախսը (հազար դրամ) | C24: 0 | D24: =+'7'!D24 -> 2503326.2 | E24: =+'7'!E24 -> 6138897.4
A26: Ծրագրի դասիչը` | B26: 1049 | C26: Ցուցանիշների փոփոխությունները (ավելացումները նշված են դրական նշանով)
A27: Միջոցառման դասիչը` | B27: 21002 | C27: Առաջին կիսամյակ | D27: Ինն ամիս | E27: Տարի
A28: Միջոցառման անվանումը` | B28: Տրանսպորտային օբյեկտների հիմնանորոգում
A29: Նկարագրությունը` | B29: Ավտոմոբիլային ճանապարհների վրա գտնվող կամուրջների հիմնանորոգում
A30: Միջոցառման տեսակը` | B30: Հանրության կողմից անմիջականորեն օգտագործվող ակտիվների հետ կապված միջոցառումներ
A31: Արդյունքի չափորոշիչներ
A32: Հիմնանորոգվող տրանսպորտային օբյեկտների թիվը, այդ թվում՛ | E32: =+E33 -> 1
A33: Կամուրջներ | E33: 1
A34: Կամուրջներ (մ)
A35: Աշխատանքների ավարտվածության աստիճան, %
A36: Միջոցառման վրա կատարվող ծախսը (հազար դրամ) | C36: =+'6'!E33 -> 0 | D36: =+'6'!F33 -> 26383.8 | E36: =+'6'!G33 -> 26383.8
A38: ՀՀ կառավարություն
A39: ՄԱՍ 1. ՊԵՏԱԿԱՆ ՄԱՐՄՆԻ ԳԾՈՎ ԱՐԴՅՈՒՆՔԱՅԻՆ (ԿԱՏԱՐՈՂԱԿԱՆ) ՑՈՒՑԱՆԻՇՆԵՐԸ
A41: Ծրագրի դասիչը | B41: Ծրագրի անվանումը
A42: 1212 | B42: Տարածքային զարգացում
A44: Ծրագրի միջոցառումները
A45: Ծրագրի դասիչը` | B45: 1212 | C45: Ցուցանիշների փոփոխությունները (նվազեցումները նշված են փակագծերում)
A46: Միջոցառման դասիչը` | B46: 12007 | C46: Առաջին կիսամյակ | D46: Ինն ամիս | E46: Տարի
...

Sheet 9
G1: Հավելված № 9
G2: ՀՀ կառավարության 2020 թվականի
G3: -------------- ի № ---- -Ն որոշման
A5: ՀԱՅԱՍՏԱՆԻ ՀԱՆՐԱՊԵՏՈՒԹՅԱՆ ԿԱՌԱՎԱՐՈՒԹՅԱՆ 2019 ԹՎԱԿԱՆԻ ԴԵԿՏԵՄԲԵՐԻ 26-Ի № 1919-Ն ՈՐՈՇՄԱՆ № 10 ՀԱՎԵԼՎԱԾՈՒՄ ԿԱՏԱՐՎՈՂ ԼՐԱՑՈՒՄՆԵՐԸ
A6: Կոդը | B6: Անվանումը | C6: Գնման ձևը | D6: Չափման միավորը | E6: Միավորի գինը | F6: Ցուցանիշների փոփոխությունը (ավելացումները նշված են դրական նշանով, իսկ նվազեցումները` փակագծերում)
F7: Քանակը | G7: Գումարը (հազար դրամով)
A8: ՀՀ տարածքային կառավարման և ենթակառուցվածքների նախարարություն
A9: Բաժին N 04 | B9: Խումբ N 05 | C9: Դաս N 01 | D9: Ճանապարհային տրանսպորտ | G9: =+G10+G35 -> 6165281.2
A10: 1049 21001 | B10: Պետական նշանակության ավտոճանապարհների հիմնանորոգում | G10: =G11+G22 -> 6138897.4
A11: ՄԱՍ II. ԱՇԽԱՏԱՆՔՆԵՐ | G11: =SUM(G12:G21) -> 6092776
A12: 45231177 | B12: ճանապարհների վերանորոգման աշխատանքներ | C12: ԲՄ | D12: դրամ | E12: 1199000000 | F12: 1 | G12: =+F12*E12/1000 -> 1199000
A13: 45231177 | B13: ճանապարհների վերանորոգման աշխատանքներ | C13: ԲՄ | D13: դրամ | E13: 403600000 | F13: 1 | G13: =+F13*E13/1000 -> 403600
A14: 45231177 | B14: ճանապարհների վերանորոգման աշխատանքներ | C14: ԲՄ | D14: դրամ | E14: 1006800000 | F14: 1 | G14: =+F14*E14/1000 -> 1006800
A15: 45231177 | B15: ճանապարհների վերանորոգման աշխատանքներ | C15: ԲՄ | D15: դրամ | E15: 1134600000 | F15: 1 | G15: =+F15*E15/1000 -> 1134600
A16: 45231177 | B16: ճանապարհների վերանորոգման աշխատանքներ | C16: ԲՄ | D16: դրամ | E16: 1170928500 | F16: 1 | G16: =+F16*E16/1000 -> 1170928.5
A17: 45231177 | B17: ճանապարհների վերանորոգման աշխատանքներ | C17: ԲՄ | D17: դրամ | E17: 171000000 | F17: 1 | G17: =+F17*E17/1000 -> 171000
A18: 45231177 | B18: ճանապարհների վերանորոգման աշխատանքներ | C18: ԲՄ | D18: դրամ | E18: 459419400 | F18: 1 | G18: =+F18*E18/1000 -> 459419.4
A19: 45231177 | B19: ճանապարհների վերանորոգման աշխատանքներ | C19: ԲՄ | D19: դրամ | E19: 249500000 | F19: 1 | G19: =+F19*E19/1000 -> 249500
A20: 45231177 | B20: ճանապարհների վերանորոգման աշխատանքներ | C20: ԲՄ | D20: դրամ | E20: 220181900 | F20: 1 | G20: =+F20*E20/1000 -> 220181.9
A21: 45231177 | B21: ճանապարհների վերանորոգման աշխատանքներ | C21: ԲՄ | D21: դրամ | E21: 77746200 | F21: 1 | G21: =+F21*E21/1000 -> 77746.2
A22: ՄԱՍ III. ԾԱՌԱՅՈՒԹՅՈՒՆՆԵՐ | G22: =SUM(G23:G34) -> 46121.4
A23: 71351540 | B23: տեխնիկական հսկողության ծառայություններ | C23: ԳՀ | D23: դրամ | E23: 3756000 | F23: 1 | G23: =+F23*E23/1000 -> 3756
A24: 71351541 | B24: տեխնիկական հսկողության ծառայություններ | C24: ԳՀ | D24: դրամ | E24: 1399400 | F24: 1 | G24: =+F24*E24/1000 -> 1399.4
A25: 98111140 | B25: հեղինակային հսկողության ծառայություններ | C25: ՄԱ | D25: դրամ | E25: 8123300 | F25: 1 | G25: =+F25*E25/1000 -> 8123.3
A26: 98111140 | B26: հեղինակային հսկողության ծառայություններ | C26: ՄԱ | D26: դրամ | E26: 2699400 | F26: 1 | G26: =+F26*E26/1000 -> 2699.4
A27: 98111140 | B27: հեղինակային հսկողության ծառայություններ | C27: ՄԱ | D27: դրամ | E27: 6719300 | F27: 1 | G27: =+F27*E27/1000 -> 6719.3
A28: 98111140 | B28: հեղինակային հսկողության ծառայություններ | C28: ՄԱ | D28: դրամ | E28: 8703300 | F28: 1 | G28: =+F28*E28/1000 -> 8703.3
A29: 98111140 | B29: հեղինակային հսկողության ծառայություններ | C29: ՄԱ | D29: դրամ | E29: 7474300 | F29: 1 | G29: =+F29*E29/1000 -> 7474.3
A30: 98111140 | B30: հեղինակային հսկողության ծառայություններ | C30: ՄԱ | D30: դրամ | E30: 1176500 | F30: 1 | G30: =+F30*E30/1000 -> 1176.5
A31: 98111140 | B31: հեղինակային հսկողության ծառայություններ | C31: ՄԱ | D31: դրամ | E31: 2756500 | F31: 1 | G31: =+F31*E31/1000 -> 2756.5
A32: 98111140 | B32: հեղինակային հսկողության ծառայություններ | C32: ՄԱ | D32: դրամ | E32: 1504500 | F32: 1 | G32: =+F32*E32/1000 -> 1504.5
A33: 98111140 | B33: հեղինակային հսկողության ծառայություններ | C33: ՄԱ | D33: դրամ | E33: 1342400 | F33: 1 | G33: =+F33*E33/1000 -> 1342.4
A34: 98111140 | B34: հեղինակային հսկողության ծառայություններ | C34: ՄԱ | D34: դրամ | E34: 466500 | F34: 1 | G34: =+F34*E34/1000 -> 466.5
A35: 1049 21002 | B35: Տրանսպորտային օբյեկտների հիմնանորոգում | G35: =+G36+G38 -> 26383.8
A36: ՄԱՍ II. ԱՇԽԱՏԱՆՔՆԵՐ | G36: =SUM(G37:G37) -> 26226.4
A37: 45231177/581 | B37: կամուրջների վերանորոգման շինարարական աշխատանքներեր | C37: ԳՀ | D37: դրամ | E37: 26226400 | F37: 1 | G37: =+F37*E37/1000 -> 26226.4
A38: ՄԱՍ III. ԾԱՌԱՅՈՒԹՅՈՒՆՆԵՐ | G38: =SUM(G39:G39) -> 157.4
A39: 98111140 | B39: հեղինակային հսկողության ծառայություններ | C39: ՄԱ | D39: դրամ | E39: 157400 | F39: 1 | G39: =+F39*E39/1000 -> 157.4
