Workbook
Name AgencyCode: #REF!
Name AgencyCode: #REF!
Name AgencyCode: #REF!
Name AgencyName: #REF!
Name AgencyName: #REF!
Name AgencyName: #REF!
Name davit: #REF!
Name davit: #REF!
Name davit: #REF!
Name Functional1: #REF!
Name Functional1: #REF!
Name Functional1: #REF!
Name ggg: #REF!
Name ggg: #REF!
Name ggg: #REF!
Name PANature: #REF!
Name PANature: #REF!
Name PANature: #REF!
Name PAType: #REF!
Name PAType: #REF!
Name PAType: #REF!
Name Performance2: #REF!
Name Performance2: #REF!
Name Performance2: #REF!
Name PerformanceType: #REF!
Name PerformanceType: #REF!
Name PerformanceType: #REF!
Name Հավելված: #REF!
Name Հավելված: #REF!
Name Հավելված: #REF!
Name Մաս: #REF!
Name Մաս: #REF!
Name Մաս: #REF!
Name շախմատիստ: #REF!
Name շախմատիստ: #REF!
Name շախմատիստ: #REF!

Sheet 1
A1: Հավելված N 1
A2: ՀՀ կառավարության 2020 թվականի
A3: ______________ ի ___Ն որոշման
A5: ՀԱՅԱՍՏԱՆԻ ՀԱՆՐԱՊԵՏՈՒԹՅԱՆ ԿԱՌԱՎԱՐՈՒԹՅԱՆ 2019 ԹՎԱԿԱՆԻ ԴԵԿՏԵՄԲԵՐԻ 26-Ի N 1919-Ն ՈՐՈՇՄԱՆ N 1 ՀԱՎԵԼՎԱԾԻ N 1 ԱՂՅՈՒՍԱԿՈՒՄ ԿԱՏԱՐՎՈՂ ՓՈՓՈԽՈՒԹՅՈՒՆՆԵՐԸ
C7: հազար դրամներով
A8: Պետական բյուջեի դեֆիցիտի ֆինանսավորման աղբյուրներն ու դրանց տարրերի անվանումները | B8: Ցուցանիշների փոփոխությունը (ավելացումները նշված են դրական նշանով)
B9: Առաջին կիսամյակ | C9: Ինն ամիս | D9: Տարի
A10: ԸՆԴԱՄԵՆԸ | B10: =B12 -> 8600000 | C10: =C12 -> 8600000 | D10: =D12 -> 0
A11: այդ թվում՝
A12: Ա.Ներքին աղբյուրներ-ընդամենը | B12: =B14 -> 8600000 | C12: =C14 -> 8600000 | D12: =D14 -> 0
A13: այդ թվում՝
A14: 2. Ֆինանսական զուտ ակտիվներ | B14: =B16 -> 8600000 | C14: =C16 -> 8600000 | D14: =D16 -> 0
A15: այդ թվում՝
A16: 2.6.Այլ | B16: =B17 -> 8600000 | C16: =C17 -> 8600000 | D16: =D17 -> 0
A17: ժամանակավորապես ազատ միջոցներ | B17: ='3'!D10 -> 8600000 | C17: ='3'!E10 -> 8600000 | D17: ='3'!F10 -> 0

Sheet 2
A1: Հավելված N 2
A2: ՀՀ կառավարության 2020 թվականի
A3: ______________ ի ___Ն որոշման
A6: ՀԱՅԱՍՏԱՆԻ ՀԱՆՐԱՊԵՏՈՒԹՅԱՆ ԿԱՌԱՎԱՐՈՒԹՅԱՆ 2019 ԹՎԱԿԱՆԻ ԴԵԿՏԵՄԲԵՐԻ 26-Ի N 1919-Ն ՈՐՈՇՄԱՆ N 3 ԵՎ N 4 ՀԱՎԵԼՎԱԾՆԵՐՈՒՄ ԿԱՏԱՐՎՈՂ ՓՈՓՈԽՈՒԹՅՈՒՆՆԵՐԸ
H8: հազար դրամներով
A9: Գործառական դասիչը | D9: Ծրագրային դասիչը | F9: Բյուջետային ծախսերի գործառական դասակարգման բաժինների, խմբերի և դասերի, տնտեսագիտական դասակարգման հոդվածների, բյուջետային հատկացումների գլխավոր կարգադրիչների, բյուջետային ծրագրերի, միջոցառումների և միջոցառումները կատարող պետական մարմինների անվանումները | G9: Ցուցանիշների փոփոխությունը (ավելացումները նշված են դրական նշանով)
A10: Բաժին | B10: Խումբ | C10: Դաս | D10: Ծրագիր | E10: Միջոցառում | G10: Առաջին կիսամյակ | H10: Ինն ամիս | I10: Տարի
F11: ԸՆԴԱՄԵՆԸ ԾԱԽՍԵՐ | G11: =G13 -> 8600000 | H11: =H13 -> 8600000 | I11: =I13 -> 0
F12: այդ թվում`
A13: 10 | F13: ՍՈՑԻԱԼԱԿԱՆ ՊԱՇՏՊԱՆՈՒԹՅՈՒՆ | G13: =G15 -> 8600000 | H13: =H15 -> 8600000 | I13: =I15 -> 0
F14: այդ թվում`
B15: 02 | F15: Ծերություն | G15: =+G17 -> 8600000 | H15: =+H17 -> 8600000 | I15: =+I17 -> 0
F16: այդ թվում՝
C17: 01 | F17: Ծերություն | G17: =+G19 -> 8600000 | H17: =+H19 -> 8600000 | I17: =+I19 -> 0
F18: այդ թվում`
F19: ՀՀ աշխատանքի և սոցիալական հարցերի նախարարություն | G19: =+G21 -> 8600000 | H19: =+H21 -> 8600000 | I19: =+I21 -> 0
F20: այդ թվում`
D21: 1102 | F21: Կենսաթոշակային ապահովություն | G21: =G23 -> 8600000 | H21: =H23 -> 8600000 | I21: =I23 -> 0
F22: այդ թվում՝
E23: 12005 | F23: Կուտակային հատկացումներ մասնակցի կենսաթոշակային հաշվին | G23: =G25 -> 8600000 | H23: =H25 -> 8600000 | I23: =I25 -> 0
F24: այդ թվում` ըստ կատարողների
F25: ՀՀ պետական եկամուտների կոմիտե | G25: =+G27 -> 8600000 | H25: =+H27 -> 8600000 | I25: =+I27 -> 0
F26: այդ թվում` բյուջետային ծախսերի տնտեսագիտական դասակարգման հոդվածներ
F27: ԸՆԴԱՄԵՆԸ ԾԱԽՍԵՐ | G27: =+G28 -> 8600000 | H27: =+H28 -> 8600000 | I27: =+I28 -> 0
F28: ԸՆԹԱՑԻԿ ԾԱԽՍԵՐ | G28: =G30 -> 8600000 | H28: =H30 -> 8600000 | I28: =I30 -> 0
F29: ՍՈՑԻԱԼԱԿԱՆ ՆՊԱՍՏՆԵՐ ԵՎ ԿԵՆՍԱԹՈՇԱԿՆԵՐ | G29: =G30 -> 8600000 | H29: =H30 -> 8600000 | I29: =I30 -> 0
F30: Կենսաթոշակներ | G30: =G31 -> 8600000 | H30: =H31 -> 8600000 | I30: =I31 -> 0
F31: - Կենսաթոշակներ | G31: 8600000 | H31: 8600000 | I31: 0

Sheet 3
A1: Հավելված N 3
A2: ՀՀ կառավարության 2020 թվականի
A3: ______________ ի ___Ն որոշման
A5: ՀԱՅԱՍՏԱՆԻ ՀԱՆՐԱՊԵՏՈՒԹՅԱՆ ԿԱՌԱՎԱՐՈՒԹՅԱՆ 2019 ԹՎԱԿԱՆԻ ԴԵԿՏԵՄԲԵՐԻ 26-Ի N 1919-Ն ՈՐՈՇՄԱՆ N 5 ՀԱՎԵԼՎԱԾԻ N 1 ԱՂՅՈՒՍԱԿՈՒՄ ԿԱՏԱՐՎՈՂ ՓՈՓՈԽՈՒԹՅՈՒՆՆԵՐԸ
E7: հազար դրամներով
A8: Ծրագրային դասիչը | C8: Բյուջետային հատկացումների գլխավոր կարգադրիչների, ծրագրերի և միջոցառումների անվանումները | D8: Ցուցանիշների փոփոխությունը (ավելացումները նշված են դրական նշանով)
A9: Ծրագիր | B9: Միջոցառում | D9: Առաջին կիսամյակ | E9: Ինն ամիս | F9: Տարի
C10: ԸՆԴԱՄԵՆԸ | D10: =D12 -> 8600000 | E10: =E12 -> 8600000 | F10: =F12 -> 0
C11: այդ թվում՝
C12: ՀՀ աշխատանքի և սոցիալական հարցերի նախարարություն | D12: =D14 -> 8600000 | E12: =E14 -> 8600000 | F12: =F14 -> 0
C13: այդ թվում՝
A14: 1102 | C14: Ծրագրի անվանումը` | D14: =D21 -> 8600000 | E14: =E21 -> 8600000 | F14: =F21 -> 0
C15: Կենսաթոշակային ապահովություն
C16: Ծրագրի նպատակը`
C17: Կենսաթոշակի իրավունքի իրացում
C18: Վերջնական արդյունքի նկարագրությունը`
C19: Կենսաթոշակների նշանակման և վճարման գործընթացի ապահովում
C20: Ծրագրի միջոցառումներ
B21: 12005 | C21: Միջոցառման անվանումը` | D21: ='2'!G23 -> 8600000 | E21: ='2'!H23 -> 8600000 | F21: ='2'!I23 -> 0
C22: Կուտակային հատկացումներ մասնակցի կենսաթոշակային հաշվին
C23: Միջոցառման նկարագրությունը`
C24: «Կուտակային կենսաթոշակների մասին» ՀՀ օրենքով սահմանված կարգով մասնակցի կենսաթոշակային հաշվին կուտակային հատկացումների կատարում
C25: Միջոցառման տեսակը
C26: Տրանսֆերտների տրամադրում

Sheet 4
A1: Հավելված N 4
A2: ՀՀ կառավարության 2020 թվականի
A3: ______________ ի ___Ն որոշման
A6: ՀԱՅԱՍՏԱՆԻ ՀԱՆՐԱՊԵՏՈՒԹՅԱՆ ԿԱՌԱՎԱՐՈՒԹՅԱՆ 2019 ԹՎԱԿԱՆԻ ԴԵԿՏԵՄԲԵՐԻ 26-Ի N 1919-Ն ՈՐՈՇՄԱՆ N 9 ՀԱՎԵԼՎԱԾԻ 9․16 ԱՂՅՈՒՍԱԿՈՒՄ ԿԱՏԱՐՎՈՂ ՓՈՓՈԽՈՒԹՅՈՒՆՆԵՐԸ
A8: ՀՀ աշխատանքի և սոցիալական հարցերի նախարարություն
A10: ՄԱՍ 2. ՊԵՏԱԿԱՆ ՄԱՐՄՆԻ ԳԾՈՎ ԱՐԴՅՈՒՆՔԱՅԻՆ (ԿԱՏԱՐՈՂԱԿԱՆ) ՑՈՒՑԱՆԻՇՆԵՐԸ
A11: Ծրագրի դասիչը | B11: Ծրագրի անվանումը
A12: ='3'!A14 -> 1102 | B12: ='3'!C15 -> Կենսաթոշակային ապահովություն
A14: Միջոցառման անվանումը` | B14: =A12 -> 1102 | C14: Ցուցանիշների փոփոխությունը (ավելացումները նշված են դրական նշանով)
A15: Միջոցառման դասիչը` | B15: ='3'!B21 -> 12005 | C15: Առաջին կիսամյակ | D15: Ինն ամիս | E15: Տարի
A16: Միջոցառման անվանումը` | B16: ='3'!C22 -> Կուտակային հատկացումներ մասնակցի կենսաթոշակային հաշվին
A17: Նկարագրությունը` | B17: ='3'!C24 -> «Կուտակային կենսաթոշակների մասին» ՀՀ օրենքով սահմանված կարգով մասնակցի կենսաթոշակային հաշվին կուտակային հատկացումների կատարում
A18: Միջոցառման տեսակը` | B18: ='3'!C26 -> Տրանսֆերտների տրամադրում
A19: Շահառուների ընտրության չափանիշները | B19: Կուտակային կենսաթոշակային համակարգի մասնակիցներ
A20: Արդյունքի չափորոշիչներ
A21: Միջոցառման վրա կատարվող ծախսը (հազար դրամ) | C21: ='2'!G23 -> 8600000 | D21: ='2'!H23 -> 8600000 | E21: ='2'!I23 -> 0

Sheet 5
A1: Հավելված N 5
A2: ՀՀ կառավարության 2020 թվականի
A3: ______________ ի ___Ն որոշման
A6: ՀԱՅԱՍՏԱՆԻ ՀԱՆՐԱՊԵՏՈՒԹՅԱՆ ԿԱՌԱՎԱՐՈՒԹՅԱՆ 2019 ԹՎԱԿԱՆԻ ԴԵԿՏԵՄԲԵՐԻ 26-Ի ԹԻՎ 1919-Ն ՈՐՈՇՄԱՆ N 9.1 ՀԱՎԵԼՎԱԾԻ 9․1.28 ԱՂՅՈՒՍԱԿՈՒՄ ԿԱՏԱՐՎՈՂ ՓՈՓՈԽՈՒԹՅՈՒՆՆԵՐԸ
A8: ՀՀ պետական եկամուտների կոմիտե
A10: ՄԱՍ 1. ՊԵՏԱԿԱՆ ՄԱՐՄՆԻ ԳԾՈՎ ԱՐԴՅՈՒՆՔԱՅԻՆ (ԿԱՏԱՐՈՂԱԿԱՆ) ՑՈՒՑԱՆԻՇՆԵՐԸ
A11: Ծրագրի դասիչը | B11: Ծրագրի անվանումը
A12: ='4'!A12 -> 1102 | B12: ='4'!B12:E12 -> Կենսաթոշակային ապահովություն
A14: Միջոցառման անվանումը` | B14: ='4'!B14 -> 1102 | C14: Ցուցանիշների փոփոխությունը (ավելացումները նշված են դրական նշանով)
A15: Միջոցառման դասիչը` | B15: ='4'!B15 -> 12005 | C15: Առաջին կիսամյակ | D15: Ինն ամիս | E15: Տարի
A16: Միջոցառման անվանումը` | B16: ='4'!B16 -> Կուտակային հատկացումներ մասնակցի կենսաթոշակային հաշվին
A17: Նկարագրությունը` | B17: ='4'!B17 -> «Կուտակային կենսաթոշակների մասին» ՀՀ օրենքով սահմանված կարգով մասնակցի կենսաթոշակային հաշվին կուտակային հատկացումների կատարում
A18: Միջոցառման տեսակը` | B18: ='4'!B18 -> Տրանսֆերտների տրամադրում
A19: Շահառուների ընտրության չափանիշները | B19: ='4'!B19 -> Կուտակային կենսաթոշակային համակարգի մասնակիցներ
A20: Արդյունքի չափորոշիչներ
A21: Միջոցառման վրա կատարվող ծախսը (հազար դրամ) | C21: ='4'!C21 -> 8600000 | D21: ='4'!D21 -> 8600000 | E21: ='4'!E21 -> 0
