Workbook
Name \A: #REF!
Name \A: #REF!
Name Armata: #REF!
Name Armata: #REF!
Name BOP: #REF!
Name BOP: #REF!
Name BOPfoot: #REF!
Name BOPfoot: #REF!
Name DebtCG: '[1]Fis-Debt'!#REF!
Name DebtCG: '[1]Fis-Debt'!#REF!
Name DebtGG: #REF!
Name DebtGG: #REF!
Name MonExo: #REF!
Name MonExo: #REF!
Name MonGrow: [2]BM!#REF!
Name MonGrow: [2]BM!#REF!
Name RealExo: #REF!
Name RealExo: #REF!
Name RealPercent: #REF!
Name RealPercent: #REF!
Name Table_2._Turkey__Exogenous_assumptions: #REF!
Name Table_2._Turkey__Exogenous_assumptions: #REF!
Name է: [2]BM!#REF!
Name է: [2]BM!#REF!
Name ՀՀՀՀՀ: #REF!
Name ՀՀՀՀՀ: #REF!
Name շախմատիստ: #REF!
Name շախմատիստ: #REF!
Name շախմատիստ: #REF!

Sheet N 1
C1: Հավելված 1 ՀՀ կառավարության 2020 թվականի____________ի N _____-Ն որոշման
A3: «ՀԱՅԱՍՏԱՆԻ ՀԱՆՐԱՊԵՏՈՒԹՅԱՆ 2020 ԹՎԱԿԱՆԻ ՊԵՏԱԿԱՆ ԲՅՈՒՋԵԻ ՄԱՍԻՆ» ՀԱՅԱՍՏԱՆԻ ՀԱՆՐԱՊԵՏՈՒԹՅԱՆ ՕՐԵՆՔԻ N 1 ՀԱՎԵԼՎԱԾԻ N 2 ԱՂՅՈՒՍԱԿՈՒՄ ԿԱՏԱՐՎՈՂ ՎԵՐԱԲԱՇԽՈՒՄԸ ԵՎ ՀԱՅԱՍՏԱՆԻ ՀԱՆՐԱՊԵՏՈՒԹՅԱՆ ԿԱՌԱՎԱՐՈՒԹՅԱՆ 2019 ԹՎԱԿԱՆԻ ԴԵԿՏԵՄԲԵՐԻ 26-Ի N 1919-Ն ՈՐՈՇՄԱՆ N 5 ՀԱՎԵԼՎԱԾԻ N 1 ԱՂՅՈՒՍԱԿՈՒՄ ԿԱՏԱՐՎՈՂ ՓՈՓՈԽՈՒԹՅՈՒՆՆԵՐԸ ԵՎ ԼՐԱՑՈՒՄՆԵՐԸ
D4: հազար դրամներով
A5: Ծրագրային դասիչը | C5: Բյուջետային հատկացումների գլխավոր կարգադրիչների, ծրագրերի և միջոցառումների անվանումները | D5: Ցուցանիշների փոփոխությունը (ավելացումները նշված են դրական նշանով, իսկ նվազեցումները` փակագծերում)
A6: Ծրագիր | B6: Միջոցառում | D6: Ինն ամիս | E6: Տարի
C7: ԸՆԴԱՄԵՆԸ այդ թվում` | D7: =D32+D46+D73 -> 0 | E7: =E32+E46+E73 -> 0
C8: ՀՀ կառավարություն | D8: =D9 -> 0 | E8: =E9 -> 0
A9: 1139 | C9: Ծրագրի անվանումը | D9: =D16+D24 -> 0 | E9: =E16+E24 -> 0
C10: ՀՀ կառավարության պահուստային ֆոնդ
C11: Ծրագրի նպատակը
C12: Պետական բյուջեում չկանխատեսված, ինչպես նաև բյուջետային երաշխիքների ապահովման ծախսերի ֆինանսավորման ապահովում
C13: Վերջնական արդյունքի նկարագրությունը
C14: Պահուստային ֆոնդի կառավարման արդյունավետություն և թափանցիկություն
A15: Ծրագրի միջոցառումներ
B16: 11001 | C16: Միջոցառման անվանումը | D16: =-D32-D46 -> 415303.4 | E16: =-E32-E46 -> 946730
C17: ՀՀ կառավարության պահուստային ֆոնդ
C18: Միջոցառման նկարագրությունը
C19: ՀՀ պետական բյուջեում նախատեսված ելքերի լրացուցիչ ֆինանսավորման,
C20: պետական բյուջեում չկանխատեսված ելքերի, ինչպես նաև բյուջետային
C21: երաշխիքների ապահովման ելքերի ֆինանսավորման ապահովում
C22: Միջոցառման տեսակը
C23: Ծառայությունների մատուցում
B24: 11001 | C24: Միջոցառման անվանումը | D24: =-D16 -> -415303.4 | E24: =-E16 -> -946730
C25: ՀՀ կառավարության պահուստային ֆոնդ
C26: Միջոցառման նկարագրությունը
C27: ՀՀ պետական բյուջեում նախատեսված ելքերի լրացուցիչ ֆինանսավորման,
C28: պետական բյուջեում չկանխատեսված ելքերի, ինչպես նաև բյուջետային
C29: երաշխիքների ապահովման ելքերի ֆինանսավորման ապահովում
C30: Միջոցառման տեսակը
C31: Ծառայությունների մատուցում
C32: ՀՀ արտակարգ իրավիճակների նախարարություն | D32: =D33 -> -328285.1 | E32: =E33 -> -761621.5
A33: 1020 | C33: Ծրագրի անվանումը` | D33: =D40 -> -328285.1 | E33: =E40 -> -761621.5
C34: Հիդրոօդերևութաբանական ծառայություններ
C35: Ծրագրի նպատակը`
C36: Հիդրոօդերևութաբանական վտանգավոր երևույթներից և կլիմայական ռիսկերից բնակչության և տնտեսության պաշտպանություն
C37: Վերջնական արդյունքի նկարագրությունը`
C38: Հիդրոօդերևութաբանական տեղեկատվության պարբերական և ժամանակին հրապարակման և հասանելիության ապահովում, հիդրոօդերևութաբանական վտանգավոր երևույթների ազդեցության նվազեցում
C39: Ծրագրի միջոցառումներ
B40: 11001 | C40: Միջոցառման անվանումը` | D40: =-879804.1--551519 -> -328285.1 | E40: =-1313140.5--551519 -> -761621.5 | F40: 442.090.6 | G40: 871049.9
C41: Հիդրոօդերևութաբանական ծառայություններ
C42: Միջոցառման նկարագրությունը` | F42: 223233.9 | G42: 551519 | H42: 879804.1 | I42: 1313140.5
C43: Հիդրոօդերևութաբանական դիտարկումների, կլիմայի փոփոխության ուսումնասիրությունների և մոնիտորինգի իրականացում: Հիդրոօդերևութաբանական տվյալների հավաքագրում, կանխատեսումների իրականացում և վտանգավոր աղետային երևույթների վերաբերյալ նախազգուշացում | G43: 442090.6 | H43: 442090.6 | I43: 442090.6
C44: Միջոցառման տեսակը | G44: =G42-G43 -> 109428.4 | H44: =H42-H43 -> 437713.5 | I44: =I42-I43 -> 871049.9
C45: Ծառայությունների մատուցում
C46: ՀՀ Շրջակա միջավայրի նախարարություն | D46: =D47+D60 -> -87018.3 | E46: =E47+E60 -> -185108.5
A47: 1173 | C47: Ծրագրի անվանումը` | D47: =D54 -> -18607.8 | E47: =E54 -> -34605.5
C48: Անտառների կառավարում
C49: Ծրագրի նպատակը`
C50: Անտառային տարածքների կայուն կառավարում
C51: Վերջնական արդյունքի նկարագրությունը`
C52: Կայուն կառավարվող անտառային տարածքների աճ | F52: 10665.2 | G52: 23996.6 | H52: 37328.1 | I52: 53325.8
C53: Ծրագրի միջոցառումներ
B54: 11005 | C54: Միջոցառման անվանումը` | D54: =-37328.1--18720.3 -> -18607.8 | E54: =-53325.8--18720.3 -> -34605.5 | F54: 15320.3 | G54: 38005.5
C55: Անտառային պետական մոնիտորինգի իրականացում
C56: Միջոցառման նկարագրությունը`
C57: Անտառային տարածքներում ուսումնասիրությունների և մասնակի դիտարկումների անցկացում
C58: Միջոցառման տեսակը
C59: Ծառայությունների մատուցում
A60: 1016 | C60: Ծրագրի անվանումը` | D60: =D67 -> -68410.5 | E60: =E67 -> -150503
C61: Շրջակա միջավայրի վրա ազդեցության գնահատում և մոնիթորինգ
C62: Ծրագրի նպատակը`
C63: Նպաստել շրջակա միջավայրի և բնական ռեսուրսների (բացառությամբ օգտակար հանածոների) պահպանությանը
C64: Վերջնական արդյունքի նկարագրությունը`
C65: Շրջակա միջավայրի վերաբերյալ ամբողջական տեղեկատվության հրապարակում
C66: Ծրագրի միջոցառումներ
B67: 11002 | C67: Միջոցառման անվանումը` | D67: =-191549.3--123138.8 -> -68410.5 | E67: =-273641.8--123138.8 -> -150503 | F67: 100335.3 | G67: 173306.5
C68: Շրջակա միջավայրի մոնիթորինգ և տեղեկատվության ապահովում
C69: Միջոցառման նկարագրությունը` | F69: 54728.4 | G69: 123138.8 | H69: 191549.3 | I69: 273641.8
C70: Շրջակա միջավայրի մոնիթորինգի և տեղեկատվության տրամադրման աշխատանքներ
C71: Միջոցառման տեսակը | G71: =G69-F67 -> 22803.5 | H71: =H69-F67 -> 91214 | I71: =I69-F67 -> 173306.5
C72: Ծառայությունների մատուցում
B73: 11004 | C73: Միջոցառման անվանումը` | D73: =-D24 -> 415303.4 | E73: =-E24 -> 946730
C74: Հիդրոօդերևութաբանություն, շրջակա միջավայրի մոնիթորիգ և տեղեկատվության ապահովում
C75: Միջոցառման նկարագրությունը`
C76: Հիդրոօդերևութաբանություն, շրջակա միջավայրի մոնիթորիգի տեղեկատվության տրամադրման աշխատանքներ
C77: Միջոցառման տեսակը
C78: Ծառայությունների մատուցում

Sheet N 2
F1: Հավելված 2 ՀՀ կառավարության 2020 թվականի____________ի N _____-Ն որոշման
D3: ՀԱՅԱՍՏԱՆԻ ՀԱՆՐԱՊԵՏՈՒԹՅԱՆ ԿԱՌԱՎԱՐՈՒԹՅԱՆ 2019 ԹՎԱԿԱՆԻ ԴԵԿՏԵՄԲԵՐԻ 26-Ի N 1919-Ն ՈՐՈՇՄԱՆ N3 ԵՎ N4 ՀԱՎԵԼՎԱԾՆԵՐՈՒՄ ԿԱՏԱՐՎՈՂ ՓՈՓՈԽՈՒԹՅՈՒՆՆԵՐԸ ԵՎ ԼՐԱՑՈՒՄՆԵՐԸ
G4: հազար դրամներով
A5: Բաժին | B5: Խումբ | C5: Դաս | D5: Ծրագրային դասիչը | F5: Բյուջետային հատկացումների գլխավոր կարգադրիչների, ծրագրերի, միջոցառումների և միջոցառումները կատարող պետական մարմինների անվանումները | G5: Ցուցանիշների փոփոխությունը (ծախսերի ավելացումները նշված են դրական նշանով, իսկ նվազեցումները` փակագծերում)
D6: Ծրագիր | E6: Միջոցառում | G6: Ինն ամիս | H6: Տարի
F7: ԸՆԴԱՄԵՆԸ այդ թվում` | G7: =G29+G39+G49 -> 0 | H7: =H29+H39+H49 -> 0
A8: 11 | F8: ՀԻՄՆԱԿԱՆ ԲԱԺԻՆՆԵՐԻՆ ՉԴԱՍՎՈՂ ՊԱՀՈՒՍՏԱՅԻՆ ՖՈՆԴԵՐ այդ թվում` | G8: =G9 -> 0 | H8: =H9 -> 0
B9: 01 | F9: ՀՀ կառավարության և համայնքների պահուստային ֆոնդ այդ թվում` | G9: =G10 -> 0 | H9: =H10 -> 0
C10: 01 | F10: ՀՀ կառավարության պահուստային ֆոնդ այդ թվում` | G10: =G12 -> 0 | H10: =H12 -> 0
F11: ՀՀ կառավարություն
D12: 1139 | F12: ՀՀ կառավարության պահուստային ֆոնդ այդ թվում` | G12: =G13+G21 -> 0 | H12: =H13+H21 -> 0
E13: 11001 | F13: ՀՀ կառավարության պահուստային ֆոնդ | G13: =G15 -> 415303.4 | H13: =H15 -> 946730
F14: այդ թվում` ըստ կատարողների
F15: ՀՀ կառավարություն | G15: =G17 -> 415303.4 | H15: =H17 -> 946730
F16: այդ թվում` բյուջետային ծախսերի տնտեսագիտական դասակարգման հոդվածներ
F17: ԸՆԴԱՄԵՆԸ ԾԱԽՍԵՐ | G17: =G18 -> 415303.4 | H17: =H18 -> 946730
F18: ԸՆԹԱՑԻԿ ԾԱԽՍԵՐ | G18: =G19 -> 415303.4 | H18: =H19 -> 946730
F19: ԱՅԼ ԾԱԽՍԵՐ | G19: =G20 -> 415303.4 | H19: =H20 -> 946730
F20: -Պահուստային միջոցներ | G20: =-G34-G44-G54 -> 415303.4 | H20: =-H34-H44-H54 -> 946730
E21: 11001 | F21: ՀՀ կառավարության պահուստային ֆոնդ | G21: =G23 -> -415303.4 | H21: =H23 -> -946730
F22: այդ թվում` ըստ կատարողների
F23: ՀՀ կառավարություն | G23: =G25 -> -415303.4 | H23: =H25 -> -946730
F24: այդ թվում` բյուջետային ծախսերի տնտեսագիտական դասակարգման հոդվածներ
F25: ԸՆԴԱՄԵՆԸ ԾԱԽՍԵՐ | G25: =G26 -> -415303.4 | H25: =H26 -> -946730
F26: ԸՆԹԱՑԻԿ ԾԱԽՍԵՐ | G26: =G27 -> -415303.4 | H26: =H27 -> -946730
F27: ԱՅԼ ԾԱԽՍԵՐ | G27: =G28 -> -415303.4 | H27: =H28 -> -946730
F28: -Պահուստային միջոցներ | G28: =-G20 -> -415303.4 | H28: =-H20 -> -946730
A29: 04 | F29: ՏՆՏԵՍԱԿԱՆ ՀԱՐԱԲԵՐՈՒԹՅՈՒՆՆԵՐ այդ թվում` | G29: =G30 -> -328285.1 | H29: =H30 -> -761621.5
B30: 01 | F30: Ընդհանուր բնույթի տնտեսական, առևտրային և աշխատանքի գծով հարաբերություններ` այդ թվում` | G30: =G31 -> -328285.1 | H30: =H31 -> -761621.5
C31: 01 | F31: Ընդհանուր բնույթի տնտեսական և առևտրային հարաբերություններ այդ թվում` | G31: =G32 -> -328285.1 | H31: =H32 -> -761621.5
D32: 1020 | F32: Հիդրոօդերևութաբանական ծառայություններ այդ թվում` | G32: =G33 -> -328285.1 | H32: =H33 -> -761621.5
F33: ՀՀ արտակարգ իրավիճակների նախարարություն այդ թվում` | G33: =G34 -> -328285.1 | H33: =H34 -> -761621.5
E34: 11001 | F34: Հիդրոօդերևութաբանական ծառայություններ | G34: =G36 -> -328285.1 | H34: =H36 -> -761621.5
F35: այդ թվում` ըստ կատարողների
F36: ՀՀ արտակարգ իրավիճակների նախարարություն | G36: =G38 -> -328285.1 | H36: =H38 -> -761621.5
F37: այդ թվում` բյուջետային ծախսերի տնտեսագիտական դասակարգման հոդվածներ
F38: - Ընթացիկ դրամաշնորհներ պետական և համայնքային ոչ առևտրային կազմակերպություններին | G38: ='N 1'!D40 -> -328285.1 | H38: ='N 1'!E40 -> -761621.5
A39: 04 | F39: ՏՆՏԵՍԱԿԱՆ ՀԱՐԱԲԵՐՈՒԹՅՈՒՆՆԵՐ այդ թվում` | G39: =G40 -> -18607.8 | H39: =H40 -> -34605.5
B40: 02 | F40: Գյուղատնտեսություն, անտառային տնտեսություն, ձկնորսություն և որսորդություն` այդ թվում` | G40: =G41+G66 -> -18607.8 | H40: =H41+H66 -> -34605.5
C41: 02 | F41: Անտառային տնտեսություն այդ թվում` | G41: =G42 -> -18607.8 | H41: =H42 -> -34605.5
D42: 1173 | F42: Անտառների կառավարում այդ թվում` | G42: =G43 -> -18607.8 | H42: =H43 -> -34605.5
F43: ՀՀ շրջակա միջավայրի նախարարություն այդ թվում` | G43: =G44 -> -18607.8 | H43: =H44 -> -34605.5
E44: 11005 | F44: Անտառային պետական մոնիտորինգի իրականացում | G44: =G46 -> -18607.8 | H44: =H46 -> -34605.5
F45: այդ թվում` ըստ կատարողների
F46: ՀՀ շրջակա միջավայրի նախարարություն | G46: =G48 -> -18607.8 | H46: =H48 -> -34605.5
F47: այդ թվում` բյուջետային ծախսերի տնտեսագիտական դասակարգման հոդվածներ
F48: - Ընթացիկ դրամաշնորհներ պետական և համայնքային ոչ առևտրային կազմակերպություններին | G48: ='N 1'!D54 -> -18607.8 | H48: ='N 1'!E54 -> -34605.5
A49: 05 | F49: ՇՐՋԱԿԱ ՄԻՋԱՎԱՅՐԻ ՊԱՇՏՊԱՆՈՒԹՅՈՒՆ այդ թվում` | G49: =G50 -> 346892.9 | H49: =H50 -> 796227
B50: 06 | F50: Շրջակա միջավայրի պաշտպանություն (այլ դասերին չպատկանող) այդ թվում` | G50: =G51 -> 346892.9 | H50: =H51 -> 796227
C51: 01 | F51: Շրջակա միջավայրի պաշտպանություն (այլ դասերին չպատկանող) այդ թվում` | G51: =G52 -> 346892.9 | H51: =H52 -> 796227
F52: ՀՀ շրջակա միջավայրի նախարարություն այդ թվում` | G52: =G53 -> 346892.9 | H52: =H53 -> 796227
D53: 1016 | F53: Շրջակա միջավայրի վրա ազդեցության գնահատում և մոնիթորինգ այդ թվում` | G53: =G54+G59 -> 346892.9 | H53: =H54+H59 -> 796227
E54: 11002 | F54: Շրջակա միջավայրի մոնիթորինգ և տեղեկատվության ապահովում | G54: =G56 -> -68410.5 | H54: =H56 -> -150503
F55: այդ թվում` ըստ կատարողների
F56: ՀՀ շրջակա միջավայրի նախարարություն | G56: =G58 -> -68410.5 | H56: =H58 -> -150503
F57: այդ թվում` բյուջետային ծախսերի տնտեսագիտական դասակարգման հոդվածներ
F58: - Ընթացիկ դրամաշնորհներ պետական և համայնքային ոչ առևտրային կազմակերպություններին | G58: ='N 1'!D67 -> -68410.5 | H58: ='N 1'!E67 -> -150503
E59: 11004 | F59: Հիդրոօդերևութաբանություն, շրջակա միջավայրի մոնիթորիգ և տեղեկատվության ապահովում | G59: =G61 -> 415303.4 | H59: =H61 -> 946730
F60: այդ թվում` ըստ կատարողների
F61: ՀՀ շրջակա միջավայրի նախարարություն | G61: =G63 -> 415303.4 | H61: =H63 -> 946730
F62: այդ թվում` բյուջետային ծախսերի տնտեսագիտական դասակարգման հոդվածներ
F63: - Ընթացիկ դրամաշնորհներ պետական և համայնքային ոչ առևտրային կազմակերպություններին | G63: =-G21 -> 415303.4 | H63: =-H21 -> 946730

Sheet N 3
A1: Հավելված 3 ՀՀ կառավարության 2020 թվականի____________ի N _____-Ն որոշման
A3: ՀԱՅԱՍՏԱՆԻ ՀԱՆՐԱՊԵՏՈՒԹՅԱՆ ԿԱՌԱՎԱՐՈՒԹՅԱՆ 2019 ԹՎԱԿԱՆԻ ԴԵԿՏԵՄԲԵՐԻ 26-Ի N 1919-Ն ՈՐՈՇՄԱՆ N 5 ՀԱՎԵԼՎԱԾԻ N 7 ԱՂՅՈՒՍԱԿՈՒՄ ԿԱՏԱՐՎՈՂ ՓՈՓՈԽՈՒԹՅՈՒՆՆԵՐԸ ԵՎ ԼՐԱՑՈՒՄՆԵՐԸ
G5: հազար դրամներով
A6: Ծրագրային դասիչ | C6: Բյուջետային հատկացումների գլխավոր կարգադրիչների, ծրագրերի, միջոցառումների, ծախսային ուղղությունների անվանումները | F6: Միջոցառումները կատարող պետական մարմինների և դրամաշնորհ ստացող տնտեսվարող սուբյեկտների անվանումները | G6: Տարի
A7: Ծրագիր | B7: Միջոցառում
A8: 1 | B8: 2 | C8: 3 | F8: 4 | G8: 4.5384615
A9: ՀՀ արտակարգ իրավիճակների նախարարություն | G9: =G10 -> -761621.5
A10: 1020 | B10: Հիդրոօդերևութաբանական ծառայություններ | G10: =+G11 -> -761621.5
B11: 11001 | C11: Հիդրոօդերևութաբանական ծառայություններ | F11: ՀՀ արտակարգ իրավիճակների նախարարություն | G11: =+G12 -> -761621.5
F12: «Հիդրոօդերևութաբանության և մթնոլորտային երևույթների վրա ակտիվ ներգործության ծառայություն» ՊՈԱԿ | G12: ='N 2'!H29 -> -761621.5
A14: ՀՀ շրջակա միջավայրի նախարարություն | G14: =G15+G18 -> 761621.5
A15: 1173 | B15: Անտառների կառավարում | G15: =G16 -> -34605.5
B16: 11005 | C16: Անտառային պետական մոնիտորինգի իրականացում | F16: ՀՀ շրջակա միջավայրի նախարարություն | G16: =G17 -> -34605.5
F17: «Անտառային պետական մոնիթորինգի կենտրոն» ՊՈԱԿ | G17: ='N 2'!H48 -> -34605.5
A18: 1016 | B18: Շրջակա միջավայրի վրա ազդեցության գնահատում և մոնիթորինգ | G18: =G19+G21 -> 796227
B19: 11002 | C19: Շրջակա միջավայրի մոնիթորինգ և տեղեկատվության ապահովում | F19: ՀՀ շրջակա միջավայրի նախարարություն | G19: =G20 -> -150503
F20: «Շրջակա միջավայրի մոնիթորինգի և տեղեկատվության կենտրոն» ՊՈԱԿ | G20: ='N 2'!H58 -> -150503
B21: 11004 | C21: Հիդրոօդերևութաբանություն, շրջակա միջավայրի մոնիթորիգ և տեղեկատվության ապահովում | F21: ՀՀ շրջակա միջավայրի նախարարություն | G21: =G22 -> 946730
F22: «Հիդրոօդերևութաբանության և մոնիթորինգի կենտրոն» ՊՈԱԿ | G22: =-G17+-G19+-G12 -> 946730

Sheet  N 4_9
B1: Հավելված 4 ՀՀ կառավարության 2020 թվականի____________ի N _____-Ն որոշման
A3: ՀԱՅԱՍՏԱՆԻ ՀԱՆՐԱՊԵՏՈՒԹՅԱՆ ԿԱՌԱՎԱՐՈՒԹՅԱՆ 2019 ԹՎԱԿԱՆԻ ԴԵԿՏԵՄԲԵՐԻ 26-Ի N 1919-Ն ՈՐՈՇՄԱՆ N9 ՀԱՎԵԼՎԱԾԻ N 9.47 ԱՂՅՈՒՍԱԿՈՒՄ ԿԱՏԱՐՎՈՂ ՓՈՓՈԽՈՒԹՅՈՒՆՆԵՐԸ ԵՎ ԼՐԱՑՈՒՄՆԵՐԸ
A5: ՀՀ կառավարություն
A6: ՄԱՍ 2. ՊԵՏԱԿԱՆ ՄԱՐՄՆԻ ԳԾՈՎ ԱՐԴՅՈՒՆՔԱՅԻՆ (ԿԱՏԱՐՈՂԱԿԱՆ) ՑՈՒՑԱՆԻՇՆԵՐԸ
A8: Ծրագրի դասիչը | B8: Ծրագրի անվանումը
A9: 1139 | B9: ՀՀ կառավարության պահուստային ֆոնդ
A11: Ծրագրի միջոցառումները
A13: Ծրագրի դասիչը` | B13: 1139 | C13: Ցուցանիշների փոփոխությունը (ավելացումները նշված են դրական նշանով, նվազեցումները՝ փակագծերում)
A14: Միջոցառման դասիչը` | B14: 11001 | C14: Ինն ամիս | D14: Տարի
A15: Միջոցառման անվանումը` | B15: ՀՀ կառավարության պահուստային ֆոնդ
A16: Նկարագրությունը` | B16: ՀՀ պետական բյուջեում նախատեսված ելքերի լրացուցիչ ֆինանսավորման՝ պետական բյուջեում չկանխատեսված ելքերի՝ ինչպես նաև բյուջետային երաշխիքների ապահովման ելքերի ֆինանսավորման ապահովում
A17: Միջոցառման տեսակը` | B17: Ծառայությունների մատուցում
A18: Միջոցառումն իրականացնողի անվանումը | B18: ՀՀ կառավարություն
A19: Արդյունքի չափորոշիչներ
A20: Միջոցառման վրա կատարվող ծախսը (հազար դրամ) | C20: =-C61-C84-C116 -> 415303.4 | D20: =-D61-D84-D116 -> 946730
A22: Ծրագրի դասիչը` | B22: 1139 | C22: Ցուցանիշների փոփոխությունը (ավելացումները նշված են դրական նշանով, նվազեցումները՝ փակագծերում)
A23: Միջոցառման դասիչը` | B23: 11001 | C23: Ինն ամիս | D23: Տարի
A24: Միջոցառման անվանումը` | B24: ՀՀ կառավարության պահուստային ֆոնդ
A25: Նկարագրությունը` | B25: ՀՀ պետական բյուջեում նախատեսված ելքերի լրացուցիչ ֆինանսավորման՝ պետական բյուջեում չկանխատեսված ելքերի՝ ինչպես նաև բյուջետային երաշխիքների ապահովման ելքերի ֆինանսավորման ապահովում
A26: Միջոցառման տեսակը` | B26: Ծառայությունների մատուցում
A27: Միջոցառումն իրականացնողի անվանումը | B27: ՀՀ կառավարություն
A28: Արդյունքի չափորոշիչներ
A29: Միջոցառման վրա կատարվող ծախսը (հազար դրամ) | C29: =-C20 -> -415303.4 | D29: =-D20 -> -946730
A31: ՀԱՅԱՍՏԱՆԻ ՀԱՆՐԱՊԵՏՈՒԹՅԱՆ ԿԱՌԱՎԱՐՈՒԹՅԱՆ 2019 ԹՎԱԿԱՆԻ ԴԵԿՏԵՄԲԵՐԻ 26-Ի N 1919-Ն ՈՐՈՇՄԱՆ N9 ՀԱՎԵԼՎԱԾԻ N 9.19 ԱՂՅՈՒՍԱԿՈՒՄ ԿԱՏԱՐՎՈՂ ՓՈՓՈԽՈՒԹՅՈՒՆՆԵՐԸ ԵՎ ԼՐԱՑՈՒՄՆԵՐԸ
A33: ՀՀ արտակարգ իրավիճակների նախարարություն
A34: ՄԱՍ 2. ՊԵՏԱԿԱՆ ՄԱՐՄՆԻ ԳԾՈՎ ԱՐԴՅՈՒՆՔԱՅԻՆ (ԿԱՏԱՐՈՂԱԿԱՆ) ՑՈՒՑԱՆԻՇՆԵՐԸ
A36: Ծրագրի դասիչը | B36: Ծրագրի անվանումը
A37: 1020 | B37: Հիդրոօդերևութաբանական ծառայություններ
A39: Ծրագրի միջոցառումները
A41: Ծրագրի դասիչը` | B41: 1020 | C41: Ցուցանիշների փոփոխությունը (ծախսերի ավելացումները նշված են դրական նշանով, իսկ նվազեցումները` փակագծերում)
A42: Միջոցառման դասիչը` | B42: 11001 | C42: Ինն ամիս | D42: Տարի
A43: Միջոցառման անվանումը` | B43: Հիդրոօդերևութաբանական ծառայություններ
A44: Նկարագրությունը` | B44: Հիդրոօդերևութաμանական դիտարկումների« կլիմայի փոփոխության ուսումնասիրությունների և մոնիտորինգի իրականացում: Հիդրոօդերևութաμանական տվյալների հավաքագրում« կանխատեսումների իրականացում և վտանգավոր աղետային երևույթների վերաμերյալ նախազգուշացում
A45: Միջոցառման տեսակը` | B45: Ծառայությունների մատուցում
A46: Միջոցառումն իրականացնողի անվանումը | B46: Մասնագիտացված կազմակերպություն
A47: Արդյունքի չափորոշիչներ
A48: Օդերևութաբանական դիտարկումներ /հատ/ | C48: -67344 | D48: -101016
A49: Աերոլոգիական դիտարկումներ, տարեկան դիտարկումների թիվը /ռադիոզոնդերի առկայության դեպքում/ | C49: -182 | D49: -275
A50: Հելիոերկրաֆիզիկական դիտարկումներ, որից | C50: -7470 | D50: -11205
A51: ակտինոմետրիական դիտարկում,ներ, դիտարկումների թիվը | C51: -6480 | D51: -9720
A52: օզոնոմետրիական դիտարկումներ, դիտարկումների թիվը | C52: -990 | D52: -1485
A53: Ագրոօդերևութաμանական դիտարկումներ /հատ/ | C53: -10500 | D53: -15750
A54: Հիդրոլոգիական դիտարկումներ /հատ/ | C54: -38466 | D54: -57695
A55: Ռադիոլոգիական դիտարկումներ, որից | C55: -6412 | D55: -9619
A56: գամմա ֆոնի չափումներ, դիտարկումների թիվը | C56: -6230 | D56: -9345
A57: Ռադիոակտիվ փոշու ամենօրյա գումարային μետտա ակտիվության չափումներ Երևանում/ այդ թվում ՀԱԷԿ-ի շրջակայքի 30 կմ-ոց գոտուց μերված ջրի, օդի, հողի նմուշների գումարային μետտա ռադիոակտիվության չափումներ | C57: -182 | D57: -275
A58: Մթնոլորտային երևույթների վրա ակտիվ ներգործություն/կատարման հաճախականությունն ըստ պրոցեսի առկայության/ /մարտից մինչև հոկտեմμեր/ | C58: -800 | D58: -1900000
A59: Հակակարկտային տեխնիկական միջոցների կոնսերվացման և ապակոնսերվացման,պրոֆիլակտիկ և ընթացիկ աշխատանքներ /մնացած ժամանակահատվածում/,կայանների թիվը | C59: -4 | D59: -4
A60: Համաշխարհային օդերևութաμանական կազմակերպության ստանդարտներին համապատասխանության աստիճան,կանխատեսումների արդարացվածության տոկոսը ոչ պակաս | C60: -85 | D60: -85
A61: Միջոցառման վրա կատարվող ծախսը (հազար դրամ) | C61: ='N 1'!D40 -> -328285.1 | D61: ='N 1'!E40 -> -761621.5
A63: ՀԱՅԱՍՏԱՆԻ ՀԱՆՐԱՊԵՏՈՒԹՅԱՆ ԿԱՌԱՎԱՐՈՒԹՅԱՆ 2019 ԹՎԱԿԱՆԻ ԴԵԿՏԵՄԲԵՐԻ 26-Ի N 1919-Ն ՈՐՈՇՄԱՆ N 9 ՀԱՎԵԼՎԱԾԻ N 9.13 ԱՂՅՈՒՍԱԿՈՒՄ ԿԱՏԱՐՎՈՂ ՓՈՓՈԽՈՒԹՅՈՒՆՆԵՐԸ ԵՎ ԼՐԱՑՈՒՄՆԵՐԸ
A66: ՀՀ շրջակա միջավայրի նախարարություն
A67: ՄԱՍ 2. ՊԵՏԱԿԱՆ ՄԱՐՄՆԻ ԳԾՈՎ ԱՐԴՅՈՒՆՔԱՅԻՆ (ԿԱՏԱՐՈՂԱԿԱՆ) ՑՈՒՑԱՆԻՇՆԵՐԸ
A69: Ծրագրի դասիչը | B69: Ծրագրի անվանումը
A70: 1173 | B70: Անտառների կառավարում
A72: Ծրագրի միջոցառումները
A74: Ծրագրի դասիչը` | B74: 1173 | C74: Ցուցանիշների փոփոխությունը (ծախսերի ավելացումները նշված են դրական նշանով, իսկ նվազեցումները` փակագծերում)
A75: Միջոցառման դասիչը` | B75: 11005 | C75: Ինն ամիս | D75: Տարի
A76: Միջոցառման անվանումը` | B76: Անտառային պետական մոնիտորինգի իրականացում
A77: Նկարագրությունը` | B77: Անտառային տարածքներում ուսումնասիրությունների և մասնակի դիտարկումների անցկացում
A78: Միջոցառման տեսակը` | B78: Ծառայությունների մատուցում
A79: Միջոցառումն իրականացնողի անվանումը՛ | B79: Մասնագիտացված կազմակերպություններ
A80: Արդյունքի չափորոշիչներ
A81: Անտառներում դիտարկումներ և ուսումնասիրությունների քանակ, հատ | C81: -15 | D81: -25
A82: Անտառային տարածքներում իրականացված պետական մոնիտորինգի վերաբերյալ հաշվետվությունների հրապարակումների թիվը, հատ | C82: -3 | D82: -6
A83: Անտառտնտեսությունների և բնության հատուկ պահպանվող տարածքների ընդգրկվածության աստիճանը, տոկոս | C83: -20 | D83: -40
A84: Միջոցառման վրա կատարվող ծախսը (հազար դրամ) | C84: ='N 1'!D54 -> -18607.8 | D84: ='N 1'!E54 -> -34605.5
A87: Ծրագրի դասիչը | B87: Ծրագրի անվանումը
A88: 1016 | B88: Շրջակա միջավայրի վրա ազդեցության գնահատում և մոնիթորինգ
A90: Ծրագրի միջոցառումները
A92: Ծրագրի դասիչը` | B92: 1016 | C92: Ցուցանիշների փոփոխությունը (ծախսերի ավելացումները նշված են դրական նշանով, իսկ նվազեցումները` փակագծերում)
A93: Միջոցառման դասիչը` | B93: 11002 | C93: Ինն ամիս | D93: Տարի
A94: Միջոցառման անվանումը` | B94: Շրջակա միջավայրի մոնիթորինգ և տեղեկատվության ապահովում
A95: Նկարագրությունը` | B95: Շրջակա միջավայրի մոնիթորինգ և տեղեկատվության տրամադրման աշխատանքներ
A96: Միջոցառման տեսակը` | B96: Ծառայությունների մատուցում
A97: Միջոցառումն իրականացնողի անվանումը՛ | B97: Մասնագիտացված կազմակերպություններ
A98: Արդյունքի չափորոշիչներ
A99: Մակերևութային ջրերի որակի մոնիթորինգի իրականացում՝ ՀՀ 6 ջրավազանային կառավարման տարածքի 14 գետավազանի 53 ջրային օբյեկտի 127 դիտակետում ջրերի որակը բնութագրող 40-60 աղտոտիչների վերաբերյալ տվյալներ, ցուցանիշ | C99: -15040 | D99: -24760
A100: Մթնոլորտային օդի որակի մոնիթորինգի իրականացում` ՀՀ 10 քաղաքում 15 դիտակայանում և 188 դիտակետում օդի աղտոտվածությունը բնութագրող 2-6 աղտոտիչների վերաբերյալ տվյալներ, ցուցանիշ | C100: -18800 | D100: -37700
A101: Արաքս գետի աղտոտվածության հայ-իրանական համատեղ մոնիտորիգի իրականացում` Արաքս գետի ջրի որակի և հատակային նստվածքների աղտոտիչների վերաբերյալ տվյալներ, ցուցանիշ | C101: -680 | D101: -1200
A102: Հողերի աղտոտվածության մոնիթորինգի իրականացում, ցուցանիշ | C102: -200 | D102: -300
A103: Եվրոպայում մեծ հեռավորությունների վրա անդրսահմանային աղտոտիչների տարածման դիտարկումների և գնահատման համատեղ (EMEP) ծրագրի շրջանակներում Հայաստանում օդի անդրսահմանային աղտոտման մոնիթորինգի իրականացում, ցուցանիշ | C103: -5586 | D103: -10606
A104: Ստորերկրյա քաղցրահամ ջրերի քանակի մոնիթորինգի իրականցում՝ ՀՀ 6 ջրավազանային կառավարման տարածքի 100 ջրաղբյուրում հիդրոերկրաբանական դիտարկումների (ջրի մակարդակ (ճնշում), ծախս, ջերմաստիճան և դիտակետերի տեղազննում) վերաբերյալ տվյալներ, ցուցանիշ | C104: -3990 | D104: -7970
A105: Ստորերկրյա քաղցրահամ ջրերի որակի մոնիթորինգի իրականացում՝ ՀՀ 6 ջրավազանային կառավարման տարածքի 40 ջրաղբյուրում ջրերի որակը բնութագրող 30-40 աղտոտիչների վերաբերյալ տվյալներ, ցուցանիշ | C105: 0 | D105: -1600
A106: Շրջակա միջավայրի օբյեկտներում (հող և ջուր) կայուն օրգանական աղտոտիչների մնացորդային քանակների մոնիթորինգի իրականցում, ցուցանիշ | C106: -75 | D106: -150
A107: Թափոնների գոյացման, վերամշակման ու օգտահանման ուսումնասիրվող օբյեկտների և հեռացման վայրերի թիվ,հատ | C107: -8 | D107: -17
A108: Ներկայացված վարչական վիճակագրական հաշվետվությունների ուսումնասիրություն և վերլուծություն, առաջացած թափոնների հաշվառում և դասակարգում, դրանց հիման վրա հաշվետվությունների կազմում, հաշվետվությունների ընդհանուր թիվ, հատ | C108: -1050 | D108: -1050
A109: Միջազգային լավագույն փորձի և վերլուծությունների արդյունքում մշակված տեխնոլոգիաների և տեղեկատվական աղբյուրների թիվ, հատ | C109: -6 | D109: -13
A110: Շրջակա միջավայրի նախարարության սպասարկվող համակարգիչների, կայքի և տեղային ցանցերի թիվ, հատ | C110: -253 | D110: -253
... A115: Սևանա լճի ջրի թափանցիկության ցուցանիշների ավելացում, մետր | C115: -4.5 | D115: -4.5
A116: Միջոցառման վրա կատարվող ծախսը (հազար դրամ) | C116: ='N 1'!D67 -> -68410.5 | D116: ='N 1'!E67 -> -150503
A119: Ծրագրի դասիչը` | B119: 1016 | C119: Ցուցանիշների փոփոխությունը (ծախսերի ավելացումները նշված են դրական նշանով, իսկ նվազեցումները` փակագծերում)
A120: Միջոցառման դասիչը` | B120: 11004 | C120: Ինն ամիս | D120: Տարի
A121: Միջոցառման անվանումը` | B121: Հիդրոօդերևութաբանություն, շրջակա միջավայրի մոնիթորիգ և տեղեկատվության ապահովում
A122: Նկարագրությունը` | B122: Հիդրոօդերևութաբանություն, շրջակա միջավայրի մոնիթորիգի տեղեկատվության տրամադրման աշխատանքներ
A123: Միջոցառման տեսակը` | B123: Ծառայությունների մատուցում
A124: Միջոցառումն իրականացնողի անվանումը՛ | B124: Մասնագիտացված կազմակերպություններ
A125: Արդյունքի չափորոշիչներ
A126: Մակերևութային ջրերի որակի մոնիթորինգի իրականացում՝ ՀՀ 6 ջրավազանային կառավարման տարածքի 14 գետավազանի 53 ջրային օբյեկտի 127 դիտակետում ջրերի որակը բնութագրող 40-60 աղտոտիչների վերաբերյալ տվյալներ, ցուցանիշ | C126: 15040 | D126: 24760
A127: Մթնոլորտային օդի որակի մոնիթորինգի իրականացում` ՀՀ 10 քաղաքում 15 դիտակայանում և 188 դիտակետում օդի աղտոտվածությունը բնութագրող 2-6 աղտոտիչների վերաբերյալ տվյալներ, ցուցանիշ | C127: 18800 | D127: 37600
...

Sheet  N 5_9.1
A1: Հավելված 5 ՀՀ կառավարության 2020 թվականի____________ի N _____-Ն որոշման
A3: ՀԱՅԱՍՏԱՆԻ ՀԱՆՐԱՊԵՏՈՒԹՅԱՆ ԿԱՌԱՎԱՐՈՒԹՅԱՆ 2019 ԹՎԱԿԱՆԻ ԴԵԿՏԵՄԲԵՐԻ 26-Ի N 1919-Ն ՈՐՈՇՄԱՆ N 9.1 ՀԱՎԵԼՎԱԾԻ N 9.1.58 ԱՂՅՈՒՍԱԿՈՒՄ ԿԱՏԱՐՎՈՂ ՓՈՓՈԽՈՒԹՅՈՒՆՆԵՐԸ ԵՎ ԼՐԱՑՈՒՄՆԵՐԸ
A4: ՀՀ կառավարություն
A6: ՄԱՍ 1. ՊԵՏԱԿԱՆ ՄԱՐՄՆԻ ԳԾՈՎ ԱՐԴՅՈՒՆՔԱՅԻՆ (ԿԱՏԱՐՈՂԱԿԱՆ) ՑՈՒՑԱՆԻՇՆԵՐԸ | C6: 93051413
A8: Ծրագրի դասիչը | B8: Ծրագրի անվանումը
A9: 1139 | B9: ՀՀ կառավարության պահուստային ֆոնդ
A11: Ծրագրի միջոցառումները
A13: Ծրագրի դասիչը` | B13: 1139 | C13: Ցուցանիշների փոփոխությունը (ավելացումները նշված են դրական նշանով, նվազեցումները՝ փակագծերում)
A14: Միջոցառման դասիչը` | B14: 11001 | C14: Ինն ամիս | D14: Տարի
A15: Միջոցառման անվանումը` | B15: ՀՀ կառավարության պահուստային ֆոնդ
A16: Նկարագրությունը` | B16: ՀՀ պետական բյուջեում նախատեսված ելքերի լրացուցիչ ֆինանսավորման՝ պետական բյուջեում չկանխատեսված ելքերի՝ ինչպես նաև բյուջետային երաշխիքների ապահովման ելքերի ֆինանսավորման ապահովում
A17: Միջոցառման տեսակը` | B17: Ծառայությունների մատուցում
A18: Միջոցառումն իրականացնողի անվանումը | B18: ՀՀ կառավարություն
A19: Արդյունքի չափորոշիչներ
A20: Միջոցառման վրա կատարվող ծախսը (հազար դրամ) | C20: =-C60-C82-C114 -> 415303.4 | D20: =-D60-D82-D114 -> 946730
A22: Ծրագրի դասիչը` | B22: 1139 | C22: Ցուցանիշների փոփոխությունը (ավելացումները նշված են դրական նշանով, նվազեցումները՝ փակագծերում)
A23: Միջոցառման դասիչը` | B23: 11001 | C23: Ինն ամիս | D23: Տարի
A24: Միջոցառման անվանումը` | B24: ՀՀ կառավարության պահուստային ֆոնդ
A25: Նկարագրությունը` | B25: ՀՀ պետական բյուջեում նախատեսված ելքերի լրացուցիչ ֆինանսավորման՝ պետական բյուջեում չկանխատեսված ելքերի՝ ինչպես նաև բյուջետային երաշխիքների ապահովման ելքերի ֆինանսավորման ապահովում
A26: Միջոցառման տեսակը` | B26: Ծառայությունների մատուցում
A27: Միջոցառումն իրականացնողի անվանումը | B27: ՀՀ կառավարություն
A28: Արդյունքի չափորոշիչներ
A29: Միջոցառման վրա կատարվող ծախսը (հազար դրամ) | C29: =-C20 -> -415303.4 | D29: =-D20 -> -946730
A31: ՀԱՅԱՍՏԱՆԻ ՀԱՆՐԱՊԵՏՈՒԹՅԱՆ ԿԱՌԱՎԱՐՈՒԹՅԱՆ 2019 ԹՎԱԿԱՆԻ ԴԵԿՏԵՄԲԵՐԻ 26-Ի N 1919-Ն ՈՐՈՇՄԱՆ N 9.1 ՀԱՎԵԼՎԱԾԻ N 9.1.19 ԱՂՅՈՒՍԱԿՈՒՄ ԿԱՏԱՐՎՈՂ ՓՈՓՈԽՈՒԹՅՈՒՆՆԵՐԸ ԵՎ ԼՐԱՑՈՒՄՆԵՐԸ
A32: ՀՀ արտակարգ իրավիճակների նախարարություն
A33: ՄԱՍ 1. ՊԵՏԱԿԱՆ ՄԱՐՄՆԻ ԳԾՈՎ ԱՐԴՅՈՒՆՔԱՅԻՆ (ԿԱՏԱՐՈՂԱԿԱՆ) ՑՈՒՑԱՆԻՇՆԵՐԸ
A35: Ծրագրի դասիչը | B35: Ծրագրի անվանումը
A36: 1020 | B36: Հիդրոօդերևութաբանական ծառայություններ
A38: Ծրագրի միջոցառումները
A40: Ծրագրի դասիչը` | B40: 1020 | C40: Ցուցանիշների փոփոխությունը (ծախսերի ավելացումները նշված են դրական նշանով, իսկ նվազեցումները` փակագծերում)
A41: Միջոցառման դասիչը` | B41: 11001 | C41: Ինն ամիս | D41: Տարի
A42: Միջոցառման անվանումը` | B42: Հիդրոօդերևութաբանական ծառայություններ
A43: Նկարագրությունը` | B43: Հիդրոօդերևութաμանական դիտարկումների« կլիմայի փոփոխության ուսումնասիրությունների և մոնիտորինգի իրականացում: Հիդրոօդերևութաμանական տվյալների հավաքագրում« կանխատեսումների իրականացում և վտանգավոր աղետային երևույթների վերաμերյալ նախազգուշացում
A44: Միջոցառման տեսակը` | B44: Ծառայությունների մատուցում
A45: Միջոցառումն իրականացնողի անվանումը | B45: Մասնագիտացված կազմակերպություն
A46: Արդյունքի չափորոշիչներ
A47: Օդերևութաբանական դիտարկումներ /հատ/ | C47: -67344 | D47: -101016
A48: Աերոլոգիական դիտարկումներ, տարեկան դիտարկումների թիվը /ռադիոզոնդերի առկայության դեպքում/ | C48: -182 | D48: -275
A49: Հելիոերկրաֆիզիկական դիտարկումներ, որից | C49: -7470 | D49: -11205
A50: ակտինոմետրիական դիտարկում,ներ, դիտարկումների թիվը | C50: -6480 | D50: -9720
A51: օզոնոմետրիական դիտարկումներ, դիտարկումների թիվը | C51: -990 | D51: -1485
A52: Ագրոօդերևութաμանական դիտարկումներ /հատ/ | C52: -10500 | D52: -15750
A53: Հիդրոլոգիական դիտարկումներ /հատ/ | C53: -38466 | D53: -57695
A54: Ռադիոլոգիական դիտարկումներ, որից | C54: -6412 | D54: -9619
A55: գամմա ֆոնի չափումներ, դիտարկումների թիվը | C55: -6230 | D55: -9345
A56: Ռադիոակտիվ փոշու ամենօրյա գումարային μետտա ակտիվության չափումներ Երևանում/ այդ թվում ՀԱԷԿ-ի շրջակայքի 30 կմ-ոց գոտուց μերված ջրի, օդի, հողի նմուշների գումարային μետտա ռադիոակտիվության չափումներ | C56: -182 | D56: -275
A57: Մթնոլորտային երևույթների վրա ակտիվ ներգործություն/կատարման հաճախականությունն ըստ պրոցեսի առկայության/ /մարտից մինչև հոկտեմμեր/ | C57: -800 | D57: -1900000
A58: Հակակարկտային տեխնիկական միջոցների կոնսերվացման և ապակոնսերվացման,պրոֆիլակտիկ և ընթացիկ աշխատանքներ /մնացած ժամանակահատվածում/,կայանների թիվը | C58: -4 | D58: -4
A59: Համաշխարհային օդերևութաμանական կազմակերպության ստանդարտներին համապատասխանության աստիճան,կանխատեսումների արդարացվածության տոկոսը ոչ պակաս | C59: -85 | D59: -85
A60: Միջոցառման վրա կատարվող ծախսը (հազար դրամ) | C60: ='N 1'!D40 -> -328285.1 | D60: ='N 1'!E40 -> -761621.5
A62: ՀԱՅԱՍՏԱՆԻ ՀԱՆՐԱՊԵՏՈՒԹՅԱՆ ԿԱՌԱՎԱՐՈՒԹՅԱՆ 2019 ԹՎԱԿԱՆԻ ԴԵԿՏԵՄԲԵՐԻ 26-Ի N 1919-Ն ՈՐՈՇՄԱՆ N 9.1 ՀԱՎԵԼՎԱԾԻ N 9.1.13 ԱՂՅՈՒՍԱԿՈՒՄ ԿԱՏԱՐՎՈՂ ՓՈՓՈԽՈՒԹՅՈՒՆՆԵՐԸ ԵՎ ԼՐԱՑՈՒՄՆԵՐԸ
A64: ՀՀ շրջակա միջավայրի նախարարություն
A65: ՄԱՍ 1. ՊԵՏԱԿԱՆ ՄԱՐՄՆԻ ԳԾՈՎ ԱՐԴՅՈՒՆՔԱՅԻՆ (ԿԱՏԱՐՈՂԱԿԱՆ) ՑՈՒՑԱՆԻՇՆԵՐԸ
A67: Ծրագրի դասիչը | B67: Ծրագրի անվանումը
A68: 1173 | B68: Անտառների կառավարում
A70: Ծրագրի միջոցառումները
A72: Ծրագրի դասիչը` | B72: 1173 | C72: Ցուցանիշների փոփոխությունը (ծախսերի ավելացումները նշված են դրական նշանով, իսկ նվազեցումները` փակագծերում)
A73: Միջոցառման դասիչը` | B73: 11005 | C73: Ինն ամիս | D73: Տարի
A74: Միջոցառման անվանումը` | B74: Անտառային պետական մոնիտորինգի իրականացում
A75: Նկարագրությունը` | B75: Անտառային տարածքներում ուսումնասիրությունների և մասնակի դիտարկումների անցկացում
A76: Միջոցառման տեսակը` | B76: Ծառայությունների մատուցում
A77: Միջոցառումն իրականացնողի անվանումը՛ | B77: Մասնագիտացված կազմակերպություններ
A78: Արդյունքի չափորոշիչներ
A79: Անտառներում դիտարկումներ և ուսումնասիրությունների քանակ, հատ | C79: -15 | D79: -25
A80: Անտառային տարածքներում իրականացված պետական մոնիտորինգի վերաբերյալ հաշվետվությունների հրապարակումների թիվը, հատ | C80: -3 | D80: -6
A81: Անտառտնտեսությունների և բնության հատուկ պահպանվող տարածքների ընդգրկվածության աստիճանը, տոկոս | C81: -20 | D81: -40
A82: Միջոցառման վրա կատարվող ծախսը (հազար դրամ) | C82: ='N 1'!D54 -> -18607.8 | D82: ='N 1'!E54 -> -34605.5
A85: Ծրագրի դասիչը | B85: Ծրագրի անվանումը
A86: 1016 | B86: Շրջակա միջավայրի վրա ազդեցության գնահատում և մոնիթորինգ
A88: Ծրագրի միջոցառումները
A90: Ծրագրի դասիչը` | B90: 1016 | C90: Ցուցանիշների փոփոխությունը (ծախսերի ավելացումները նշված են դրական նշանով, իսկ նվազեցումները` փակագծերում)
A91: Միջոցառման դասիչը` | B91: 11002 | C91: Ինն ամիս | D91: Տարի
A92: Միջոցառման անվանումը` | B92: Շրջակա միջավայրի մոնիթորինգ և տեղեկատվության ապահովում
A93: Նկարագրությունը` | B93: Շրջակա միջավայրի մոնիթորինգ և տեղեկատվության տրամադրման աշխատանքներ
A94: Միջոցառման տեսակը` | B94: Ծառայությունների մատուցում
A95: Միջոցառումն իրականացնողի անվանումը՛ | B95: Մասնագիտացված կազմակերպություններ
A96: Արդյունքի չափորոշիչներ
A97: Մակերևութային ջրերի որակի մոնիթորինգի իրականացում՝ ՀՀ 6 ջրավազանային կառավարման տարածքի 14 գետավազանի 53 ջրային օբյեկտի 127 դիտակետում ջրերի որակը բնութագրող 40-60 աղտոտիչների վերաբերյալ տվյալներ, ցուցանիշ | C97: -15040 | D97: -24760
A98: Մթնոլորտային օդի որակի մոնիթորինգի իրականացում` ՀՀ 10 քաղաքում 15 դիտակայանում և 188 դիտակետում օդի աղտոտվածությունը բնութագրող 2-6 աղտոտիչների վերաբերյալ տվյալներ, ցուցանիշ | C98: -18800 | D98: -37700
A99: Արաքս գետի աղտոտվածության հայ-իրանական համատեղ մոնիտորիգի իրականացում` Արաքս գետի ջրի որակի և հատակային նստվածքների աղտոտիչների վերաբերյալ տվյալներ, ցուցանիշ | C99: -680 | D99: -1200
A100: Հողերի աղտոտվածության մոնիթորինգի իրականացում, ցուցանիշ | C100: -200 | D100: -300
A101: Եվրոպայում մեծ հեռավորությունների վրա անդրսահմանային աղտոտիչների տարածման դիտարկումների և գնահատման համատեղ (EMEP) ծրագրի շրջանակներում Հայաստանում օդի անդրսահմանային աղտոտման մոնիթորինգի իրականացում, ցուցանիշ | C101: -5586 | D101: -10606
A102: Ստորերկրյա քաղցրահամ ջրերի քանակի մոնիթորինգի իրականցում՝ ՀՀ 6 ջրավազանային կառավարման տարածքի 100 ջրաղբյուրում հիդրոերկրաբանական դիտարկումների (ջրի մակարդակ (ճնշում), ծախս, ջերմաստիճան և դիտակետերի տեղազննում) վերաբերյալ տվյալներ, ցուցանիշ | C102: -3990 | D102: -7970
A103: Ստորերկրյա քաղցրահամ ջրերի որակի մոնիթորինգի իրականացում՝ ՀՀ 6 ջրավազանային կառավարման տարածքի 40 ջրաղբյուրում ջրերի որակը բնութագրող 30-40 աղտոտիչների վերաբերյալ տվյալներ, ցուցանիշ | C103: 0 | D103: -1600
A104: Շրջակա միջավայրի օբյեկտներում (հող և ջուր) կայուն օրգանական աղտոտիչների մնացորդային քանակների մոնիթորինգի իրականցում, ցուցանիշ | C104: -75 | D104: -150
A105: Թափոնների գոյացման, վերամշակման ու օգտահանման ուսումնասիրվող օբյեկտների և հեռացման վայրերի թիվ,հատ | C105: -8 | D105: -17
A106: Ներկայացված վարչական վիճակագրական հաշվետվությունների ուսումնասիրություն և վերլուծություն, առաջացած թափոնների հաշվառում և դասակարգում, դրանց հիման վրա հաշվետվությունների կազմում, հաշվետվությունների ընդհանուր թիվ, հատ | C106: -1050 | D106: -1050
A107: Միջազգային լավագույն փորձի և վերլուծությունների արդյունքում մշակված տեխնոլոգիաների և տեղեկատվական աղբյուրների թիվ, հատ | C107: -6 | D107: -13
A108: Շրջակա միջավայրի նախարարության սպասարկվող համակարգիչների, կայքի և տեղային ցանցերի թիվ, հատ | C108: -253 | D108: -253
... A113: Սևանա լճի ջրի թափանցիկության ցուցանիշների ավելացում, մետր | C113: -4.5 | D113: -4.5
A114: Միջոցառման վրա կատարվող ծախսը (հազար դրամ) | C114: ='N 1'!D67 -> -68410.5 | D114: ='N 1'!E67 -> -150503
A117: Ծրագրի դասիչը` | B117: 1016 | C117: Ցուցանիշների փոփոխությունը (ծախսերի ավելացումները նշված են դրական նշանով, իսկ նվազեցումները` փակագծերում)
A118: Միջոցառման դասիչը` | B118: 11004 | C118: Ինն ամիս | D118: Տարի
A119: Միջոցառման անվանումը` | B119: Հիդրոօդերևութաբանություն, շրջակա միջավայրի մոնիթորիգ և տեղեկատվության ապահովում
A120: Նկարագրությունը` | B120: Հիդրոօդերևութաբանություն, շրջակա միջավայրի մոնիթորիգի տեղեկատվության տրամադրման աշխատանքներ
A121: Միջոցառման տեսակը` | B121: Ծառայությունների մատուցում
A122: Միջոցառումն իրականացնողի անվանումը՛ | B122: Մասնագիտացված կազմակերպություններ
A123: Արդյունքի չափորոշիչներ
A124: Մակերևութային ջրերի որակի մոնիթորինգի իրականացում՝ ՀՀ 6 ջրավազանային կառավարման տարածքի 14 գետավազանի 53 ջրային օբյեկտի 127 դիտակետում ջրերի որակը բնութագրող 40-60 աղտոտիչների վերաբերյալ տվյալներ, ցուցանիշ | C124: 15040 | D124: 24760
A125: Մթնոլորտային օդի որակի մոնիթորինգի իրականացում` ՀՀ 10 քաղաքում 15 դիտակայանում և 188 դիտակետում օդի աղտոտվածությունը բնութագրող 2-6 աղտոտիչների վերաբերյալ տվյալներ, ցուցանիշ | C125: 18800 | D125: 37600
...
