Workbook
Name \A: #REF!
Name \A: #REF!
Name Armata: #REF!
Name Armata: #REF!
Name BOP: #REF!
Name BOP: #REF!
Name BOPfoot: #REF!
Name BOPfoot: #REF!
Name DebtCG: '[1]Fis-Debt'!#REF!
Name DebtCG: '[1]Fis-Debt'!#REF!
Name DebtGG: #REF!
Name DebtGG: #REF!
Name MonExo: #REF!
Name MonExo: #REF!
Name MonGrow: [2]BM!#REF!
Name MonGrow: [2]BM!#REF!
Name RealExo: #REF!
Name RealExo: #REF!
Name RealPercent: #REF!
Name RealPercent: #REF!
Name Table_2._Turkey__Exogenous_assumptions: #REF!
Name Table_2._Turkey__Exogenous_assumptions: #REF!
Name է: [2]BM!#REF!
Name է: [2]BM!#REF!
Name ՀՀՀՀՀ: #REF!
Name ՀՀՀՀՀ: #REF!
Name շախմատիստ: #REF!
Name շախմատիստ: #REF!
Name շախմատիստ: #REF!

Sheet N 1
C1: Հավելված 1 ՀՀ կառավարության 2020 թվականի____________ի N _____-Ն որոշման
A3: «ՀԱՅԱՍՏԱՆԻ ՀԱՆՐԱՊԵՏՈՒԹՅԱՆ 2020 ԹՎԱԿԱՆԻ ՊԵՏԱԿԱՆ ԲՅՈՒՋԵԻ ՄԱՍԻՆ» ՀԱՅԱՍՏԱՆԻ ՀԱՆՐԱՊԵՏՈՒԹՅԱՆ ՕՐԵՆՔԻ N 1 ՀԱՎԵԼՎԱԾԻ N 2 ԱՂՅՈՒՍԱԿՈՒՄ ԿԱՏԱՐՎՈՂ ՎԵՐԱԲԱՇԽՈՒՄԸ ԵՎ ՀԱՅԱՍՏԱՆԻ ՀԱՆՐԱՊԵՏՈՒԹՅԱՆ ԿԱՌԱՎԱՐՈՒԹՅԱՆ 2019 ԹՎԱԿԱՆԻ ԴԵԿՏԵՄԲԵՐԻ 26-Ի N 1919-Ն ՈՐՈՇՄԱՆ N 5 ՀԱՎԵԼՎԱԾԻ N 1 ԱՂՅՈՒՍԱԿՈՒՄ ԿԱՏԱՐՎՈՂ ՓՈՓՈԽՈՒԹՅՈՒՆՆԵՐԸ ԵՎ ԼՐԱՑՈՒՄՆԵՐԸ
D4: հազար դրամներով
A5: Ծրագրային դասիչը | C5: Բյուջետային հատկացումների գլխավոր կարգադրիչների, ծրագրերի և միջոցառումների անվանումները | D5: Ցուցանիշների փոփոխությունը (ավելացումները նշված են դրական նշանով, իսկ նվազեցումները` փակագծերում)
A6: Ծրագիր | B6: Միջոցառում | D6: Ինն ամիս | E6: Տարի
C7: ԸՆԴԱՄԵՆԸ այդ թվում` | D7: =D32+D46+D73 -> 0 | E7: =E32+E46+E73 -> 0
C8: ՀՀ կառավարություն | D8: =D9 -> 0 | E8: =E9 -> 0
A9: 1139 | C9: Ծրագրի անվանումը | D9: =D16+D24 -> 0 | E9: =E16+E24 -> 0
C10: ՀՀ կառավարության պահուստային ֆոնդ
C11: Ծրագրի նպատակը
C12: Պետական բյուջեում չկանխատեսված, ինչպես նաև բյուջետային երաշխիքների ապահովման ծախսերի ֆինանսավորման ապահովում
C13: Վերջնական արդյունքի նկարագրությունը
C14: Պահուստային ֆոնդի կառավարման արդյունավետություն և թափանցիկություն
A15: Ծրագրի միջոցառումներ
B16: 11001 | C16: Միջոցառման անվանումը | D16: =-D32-D46 -> 415303.4 | E16: =-E32-E46 -> 946730
C17: ՀՀ կառավարության պահուստային ֆոնդ
C18: Միջոցառման նկարագրությունը
C19: ՀՀ պետական բյուջեում նախատեսված ելքերի լրացուցիչ ֆինանսավորման,
C20: պետական բյուջեում չկանխատեսված ելքերի, ինչպես նաև բյուջետային
C21: երաշխիքների ապահովման ելքերի ֆինանսավորման ապահովում
C22: Միջոցառման տեսակը
C23: Ծառայությունների մատուցում
B24: 11001 | C24: Միջոցառման անվանումը | D24: =-D16 -> -415303.4 | E24: =-E16 -> -946730
C25: ՀՀ կառավարության պահուստային ֆոնդ
C26: Միջոցառման նկարագրությունը
C27: ՀՀ պետական բյուջեում նախատեսված ելքերի լրացուցիչ ֆինանսավորման,
C28: պետական բյուջեում չկանխատեսված ելքերի, ինչպես նաև բյուջետային
C29: երաշխիքների ապահովման ելքերի ֆինանսավորման ապահովում
C30: Միջոցառման տեսակը
C31: Ծառայությունների մատուցում
C32: ՀՀ արտակարգ իրավիճակների նախարարություն | D32: =D33 -> -328285.1 | E32: =E33 -> -761621.5
A33: 1020 | C33: Ծրագրի անվանումը` | D33: =D40 -> -328285.1 | E33: =E40 -> -761621.5
C34: Հիդրոօդերևութաբանական ծառայություններ
C35: Ծրագրի նպատակը`
C36: Հիդրոօդերևութաբանական վտանգավոր երևույթներից և կլիմայական ռիսկերից բնակչության և տնտեսության պաշտպանություն
C37: Վերջնական արդյունքի նկարագրությունը`
C38: Հիդրոօդերևութաբանական տեղեկատվության պարբերական և ժամանակին հրապարակման և հասանելիության ապահովում, հիդրոօդերևութաբանական վտանգավոր երևույթների ազդեցության նվազեցում
C39: Ծրագրի միջոցառումներ
B40: 11001 | C40: Միջոցառման անվանումը` | D40: =-879804.1--551519 -> -328285.1 | E40: =-1313140.5--551519 -> -761621.5 | F40: 442.090.6 | G40: 871049.9
C41: Հիդրոօդերևութաբանական ծառայություններ
...

Sheet N 2
F1: Հավելված 2 ՀՀ կառավարության 2020 թվականի____________ի N _____-Ն որոշման
D3: ՀԱՅԱՍՏԱՆԻ ՀԱՆՐԱՊԵՏՈՒԹՅԱՆ ԿԱՌԱՎԱՐՈՒԹՅԱՆ 2019 ԹՎԱԿԱՆԻ ԴԵԿՏԵՄԲԵՐԻ 26-Ի N 1919-Ն ՈՐՈՇՄԱՆ N3 ԵՎ N4 ՀԱՎԵԼՎԱԾՆԵՐՈՒՄ ԿԱՏԱՐՎՈՂ ՓՈՓՈԽՈՒԹՅՈՒՆՆԵՐԸ ԵՎ ԼՐԱՑՈՒՄՆԵՐԸ
G4: հազար դրամներով
A5: Բաժին | B5: Խումբ | C5: Դաս | D5: Ծրագրային դասիչը | F5: Բյուջետային հատկացումների գլխավոր կարգադրիչների, ծրագրերի, միջոցառումների և միջոցառումները կատարող պետական մարմինների անվանումները | G5: Ցուցանիշների փոփոխությունը (ծախսերի ավելացումները նշված են դրական նշանով, իսկ նվազեցումները` փակագծերում)
D6: Ծրագիր | E6: Միջոցառում | G6: Ինն ամիս | H6: Տարի
F7: ԸՆԴԱՄԵՆԸ այդ թվում` | G7: =G29+G39+G49 -> 0 | H7: =H29+H39+H49 -> 0
A8: 11 | F8: ՀԻՄՆԱԿԱՆ ԲԱԺԻՆՆԵՐԻՆ ՉԴԱՍՎՈՂ ՊԱՀՈՒՍՏԱՅԻՆ ՖՈՆԴԵՐ այդ թվում` | G8: =G9 -> 0 | H8: =H9 -> 0
B9: 01 | F9: ՀՀ կառավարության և համայնքների պահուստային ֆոնդ այդ թվում` | G9: =G10 -> 0 | H9: =H10 -> 0
C10: 01 | F10: ՀՀ կառավարության պահուստային ֆոնդ այդ թվում` | G10: =G12 -> 0 | H10: =H12 -> 0
F11: ՀՀ կառավարություն
D12: 1139 | F12: ՀՀ կառավարության պահուստային ֆոնդ այդ թվում` | G12: =G13+G21 -> 0 | H12: =H13+H21 -> 0
E13: 11001 | F13: ՀՀ կառավարության պահուստային ֆոնդ | G13: =G15 -> 415303.4 | H13: =H15 -> 946730
F14: այդ թվում` ըստ կատարողների
F15: ՀՀ կառավարություն | G15: =G17 -> 415303.4 | H15: =H17 -> 946730
F16: այդ թվում` բյուջետային ծախսերի տնտեսագիտական դասակարգման հոդվածներ
F17: ԸՆԴԱՄԵՆԸ ԾԱԽՍԵՐ | G17: =G18 -> 415303.4 | H17: =H18 -> 946730
F18: ԸՆԹԱՑԻԿ ԾԱԽՍԵՐ | G18: =G19 -> 415303.4 | H18: =H19 -> 946730
F19: ԱՅԼ ԾԱԽՍԵՐ | G19: =G20 -> 415303.4 | H19: =H20 -> 946730
F20: -Պահուստային միջոցներ | G20: =-G34-G44-G54 -> 415303.4 | H20: =-H34-H44-H54 -> 946730
E21: 11001 | F21: ՀՀ կառավարության պահուստային ֆոնդ | G21: =G23 -> -415303.4 | H21: =H23 -> -946730
F22: այդ թվում` ըստ կատարողների
F23: ՀՀ կառավարություն | G23: =G25 -> -415303.4 | H23: =H25 -> -946730
F24: այդ թվում` բյուջետային ծախսերի տնտեսագիտական դասակարգման հոդվածներ
F25: ԸՆԴԱՄԵՆԸ ԾԱԽՍԵՐ | G25: =G26 -> -415303.4 | H25: =H26 -> -946730
F26: ԸՆԹԱՑԻԿ ԾԱԽՍԵՐ | G26: =G27 -> -415303.4 | H26: =H27 -> -946730
F27: ԱՅԼ ԾԱԽՍԵՐ | G27: =G28 -> -415303.4 | H27: =H28 -> -946730
F28: -Պահուստային միջոցներ | G28: =-G20 -> -415303.4 | H28: =-H20 -> -946730
A29: 04 | F29: ՏՆՏԵՍԱԿԱՆ ՀԱՐԱԲԵՐՈՒԹՅՈՒՆՆԵՐ այդ թվում` | G29: =G30 -> -328285.1 | H29: =H30 -> -761621.5
B30: 01 | F30: Ընդհանուր բնույթի տնտեսական, առևտրային և աշխատանքի գծով հարաբերություններ` այդ թվում` | G30: =G31 -> -328285.1 | H30: =H31 -> -761621.5
C31: 01 | F31: Ընդհանուր բնույթի տնտեսական և առևտրային հարաբերություններ այդ թվում` | G31: =G32 -> -328285.1 | H31: =H32 -> -761621.5
D32: 1020 | F32: Հիդրոօդերևութաբանական ծառայություններ այդ թվում` | G32: =G33 -> -328285.1 | H32: =H33 -> -761621.5
F33: ՀՀ արտակարգ իրավիճակների նախարարություն այդ թվում` | G33: =G34 -> -328285.1 | H33: =H34 -> -761621.5
E34: 11001 | F34: Հիդրոօդերևութաբանական ծառայություններ | G34: =G36 -> -328285.1 | H34: =H36 -> -761621.5
F35: այդ թվում` ըստ կատարողների
F36: ՀՀ արտակարգ իրավիճակների նախարարություն | G36: =G38 -> -328285.1 | H36: =H38 -> -761621.5
F37: այդ թվում` բյուջետային ծախսերի տնտեսագիտական դասակարգման հոդվածներ
F38: - Ընթացիկ դրամաշնորհներ պետական և համայնքային ոչ առևտրային կազմակերպություններին | G38: ='N 1'!D40 -> -328285.1 | H38: ='N 1'!E40 -> -761621.5
A39: 04 | F39: ՏՆՏԵՍԱԿԱՆ ՀԱՐԱԲԵՐՈՒԹՅՈՒՆՆԵՐ այդ թվում` | G39: =G40 -> -18607.8 | H39: =H40 -> -34605.5
B40: 02 | F40: Գյուղատնտեսություն, անտառային տնտեսություն, ձկնորսություն և որսորդություն` այդ թվում` | G40: =G41+G66 -> -18607.8 | H40: =H41+H66 -> -34605.5
C41: 02 | F41: Անտառային տնտեսություն այդ թվում` | G41: =G42 -> -18607.8 | H41: =H42 -> -34605.5
...

Sheet N 3
A1: Հավելված 3 ՀՀ կառավարության 2020 թվականի____________ի N _____-Ն որոշման
A3: ՀԱՅԱՍՏԱՆԻ ՀԱՆՐԱՊԵՏՈՒԹՅԱՆ ԿԱՌԱՎԱՐՈՒԹՅԱՆ 2019 ԹՎԱԿԱՆԻ ԴԵԿՏԵՄԲԵՐԻ 26-Ի N 1919-Ն ՈՐՈՇՄԱՆ N 5 ՀԱՎԵԼՎԱԾԻ N 7 ԱՂՅՈՒՍԱԿՈՒՄ ԿԱՏԱՐՎՈՂ ՓՈՓՈԽՈՒԹՅՈՒՆՆԵՐԸ ԵՎ ԼՐԱՑՈՒՄՆԵՐԸ
G5: հազար դրամներով
A6: Ծրագրային դասիչ | C6: Բյուջետային հատկացումների գլխավոր կարգադրիչների, ծրագրերի, միջոցառումների, ծախսային ուղղությունների անվանումները | F6: Միջոցառումները կատարող պետական մարմինների և դրամաշնորհ ստացող տնտեսվարող սուբյեկտների անվանումները | G6: Տարի
A7: Ծրագիր | B7: Միջոցառում
A8: 1 | B8: 2 | C8: 3 | F8: 4 | G8: 4.5384615
A9: ՀՀ արտակարգ իրավիճակների նախարարություն | G9: =G10 -> -761621.5
A10: 1020 | B10: Հիդրոօդերևութաբանական ծառայություններ | G10: =+G11 -> -761621.5
B11: 11001 | C11: Հիդրոօդերևութաբանական ծառայություններ | F11: ՀՀ արտակարգ իրավիճակների նախարարություն | G11: =+G12 -> -761621.5
F12: «Հիդրոօդերևութաբանության և մթնոլորտային երևույթների վրա ակտիվ ներգործության ծառայություն» ՊՈԱԿ | G12: ='N 2'!H29 -> -761621.5
A14: ՀՀ շրջակա միջավայրի նախարարություն | G14: =G15+G18 -> 761621.5
A15: 1173 | B15: Անտառների կառավարում | G15: =G16 -> -34605.5
B16: 11005 | C16: Անտառային պետական մոնիտորինգի իրականացում | F16: ՀՀ շրջակա միջավայրի նախարարություն | G16: =G17 -> -34605.5
F17: «Անտառային պետական մոնիթորինգի կենտրոն» ՊՈԱԿ | G17: ='N 2'!H48 -> -34605.5
A18: 1016 | B18: Շրջակա միջավայրի վրա ազդեցության գնահատում և մոնիթորինգ | G18: =G19+G21 -> 796227
B19: 11002 | C19: Շրջակա միջավայրի մոնիթորինգ և տեղեկատվության ապահովում | F19: ՀՀ շրջակա միջավայրի նախարարություն | G19: =G20 -> -150503
F20: «Շրջակա միջավայրի մոնիթորինգի և տեղեկատվության կենտրոն» ՊՈԱԿ | G20: ='N 2'!H58 -> -150503
B21: 11004 | C21: Հիդրոօդերևութաբանություն, շրջակա միջավայրի մոնիթորիգ և տեղեկատվության ապահովում | F21: ՀՀ շրջակա միջավայրի նախարարություն | G21: =G22 -> 946730
F22: «Հիդրոօդերևութաբանության և մոնիթորինգի կենտրոն» ՊՈԱԿ | G22: =-G17+-G19+-G12 -> 946730

Sheet  N 4_9
B1: Հավելված 4 ՀՀ կառավարության 2020 թվականի____________ի N _____-Ն որոշման
A3: ՀԱՅԱՍՏԱՆԻ ՀԱՆՐԱՊԵՏՈՒԹՅԱՆ ԿԱՌԱՎԱՐՈՒԹՅԱՆ 2019 ԹՎԱԿԱՆԻ ԴԵԿՏԵՄԲԵՐԻ 26-Ի N 1919-Ն ՈՐՈՇՄԱՆ N9 ՀԱՎԵԼՎԱԾԻ N 9.47 ԱՂՅՈՒՍԱԿՈՒՄ ԿԱՏԱՐՎՈՂ ՓՈՓՈԽՈՒԹՅՈՒՆՆԵՐԸ ԵՎ ԼՐԱՑՈՒՄՆԵՐԸ
A5: ՀՀ կառավարություն
A6: ՄԱՍ 2. ՊԵՏԱԿԱՆ ՄԱՐՄՆԻ ԳԾՈՎ ԱՐԴՅՈՒՆՔԱՅԻՆ (ԿԱՏԱՐՈՂԱԿԱՆ) ՑՈՒՑԱՆԻՇՆԵՐԸ
A8: Ծրագրի դասիչը | B8: Ծրագրի անվանումը
A9: 1139 | B9: ՀՀ կառավարության պահուստային ֆոնդ
A11: Ծրագրի միջոցառումները
A13: Ծրագրի դասիչը` | B13: 1139 | C13: Ցուցանիշների փոփոխությունը (ավելացումները նշված են դրական նշանով, նվազեցումները՝ փակագծերում)
A14: Միջոցառման դասիչը` | B14: 11001 | C14: Ինն ամիս | D14: Տարի
A15: Միջոցառման անվանումը` | B15: ՀՀ կառավարության պահուստային ֆոնդ
A16: Նկարագրությունը` | B16: ՀՀ պետական բյուջեում նախատեսված ելքերի լրացուցիչ ֆինանսավորման՝ պետական բյուջեում չկանխատեսված ելքերի՝ ինչպես նաև բյուջետային երաշխիքների ապահովման ելքերի ֆինանսավորման ապահովում
A17: Միջոցառման տեսակը` | B17: Ծառայությունների մատուցում
A18: Միջոցառումն իրականացնողի անվանումը | B18: ՀՀ կառավարություն
A19: Արդյունքի չափորոշիչներ
A20: Միջոցառման վրա կատարվող ծախսը (հազար դրամ) | C20: =-C61-C84-C116 -> 415303.4 | D20: =-D61-D84-D116 -> 946730
A22: Ծրագրի դասիչը` | B22: 1139 | C22: Ցուցանիշների փոփոխությունը (ավելացումները նշված են դրական նշանով, նվազեցումները՝ փակագծերում)
A23: Միջոցառման դասիչը` | B23: 11001 | C23: Ինն ամիս | D23: Տարի
A24: Միջոցառման անվանումը` | B24: ՀՀ կառավարության պահուստային ֆոնդ
A25: Նկարագրությունը` | B25: ՀՀ պետական բյուջեում նախատեսված ելքերի լրացուցիչ ֆինանսավորման՝ պետական բյուջեում չկանխատեսված ելքերի՝ ինչպես նաև բյուջետային երաշխիքների ապահովման ելքերի ֆինանսավորման ապահովում
A26: Միջոցառման տեսակը` | B26: Ծառայությունների մատուցում
A27: Միջոցառումն իրականացնողի անվանումը | B27: ՀՀ կառավարություն
A28: Արդյունքի չափորոշիչներ
A29: Միջոցառման վրա կատարվող ծախսը (հազար դրամ) | C29: =-C20 -> -415303.4 | D29: =-D20 -> -946730
A31: ՀԱՅԱՍՏԱՆԻ ՀԱՆՐԱՊԵՏՈՒԹՅԱՆ ԿԱՌԱՎԱՐՈՒԹՅԱՆ 2019 ԹՎԱԿԱՆԻ ԴԵԿՏԵՄԲԵՐԻ 26-Ի N 1919-Ն ՈՐՈՇՄԱՆ N9 ՀԱՎԵԼՎԱԾԻ N 9.19 ԱՂՅՈՒՍԱԿՈՒՄ ԿԱՏԱՐՎՈՂ ՓՈՓՈԽՈՒԹՅՈՒՆՆԵՐԸ ԵՎ ԼՐԱՑՈՒՄՆԵՐԸ
A33: ՀՀ արտակարգ իրավիճակների նախարարություն
A34: ՄԱՍ 2. ՊԵՏԱԿԱՆ ՄԱՐՄՆԻ ԳԾՈՎ ԱՐԴՅՈՒՆՔԱՅԻՆ (ԿԱՏԱՐՈՂԱԿԱՆ) ՑՈՒՑԱՆԻՇՆԵՐԸ
A36: Ծրագրի դասիչը | B36: Ծրագրի անվանումը
A37: 1020 | B37: Հիդրոօդերևութաբանական ծառայություններ
A39: Ծրագրի միջոցառումները
A41: Ծրագրի դասիչը` | B41: 1020 | C41: Ցուցանիշների փոփոխությունը (ծախսերի ավելացումները նշված են դրական նշանով, իսկ նվազեցումները` փակագծերում)
A42: Միջոցառման դասիչը` | B42: 11001 | C42: Ինն ամիս | D42: Տարի
A43: Միջոցառման անվանումը` | B43: Հիդրոօդերևութաբանական ծառայություններ
A44: Նկարագրությունը` | B44: Հիդրոօդերևութաμանական դիտարկումների« կլիմայի փոփոխության ուսումնասիրությունների և մոնիտորինգի իրականացում: Հիդրոօդերևութաμանական տվյալների հավաքագրում« կանխատեսումների իրականացում և վտանգավոր աղետային երևույթների վերաμերյալ նախազգուշացում
A45: Միջոցառման տեսակը` | B45: Ծառայությունների մատուցում
A46: Միջոցառումն իրականացնողի անվանումը | B46: Մասնագիտացված կազմակերպություն
A47: Արդյունքի չափորոշիչներ
A48: Օդերևութաբանական դիտարկումներ /հատ/ | C48: -67344 | D48: -101016
A49: Աերոլոգիական դիտարկումներ, տարեկան դիտարկումների թիվը /ռադիոզոնդերի առկայության դեպքում/ | C49: -182 | D49: -275
A50: Հելիոերկրաֆիզիկական դիտարկումներ, որից | C50: -7470 | D50: -11205
A51: ակտինոմետրիական դիտարկում,ներ, դիտարկումների թիվը | C51: -6480 | D51: -9720
...

Sheet  N 5_9.1
A1: Հավելված 5 ՀՀ կառավարության 2020 թվականի____________ի N _____-Ն որոշման
A3: ՀԱՅԱՍՏԱՆԻ ՀԱՆՐԱՊԵՏՈՒԹՅԱՆ ԿԱՌԱՎԱՐՈՒԹՅԱՆ 2019 ԹՎԱԿԱՆԻ ԴԵԿՏԵՄԲԵՐԻ 26-Ի N 1919-Ն ՈՐՈՇՄԱՆ N 9.1 ՀԱՎԵԼՎԱԾԻ N 9.1.58 ԱՂՅՈՒՍԱԿՈՒՄ ԿԱՏԱՐՎՈՂ ՓՈՓՈԽՈՒԹՅՈՒՆՆԵՐԸ ԵՎ ԼՐԱՑՈՒՄՆԵՐԸ
A4: ՀՀ կառավարություն
A6: ՄԱՍ 1. ՊԵՏԱԿԱՆ ՄԱՐՄՆԻ ԳԾՈՎ ԱՐԴՅՈՒՆՔԱՅԻՆ (ԿԱՏԱՐՈՂԱԿԱՆ) ՑՈՒՑԱՆԻՇՆԵՐԸ | C6: 93051413
A8: Ծրագրի դասիչը | B8: Ծրագրի անվանումը
A9: 1139 | B9: ՀՀ կառավարության պահուստային ֆոնդ
A11: Ծրագրի միջոցառումները
A13: Ծրագրի դասիչը` | B13: 1139 | C13: Ցուցանիշների փոփոխությունը (ավելացումները նշված են դրական նշանով, նվազեցումները՝ փակագծերում)
A14: Միջոցառման դասիչը` | B14: 11001 | C14: Ինն ամիս | D14: Տարի
A15: Միջոցառման անվանումը` | B15: ՀՀ կառավարության պահուստային ֆոնդ
A16: Նկարագրությունը` | B16: ՀՀ պետական բյուջեում նախատեսված ելքերի լրացուցիչ ֆինանսավորման՝ պետական բյուջեում չկանխատեսված ելքերի՝ ինչպես նաև բյուջետային երաշխիքների ապահովման ելքերի ֆինանսավորման ապահովում
A17: Միջոցառման տեսակը` | B17: Ծառայությունների մատուցում
A18: Միջոցառումն իրականացնողի անվանումը | B18: ՀՀ կառավարություն
A19: Արդյունքի չափորոշիչներ
A20: Միջոցառման վրա կատարվող ծախսը (հազար դրամ) | C20: =-C60-C82-C114 -> 415303.4 | D20: =-D60-D82-D114 -> 946730
A22: Ծրագրի դասիչը` | B22: 1139 | C22: Ցուցանիշների փոփոխությունը (ավելացումները նշված են դրական նշանով, նվազեցումները՝ փակագծերում)
A23: Միջոցառման դասիչը` | B23: 11001 | C23: Ինն ամիս | D23: Տարի
A24: Միջոցառման անվանումը` | B24: ՀՀ կառավարության պահուստային ֆոնդ
A25: Նկարագրությունը` | B25: ՀՀ պետական բյուջեում նախատեսված ելքերի լրացուցիչ ֆինանսավորման՝ պետական բյուջեում չկանխատեսված ելքերի՝ ինչպես նաև բյուջետային երաշխիքների ապահովման ելքերի ֆինանսավորման ապահովում
A26: Միջոցառման տեսակը` | B26: Ծառայությունների մատուցում
A27: Միջոցառումն իրականացնողի անվանումը | B27: ՀՀ կառավարություն
A28: Արդյունքի չափորոշիչներ
A29: Միջոցառման վրա կատարվող ծախսը (հազար դրամ) | C29: =-C20 -> -415303.4 | D29: =-D20 -> -946730
A31: ՀԱՅԱՍՏԱՆԻ ՀԱՆՐԱՊԵՏՈՒԹՅԱՆ ԿԱՌԱՎԱՐՈՒԹՅԱՆ 2019 ԹՎԱԿԱՆԻ ԴԵԿՏԵՄԲԵՐԻ 26-Ի N 1919-Ն ՈՐՈՇՄԱՆ N 9.1 ՀԱՎԵԼՎԱԾԻ N 9.1.19 ԱՂՅՈՒՍԱԿՈՒՄ ԿԱՏԱՐՎՈՂ ՓՈՓՈԽՈՒԹՅՈՒՆՆԵՐԸ ԵՎ ԼՐԱՑՈՒՄՆԵՐԸ
A32: ՀՀ արտակարգ իրավիճակների նախարարություն
A33: ՄԱՍ 1. ՊԵՏԱԿԱՆ ՄԱՐՄՆԻ ԳԾՈՎ ԱՐԴՅՈՒՆՔԱՅԻՆ (ԿԱՏԱՐՈՂԱԿԱՆ) ՑՈՒՑԱՆԻՇՆԵՐԸ
A35: Ծրագրի դասիչը | B35: Ծրագրի անվանումը
A36: 1020 | B36: Հիդրոօդերևութաբանական ծառայություններ
A38: Ծրագրի միջոցառումները
A40: Ծրագրի դասիչը` | B40: 1020 | C40: Ցուցանիշների փոփոխությունը (ծախսերի ավելացումները նշված են դրական նշանով, իսկ նվազեցումները` փակագծերում)
A41: Միջոցառման դասիչը` | B41: 11001 | C41: Ինն ամիս | D41: Տարի
A42: Միջոցառման անվանումը` | B42: Հիդրոօդերևութաբանական ծառայություններ
A43: Նկարագրությունը` | B43: Հիդրոօդերևութաμանական դիտարկումների« կլիմայի փոփոխության ուսումնասիրությունների և մոնիտորինգի իրականացում: Հիդրոօդերևութաμանական տվյալների հավաքագրում« կանխատեսումների իրականացում և վտանգավոր աղետային երևույթների վերաμերյալ նախազգուշացում
A44: Միջոցառման տեսակը` | B44: Ծառայությունների մատուցում
A45: Միջոցառումն իրականացնողի անվանումը | B45: Մասնագիտացված կազմակերպություն
A46: Արդյունքի չափորոշիչներ
A47: Օդերևութաբանական դիտարկումներ /հատ/ | C47: -67344 | D47: -101016
A48: Աերոլոգիական դիտարկումներ, տարեկան դիտարկումների թիվը /ռադիոզոնդերի առկայության դեպքում/ | C48: -182 | D48: -275
A49: Հելիոերկրաֆիզիկական դիտարկումներ, որից | C49: -7470 | D49: -11205
A50: ակտինոմետրիական դիտարկում,ներ, դիտարկումների թիվը | C50: -6480 | D50: -9720
...
