Workbook
Name AgencyCode: #REF!
Name AgencyCode: #REF!
Name AgencyCode: #REF!
Name AgencyCode: #REF!
Name AgencyName: #REF!
Name AgencyName: #REF!
Name AgencyName: #REF!
Name AgencyName: #REF!
Name Functional1: #REF!
Name Functional1: #REF!
Name Functional1: #REF!
Name Functional1: #REF!
Name PANature: #REF!
Name PANature: #REF!
Name PANature: #REF!
Name PANature: #REF!
Name PAType: #REF!
Name PAType: #REF!
Name PAType: #REF!
Name PAType: #REF!
Name Performance2: #REF!
Name Performance2: #REF!
Name Performance2: #REF!
Name Performance2: #REF!
Name PerformanceType: #REF!
Name PerformanceType: #REF!
Name PerformanceType: #REF!
Name PerformanceType: #REF!
Name vvvvvvvvvvv: #REF!
Name ֆֆֆֆֆ: #REF!

Sheet հավելված 1
D1: Հավելված 1
C2: ՀՀ կառավարության 2020 թվականի
C3: ______________ ի ___Ն որոշման
A6: «ՀԱՅԱUՏԱՆԻ ՀԱՆՐԱՊԵՏՈՒԹՅԱՆ 2020 ԹՎԱԿԱՆԻ ՊԵՏԱԿԱՆ ԲՅՈՒՋԵԻ ՄԱUԻՆ» ՀԱՅԱUՏԱՆԻ ՀԱՆՐԱՊԵՏՈՒԹՅԱՆ OՐԵՆՔԻ N 1 ՀԱՎԵԼՎԱԾԻ N 2 ԱՂՅՈՒՍԱԿՈՒՄ ՎԵՐԱԲԱՇԽՈՒՄ ԵՎ ՀԱՅԱUՏԱՆԻ ՀԱՆՐԱՊԵՏՈՒԹՅԱՆ ԿԱՌԱՎԱՐՈՒԹՅԱՆ 2019 ԹՎԱԿԱՆԻ ԴԵԿՏԵՄԲԵՐԻ 26-Ի N 1919-Ն ՈՐՈՇՄԱՆ N 5 ՀԱՎԵԼՎԱԾԻ N 1 ԱՂՅՈՒՍԱԿՈՒՄ ԿԱՏԱՐՎՈՂ ՓՈՓՈԽՈՒԹՅՈՒՆՆԵՐԸ
E8: հազ. դրամներով
A9: Ծրագրային դասիչը | C9: Բյուջետային հատկացումների գլխավոր կարգադրիչների, ծրագրերի և միջոցառումների անվանումները | D9: Ցուցանիշների փոփոխությունը (ավելացումները նշված են դրական նշանով, իսկ նվազեցումները` փակագծերում)
A10: Ծրագիր | B10: Միջոցառում | D10: Ինն ամիս | E10: Տարի
B11: ՀՀ կառավարություն | D11: =D12 -> -13740.3 | E11: =E12 -> -40400.6
A12: 1139 | C12: Ծրագրի անվանումը` | D12: =D19 -> -13740.3 | E12: =E19 -> -40400.6
C13: ՀՀ կառավարության պահուստային ֆոնդ
C14: Ծրագրի նպատակը`
C15: Պետական բյուջեում չկանխատեսված՝ ինչպես նաևւ բյուջետային երաշխիքների ապահովման ծախսերի ֆինանսավորման ապահովում
C16: Վերջնական արդյունքի նկարագրությունը`
C17: Պահուստային ֆոնդի կառավարման արդյունավետության և թափանցիկության
C18: Ծրագրի միջոցառումներ
B19: 11001 | C19: Միջոցառման անվանումը` | D19: =-D26 -> -13740.3 | E19: =-E26 -> -40400.6
C20: ՀՀ կառավարության պահուստային ֆոնդ
C21: Միջոցառման նկարագրությունը`
C22: ՀՀ պետական բյուջեում նախատեսված ելքերի լրացուցիչ ֆինանսավորման՝ պետական բյուջեում չկանխատեսված ելքերի՝ ինչպես նաև բյուջետային երաշխիքների ապահովման ելքերի ֆինանսավորման ապահովում
C23: Միջոցառման տեսակը
C24: Ծառայությունների մատուցում
B25: ՀՀ հատուկ քննչական ծառայություն | D25: =D26 -> 13740.3 | E25: =E26 -> 40400.6
A26: 1062 | C26: Ծրագրի անվանումը | D26: =D33 -> 13740.3 | E26: =E33 -> 40400.6
C27: ՀՀ հատուկ քննչական ծառայություններ
C28: Ծրագրի նպատակը
C29: Օրենսդիր, գործադիր և դատական իշխանության մարմինների ղեկավար աշխատողների, պետական ծառայություն իրականացնող անձանց մասնակցությամբ կատարված հանցագործությունների և ընտրական գործընթացներին առնչվող քրեական գործերի օբյեկտիվ, արդյունավետ նախաքննության իրականացում
C30: Վերջնական արդյունքի նկարագրությունը
C31: Արդյունավետ նախաքննություն, նախաքննության ժամկետների կրճատում:
C32: Ծրագրի միջոցառումներ
B33: 11001 | C33: Միջոցառման անվանումը՝ | D33: ='հավելված 2'!G45 -> 13740.3 | E33: ='հավելված 2'!H45 -> 40400.6
C34: Քրեական գործերով վարույթի իրականացում
C35: Միջոցառման նկարագրությունը՝
C36: Օրենսդիր, գործադիր և դատական իշխանության մարմինների ղեկավար աշխատողների, պետական ծառայություն իրականացնող անձանց մասնակցությամբ հանցագործությունների և ընտրական գործընթացների հետ կապված քրեական գործերի օբյեկտիվ, արդյունավետ նախաքննության ապահովում
C37: Միջոցառման տեսակը՝
C38: Ծառայությունների մատուցում

Sheet հավելված 2
G1: Հավելված 2
G2: ՀՀ կառավարության 2020 թվականի
G3: ______________ ի ___Ն որոշման
A8: ՀԱՅԱՍՏԱՆԻ ՀԱՆՐԱՊԵՏՈՒԹՅԱՆ ԿԱՌԱՎԱՐՈՒԹՅԱՆ 2019 ԹՎԱԿԱՆԻ ԴԵԿՏԵՄԲԵՐԻ 26-Ի N 1919-Ն ՈՐՈՇՄԱՆ N3 ԵՎ N4 ՀԱՎԵԼՎԱԾՆԵՐՈՒՄ ԿԱՏԱՐՎՈՂ ՓՈՓՈԽՈՒԹՅՈՒՆՆԵՐԸ
H10: հազ. դրամներով
A11: Գործառական դասիչը | D11: Ծրագրային դասիչը | F11: Բյուջետային ծախսերի գործառական դասակարգման բաժինների, խմբերի և դասերի, բյուջետային ծրագրերի միջոցառումների, բյուջետային հատկացումների գլխավոր կարգադրիչների անվանումները | G11: Ցուցանիշների փոփոխությունը (ավելացումները նշված են դրական նշանով, իսկ նվազեցումները` փակագծերում)
A12: Բաժին | B12: Խումբ | C12: Դաս | D12: Ծրագիր | E12: Միջոցա- ռում | G12: Ինն ամիս | H12: Տարի
F13: ԸՆԴԱՄԵՆԸ ԾԱԽՍԵՐ | G13: - | H13: -
A14: 11 | F14: ՀԻՄՆԱԿԱՆ ԲԱԺԻՆՆԵՐԻՆ ՉԴԱՍՎՈՂ ՊԱՀՈՒՍՏԱՅԻՆ ՖՈՆԴԵՐ | G14: =G16 -> -13740.3 | H14: =H16 -> -40400.6
F15: այդ թվում`
B16: 01 | F16: ՀՀ կառավարության և համայնքների պահուստային ֆոնդ | G16: =G18 -> -13740.3 | H16: =H18 -> -40400.6
F17: այդ թվում`
C18: 01 | F18: ՀՀ կառավարության պահուստային ֆոնդ | G18: =G23 -> -13740.3 | H18: =H23 -> -40400.6
F19: այդ թվում`
F20: ՀՀ կառավարություն
D21: 1139 | F21: ՀՀ կառավարության պահուստային ֆոնդ | G21: =G23 -> -13740.3 | H21: =H23 -> -40400.6
F22: այդ թվում`
E23: 11001 | F23: ՀՀ կառավարության պահուստային ֆոնդ | G23: =G25 -> -13740.3 | H23: =H25 -> -40400.6
F24: այդ թվում` ըստ կատարողների
F25: ՀՀ կառավարություն | G25: =G27 -> -13740.3 | H25: =H27 -> -40400.6
F26: այդ թվում` բյուջետային ծախսերի տնտեսագիտական դասակարգման հոդվածներ
F27: ԸՆԴԱՄԵՆԸ ԾԱԽՍԵՐ | G27: =G28 -> -13740.3 | H27: =H28 -> -40400.6
F28: ԸՆԹԱՑԻԿ ԾԱԽՍԵՐ | G28: =G29 -> -13740.3 | H28: =H29 -> -40400.6
F29: ԱՅԼ ԾԱԽՍԵՐ | G29: =G30 -> -13740.3 | H29: =H30 -> -40400.6
F30: Պահուստային միջոցներ | G30: =-G31 -> -13740.3 | H30: =-H31 -> -40400.6
A31: 03 | F31: ՀԱՍԱՐԱԿԱԿԱՆ ԿԱՐԳ, ԱՆՎՏԱՆԳՈՒԹՅՈՒՆ ԵՎ ԴԱՏԱԿԱՆ ԳՈՐԾՈՒՆԵՈՒԹՅՈՒՆ | G31: =+G33 -> 13740.3 | H31: =+H33 -> 40400.6
F32: այդ թվում`
B33: 07 | F33: Նախաքննություն | G33: =+G35 -> 13740.3 | H33: =+H35 -> 40400.6
F34: այդ թվում`
C35: 01 | F35: Նախաքննություն | G35: =+G41 -> 13740.3 | H35: =+H41 -> 40400.6
F36: այդ թվում`
F37: ՀՀ հատուկ քննչական ծառայություն | G37: =G39 -> 13740.3 | H37: =H39 -> 40400.6
F38: այդ թվում`
D39: 1062 | F39: ՀՀ հատուկ քննչական ծառայություններ | G39: =G41 -> 13740.3 | H39: =H41 -> 40400.6
F40: այդ թվում`
E41: 11001 | F41: Քրեական վարույթի իրականացում | G41: =+G43 -> 13740.3 | H41: =+H43 -> 40400.6
F42: այդ թվում` ըստ կատարողների
F43: ՀՀ հատուկ քննչական ծառայություն | G43: =G45 -> 13740.3 | H43: =H45 -> 40400.6
F44: այդ թվում` բյուջետային ծախսերի տնտեսագիտական դասակարգման հոդվածներ
F45: ԸՆԴԱՄԵՆԸ ԾԱԽՍԵՐ | G45: =G46 -> 13740.3 | H45: =H46 -> 40400.6
F46: ԸՆԹԱՑԻԿ ԾԱԽՍԵՐ | G46: =G47+G51 -> 13740.3 | H46: =H47+H51 -> 40400.6
F47: ԱՇԽԱՏԱՆՔԻ ՎԱՐՁԱՏՐՈՒԹՅՈՒՆ | G47: =G48 -> 13425.3 | H47: =H48 -> 39665.6
F48: Դրամով վճարվող աշխատավարձեր և հավելավճարներ | G48: =G49+G50 -> 13425.3 | H48: =H49+H50 -> 39665.6
F49: - Աշխատողների աշխատավարձեր և հավելավճարներ | G49: 12204.8 | H49: 33563.2
F50: - Պարգևատրումներ, դրամական խրախուսումներ և հատուկ վճարներ | G50: 1220.5 | H50: 6102.4
F51: ՍՈՑԻԱԼԱԿԱՆ ՆՊԱՍՏՆԵՐ ԵՎ ԿԵՆՍԱԹՈՇԱԿՆԵՐ | G51: =G52 -> 315 | H51: =H52 -> 735
F52: Սոցիալական օգնության դրամական արտահայտությամբ նպաստներ (բյուջեից) | G52: =G53 -> 315 | H52: =H53 -> 735
F53: - Այլ նպաստներ բյուջեից | G53: 315 | H53: 735

Sheet հավելված 3
D1: Հավելված N3
D2: ՀՀ կառավարության 2020 թվականի
D3: _____ ___-ի N _______ -Ն որոշման
B5: ՀԱՅԱՍՏԱՆԻ ՀԱՆՐԱՊԵՏՈՒԹՅԱՆ ԿԱՌԱՎԱՐՈՒԹՅԱՆ 2019 ԹՎԱԿԱՆԻ ԴԵԿՏԵՄԲԵՐԻ 26-Ի N 1919-Ն ՈՐՈՇՄԱՆ N 9 ՀԱՎԵԼՎԱԾԻ 9.7 և 9.47 ԱՂՅՈՒՍԱԿՆԵՐՈՒՄ ԿԱՏԱՐՎՈՂ ՓՈՓՈԽՈՒԹՅՈՒՆՆԵՐԸ
B6: ՀՀ կառավարություն
B7: ՄԱՍ 2. ՊԵՏԱԿԱՆ ՄԱՐՄՆԻ ԳԾՈՎ ԱՐԴՅՈՒՆՔԱՅԻՆ (ԿԱՏԱՐՈՂԱԿԱՆ) ՑՈՒՑԱՆԻՇՆԵՐԸ
B9: Ծրագրի դասիչը | C9: Ծրագրի անվանումը
B10: 1139 | C10: ՀՀ կառավարության պահուստային ֆոնդ
B12: Ծրագրի միջոցառումները
B14: Ծրագրի դասիչը՝ | C14: 1139 | D14: Ցուցանիշների փոփոխությունը (նվազեցումները նշված են փակագծերում)
B15: Միջոցառման դասիչը՝ | C15: 11001 | D15: Ինն ամիս | E15: Տարի
B16: Միջոցառման անվանումը՝ | C16: ՀՀ կառավարության պահուստային ֆոնդ
B17: Նկարագրությունը՝ | C17: ՀՀ պետական բյուջեում նախատեսված ելքերի լրացուցիչ ֆինանսավորման՝ պետական բյուջեում չկանխատեսված ելքերի՝ ինչպես նաև բյուջետային երաշխիքների ապահովման ելքերի ֆինանսավորման ապահովում
B18: Միջոցառման տեսակը՝ | C18: Ծառայությունների մատուցում
B19: Միջոցառումն իրականացնողի անվանումը | C19: ՀՀ կառավարություն
C20: Արդյունքի չափորոշիչներ
B21: Միջոցառման վրա կատարվող ծախսը (հազար դրամ) | D21: =+-D37 -> -13740.3 | E21: =+-E37 -> -40400.6
B22: ՀՀ հատուկ քննչական ծառայություն
B23: ՄԱՍ 2. ՊԵՏԱԿԱՆ ՄԱՐՄՆԻ ԳԾՈՎ ԱՐԴՅՈՒՆՔԱՅԻՆ (ԿԱՏԱՐՈՂԱԿԱՆ) ՑՈՒՑԱՆԻՇՆԵՐԸ
B25: Ծրագրի դասիչը | C25: Ծրագրի անվանումը
B26: 1062 | C26: ՀՀ հատուկ քննչական ծառայություններ
B28: Ծրագրի միջոցառումները
B30: Ծրագրի դասիչը` | C30: 1062 | D30: Ցուցանիշների փոփոխությունը (ավելացումները նշված են դրական նշանով)
B31: Միջոցառման դասիչը` | C31: 11001 | D31: Ինն ամիս | E31: Տարի
B32: Միջոցառման անվանումը` | C32: Քրեական վարույթի իրականացում
B33: Նկարագրությունը` | C33: Օրենսդիր, գործադիր և դատական իշխանության մարմինների ղեկավար աշխատողների, պետական ծառայություն իրականացնող անձանց մասնակցությամբ հանցագործությունների և ընտրական գործընթացների հետ կապված քրեական գործերի օբյեկտիվ, արդյունավետ նախաքննության ապահովում
B34: Միջոցառման տեսակը` | C34: Ծառայությունների մատուցում
B35: Ծառայությունը մատուցող կազմակերպության(ների) անվանում(ներ)ը | C35: ՀՀ հատուկ քննչական ծառայություն
C36: Արդյունքի չափորոշիչներ
B37: Միջոցառման վրա կատարվող ծախսը (հազար դրամ) | D37: ='հավելված 2'!G45 -> 13740.3 | E37: ='հավելված 2'!H45 -> 40400.6

Sheet հավելված 4
D1: Հավելված N 4
D2: ՀՀ կառավարության 2020 թվականի
D3: _____ ___-ի N _______ -Ն որոշման
A5: ՀԱՅԱՍՏԱՆԻ ՀԱՆՐԱՊԵՏՈՒԹՅԱՆ ԿԱՌԱՎԱՐՈՒԹՅԱՆ 2019 ԹՎԱԿԱՆԻ ԴԵԿՏԵՄԲԵՐԻ 26-Ի N 1919-Ն ՈՐՈՇՄԱՆ N 9.1 ՀԱՎԵԼՎԱԾԻ 9.1.7 ԵՎ 9.1.58 ԱՂՅՈՒՍԱԿՆԵՐՈՒՄ ԿԱՏԱՐՎՈՂ ՓՈՓՈԽՈՒԹՅՈՒՆՆԵՐԸ
B7: ՀՀ կառավարություն
B8: ՄԱՍ 1. ՊԵՏԱԿԱՆ ՄԱՐՄՆԻ ԳԾՈՎ ԱՐԴՅՈՒՆՔԱՅԻՆ (ԿԱՏԱՐՈՂԱԿԱՆ) ՑՈՒՑԱՆԻՇՆԵՐԸ
B10: Ծրագրի դասիչը | C10: Ծրագրի անվանումը
B11: 1139 | C11: ՀՀ կառավարության պահուստային ֆոնդ
B13: Ծրագրի միջոցառումները
B14: Ծրագրի դասիչը՝ | C14: 1139 | D14: Ցուցանիշների փոփոխությունը (նվազեցումները նշված են փակագծերում)
B15: Միջոցառման դասիչը՝ | C15: 11001 | D15: Ինն ամիս | E15: Տարի
B16: Միջոցառման անվանումը՝ | C16: ՀՀ կառավարության պահուստային ֆոնդ
B17: Նկարագրությունը՝ | C17: ՀՀ պետական բյուջեում նախատեսված ելքերի լրացուցիչ ֆինանսավորման՝ պետական բյուջեում չկանխատեսված ելքերի՝ ինչպես նաև բյուջետային երաշխիքների ապահովման ելքերի ֆինանսավորման ապահովում
B18: Միջոցառման տեսակը՝ | C18: Ծառայությունների մատուցում
B19: Միջոցառումն իրականացնողի անվանումը | C19: ՀՀ կառավարություն
C20: Արդյունքի չափորոշիչներ
B21: Միջոցառման վրա կատարվող ծախսը (հազար դրամ) | D21: =+-D39 -> -13740.3 | E21: =+-E39 -> -40400.6
B24: ՀՀ հատուկ քննչական ծառայություն
B25: ՄԱՍ 1. ՊԵՏԱԿԱՆ ՄԱՐՄՆԻ ԳԾՈՎ ԱՐԴՅՈՒՆՔԱՅԻՆ (ԿԱՏԱՐՈՂԱԿԱՆ) ՑՈՒՑԱՆԻՇՆԵՐԸ
B27: Ծրագրի դասիչը | C27: Ծրագրի անվանումը
B28: 1062 | C28: ՀՀ հատուկ քննչական ծառայություններ
B30: Ծրագրի միջոցառումները
B32: Ծրագրի դասիչը` | C32: 1062 | D32: Ցուցանիշների փոփոխությունը (ավելացումները նշված են դրական նշանով)
B33: Միջոցառման դասիչը` | C33: 11001 | D33: Ինն ամիս | E33: Տարի
B34: Միջոցառման անվանումը` | C34: Քրեական վարույթի իրականացում
B35: Նկարագրությունը` | C35: Օրենսդիր, գործադիր և դատական իշխանության մարմինների ղեկավար աշխատողների, պետական ծառայություն իրականացնող անձանց մասնակցությամբ հանցագործությունների և ընտրական գործընթացների հետ կապված քրեական գործերի օբյեկտիվ, արդյունավետ նախաքննության ապահովում
B36: Միջոցառման տեսակը` | C36: Ծառայությունների մատուցում
B37: Ծառայությունը մատուցող կազմակերպության(ների) անվանում(ներ)ը | C37: ՀՀ հատուկ քննչական ծառայություն
B38: Արդյունքի չափորոշիչներ
B39: Միջոցառման վրա կատարվող ծախսը (հազար դրամ) | D39: =+'հավելված 3'!D37 -> 13740.3 | E39: =+'հավելված 3'!E37 -> 40400.6
