Workbook

Sheet հավելված 1
I1: Հավելված N 1
I2: ՀՀ կառավարության 2020 թվականի
I3: -----------------ի N -----------Ն որոշման
A4: ՀԱՅԱՍՏԱՆԻ ՀԱՆՐԱՊԵՏՈՒԹՅԱՆ ԿԱՌԱՎԱՐՈՒԹՅԱՆ 2019 ԹՎԱԿԱՆԻ ԴԵԿՏԵՄԲԵՐԻ 26-Ի N 1919-Ն ՈՐՈՇՄԱՆ N 3 և N 4 ՀԱՎԵԼՎԱԾՆԵՐՈՒՄ ԿԱՏԱՐՎՈՂ ՓՈՓՈԽՈՒԹՅՈՒՆՆԵՐԸ
G5: հազար դրամներով
A6: Գործառական դասիչը | D6: Ծրագրային դասիչը | F6: Բյուջետային ծախսերի գործառական դասակարգման բաժինների, խմբերի և դասերի, բյուջետային ծրագրերի միջոցառումների, բյուջետային հատկացումների գլխավոր կարգադրիչների անվանումները | G6: Ցուցանիշների փոփոխությունները (ավելացումները նշված են դրական, իսկ նվազեցումները՝ փակագծերում)
A7: Բաժինը | B7: Խումբը | C7: Դասը | D7: Ծրագիր | E7: Միջոցառում | G7: Առաջին կիսամյակ | H7: Ինն ամիս | I7: Տարի
F8: ԸՆԴԱՄԵՆԸ՝ ԾԱԽՍԵՐ | G8: =G10 -> 0 | H8: =H10 -> 0 | I8: =I10 -> 0
F9: այդ թվում՝
A10: 10 | F10: ՍՈՑԻԱԼԱԿԱՆ ՊԱՇՏՊԱՆՈՒԹՅՈՒՆ | G10: =G12+G23+G34+G57 -> 0 | H10: =H12+H23+H34+H57 -> 0 | I10: =I12+I23+I34+I57 -> 0
F11: այդ թվում՝
B12: 02 | F12: Ծերություն | G12: =SUM(G14) -> 100000 | H12: =SUM(H14) -> 100000 | I12: =SUM(I14) -> 0
F13: այդ թվում՝
C14: 01 | F14: Ծերություն | G14: =G15 -> 100000 | H14: =H15 -> 100000 | I14: =I15 -> 0
F15: այդ թվում՝ ՀՀ աշխատանքի և սոցիալական հարցերի նախարարություն | G15: =G16 -> 100000 | H15: =H16 -> 100000 | I15: =I16 -> 0
D16: 1102 | F16: Կենսաթոշակային ապահովություն | G16: =G18 -> 100000 | H16: =H18 -> 100000 | I16: =I18 -> 0
F17: այդ թվում՝
E18: 12001 | F18: Սպայական անձնակազմի և նրանց ընտանիքների անդամների կենսաթոշակներ | G18: =G20 -> 100000 | H18: =H20 -> 100000 | I18: =I20 -> 0
F19: այդ թվում՝ ըստ կատարողների
F20: ՀՀ աշխատանքի և սոցիալական հարցերի նախարարության սոցիալական ապահովության ծառայություն | G20: =G22 -> 100000 | H20: =H22 -> 100000 | I20: =I22 -> 0
F21: այդ թվում՝ բյուջետային ծախսերի տնտեսագիտական դասակարգման հոդվածներ
F22: -Կենսաթոշակներ | G22: 100000 | H22: 100000 | I22: 0
B23: 03 | F23: Հարազատին կորցրած անձինք | G23: =SUM(G25) -> 200000 | H23: =SUM(H25) -> 200000 | I23: =SUM(I25) -> 0
F24: այդ թվում՝
C25: 01 | F25: Հարազատին կորցրած անձինք | G25: =G26 -> 200000 | H25: =H26 -> 200000 | I25: =I26 -> 0
F26: այդ թվում՝ ՀՀ աշխատանքի և սոցիալական հարցերի նախարարություն | G26: =G27 -> 200000 | H26: =H27 -> 200000 | I26: =I27 -> 0
D27: 1205 | F27: Սոցիալական ապահովություն | G27: =G29 -> 200000 | H27: =H29 -> 200000 | I27: =I29 -> 0
F28: այդ թվում՝
E29: 12002 | F29: Կենսաթոշակառուի, ծերության, հաշմանդամության, կերակրողին կորցնելու դեպքում նպաստառուի մահվան դեպքում տրվող թաղման նպաստ | G29: =G31 -> 200000 | H29: =H31 -> 200000 | I29: =I31 -> 0
F30: այդ թվում՝ ըստ կատարողների
F31: ՀՀ աշխատանքի և սոցիալական հարցերի նախարարության սոցիալական ապահովության ծառայություն | G31: =G33 -> 200000 | H31: =H33 -> 200000 | I31: =I33 -> 0
F32: այդ թվում՝ բյուջետային ծախսերի տնտեսագիտական դասակարգման հոդվածներ
F33: - Հուղարկավորության նպաստներ բյուջեից | G33: 200000 | H33: 200000 | I33: 0
B34: 04 | F34: Ընտանիքի անդամներ և զավակներ | G34: =SUM(G36) -> -628670.2 | H34: =SUM(H36) -> -294820 | I34: =SUM(I36) -> 0
F35: այդ թվում՝
C36: 01 | F36: Ընտանիքի անդամներ և զավակներ | G36: =G37 -> -628670.2 | H36: =H37 -> -294820 | I36: =I37 -> 0
F37: այդ թվում՝ ՀՀ աշխատանքի և սոցիալական հարցերի նախարարություն | G37: =G38+G45+G52 -> -628670.2 | H37: =H38+H45+H52 -> -294820 | I37: =I38+I45+I52 -> 0
D38: 1011 | F38: Անապահով սոցիալական խմբերին աջակցություն | G38: =G40 -> -846677 | H38: =H40 -> -512826.8 | I38: =I40 -> 0
F39: այդ թվում՝
E40: 12001 | F40: Ընտանիքի կենսամակարդակի բարձրացմանն ուղղված նպաստներ | G40: =G42 -> -846677 | H40: =H42 -> -512826.8 | I40: =I42 -> 0
F41: այդ թվում՝ ըստ կատարողների
F42: ՀՀ աշխատանքի և սոցիալական հարցերի նախարարության սոցիալական ապահովության ծառայություն | G42: =G44 -> -846677 | H42: =H44 -> -512826.8 | I42: =I44 -> 0
F43: այդ թվում՝ բյուջետային ծախսերի տնտեսագիտական դասակարգման հոդվածներ
F44: - Երեխաների կամ ընտանեկան նպաստներ բյուջեից | G44: -846677 | H44: -512826.8 | I44: 0
D45: 1068 | F45: Ժողովրդագրական վիճակի բարելավում | G45: =G47 -> 47600 | H45: =H47 -> 47600 | I45: =I47 -> 0
F46: այդ թվում՝
E47: 12002 | F47: Երեխայի ծննդյան միանվագ նպաստ | G47: =G49 -> 47600 | H47: =H49 -> 47600 | I47: =I49 -> 0
F48: այդ թվում՝ ըստ կատարողների
F49: ՀՀ աշխատանքի և սոցիալական հարցերի նախարարության սոցիալական ապահովության ծառայություն | G49: =G51 -> 47600 | H49: =H51 -> 47600 | I49: =I51 -> 0
F50: այդ թվում՝ բյուջետային ծախսերի տնտեսագիտական դասակարգման հոդվածներ
F51: - Երեխաների կամ ընտանեկան նպաստներ բյուջեից | G51: 47600 | H51: 47600 | I51: 0
D52: 1082 | E52: 12002 | F52: Մայրության նպաստ | G52: =G54 -> 170406.8 | H52: =H54 -> 170406.8 | I52: =I54 -> 0
F53: այդ թվում՝ ըստ կատարողների
F54: ՀՀ աշխատանքի և սոցիալական հարցերի նախարարության սոցիալական ապահովության ծառայություն | G54: =G56 -> 170406.8 | H54: =H56 -> 170406.8 | I54: =I56 -> 0
F55: այդ թվում՝ բյուջետային ծախսերի տնտեսագիտական դասակարգման հոդվածներ
F56: - Մայրության նպաստներ բյուջեից | G56: 170406.8 | H56: 170406.8 | I56: 0
B57: 09 | F57: Սոցիալական պաշտպանություն (այլ դասերին չպատկանող) | G57: =SUM(G59) -> 328670.2 | H57: =SUM(H59) -> -5180 | I57: =SUM(I59) -> 0
F58: այդ թվում՝
C59: 02 | F59: Սոցիալական պաշտպանությանը տրամադրվող օժանդակ ծառայություններ (այլ դասերին չպատկանող) | G59: =G61+G68 -> 328670.2 | H59: =H61+H68 -> -5180 | I59: =I61+I68 -> 0
F60: այդ թվում՝ ՀՀ աշխատանքի և սոցիալական հարցերի նախարարություն | G60: =G61+G68 -> 328670.2 | H60: =H61+H68 -> -5180 | I60: =I68 -> 0
D61: 1011 | F61: Անապահով սոցիալական խմբերին աջակցություն | G61: =G63 -> -8552.2 | H61: =H63 -> -5180 | I61: =I63 -> 0
F62: այդ թվում՝
E63: 11001 | F63: Ընտանիքի կենսամակարդակի բարձրացմանն ուղղված նպաստների իրականացման ապահովում | G63: =G65 -> -8552.2 | H63: =H65 -> -5180 | I63: =I65 -> 0
F64: այդ թվում՝ ըստ կատարողների
F65: ՀՀ աշխատանքի և սոցիալական հարցերի նախարարության սոցիալական ապահովության ծառայություն | G65: =G67 -> -8552.2 | H65: =H67 -> -5180 | I65: =I67 -> 0
F66: այդ թվում՝ բյուջետային ծախսերի տնտեսագիտական դասակարգման հոդվածներ
F67: -Կապի ծառայություններ | G67: -8552.2 | H67: -5180 | I67: 0
D68: 1082 | F68: Սոցիալական աջակցություն անաշխատունակության դեպքում | G68: =SUM(G70) -> 337222.4 | H68: =SUM(H70) -> 0 | I68: =SUM(I70) -> 0
F69: այդ թվում՝
E70: 12001 | F70: Ժամանակավոր անաշխատունակության դեպքում նպաստ | G70: =G72 -> 337222.4 | H70: =H72 -> 0 | I70: =I72 -> 0
F71: այդ թվում՝ ըստ կատարողների
F72: ՀՀ աշխատանքի և սոցիալական հարցերի նախարարության սոցիալական ապահովության ծառայություն | G72: =G74 -> 337222.4 | H72: =H74 -> 0 | I72: =I74 -> 0
F73: այդ թվում՝ բյուջետային ծախսերի տնտեսագիտական դասակարգման հոդվածներ
F74: - Հիվանդության և հաշմանդամության նպաստներ բյուջեից | G74: 337222.4 | H74: 0 | I74: 0

Sheet հավելված 2
G1: Հավելված N 2
G2: ՀՀ կառավարության 2020 թվականի
G3: -----------------ի N -----------Ն որոշման
B5: ՀԱՅԱՍՏԱՆԻ ՀԱՆՐԱՊԵՏՈՒԹՅԱՆ ԿԱՌԱՎԱՐՈՒԹՅԱՆ 2019 ԹՎԱԿԱՆԻ ԴԵԿՏԵՄԲԵՐԻ 26-Ի N 1919-Ն ՈՐՈՇՄԱՆ N 5 ՀԱՎԵԼՎԱԾԻ N 1 ԱՂՅՈՒՍԱԿՈՒՄ ԿԱՏԱՐՎՈՂ ՓՈՓՈԽՈՒԹՅՈՒՆՆԵՐԸ
F6: հազար դրամներով
B7: Ծրագրային դասիչը | D7: Բյուջետային հատկացումների գլխավոր կարգադրիչների, ծրագրերի և միջոցառումների անվանումները | E7: Ցուցանիշների փոփոխությունները ավելացումները նշված են դրական նշանով, իսկ նվազեցումները՝ փակագծերում
B8: Ծրագիր | C8: Միջոցառում | E8: Առաջին կիսամյակ | F8: Ինն ամիս | G8: Տարի
D9: Ընդամենը | E9: =E10 -> 0 | F9: =F10 -> 0 | G9: =G10 -> 0
B10: ՀՀ աշխատանքի և սոցիալական հարցերի նախարարություն | E10: =E11+E30+E43+E63+E76 -> 0 | F10: =F11+F30+F43+F63+F76 -> 0 | G10: =G11+G30+G43+G63+G76 -> 0
B11: 1011 | D11: Ծրագրի անվանումը՝ | E11: =E18+E24 -> -855229.2 | F11: =F18+F24 -> -518006.8 | G11: =G18 -> 0
D12: Անապահով սոցիալական խմբերին աջակցություն
D13: Ծրագրի նպատակը՝
D14: Օժանդակել անապահով ընտանիքների կենսամակարդակի բարձրացմանը
D15: Վերջնական արդյունքի նկարագրությունը
D16: Աղքատության մեղմում և ծայրահեղ աղքատության կրճատում
B17: Ծրագրի մրջոցառումներ
C18: 11001 | D18: Միջոցառման անվանումը` | E18: ='հավելված 1'!G61 -> -8552.2 | F18: ='հավելված 1'!H61 -> -5180 | G18: ='հավելված 1'!I61 -> 0
D19: Ընտանիքի կենսամակարդակի բարձրացմանն ուղղված նպաստների իրականացման ապահովում
D20: Միջոցառման նկարագրությունը`
D21: Ընտանիքների անապահովության գնահատման համակարգում հաշվառված, անապահով ճանաչված ընտանիքներին նպաստի, սոցիալական նպաստի և հրատապ օգնության վճարման ծառայությունների ձեռքբերում
D22: Միջոցառման տեսակը`
D23: Ծառայությունների մատուցում
C24: 12001 | D24: Միջոցառման անվանումը` | E24: ='հավելված 1'!G44 -> -846677 | F24: ='հավելված 1'!H44 -> -512826.8 | G24: 0
D25: Ընտանիքի կենսամակարդակի բարձրացմանն ուղղված նպաստներ
D26: Միջոցառման նկարագրությունը`
D27: Ընտանիքների անապահովության գնահատման համակարգում հաշվառված, անապահով ճանաչված ընտանիքներին նպաստի, սոցիալական նպաստի և հրատապ օգնության տրամադրում
D28: Միջոցառման տեսակը`
D29: Տրանսֆերտների տրամադրում
B30: 1068 | D30: Ծրագրի անվանումը՝ | E30: =E37 -> 47600 | F30: =F37 -> 47600 | G30: =G37 -> 0
D31: Ժողովրդագրական վիճակի բարելավում
D32: Ծրագրի նպատակը՝
D33: Խթանել ժողովրդագրական վիճակի բարելավումը
D34: Վերջնական արդյունքի նկարագրությունը
D35: Ժողովրդագրական վիճակի բարելավում և բազմազավակության աճ
B36: Ծրագրի մրջոցառումներ
C37: 12002 | D37: Միջոցառման անվանումը` | E37: ='հավելված 1'!G51 -> 47600 | F37: ='հավելված 1'!H51 -> 47600 | G37: 0
D38: Երեխայի ծննդյան միանվագ նպաստ
D39: Միջոցառման նկարագրությունը`
D40: Երեխայի ծննդյան կապակցությամբ միանվագ նպաստի տրամադրում
D41: Միջոցառման տեսակը`
D42: Տրանսֆերտների տրամադրում
B43: 1082 | D43: Ծրագրի անվանումը՝ | E43: =E50+E56 -> 507629.2 | F43: =F50+F56 -> 170406.8 | G43: =G50+G56 -> 0
D44: Սոցիալական աջակցություն անաշխատունակության դեպքում
D45: Ծրագրի նպատակը՝
D46: Կորցրած եկամուտների մասնակի փոխհատուցում
D47: Վերջնական արդյունքի նկարագրությունը
D48: Անաշխատունակության հետևանքով եկամտի կորստի մասնակի փոխհատուցման ապահովում
B49: Ծրագրի մրջոցառումներ
C50: 12001 | D50: Միջոցառման անվանումը` | E50: ='հավելված 1'!G74 -> 337222.4 | F50: ='հավելված 1'!H74 -> 0 | G50: 0
D51: Ժամանակավոր անաշխատունակության դեպքում նպաստ
D52: Միջոցառման նկարագրությունը`
D53: ժամանակավոր անաշխատունակության դեպքում (հիվանդության, ընտանիքի հիվանդ անդամի խնամքի և օրենքով սահմանված այլ պատճ. առաջացած) վարձու աշխատողներին, նոտարներին և անհատ ձեռնարկատերերին ժամանակավոր անաշխատունակության նպաստի վճարում
D54: Միջոցառման տեսակը`
D55: Տրանսֆերտների տրամադրում
C56: 12002 | D56: Միջոցառման անվանումը` | E56: ='հավելված 1'!G56 -> 170406.8 | F56: ='հավելված 1'!H56 -> 170406.8 | G56: 0
D57: Մայրության նպաստ
D58: Միջոցառման նկարագրությունը`
D59: Մայրության նպաստի տրամադրում աշխատող և չաշխատող անձանց
D60: Միջոցառման տեսակը`
D61: Տրանսֆերտների տրամադրում
B63: 1102 | D63: Ծրագրի անվանումը՝ | E63: =E70 -> 100000 | F63: =F70 -> 100000 | G63: =G70 -> 0
D64: Կենսաթոշակային ապահովություն
D65: Ծրագրի նպատակը՝
D66: Կենսաթոշակի իրավունքի իրացում
D67: Վերջնական արդյունքի նկարագրությունը
D68: Կենսաթոշակների նշանակման և վճարման գործընթացի ապահովում
B69: Ծրագրի մրջոցառումներ
C70: 12001 | D70: Միջոցառման անվանումը` | E70: ='հավելված 1'!G22 -> 100000 | F70: ='հավելված 1'!H22 -> 100000 | G70: 0
D71: Սպայական անձնակազմի և նրանց ընտանիքների անդամների կենսաթոշակներ
D72: Միջոցառման նկարագրությունը`
D73: Սպայական անձնակազմի զինծառայողներին երկարամյա ծառայության, հաշմանդամության և զինծառայողի մահվան դեպքում նրա ընտանիքի անդամներին կերակրողին կորցնելու դեպքում զինվորական կենսաթոշակների տրամադրում
D74: Միջոցառման տեսակը`
D75: Տրանսֆերտների տրամադրում
B76: 1205 | D76: Ծրագրի անվանումը՝ | E76: =E83 -> 200000 | F76: =F83 -> 200000 | G76: =G83 -> 0
D77: Սոցիալական ապահովություն
D78: Ծրագրի նպատակը՝
D79: Սոցիալական ապահովության իրավունքի իրականացման ապահովում
D80: Վերջնական արդյունքի նկարագրությունը
D81: Սոցիալական ապահովության իրավունքի իրականացում
B82: Ծրագրի մրջոցառումներ
C83: 12002 | D83: Միջոցառման անվանումը` | E83: ='հավելված 1'!G33 -> 200000 | F83: ='հավելված 1'!H33 -> 200000 | G83: 0
D84: Կենսաթոշակառուի, ծերության, հաշմանդամության, կերակրողին կորցնելու դեպքում նպաստառուի մահվան դեպքում տրվող թաղման նպաստ
D85: Միջոցառման նկարագրությունը`
D86: Կենսաթոշակառուի, ծերության, հաշմանդամության, կերակրողին կորցնելու դեպքում նպաստառուի մահվան դեպքում տրվող թաղման նպաստի տրամադրում
D87: Միջոցառման տեսակը`
D88: Տրանսֆերտների տրամադրում

Sheet հավելված 3
F1: Հավելված N 3
F2: ՀՀ կառավարության 2020 թվականի
F3: -----------------ի N -----------Ն որոշման
B4: ՀԱՅԱՍՏԱՆԻ ՀԱՆՐԱՊԵՏՈՒԹՅԱՆ ԿԱՌԱՎԱՐՈՒԹՅԱՆ 2019 ԹՎԱԿԱՆԻ ԴԵԿՏԵՄԲԵՐԻ 26-Ի N 1919-Ն ՈՐՈՇՄԱՆ N 9 ՀԱՎԵԼՎԱԾԻ N 9.16 ԱՂՅՈՒՍԱԿՈՒՄ ԿԱՏԱՐՎՈՂ ՓՈՓՈԽՈՒԹՅՈՒՆՆԵՐԸ
B6: Հայաստանի Հանրապետության աշխատանքի և սոցիալական հարցերի նախարարություն
B7: ՄԱՍ 1. ՊԵՏԱԿԱՆ ՄԱՐՄՆԻ ԳԾՈՎ ԱՐԴՅՈՒՆՔԱՅԻՆ (ԿԱՏԱՐՈՂԱԿԱՆ) ՑՈՒՑԱՆԻՇՆԵՐԸ
B9: Ծրագրի դասիչը | C9: Ծրագրի անվանումը
B10: 1011 | C10: Անապահով սոցիալական խմբերին աջակցություն
B12: Ծրագրի միջոցառումները
B14: Ծրագրի դասիչը | C14: 1011 | D14: Ցուցանիշների փոփոխությունը (նվազեցումները նշված են փակագծերում)
B15: Միջոցառման դասիչը | C15: 11001 | D15: Առաջին կիսամյակ | E15: Ինն ամիս | F15: Տարի
B16: Միջոցառման անվանումը | C16: Ընտանիքի կենսամակարդակի բարձրացմանն ուղղված նպաստների իրականացման ապաhովում
B17: Նկարագրությունը | C17: Ընտանիքների անապահովության գնահատման համակարգում հաշվառված ընդգրկված անապահով ճանաչված ընտանիքներին նպաստի, սոցիալական նպաստի և հրատապ օգնության վճարման ծառայությունների ձեռքբերում
B18: Միջոցառման տեսակը` | C18: Ծառայությունների մատուցում
B19: Միջոցառումն իրականացնողի անվանումը | C19: «Գնումների մասին» ՀՀ օրենքի համաձայն ընտրված կազմակերպություն
B20: Արդյունքային չափորոշիչներ
B21: Ընտանիքի կենսամակարդակի բարձրացմանն ուղղված նպաստներ ստացող ընտանիքների թիվ, հատ,
B22: Միջոցառման վրա կատարվող ծախսը հազ.դրամ | D22: ='հավելված 2'!E18 -> -8552.2 | E22: ='հավելված 2'!F18 -> -5180 | F22: 0
B24: Ծրագրի դասիչը | C24: 1011 | D24: Ցուցանիշների փոփոխությունը (նվազեցումները նշված են փակագծերում)
B25: Միջոցառման դասիչը | C25: 12001 | D25: Առաջին կիսամյակ | E25: Ինն ամիս | F25: Տարի
B26: Միջոցառման անվանումը | C26: Ընտանիքի կենսամակարդակի բարձրացմանն ուղղված նպաստներ
B27: Նկարագրությունը | C27: Ընտանիքների անապահովության գնահատման համակարգում հաշվառված, անապահով ճանաչված ընտանիքներին նպաստի, սոցիալական նպաստի և հրատապ օգնության տրամադրում
B28: Միջոցառման տեսակը | C28: Տրանսֆերտի տրամադրում
B29: Շահառուների ընտրության չափանիշները | C29: Ընտանիքների անապահովության գնահատման համակարգում հաշվառված ընտանիք, ընտանիքի անապահովության միավորի հիման վրա
B30: Արդյունքային չափորոշիչներ
B31: Ընտանիքի կենսամակարդակի բարձրացմանն ուղղված նպաստներ ստացող ընտանիքների թիվ, հատ,
B32: Միջոցառման վրա կատարվող ծախսը հազ.դրամ | D32: ='հավելված 2'!E24 -> -846677 | E32: ='հավելված 2'!F24 -> -512826.8 | F32: 0
B34: Ծրագրի դասիչը | C34: Ծրագրի անվանումը
B35: 1068 | C35: Ժողովրդագրական վիճակի բարելավում
B37: Ծրագրի միջոցառումները
B39: Ծրագրի դասիչը | C39: 1068 | D39: Ցուցանիշների փոփոխությունը (ավելացումները նշված են դրական)
B40: Միջոցառման դասիչը | C40: 12002 | D40: Առաջին կիսամյակ | E40: Ինն ամիս | F40: Տարի
B41: Միջոցառման անվանումը | C41: Երեխայի ծննդյան միանվագ նպաստ
B42: Նկարագրությունը | C42: Երեխայի ծննդյան կապակցությամբ միանվագ նպաստի տրամադրում
B43: Միջոցառման տեսակը | C43: Տրանսֆերտների տրամադրում
B44: Շահառուների ընտրության չափանիշները | C44: ՀՀ-ում հաշվառված նոր ծնված երեխայի ծնող օրինական ներկայացուցիչ
B45: Արդյունքային չափորոշիչներ
B46: շահառու նորածինների թիվ, այդ թվում՝ | D46: =D47+D48+D49 -> 302 | E46: =E47+E48+E49 -> 302
B47: ընտանիքում առաջին և երկրորդ երեխաների թիվ | D47: 282 | E47: 282
B48: ընտանիքում երրորդ և չորրորդ երեխաների թիվ | D48: 20 | E48: 20
B49: ընտանիքում հինգ և հաջորդ երեխաների թիվ
B50: Միջոցառման վրա կատարվող ծախսը հազար դրամ | D50: ='հավելված 2'!E37 -> 47600 | E50: ='հավելված 2'!F37 -> 47600 | F50: 0
B52: Ծրագրի դասիչը | C52: Ծրագրի անվանումը
B53: 1082 | C53: Սոցիալական աջակցություն անաշխատունակության դեպքում
B55: Ծրագրի միջոցառումները
B57: Ծրագրի դասիչը` | C57: 1082 | D57: Ցուցանիշների փոփոխությունը (ավելացումները նշված են դրական)
B58: Միջոցառման դասիչը` | C58: 12001 | D58: Առաջին կիսամյակ | E58: Ինն ամիս | F58: Տարի
B59: Միջոցառման անվանումը` | C59: Ժամանակավոր անաշխատունակության դեպքում նպաստ
B60: Նկարագրությունը | C60: ժամանակավոր անաշխատունակության դեպքում (հիվանդության, ընտանիքի հիվանդ անդամի խնամքի և օրենքով սահմանված այլ պատճ. առաջացած) վարձու աշխատողներին, նոտարներին և անհատ ձեռնարկատերերին ժամանակավոր անաշխատունակության նպաստի վճարում
B61: Միջոցառման տեսակը | C61: Տրանսֆերտների տրամադրում
B62: Շահառուների ընտրության չափանիշները | C62: Օրենքով սահմանված կարգով ու չափով եկամտային հարկ (շահութահարկ) վճարած վարձու աշխատողներ, նոտարներ և անհատ ձեռնարկատերեր
B63: Արդյունքային չափորոշիչներ
B64: Ժամանակավոր անաշխատունակության օրերի թիվ, օր | D64: 83774
B65: Միջոցառման վրա կատարվող ծախսը հազար դրամ | D65: ='հավելված 1'!G74 -> 337222.4 | E65: ='հավելված 1'!H74 -> 0 | F65: ='հավելված 1'!I74 -> 0
B67: Ծրագրի դասիչը` | C67: 1082 | D67: Ցուցանիշների փոփոխությունը (ավելացումները նշված են դրական)
B68: Միջոցառման դասիչը` | C68: 12002 | D68: Առաջին կիսամյակ | E68: Ինն ամիս | F68: Տարի
B69: Միջոցառման անվանումը` | C69: Մայրության նպաստ
B70: Նկարագրությունը | C70: Մայրության նպաստի տրամադրում աշխատող և չաշխատող անձանց
B71: Միջոցառման տեսակը | C71: Տրանսֆերտների տրամադրում
B72: Շահառուների ընտրության չափանիշները | C72: Հղիության և ծննդաբերության արձակուրդի իրավունք ունեցող անձիք անկախ աշխատանքային կարգավիճակից
B73: Արդյունքային չափորոշիչներ
B74: Հղիության և ծննդաբերության արձակուրդի օրերի թիվ, օր
B75: Մարության նպաստ ստացող աշխատող անձանց թիվ, մարդ
B76: Մարության նպաստ ստացող չաշխատող անձանց թիվ, մարդ
B77: Միջոցառման վրա կատարվող ծախսը հազար դրամ | D77: ='հավելված 1'!G56 -> 170406.8 | E77: ='հավելված 1'!H56 -> 170406.8 | F77: ='հավելված 1'!I56 -> 0
B80: Ծրագրի դասիչը | C80: Ծրագրի անվանումը
B81: 1102 | C81: Կենսաթոշակային ապահովություն
B83: Ծրագրի միջոցառումները
B85: Ծրագրի դասիչը՝ | C85: 1102 | D85: Ցուցանիշների փոփոխությունը (ավելացումները նշված են դրական)
B86: Միջոցառման դասիչը՝ | C86: 12001 | D86: Առաջին կիսամյակ | E86: Ինն ամիս | F86: Տարի
B87: Միջոցառման անվանումը՝ | C87: Սպայական անձնակազմի և նրանց ընտանիքների անդամների կենսաթոշակներ
B88: Նկարագրությունը՝ | C88: Սպայական անձնակազմի զինծառայողներին երկարամյա ծառայության, հաշմանդամության և զինծառայողի մահվան դեպքում նրա ընտանիքի անդամներին կերակրողին կորցնելու դեպքում զինվորական կենսաթոշակների տրամադրում
B89: Միջոցառման տեսակը՝ | C89: Տրանսֆերտների տրամադրում
B90: Շահառուների ընտրության չափանիշները | C90: Սպայական անձնակազմին և նրանց ընտանիքների անդամներին երկարամյա ծառայության, հաշմանդամության և կերակրողին կորցնելու դեպքում կենսաթոշակների տրամադրում 22.12.2010թ. ՀՕ-243-Ն օրենքի 18-րդ, 20-րդ, 22-րդ հոդվածներով
B91: Արդյունքային չափորոշիչներ
B92: Կենսաթոշակառուների թիվ, մարդ
B93: Միջոցառման վրա կատարվող ծախսը հազար դրամ | D93: ='հավելված 1'!G22 -> 100000 | E93: ='հավելված 1'!H22 -> 100000 | F93: 0
B95: Ծրագրի դասիչը | C95: Ծրագրի անվանումը
B96: 1205 | C96: Սոցիալական ապահովություն
B98: Ծրագրի միջոցառումները
B100: Ծրագրի դասիչը | C100: 1205 | D100: Ցուցանիշների փոփոխությունը (ավելացումները նշված են դրական)
B101: Միջոցառման դասիչը | C101: 12002 | D101: Առաջին կիսամյակ | E101: Ինն ամիս | F101: Տարի
B102: Միջոցառման անվանումը | C102: Կենսաթոշակառուի, ծերության, հաշմանդամության, կերակրողին կորցնելու դեպքում նպաստառուի մահվան դեպքում տրվող թաղման նպաստ
B103: Նկարագրությունը | C103: Կենսաթոշակառուի, ծերության, հաշմանդամության, կերակրողին կորցնելու դեպքում նպաստառուի մահվան դեպքում տրվող թաղման նպաստի տրամադրում
B104: Միջոցառման տեսակը | C104: Տրանսֆերտի տրամադրում
B105: Շահառուների ընտրության չափանիշները | C105: Կենսաթոշակառուի, ծերության, հաշմանդամության, կերակրողին կորցնելու դեպքում նպաստառուի հողարկավորությունը կատարած անձ
B107: Թաղման նպաստ ստացողների թիվ, մարդ | D107: 100 | E107: 100
B108: Միջոցառման վրա կատարվող ծախսը հազար դրամ | D108: ='հավելված 1'!G33 -> 200000 | E108: ='հավելված 1'!H33 -> 200000 | F108: 0

Sheet հավելված 4
F1: Հավելված N 4
F2: ՀՀ կառավարության 2020 թվականի
F3: -----------------ի N -----------Ն որոշման
B4: ՀԱՅԱՍՏԱՆԻ ՀԱՆՐԱՊԵՏՈՒԹՅԱՆ ԿԱՌԱՎԱՐՈՒԹՅԱՆ 2019 ԹՎԱԿԱՆԻ ԴԵԿՏԵՄԲԵՐԻ 26-Ի N 1919-Ն ՈՐՈՇՄԱՆ N 9.1 ՀԱՎԵԼՎԱԾԻ N 9.1.20 ԱՂՅՈՒՍԱԿՈՒՄ ԿԱՏԱՐՎՈՂ ՓՈՓՈԽՈՒԹՅՈՒՆՆԵՐԸ
B6: Հայաստանի Հանրապետության աշխատանքի և սոցիալական հարցերի նախարարության սոցիալական ապահովության ծառայություն
B7: ՄԱՍ 1. ՊԵՏԱԿԱՆ ՄԱՐՄՆԻ ԳԾՈՎ ԱՐԴՅՈՒՆՔԱՅԻՆ (ԿԱՏԱՐՈՂԱԿԱՆ) ՑՈՒՑԱՆԻՇՆԵՐԸ
B9: Ծրագրի դասիչը | C9: Ծրագրի անվանումը
B10: 1011 | C10: Անապահով սոցիալական խմբերին աջակցություն
B12: Ծրագրի միջոցառումները
B14: Ծրագրի դասիչը | C14: 1011 | D14: Ցուցանիշների փոփոխությունը (նվազեցումները նշված են փակագծերում)
B15: Միջոցառման դասիչը | C15: 11001 | D15: Առաջին կիսամյակ | E15: Ինն ամիս | F15: Տարի
B16: Միջոցառման անվանումը | C16: Ընտանիքի կենսամակարդակի բարձրացմանն ուղղված նպաստների իրականացման ապաhովում
B17: Նկարագրությունը | C17: Ընտանիքների անապահովության գնահատման համակարգում հաշվառված ընդգրկված անապահով ճանաչված ընտանիքներին նպաստի, սոցիալական նպաստի և հրատապ օգնության վճարման ծառայությունների ձեռք բերում
B18: Միջոցառման տեսակը` | C18: Ծառայությունների մատուցում
B19: Միջոցառումն իրականացնողի անվանումը | C19: «Գնումների մասին» ՀՀ օրենքի համաձայն ընտրված կազմակերպություն
B20: Արդյունքային չափորոշիչներ
B21: Ընտանիքի կենսամակարդակի բարձրացմանն ուղղված նպաստներ ստացող ընտանիքների թիվ, հատ,
B22: Միջոցառման վրա կատարվող ծախսը հազ.դրամ | D22: ='հավելված 2'!E18 -> -8552.2 | E22: ='հավելված 2'!F18 -> -5180 | F22: 0
B24: Ծրագրի դասիչը | C24: 1011 | D24: Ցուցանիշների փոփոխությունը (նվազեցումները նշված են փակագծերում)
B25: Միջոցառման դասիչը | C25: 12001 | D25: Առաջին կիսամյակ | E25: Ինն ամիս | F25: Տարի
B26: Միջոցառման անվանումը | C26: Ընտանիքի կենսամակարդակի բարձրացմանն ուղղված նպաստներ
B27: Նկարագրությունը | C27: Ընտանիքների անապահովության գնահատման համակարգում հաշվառված, անապահով ճանաչված ընտանիքներին նպաստի, սոցիալական նպաստի և հրատապ օգնության տրամադրում
B28: Միջոցառման տեսակը | C28: Տրանսֆերտի տրամադրում
B29: Շահառուների ընտրության չափանիշները | C29: Ընտանիքների անապահովության գնահատման համակարգում հաշվառված ընտանիք, ընտանիքի անապահովության միավորի հիման վրա
B30: Արդյունքային չափորոշիչներ
B31: Ընտանիքի կենսամակարդակի բարձրացմանն ուղղված նպաստներ ստացող ընտանիքների թիվ, հատ,
B32: Միջոցառման վրա կատարվող ծախսը հազ.դրամ | D32: ='հավելված 2'!E24 -> -846677 | E32: ='հավելված 2'!F24 -> -512826.8 | F32: 0
B34: Ծրագրի դասիչը | C34: Ծրագրի անվանումը
B35: 1068 | C35: Ժողովրդագրական վիճակի բարելավում
B37: Ծրագրի միջոցառումները
B39: Ծրագրի դասիչը | C39: 1068 | D39: Ցուցանիշների փոփոխությունը (ավելացումները նշված են դրական)
B40: Միջոցառման դասիչը | C40: 12002 | D40: Առաջին կիսամյակ | E40: Ինն ամիս | F40: Տարի
B41: Միջոցառման անվանումը | C41: Երեխայի ծննդյան միանվագ նպաստ
B42: Նկարագրությունը | C42: Երեխայի ծննդյան կապակցությամբ միանվագ նպաստի տրամադրում
B43: Միջոցառման տեսակը | C43: Տրանսֆերտների տրամադրում
B44: Շահառուների ընտրության չափանիշները | C44: ՀՀ-ում հաշվառված նոր ծնված երեխայի ծնող օրինական ներկայացուցիչ
B45: Արդյունքային չափորոշիչներ
B46: շահառու նորածինների թիվ, այդ թվում՝ | D46: =D47+D48+D49 -> 302 | E46: =E47+E48+E49 -> 302
B47: ընտանիքում առաջին և երկրորդ երեխաների թիվ | D47: =SUM('հավելված 3'!D47) -> 282 | E47: =SUM('հավելված 3'!E47) -> 282
B48: ընտանիքում երրորդ և չորրորդ երեխաների թիվ | D48: =SUM('հավելված 3'!D48) -> 20 | E48: =SUM('հավելված 3'!E48) -> 20
B49: ընտանիքում հինգ և հաջորդ երեխաների թիվ
B50: Միջոցառման վրա կատարվող ծախսը հազ.դրամ | D50: ='հավելված 2'!E37 -> 47600 | E50: ='հավելված 2'!F37 -> 47600 | F50: 0
B52: Ծրագրի դասիչը | C52: Ծրագրի անվանումը
B53: 1082 | C53: Սոցիալական աջակցություն անաշխատունակության դեպքում
B55: Ծրագրի միջոցառումները
B57: Ծրագրի դասիչը | C57: 1082 | D57: Ցուցանիշների փոփոխությունը (ավելացումները նշված են դրական)
B58: Միջոցառման դասիչը | C58: 12001 | D58: Առաջին կիսամյակ | E58: Ինն ամիս | F58: Տարի
B59: Միջոցառման անվանումը | C59: Ժամանակավոր անաշխատունակության դեպքում նպաստ
B60: Նկարագրությունը | C60: ժամանակավոր անաշխատունակության դեպքում (հիվանդության, ընտանիքի հիվանդ անդամի խնամքի և օրենքով սահմանված այլ պատճ. առաջացած) վարձու աշխատողներին, նոտարներին և անհատ ձեռնարկատերերին ժամանակավոր անաշխատունակության նպաստի վճարում
B61: Միջոցառման տեսակը | C61: Տրանսֆերտների տրամադրում
B62: Շահառուների ընտրության չափանիշները | C62: Օրենքով սահմանված կարգով ու չափով եկամտային հարկ (շահութահարկ) վճարած վարձու աշխատողներ, նոտարներ և անհատ ձեռնարկատերեր
B63: Արդյունքային չափորոշիչներ
B64: Ժամանակավոր անաշխատունակության օրերի թիվ, օր | D64: =SUM('հավելված 3'!D64) -> 83774
B65: Միջոցառման վրա կատարվող ծախսը հազ.դրամ | D65: ='հավելված 1'!G74 -> 337222.4 | E65: ='հավելված 1'!H74 -> 0 | F65: ='հավելված 1'!I74 -> 0
B67: Ծրագրի դասիչը` | C67: 1082 | D67: Ցուցանիշների փոփոխությունը (ավելացումները նշված են դրական)
B68: Միջոցառման դասիչը` | C68: 12002 | D68: Առաջին կիսամյակ | E68: Ինն ամիս | F68: Տարի
B69: Միջոցառման անվանումը` | C69: Մայրության նպաստ
B70: Նկարագրությունը | C70: Մայրության նպաստի տրամադրում աշխատող և չաշխատող անձանց
B71: Միջոցառման տեսակը | C71: Տրանսֆերտների տրամադրում
B72: Շահառուների ընտրության չափանիշները | C72: Հղիության և ծննդաբերության արձակուրդի իրավունք ունեցող անձիք անկախ աշխատանքային կարգավիճակից
B73: Արդյունքային չափորոշիչներ
B74: Հղիության և ծննդաբերության արձակուրդի օրերի թիվ, օր
B75: Մարության նպաստ ստացող աշխատող անձանց թիվ, մարդ
B76: Մարության նպաստ ստացող չաշխատող անձանց թիվ, մարդ
B77: Միջոցառման վրա կատարվող ծախսը հազար դրամ | D77: ='հավելված 1'!G56 -> 170406.8 | E77: ='հավելված 1'!H56 -> 170406.8 | F77: ='հավելված 1'!I56 -> 0
B80: Ծրագրի դասիչը | C80: Ծրագրի անվանումը
B81: 1102 | C81: Կենսաթոշակային ապահովություն
B83: Ծրագրի միջոցառումները
B85: Ծրագրի դասիչը՝ | C85: 1102 | D85: Ցուցանիշների փոփոխությունը (ավելացումները նշված են դրական)
B86: Միջոցառման դասիչը՝ | C86: 12001 | D86: Առաջին կիսամյակ | E86: Ինն ամիս | F86: Տարի
B87: Միջոցառման անվանումը՝ | C87: Սպայական անձնակազմի և նրանց ընտանիքների անդամների կենսաթոշակներ
B88: Նկարագրությունը՝ | C88: Սպայական անձնակազմի զինծառայողներին երկարամյա ծառայության, հաշմանդամության և զինծառայողի մահվան դեպքում նրա ընտանիքի անդամներին կերակրողին կորցնելու դեպքում զինվորական կենսաթոշակների տրամադրում
B89: Միջոցառման տեսակը՝ | C89: Տրանսֆերտների տրամադրում
B90: Շահառուների ընտրության չափանիշները | C90: Սպայական անձնակազմին և նրանց ընտանիքների անդամներին երկարամյա ծառայության, հաշմանդամության և կերակրողին կորցնելու դեպքում կենսաթոշակների տրամադրում 22.12.2010թ. ՀՕ-243-Ն օրենքի 18-րդ, 20-րդ, 22-րդ հոդվածներով:
B91: Արդյունքային չափորոշիչներ
B92: Կենսաթոշակառուների թիվ, մարդ
B93: Միջոցառման վրա կատարվող ծախսը հազ.դրամ | D93: ='հավելված 1'!G22 -> 100000 | E93: ='հավելված 1'!H22 -> 100000 | F93: 0
B95: Ծրագրի դասիչը | C95: Ծրագրի անվանումը
B96: 1205 | C96: Սոցիալական ապահովություն
B98: Ծրագրի միջոցառումները
B100: Ծրագրի դասիչը | C100: 1205 | D100: Ցուցանիշների փոփոխությունը (ավելացումները նշված են դրական)
B101: Միջոցառման դասիչը | C101: 12002 | D101: Առաջին կիսամյակ | E101: Ինն ամիս | F101: Տարի
B102: Միջոցառման անվանումը | C102: Կենսաթոշակառուի, ծերության, հաշմանդամության, կերակրողին կորցնելու դեպքում նպաստառուի մահվան դեպքում տրվող թաղման նպաստ
B103: Նկարագրությունը | C103: Կենսաթոշակառուի, ծերության, հաշմանդամության, կերակրողին կորցնելու դեպքում նպաստառուի մահվան դեպքում տրվող թաղման նպաստի տրամադրում
B104: Միջոցառման տեսակը | C104: Տրանսֆերտի տրամադրում
B105: Շահառուների ընտրության չափանիշները | C105: Կենսաթոշակառուի, ծերության, հաշմանդամության, կերակրողին կորցնելու դեպքում նպաստառուի հողարկավորությունը կատարած անձ
B106: Արդյունքային չափորոշիչներ
B107: Թաղման նպաստ ստացողների թիվ, մարդ | D107: ='հավելված 3'!D107 -> 100 | E107: ='հավելված 3'!E107 -> 100
B108: Միջոցառման վրա կատարվող ծախսը հազ.դրամ | D108: ='հավելված 1'!G33 -> 200000 | E108: ='հավելված 1'!H33 -> 200000 | F108: 0
