Workbook

Sheet հավելված 1
I1: Հավելված N 1
I2: ՀՀ կառավարության 2020 թվականի
I3: -----------------ի N -----------Ն որոշման
A4: ՀԱՅԱՍՏԱՆԻ ՀԱՆՐԱՊԵՏՈՒԹՅԱՆ ԿԱՌԱՎԱՐՈՒԹՅԱՆ 2019 ԹՎԱԿԱՆԻ ԴԵԿՏԵՄԲԵՐԻ 26-Ի N 1919-Ն ՈՐՈՇՄԱՆ N 3 և N 4 ՀԱՎԵԼՎԱԾՆԵՐՈՒՄ ԿԱՏԱՐՎՈՂ ՓՈՓՈԽՈՒԹՅՈՒՆՆԵՐԸ
G5: հազար դրամներով
A6: Գործառական դասիչը | D6: Ծրագրային դասիչը | F6: Բյուջետային ծախսերի գործառական դասակարգման բաժինների, խմբերի և դասերի, բյուջետային ծրագրերի միջոցառումների, բյուջետային հատկացումների գլխավոր կարգադրիչների անվանումները | G6: Ցուցանիշների փոփոխությունները (ավելացումները նշված են դրական, իսկ նվազեցումները՝ փակագծերում)
A7: Բաժինը | B7: Խումբը | C7: Դասը | D7: Ծրագիր | E7: Միջոցառում | G7: Առաջին կիսամյակ | H7: Ինն ամիս | I7: Տարի
F8: ԸՆԴԱՄԵՆԸ՝ ԾԱԽՍԵՐ | G8: =G10 -> 0 | H8: =H10 -> 0 | I8: =I10 -> 0
F9: այդ թվում՝
A10: 10 | F10: ՍՈՑԻԱԼԱԿԱՆ ՊԱՇՏՊԱՆՈՒԹՅՈՒՆ | G10: =G12+G23+G34+G57 -> 0 | H10: =H12+H23+H34+H57 -> 0 | I10: =I12+I23+I34+I57 -> 0
F11: այդ թվում՝
B12: 02 | F12: Ծերություն | G12: =SUM(G14) -> 100000 | H12: =SUM(H14) -> 100000 | I12: =SUM(I14) -> 0
F13: այդ թվում՝
C14: 01 | F14: Ծերություն | G14: =G15 -> 100000 | H14: =H15 -> 100000 | I14: =I15 -> 0
F15: այդ թվում՝ ՀՀ աշխատանքի և սոցիալական հարցերի նախարարություն | G15: =G16 -> 100000 | H15: =H16 -> 100000 | I15: =I16 -> 0
D16: 1102 | F16: Կենսաթոշակային ապահովություն | G16: =G18 -> 100000 | H16: =H18 -> 100000 | I16: =I18 -> 0
F17: այդ թվում՝
E18: 12001 | F18: Սպայական անձնակազմի և նրանց ընտանիքների անդամների կենսաթոշակներ | G18: =G20 -> 100000 | H18: =H20 -> 100000 | I18: =I20 -> 0
F19: այդ թվում՝ ըստ կատարողների
F20: ՀՀ աշխատանքի և սոցիալական հարցերի նախարարության սոցիալական ապահովության ծառայություն | G20: =G22 -> 100000 | H20: =H22 -> 100000 | I20: =I22 -> 0
F21: այդ թվում՝ բյուջետային ծախսերի տնտեսագիտական դասակարգման հոդվածներ
F22: -Կենսաթոշակներ | G22: 100000 | H22: 100000 | I22: 0
B23: 03 | F23: Հարազատին կորցրած անձինք | G23: =SUM(G25) -> 200000 | H23: =SUM(H25) -> 200000 | I23: =SUM(I25) -> 0
F24: այդ թվում՝
C25: 01 | F25: Հարազատին կորցրած անձինք | G25: =G26 -> 200000 | H25: =H26 -> 200000 | I25: =I26 -> 0
F26: այդ թվում՝ ՀՀ աշխատանքի և սոցիալական հարցերի նախարարություն | G26: =G27 -> 200000 | H26: =H27 -> 200000 | I26: =I27 -> 0
D27: 1205 | F27: Սոցիալական ապահովություն | G27: =G29 -> 200000 | H27: =H29 -> 200000 | I27: =I29 -> 0
F28: այդ թվում՝
E29: 12002 | F29: Կենսաթոշակառուի, ծերության, հաշմանդամության, կերակրողին կորցնելու դեպքում նպաստառուի մահվան դեպքում տրվող թաղման նպաստ | G29: =G31 -> 200000 | H29: =H31 -> 200000 | I29: =I31 -> 0
F30: այդ թվում՝ ըստ կատարողների
F31: ՀՀ աշխատանքի և սոցիալական հարցերի նախարարության սոցիալական ապահովության ծառայություն | G31: =G33 -> 200000 | H31: =H33 -> 200000 | I31: =I33 -> 0
F32: այդ թվում՝ բյուջետային ծախսերի տնտեսագիտական դասակարգման հոդվածներ
F33: - Հուղարկավորության նպաստներ բյուջեից | G33: 200000 | H33: 200000 | I33: 0
B34: 04 | F34: Ընտանիքի անդամներ և զավակներ | G34: =SUM(G36) -> -628670.2 | H34: =SUM(H36) -> -294820 | I34: =SUM(I36) -> 0
F35: այդ թվում՝
C36: 01 | F36: Ընտանիքի անդամներ և զավակներ | G36: =G37 -> -628670.2 | H36: =H37 -> -294820 | I36: =I37 -> 0
F37: այդ թվում՝ ՀՀ աշխատանքի և սոցիալական հարցերի նախարարություն | G37: =G38+G45+G52 -> -628670.2 | H37: =H38+H45+H52 -> -294820 | I37: =I38+I45+I52 -> 0
D38: 1011 | F38: Անապահով սոցիալական խմբերին աջակցություն | G38: =G40 -> -846677 | H38: =H40 -> -512826.8 | I38: =I40 -> 0
F39: այդ թվում՝
E40: 12001 | F40: Ընտանիքի կենսամակարդակի բարձրացմանն ուղղված նպաստներ | G40: =G42 -> -846677 | H40: =H42 -> -512826.8 | I40: =I42 -> 0
...

Sheet հավելված 2
G1: Հավելված N 2
G2: ՀՀ կառավարության 2020 թվականի
G3: -----------------ի N -----------Ն որոշման
B5: ՀԱՅԱՍՏԱՆԻ ՀԱՆՐԱՊԵՏՈՒԹՅԱՆ ԿԱՌԱՎԱՐՈՒԹՅԱՆ 2019 ԹՎԱԿԱՆԻ ԴԵԿՏԵՄԲԵՐԻ 26-Ի N 1919-Ն ՈՐՈՇՄԱՆ N 5 ՀԱՎԵԼՎԱԾԻ N 1 ԱՂՅՈՒՍԱԿՈՒՄ ԿԱՏԱՐՎՈՂ ՓՈՓՈԽՈՒԹՅՈՒՆՆԵՐԸ
F6: հազար դրամներով
B7: Ծրագրային դասիչը | D7: Բյուջետային հատկացումների գլխավոր կարգադրիչների, ծրագրերի և միջոցառումների անվանումները | E7: Ցուցանիշների փոփոխությունները ավելացումները նշված են դրական նշանով, իսկ նվազեցումները՝ փակագծերում
B8: Ծրագիր | C8: Միջոցառում | E8: Առաջին կիսամյակ | F8: Ինն ամիս | G8: Տարի
D9: Ընդամենը | E9: =E10 -> 0 | F9: =F10 -> 0 | G9: =G10 -> 0
B10: ՀՀ աշխատանքի և սոցիալական հարցերի նախարարություն | E10: =E11+E30+E43+E63+E76 -> 0 | F10: =F11+F30+F43+F63+F76 -> 0 | G10: =G11+G30+G43+G63+G76 -> 0
B11: 1011 | D11: Ծրագրի անվանումը՝ | E11: =E18+E24 -> -855229.2 | F11: =F18+F24 -> -518006.8 | G11: =G18 -> 0
D12: Անապահով սոցիալական խմբերին աջակցություն
D13: Ծրագրի նպատակը՝
D14: Օժանդակել անապահով ընտանիքների կենսամակարդակի բարձրացմանը
D15: Վերջնական արդյունքի նկարագրությունը
D16: Աղքատության մեղմում և ծայրահեղ աղքատության կրճատում
B17: Ծրագրի մրջոցառումներ
C18: 11001 | D18: Միջոցառման անվանումը` | E18: ='հավելված 1'!G61 -> -8552.2 | F18: ='հավելված 1'!H61 -> -5180 | G18: ='հավելված 1'!I61 -> 0
D19: Ընտանիքի կենսամակարդակի բարձրացմանն ուղղված նպաստների իրականացման ապահովում
D20: Միջոցառման նկարագրությունը`
D21: Ընտանիքների անապահովության գնահատման համակարգում հաշվառված, անապահով ճանաչված ընտանիքներին նպաստի, սոցիալական նպաստի և հրատապ օգնության վճարման ծառայությունների ձեռքբերում
D22: Միջոցառման տեսակը`
D23: Ծառայությունների մատուցում
C24: 12001 | D24: Միջոցառման անվանումը` | E24: ='հավելված 1'!G44 -> -846677 | F24: ='հավելված 1'!H44 -> -512826.8 | G24: 0
D25: Ընտանիքի կենսամակարդակի բարձրացմանն ուղղված նպաստներ
D26: Միջոցառման նկարագրությունը`
D27: Ընտանիքների անապահովության գնահատման համակարգում հաշվառված, անապահով ճանաչված ընտանիքներին նպաստի, սոցիալական նպաստի և հրատապ օգնության տրամադրում
D28: Միջոցառման տեսակը`
D29: Տրանսֆերտների տրամադրում
B30: 1068 | D30: Ծրագրի անվանումը՝ | E30: =E37 -> 47600 | F30: =F37 -> 47600 | G30: =G37 -> 0
D31: Ժողովրդագրական վիճակի բարելավում
D32: Ծրագրի նպատակը՝
D33: Խթանել ժողովրդագրական վիճակի բարելավումը
D34: Վերջնական արդյունքի նկարագրությունը
D35: Ժողովրդագրական վիճակի բարելավում և բազմազավակության աճ
B36: Ծրագրի մրջոցառումներ
C37: 12002 | D37: Միջոցառման անվանումը` | E37: ='հավելված 1'!G51 -> 47600 | F37: ='հավելված 1'!H51 -> 47600 | G37: 0
D38: Երեխայի ծննդյան միանվագ նպաստ
D39: Միջոցառման նկարագրությունը`
D40: Երեխայի ծննդյան կապակցությամբ միանվագ նպաստի տրամադրում
D41: Միջոցառման տեսակը`
...

Sheet հավելված 3
F1: Հավելված N 3
F2: ՀՀ կառավարության 2020 թվականի
F3: -----------------ի N -----------Ն որոշման
B4: ՀԱՅԱՍՏԱՆԻ ՀԱՆՐԱՊԵՏՈՒԹՅԱՆ ԿԱՌԱՎԱՐՈՒԹՅԱՆ 2019 ԹՎԱԿԱՆԻ ԴԵԿՏԵՄԲԵՐԻ 26-Ի N 1919-Ն ՈՐՈՇՄԱՆ N 9 ՀԱՎԵԼՎԱԾԻ N 9.16 ԱՂՅՈՒՍԱԿՈՒՄ ԿԱՏԱՐՎՈՂ ՓՈՓՈԽՈՒԹՅՈՒՆՆԵՐԸ
B6: Հայաստանի Հանրապետության աշխատանքի և սոցիալական հարցերի նախարարություն
B7: ՄԱՍ 1. ՊԵՏԱԿԱՆ ՄԱՐՄՆԻ ԳԾՈՎ ԱՐԴՅՈՒՆՔԱՅԻՆ (ԿԱՏԱՐՈՂԱԿԱՆ) ՑՈՒՑԱՆԻՇՆԵՐԸ
B9: Ծրագրի դասիչը | C9: Ծրագրի անվանումը
B10: 1011 | C10: Անապահով սոցիալական խմբերին աջակցություն
B12: Ծրագրի միջոցառումները
B14: Ծրագրի դասիչը | C14: 1011 | D14: Ցուցանիշների փոփոխությունը (նվազեցումները նշված են փակագծերում)
B15: Միջոցառման դասիչը | C15: 11001 | D15: Առաջին կիսամյակ | E15: Ինն ամիս | F15: Տարի
B16: Միջոցառման անվանումը | C16: Ընտանիքի կենսամակարդակի բարձրացմանն ուղղված նպաստների իրականացման ապաhովում
B17: Նկարագրությունը | C17: Ընտանիքների անապահովության գնահատման համակարգում հաշվառված ընդգրկված անապահով ճանաչված ընտանիքներին նպաստի, սոցիալական նպաստի և հրատապ օգնության վճարման ծառայությունների ձեռքբերում
B18: Միջոցառման տեսակը` | C18: Ծառայությունների մատուցում
B19: Միջոցառումն իրականացնողի անվանումը | C19: «Գնումների մասին» ՀՀ օրենքի համաձայն ընտրված կազմակերպություն
B20: Արդյունքային չափորոշիչներ
B21: Ընտանիքի կենսամակարդակի բարձրացմանն ուղղված նպաստներ ստացող ընտանիքների թիվ, հատ,
B22: Միջոցառման վրա կատարվող ծախսը հազ.դրամ | D22: ='հավելված 2'!E18 -> -8552.2 | E22: ='հավելված 2'!F18 -> -5180 | F22: 0
B24: Ծրագրի դասիչը | C24: 1011 | D24: Ցուցանիշների փոփոխությունը (նվազեցումները նշված են փակագծերում)
B25: Միջոցառման դասիչը | C25: 12001 | D25: Առաջին կիսամյակ | E25: Ինն ամիս | F25: Տարի
B26: Միջոցառման անվանումը | C26: Ընտանիքի կենսամակարդակի բարձրացմանն ուղղված նպաստներ
B27: Նկարագրությունը | C27: Ընտանիքների անապահովության գնահատման համակարգում հաշվառված, անապահով ճանաչված ընտանիքներին նպաստի, սոցիալական նպաստի և հրատապ օգնության տրամադրում
B28: Միջոցառման տեսակը | C28: Տրանսֆերտի տրամադրում
B29: Շահառուների ընտրության չափանիշները | C29: Ընտանիքների անապահովության գնահատման համակարգում հաշվառված ընտանիք, ընտանիքի անապահովության միավորի հիման վրա
B30: Արդյունքային չափորոշիչներ
B31: Ընտանիքի կենսամակարդակի բարձրացմանն ուղղված նպաստներ ստացող ընտանիքների թիվ, հատ,
B32: Միջոցառման վրա կատարվող ծախսը հազ.դրամ | D32: ='հավելված 2'!E24 -> -846677 | E32: ='հավելված 2'!F24 -> -512826.8 | F32: 0
B34: Ծրագրի դասիչը | C34: Ծրագրի անվանումը
B35: 1068 | C35: Ժողովրդագրական վիճակի բարելավում
B37: Ծրագրի միջոցառումները
B39: Ծրագրի դասիչը | C39: 1068 | D39: Ցուցանիշների փոփոխությունը (ավելացումները նշված են դրական)
B40: Միջոցառման դասիչը | C40: 12002 | D40: Առաջին կիսամյակ | E40: Ինն ամիս | F40: Տարի
B41: Միջոցառման անվանումը | C41: Երեխայի ծննդյան միանվագ նպաստ
B42: Նկարագրությունը | C42: Երեխայի ծննդյան կապակցությամբ միանվագ նպաստի տրամադրում
B43: Միջոցառման տեսակը | C43: Տրանսֆերտների տրամադրում
B44: Շահառուների ընտրության չափանիշները | C44: ՀՀ-ում հաշվառված նոր ծնված երեխայի ծնող օրինական ներկայացուցիչ
B45: Արդյունքային չափորոշիչներ
B46: շահառու նորածինների թիվ, այդ թվում՝ | D46: =D47+D48+D49 -> 302 | E46: =E47+E48+E49 -> 302
B47: ընտանիքում առաջին և երկրորդ երեխաների թիվ | D47: 282 | E47: 282
B48: ընտանիքում երրորդ և չորրորդ երեխաների թիվ | D48: 20 | E48: 20
...

Sheet հավելված 4
F1: Հավելված N 4
F2: ՀՀ կառավարության 2020 թվականի
F3: -----------------ի N -----------Ն որոշման
B4: ՀԱՅԱՍՏԱՆԻ ՀԱՆՐԱՊԵՏՈՒԹՅԱՆ ԿԱՌԱՎԱՐՈՒԹՅԱՆ 2019 ԹՎԱԿԱՆԻ ԴԵԿՏԵՄԲԵՐԻ 26-Ի N 1919-Ն ՈՐՈՇՄԱՆ N 9.1 ՀԱՎԵԼՎԱԾԻ N 9.1.20 ԱՂՅՈՒՍԱԿՈՒՄ ԿԱՏԱՐՎՈՂ ՓՈՓՈԽՈՒԹՅՈՒՆՆԵՐԸ
B6: Հայաստանի Հանրապետության աշխատանքի և սոցիալական հարցերի նախարարության սոցիալական ապահովության ծառայություն
B7: ՄԱՍ 1. ՊԵՏԱԿԱՆ ՄԱՐՄՆԻ ԳԾՈՎ ԱՐԴՅՈՒՆՔԱՅԻՆ (ԿԱՏԱՐՈՂԱԿԱՆ) ՑՈՒՑԱՆԻՇՆԵՐԸ
B9: Ծրագրի դասիչը | C9: Ծրագրի անվանումը
B10: 1011 | C10: Անապահով սոցիալական խմբերին աջակցություն
B12: Ծրագրի միջոցառումները
B14: Ծրագրի դասիչը | C14: 1011 | D14: Ցուցանիշների փոփոխությունը (նվազեցումները նշված են փակագծերում)
B15: Միջոցառման դասիչը | C15: 11001 | D15: Առաջին կիսամյակ | E15: Ինն ամիս | F15: Տարի
B16: Միջոցառման անվանումը | C16: Ընտանիքի կենսամակարդակի բարձրացմանն ուղղված նպաստների իրականացման ապաhովում
B17: Նկարագրությունը | C17: Ընտանիքների անապահովության գնահատման համակարգում հաշվառված ընդգրկված անապահով ճանաչված ընտանիքներին նպաստի, սոցիալական նպաստի և հրատապ օգնության վճարման ծառայությունների ձեռք բերում
B18: Միջոցառման տեսակը` | C18: Ծառայությունների մատուցում
B19: Միջոցառումն իրականացնողի անվանումը | C19: «Գնումների մասին» ՀՀ օրենքի համաձայն ընտրված կազմակերպություն
B20: Արդյունքային չափորոշիչներ
B21: Ընտանիքի կենսամակարդակի բարձրացմանն ուղղված նպաստներ ստացող ընտանիքների թիվ, հատ,
B22: Միջոցառման վրա կատարվող ծախսը հազ.դրամ | D22: ='հավելված 2'!E18 -> -8552.2 | E22: ='հավելված 2'!F18 -> -5180 | F22: 0
B24: Ծրագրի դասիչը | C24: 1011 | D24: Ցուցանիշների փոփոխությունը (նվազեցումները նշված են փակագծերում)
B25: Միջոցառման դասիչը | C25: 12001 | D25: Առաջին կիսամյակ | E25: Ինն ամիս | F25: Տարի
B26: Միջոցառման անվանումը | C26: Ընտանիքի կենսամակարդակի բարձրացմանն ուղղված նպաստներ
B27: Նկարագրությունը | C27: Ընտանիքների անապահովության գնահատման համակարգում հաշվառված, անապահով ճանաչված ընտանիքներին նպաստի, սոցիալական նպաստի և հրատապ օգնության տրամադրում
B28: Միջոցառման տեսակը | C28: Տրանսֆերտի տրամադրում
B29: Շահառուների ընտրության չափանիշները | C29: Ընտանիքների անապահովության գնահատման համակարգում հաշվառված ընտանիք, ընտանիքի անապահովության միավորի հիման վրա
B30: Արդյունքային չափորոշիչներ
B31: Ընտանիքի կենսամակարդակի բարձրացմանն ուղղված նպաստներ ստացող ընտանիքների թիվ, հատ,
B32: Միջոցառման վրա կատարվող ծախսը հազ.դրամ | D32: ='հավելված 2'!E24 -> -846677 | E32: ='հավելված 2'!F24 -> -512826.8 | F32: 0
B34: Ծրագրի դասիչը | C34: Ծրագրի անվանումը
B35: 1068 | C35: Ժողովրդագրական վիճակի բարելավում
B37: Ծրագրի միջոցառումները
B39: Ծրագրի դասիչը | C39: 1068 | D39: Ցուցանիշների փոփոխությունը (ավելացումները նշված են դրական)
B40: Միջոցառման դասիչը | C40: 12002 | D40: Առաջին կիսամյակ | E40: Ինն ամիս | F40: Տարի
B41: Միջոցառման անվանումը | C41: Երեխայի ծննդյան միանվագ նպաստ
B42: Նկարագրությունը | C42: Երեխայի ծննդյան կապակցությամբ միանվագ նպաստի տրամադրում
B43: Միջոցառման տեսակը | C43: Տրանսֆերտների տրամադրում
B44: Շահառուների ընտրության չափանիշները | C44: ՀՀ-ում հաշվառված նոր ծնված երեխայի ծնող օրինական ներկայացուցիչ
B45: Արդյունքային չափորոշիչներ
B46: շահառու նորածինների թիվ, այդ թվում՝ | D46: =D47+D48+D49 -> 302 | E46: =E47+E48+E49 -> 302
B47: ընտանիքում առաջին և երկրորդ երեխաների թիվ | D47: =SUM('հավելված 3'!D47) -> 282 | E47: =SUM('հավելված 3'!E47) -> 282
B48: ընտանիքում երրորդ և չորրորդ երեխաների թիվ | D48: =SUM('հավելված 3'!D48) -> 20 | E48: =SUM('հավելված 3'!E48) -> 20
...
