Workbook
Name _tab10: #REF!
Name _tab10: #REF!
Name _tab10: #REF!
Name _tab11: #REF!
Name _tab11: #REF!
Name _tab11: #REF!
Name _tab12: #REF!
Name _tab12: #REF!
Name _tab12: #REF!
Name _tab13: #REF!
Name _tab13: #REF!
Name _tab13: #REF!
Name _tab14: #REF!
Name _tab14: #REF!
Name _tab14: #REF!
Name _tab15: #REF!
Name _tab15: #REF!
Name _tab15: #REF!
Name _tab16: #REF!
Name _tab16: #REF!
Name _tab16: #REF!
Name _tab17: #REF!
Name _tab17: #REF!
Name _tab17: #REF!
Name _tab18: #REF!
Name _tab18: #REF!
Name _tab18: #REF!
Name _tab19: #REF!
Name _tab19: #REF!
Name _tab19: #REF!
Name _tab20: #REF!
Name _tab20: #REF!
Name _tab20: #REF!
Name _tab21: #REF!
Name _tab21: #REF!
Name _tab21: #REF!
Name _tab22: #REF!
Name _tab22: #REF!
Name _tab22: #REF!
Name _tab23: #REF!
Name _tab23: #REF!
Name _tab23: #REF!
Name _tab24: #REF!
Name _tab24: #REF!
Name _tab24: #REF!
Name _tab5: #REF!
Name _tab5: #REF!
Name _tab5: #REF!
Name _tab6: #REF!
Name _tab6: #REF!
Name _tab6: #REF!
Name _tab7: #REF!
Name _tab7: #REF!
Name _tab7: #REF!
Name _tab8: #REF!
Name _tab8: #REF!
Name _tab8: #REF!
Name _tab9: #REF!
Name _tab9: #REF!
Name _tab9: #REF!

Sheet 1
B1: Հավելված № 1
B2: ՀՀ կառավարության 2020 թվականի
B3: ___________ ի № ------------ -Ն որոշման
B5: «ՀԱՅԱՍՏԱՆԻ ՀԱՆՐԱՊԵՏՈՒԹՅԱՆ 2020 ԹՎԱԿԱՆԻ ՊԵՏԱԿԱՆ ԲՅՈՒՋԵԻ ՄԱՍԻՆ» ՀԱՅԱՍՏԱՆԻ ՀԱՆՐԱՊԵՏՈՒԹՅԱՆ ՕՐԵՆՔԻ 2-ՐԴ ՀՈԴՎԱԾԻ ԱՂՅՈՒՍԱԿՈՒՄ ԿԱՏԱՐՎՈՂ ՓՈՓՈԽՈՒԹՅՈՒՆՆԵՐԸ
C7: հազար դրամներով
C8: Ցուցանիշների փոփոխությունները (ավելացումները նշված են դրական նշանով)
B9: Եկամուտների գծով | C9: =+C10 -> 1202041.8
B10: Ծախսերի գծով | C10: 1202041.8
B11: Դիֆիցիտը (պակասուրդը) | C11: =C9-C10 -> 0

Sheet 2
B1: Հավելված № 2
B2: ՀՀ կառավարության 2020 թվականի
B3: ___________ ի № ------------ -Ն որոշման
B5: «ՀԱՅԱՍՏԱՆԻ ՀԱՆՐԱՊԵՏՈՒԹՅԱՆ 2020 ԹՎԱԿԱՆԻ ՊԵՏԱԿԱՆ ԲՅՈՒՋԵԻ ՄԱՍԻՆ» ՀԱՅԱՍՏԱՆԻ ՀԱՆՐԱՊԵՏՈՒԹՅԱՆ ՕՐԵՆՔԻ 6-ՐԴ ՀՈԴՎԱԾԻ ԱՂՅՈՒՍԱԿՈՒՄ ԵՎ ՀԱՅԱՍՏԱՆԻ ՀԱՆՐԱՊԵՏՈՒԹՅԱՆ ԿԱՌԱՎԱՐՈՒԹՅԱՆ 2019 ԹՎԱԿԱՆԻ ԴԵԿՏԵՄԲԵՐԻ 26-Ի № 1919-Ն ՈՐՈՇՄԱՆ № 2 ՀԱՎԵԼՎԱԾՈՒՄ ԿԱՏԱՐՎՈՂ ՓՈՓՈԽՈՒԹՅՈՒՆՆԵՐԸ
E7: հազար դրամներով
B8: Եկամտատեսակ | C8: Ցուցանիշների փոփոխությունները (ավելացումները նշված են դրական նշանով)
C9: Առաջին կիսամյակ | D9: Ինն ամիս | E9: Տարի
B10: ՊԵՏԱԿԱՆ ԲՅՈՒՋԵԻ ԵԿԱՄՈՒՏՆԵՐ | C10: =+C13 -> 1202041.8 | D10: =+D13 -> 1202041.8 | E10: =+E13 -> 1202041.8
B11: Ընդամենը | C11: =C13 -> 1202041.8 | D11: =D13 -> 1202041.8 | E11: =E13 -> 1202041.8
B12: այդ թվում
B13: Այլ եկամուտներ | C13: =+'1'!C10 -> 1202041.8 | D13: =+C13 -> 1202041.8 | E13: =+D13 -> 1202041.8

Sheet 3
A1: Հավելված № 3
A2: ՀՀ կառավարության 2020 թվականի
A3: ___________ ի № ------------ -Ն որոշման
A5: ՀԱՅԱՍՏԱՆԻ ՀԱՆՐԱՊԵՏՈՒԹՅԱՆ 2020 ԹՎԱԿԱՆԻ ՊԵՏԱԿԱՆ ԲՅՈՒՋԵԻ ՄԱՍԻՆ» ՀԱՅԱՍՏԱՆԻ ՀԱՆՐԱՊԵՏՈՒԹՅԱՆ ՕՐԵՆՔԻ № 1 ՀԱՎԵԼՎԱԾԻ № 1 ԱՂՅՈՒՍԱԿՈՒՄ ԿԱՏԱՐՎՈՂ ՓՈՓՈԽՈՒԹՅՈՒՆՆԵՐԸ
C6: հազար դրամներով
A7: Ծրագրային դասիչը | B7: Ծրագրի անվանումը | C7: Ցուցանիշների փոփոխությունները (ավելացումները նշված են դրական նշանով)
C8: Տարի
A9: Ընդամենը | C9: =+C10 -> 1202041.8
A10: 1049 | B10: Ճանապարհային ցանցի բարելավում | C10: =+'2'!E13 -> 1202041.8

Sheet 4
D1: Հավելված № 4
C2: ՀՀ կառավարության 2020 թվականի
F3: ___________ ի № ------------ -Ն որոշման
A5: ՀԱՅԱՍՏԱՆԻ ՀԱՆՐԱՊԵՏՈՒԹՅԱՆ ԿԱՌԱՎԱՐՈՒԹՅԱՆ 2019 ԹՎԱԿԱՆԻ ԴԵԿՏԵՄԲԵՐԻ 26-Ի № 1919-Ն ՈՐՈՇՄԱՆ № 6 ՀԱՎԵԼՎԱԾՈՒՄ ԿԱՏԱՐՎՈՂ ԼՐԱՑՈՒՄՆԵՐԸ
B7: Եկամտատեսակը | C7: Գանձման համար պատասխանատու պետական կառավարման մարմինը (մարմինները) | D7: Ցուցանիշների փոփոխությունները (ավելացումները նշված են դրական նշանով)
D8: Առաջին կիսամյակ | E8: Ինն ամիս | F8: Տարի
A9: Այլ եկամուտներ, ընդամենը | D9: =+D11 -> 1202041.8 | E9: =+E11 -> 1202041.8 | F9: =+F11 -> 1202041.8
A10: այդ թվում՝
A11: 2 | B11: Տոկոսավճարներ և շահաբաժիններ | D11: =+D13 -> 1202041.8 | E11: =+E13 -> 1202041.8 | F11: =+F13 -> 1202041.8
A12: 2.2 | B12: Իրավաբանական անձանց կապիտալում կատարված ներդրումներից ստացվող շահաբաժիններ | D12: =+D13 -> 1202041.8 | E12: =+E13 -> 1202041.8 | F12: =+F13 -> 1202041.8
A13: 2.2.2 | C13: ՀՀ տարածքային կառավարման և ենթակառուցվածքների նախարարության քաղաքացիական ավիացիայի կոմիտե | D13: =+'2'!C13 -> 1202041.8 | E13: =+'2'!D13 -> 1202041.8 | F13: =+'2'!E13 -> 1202041.8

Sheet 5
G1: Հավելված № 5
D2: ՀՀ կառավարության 2020 թվականի
G3: ___________ ի № ------------ -Ն որոշման
B5: ՀԱՅԱՍՏԱՆԻ ՀԱՆՐԱՊԵՏՈՒԹՅԱՆ 2020 ԹՎԱԿԱՆԻ ՊԵՏԱԿԱՆ ԲՅՈՒՋԵԻ ՄԱՍԻՆ» ՀԱՅԱՍՏԱՆԻ ՀԱՆՐԱՊԵՏՈՒԹՅԱՆ ՕՐԵՆՔԻ № 1 ՀԱՎԵԼՎԱԾԻ № 2 ԱՂՅՈՒՍԱԿՈՒՄ ԿԱՏԱՐՎՈՂ ՎԵՐԱԲԱՇԽՈՒՄԸ ԵՎ ՀԱՅԱՍՏԱՆԻ ՀԱՆՐԱՊԵՏՈՒԹՅԱՆ ԿԱՌԱՎԱՐՈՒԹՅԱՆ 2019 ԹՎԱԿԱՆԻ ԴԵԿՏԵՄԲԵՐԻ 26-Ի № 1919-Ն ՈՐՈՇՄԱՆ № 5 ՀԱՎԵԼՎԱԾԻ № 1 ԱՂՅՈՒՍԱԿՈՒՄ ԿԱՏԱՐՎՈՂ ՓՈՓՈԽՈՒԹՅՈՒՆՆԵՐԸ ԵՎ ԼՐԱՑՈՒՄԸ
G6: հազար դրամներով
B7: Ծրագրային դասիչը | D7: Բյուջետային հատկացումների գլխավոր կարգադրիչների, ծրագրերի և միջոցառումների անվանումները | E7: Ցուցանիշների փոփոխությունները (ավելացումները նշված են դրական նշանով)
B8: Ծրագիր | C8: Միջոցառում | E8: Առաջին կիսամյակ | F8: Ինն ամիս | G8: Տարի
D9: ԸՆԴԱՄԵՆԸ | E9: =E10 -> 1202041.8 | F9: =F10 -> 1202041.8 | G9: =G10 -> 1202041.8
D10: ՀՀ տարածքային կառավարման և ենթակառուցվածքների նախարարություն | E10: =+E12 -> 1202041.8 | F10: =+F12 -> 1202041.8 | G10: =+G12 -> 1202041.8
D11: Ծրագրի անվանումը
B12: 1049 | D12: Ճանապարհային ցանցի բարելավում | E12: =E19 -> 1202041.8 | F12: =+E12 -> 1202041.8 | G12: =+F12 -> 1202041.8
D13: Ծրագրի նպատակը
D14: Ճանապարհային ցանցի բարելավում և անվտանգ երթևեկություն
D15: Վերջնական արդյունքի նկարագրությունը
D16: Ճանապարհների ծածկի որակի և փոխադրումների արդյունավետության բարելավում, ճանապարհների վիճակով պայմանավորված պատահարների նվազում
B17: Ծրագրի միջոցառումներ
C18: 21001 | D18: Միջոցառման անվանումը
D19: Պետական նշանակության ավտոճանապարհների հիմնանորոգում | E19: =+'4'!D13 -> 1202041.8 | F19: =+E19 -> 1202041.8 | G19: =+F19 -> 1202041.8
D20: Միջոցառման նկարագրությունը
D21: Միջպետական, հանրապետական և մարզային նշանակության ավտոճանապարհների քայքայված ծածկի վերանորոգում, մշակված ծածկի փոխարինում
D22: Միջոցառման տեսակը
D23: Հանրության կողմից անմիջականորեն օգտագործվող ակտիվների հետ կապված միջոցառումներ

Sheet 6
G1: Հավելված № 6
F2: ՀՀ կառավարության 2020 թվականի
G3: ___________ ի № ------------ -Ն որոշման
A5: ՀԱՅԱՍՏԱՆԻ ՀԱՆՐԱՊԵՏՈՒԹՅԱՆ ԿԱՌԱՎԱՐՈՒԹՅԱՆ 2019 ԹՎԱԿԱՆԻ ԴԵԿՏԵՄԲԵՐԻ 26-Ի № 1919-Ն ՈՐՈՇՄԱՆ №№ 3 և 4 ՀԱՎԵԼՎԱԾՆԵՐՈՒՄ ԿԱՏԱՐՎՈՂ ՓՈՓՈԽՈՒԹՅՈՒՆՆԵՐԸ
I6: հազար դրամներով
A7: Գործառական դասիչը | D7: Ծրագրային դասիչը | F7: Բյուջետային հատկացումների գլխավոր կարգադրիչների, ծրագրերի, միջոցառումների և միջոցառումները կատարող պետական մարմինների անվանումները | G7: Ցուցանիշների փոփոխությունները (ավելացումները նշված են դրական նշանով)
A8: բաժին | B8: խումբ | C8: դաս | D8: Ծրագիր | E8: Միջոցառում | G8: Առաջին կիսամյակ | H8: Ինն ամիս | I8: Տարի
A9: ԸՆԴԱՄԵՆԸ ԾԱԽՍԵՐ | G9: =+G10 -> 1202041.8 | H9: =+H10 -> 1202041.8 | I9: =+I10 -> 1202041.8
A10: 04 | F10: ՏՆՏԵՍԱԿԱՆ ՀԱՐԱԲԵՐՈՒԹՅՈՒՆՆԵՐ | G10: =G12 -> 1202041.8 | H10: =H12 -> 1202041.8 | I10: =I12 -> 1202041.8
F11: այդ թվում՝
B12: 05 | F12: Տրանսպորտ | G12: =G14 -> 1202041.8 | H12: =H14 -> 1202041.8 | I12: =I14 -> 1202041.8
F13: այդ թվում՝
C14: 01 | F14: Ճանապարհային տրանսպորտ | G14: =G18 -> 1202041.8 | H14: =H18 -> 1202041.8 | I14: =I18 -> 1202041.8
F15: այդ թվում՝
F16: ՀՀ տարածքային կառավարման և ենթակառուցվածքների նախարարություն | G16: =G18 -> 1202041.8 | H16: =H18 -> 1202041.8 | I16: =I18 -> 1202041.8
F17: այդ թվում՝
D18: 1049 | F18: Ճանապարհային ցանցի բարելավում | G18: =G20 -> 1202041.8 | H18: =H20 -> 1202041.8 | I18: =I20 -> 1202041.8
F19: այդ թվում`
E20: 21001 | F20: Պետական նշանակության ավտոճանապարհների հիմնանորոգում | G20: =G22 -> 1202041.8 | H20: =H22 -> 1202041.8 | I20: =I22 -> 1202041.8
F21: այդ թվում ըստ կատարողների
F22: ՀՀ տարածքային կառավարման և ենթակառուցվածքների նախարարություն | G22: =G24 -> 1202041.8 | H22: =H24 -> 1202041.8 | I22: =I24 -> 1202041.8
F23: այդ թվում` բյուջետային ծախսերի տնտեսագիտական դասակարգման հոդվածներ
F24: ԸՆԴԱՄԵՆԸ ԾԱԽՍԵՐ | G24: =G26 -> 1202041.8 | H24: =H26 -> 1202041.8 | I24: =I26 -> 1202041.8
F25: ՈՉ ՖԻՆԱՆՍԱԿԱՆ ԱԿՏԻՎՆԵՐԻ ԾԱԽՍԵՐ | G25: =G26 -> 1202041.8 | H25: =H26 -> 1202041.8 | I25: =I26 -> 1202041.8
F26: ՀԻՄՆԱԿԱՆ ՄԻՋՈՑՆԵՐ | G26: =G27 -> 1202041.8 | H26: =H27 -> 1202041.8 | I26: =I27 -> 1202041.8
F27: Սոցիալական օգնության դրամական արտահայտությամբ նպաստներ (բյուջեից) | G27: =G29 -> 1202041.8 | H27: =H29 -> 1202041.8 | I27: =I29 -> 1202041.8
F28: ՇԵՆՔԵՐ և ՇԻՆՈՒԹՅՈՒՆՆԵՐ | G28: =G29 -> 1202041.8 | H28: =H29 -> 1202041.8 | I28: =I29 -> 1202041.8
F29: - Շենքերի և շինությունների կապիտալ վերանորոգում | G29: =+'4'!D13 -> 1202041.8 | H29: =+'4'!E13 -> 1202041.8 | I29: =+'4'!F13 -> 1202041.8

Sheet 7
H1: Հավելված № 7
H2: ՀՀ կառավարության 2020 թվականի
H3: ___________ ի № ------------ -Ն որոշման
A5: «ՀԱՅԱՍՏԱՆԻ ՀԱՆՐԱՊԵՏՈՒԹՅԱՆ 2020 ԹՎԱԿԱՆԻ ՊԵՏԱԿԱՆ ԲՅՈՒՋԵԻ ՄԱՍԻՆ» ՀԱՅԱՍՏԱՆԻ ՀԱՆՐԱՊԵՏՈՒԹՅԱՆ ՕՐԵՆՔԻ № 1 ՀԱՎԵԼՎԱԾԻ № 3 ԱՂՅՈՒՍԱԿՈՒՄ ԿԱՏԱՐՎՈՂ ՓՈՓՈԽՈՒԹՅՈՒՆՆԵՐԸ
G6: հազար դրամներով
A7: Ծրագրային դասիչ | C7: Բյուջետային գլխավոր կարգադրիչների, ծրագրերի, միջոցառումների և ուղղությունների անվանումները | D7: Ցուցանիշների փոփոխությունը (ավելացումները նշված են դրական նշանով)
D8: Ընդամենը, | E8: այդ թվում՝
A9: Ծրագիր | B9: Միջոցառում | E9: Կառուցման աշխատանքներ | F9: Վերակառուցման, վերանորոգման և վերականգնման աշխատանքներ | G9: Նախագծահե- տազոտական, գեոդեզիա- քարտեզագրա- կան աշխա- տանքներ | H9: Ոչ ֆինանսական այլ ակտիվների ձեռքբերում
C10: ԸՆԴԱՄԵՆԸ | D10: =+E10+F10+G10+H10 -> 1202041.8 | E10: =E12 -> 0 | F10: =F12 -> 1202041.8 | G10: =G12 -> 0 | H10: =H12 -> 0
C11: այդ թվում՝
C12: ՀՀ ՏԱՐԱԾՔԱՅԻՆ ԿԱՌԱՎԱՐՄԱՆ ԵՎ ԵՆԹԱԿԱՌՈՒՑՎԱԾՔՆԵՐԻ ՆԱԽԱՐԱՐՈՒԹՅՈՒՆ | D12: =+E12+F12+G12+H12 -> 1202041.8 | E12: =E14 -> 0 | F12: =F14 -> 1202041.8 | G12: =G14 -> 0 | H12: =H14 -> 0
C13: այդ թվում`
A14: 1049 | B14: 21001 | C14: Պետական նշանակության ավտոճանապարհների հիմնանորոգում | D14: =+E14+F14+G14+H14 -> 1202041.8 | E14: 0 | F14: =+F15+F37+F50 -> 1202041.8 | G14: 0 | H14: 0
B15: 1 | C15: Միջպետական նշանակության ավտոճանապարհներ, այդ թվում | D15: =+E15+F15+G15+H15 -> 523952.8 | E15: =+E16+E20+E22+E25+E27+E30+E34 -> 0 | F15: =+F16+F20+F22+F25+F27+F30+F34 -> 523952.8 | G15: =+G16+G20+G22+G25+G27+G30+G34 -> 0 | H15: =+H16+H20+H22+H25+H27+H30+H34 -> 0
B16: 1.1 | C16: Մ-2, Երևան-Երասխ-Գորիս-Մեղրի-Իրանի սահման | D16: =+E16+F16+G16+H16 -> 121081.1 | E16: =+E17+E18+E19 -> 0 | F16: =+F17+F18+F19 -> 121081.1 | G16: =+G17+G18+G19 -> 0 | H16: =+H17+H18+H19 -> 0
C17: կմ167+600-կմ174+100 հատվածի հիմնանորոգում | D17: =+E17+F17+G17+H17 -> 39454.4 | F17: 39454.4
C18: կմ265+000-կմ270+000 հատվածի հիմնանորոգում | D18: =+E18+F18+G18+H18 -> 41024.7 | F18: 41024.7
C19: կմ364+000 -կմ374+000 հատվածի հիմնանորոգում | D19: =+E19+F19+G19+H19 -> 40602 | F19: 40602
B20: 1.2 | C20: Մ- 3, Թուրքիայի սահման-Մարգարա-Վանաձոր-Տաշիր-Վրաստանի սահման | D20: =+E20+F20+G20+H20 -> 68898.8 | E20: =+E21 -> 0 | F20: =+F21 -> 68898.8 | G20: =+G21 -> 0 | H20: =+H21 -> 0
C21: կմ45+300-կմ53+000 հատվածի հիմնանորոգում | D21: =+E21+F21+G21+H21 -> 68898.8 | F21: 68898.8
B22: 1.3 | C22: Մ-4, Երևան-Սևան-Իջևան-Ադրբեջանի սահման | D22: =+E22+F22+G22+H22 -> 39069.9 | E22: =+E23+E24 -> 0 | F22: =+F23+F24 -> 39069.9 | G22: =+G23+G24 -> 0 | H22: =+H23+H24 -> 0
C23: Մետաղական արգելափակոցների տեղադրում 15 կմ երկարությամբ | D23: =+E23+F23+G23+H23 -> 30064.2 | F23: 30064.2
C24: կմ 96+176-կմ 96+433 (օղակաձև մաս) հատվածի հիմնանորոգման աշխատանքներ | D24: =+E24+F24+G24+H24 -> 9005.7 | F24: 9005.7
B25: 1.4 | C25: Մ-8, Վանաձոր (Մ-6 հատման կետ)-Դիլիջան | D25: =+E25+F25+G25+H25 -> 49113.1 | E25: =+E26 -> 0 | F25: =+F26 -> 49113.1 | G25: =+G26 -> 0 | H25: =+H26 -> 0
C26: կմ33+500-կմ40+000 հատվածի հիմնանորոգում | D26: =+E26+F26+G26+H26 -> 49113.1 | F26: 49113.1
B27: 1.5 | C27: Մ-9, Մ-1-Թալին-Քարակերտ-Թուրքիայի սահման | D27: =+E27+F27+G27+H27 -> 71389.7 | E27: =+E28+E29 -> 0 | F27: =+F28+F29 -> 71389.7 | G27: =+G28+G29 -> 0 | H27: =+H28+H29 -> 0
C28: կմ 1+300-կմ 3+600 հատվածի հիմնանորոգում | D28: =+E28+F28+G28+H28 -> 33227 | F28: 33227
C29: կմ 53+800-կմ 58+000 հատվածի հիմնանորոգում | D29: =+E29+F29+G29+H29 -> 38162.7 | F29: 38162.7
B30: 1.6 | C30: Մ10, Սևան-Մարտունի-Գետափ | D30: =+E30+F30+G30+H30 -> 59560.7 | E30: =+E31+E32+E33 -> 0 | F30: =+F31+F32+F33 -> 59560.7 | G30: =+G31+G32+G33 -> 0 | H30: =+H31+H32+H33 -> 0
C31: կմ5+750- կմ5+886 հատվածի հողային պաստառի վերականգնում և մետաղական արգելափակոցների տեղադրում | D31: =+E31+F31+G31+H31 -> 9964.3 | F31: 9964.3
C32: կմ6+850 - կմ7+034 հատվածի հողային պաստառի վերականգնում և մետաղական արգելափակոցների տեղադրում | D32: =+E32+F32+G32+H32 -> 10464.3 | F32: 10464.3
C33: կմ64+500-կմ66+000 հատվածի հիմնանորոգում | D33: =+E33+F33+G33+H33 -> 39132.1 | F33: 39132.1
B34: 1.7 | C34: Մ-14, Մ-4-Շորժա-Վարդենիս | D34: =+E34+F34+G34+H34 -> 114839.5 | E34: =+E35+E36 -> 0 | F34: =+F35+F36 -> 114839.5 | G34: =+G35+G36 -> 0 | H34: =+H35+H36 -> 0
C35: կմ32+888-կմ33+628 և կմ52+970-կմ53+350 փլուզված հատվածներում գաբիոնային հենապատերի կառուցում | D35: =+E35+F35+G35+H35 -> 9658.1 | F35: 9658.1
C36: կմ 19+450 - կմ 39+400 հատվածի հիմնանորոգում | D36: =+E36+F36+G36+H36 -> 105181.4 | F36: 105181.4
B37: 2 | C37: Հանրապետական նշանակության ավտոճանապարհներ, այդ թվում | D37: =+E37+F37+G37+H37 -> 464278.6 | E37: =SUM(E38:E49) -> 0 | F37: =SUM(F38:F49) -> 464278.6 | G37: =SUM(G38:G49) -> 0 | H37: =SUM(H38:H49) -> 0
C38: Հ-5, /Հ-6/-Նոր Գեղի-Արգել-Արզական-Հրազդան հանրապետական նշանակության ավտոճանապարհի կմ36+000-կմ36+700 հատվածի հիմնանորոգում | D38: =+E38+F38+G38+H38 -> 8661.1 | F38: 8661.1
C39: Հ8, Երևան-Արտաշատ-Այգեվան կմ 26+400 - կմ 30+000 հատվածի հիմնանորոգում | D39: =+E39+F39+G39+H39 -> 36067.9 | F39: 36067.9
C40: Հ8, Երևան-Արտաշատ-Այգեվան կմ 33+500 - կմ 42+600 հատվածի հիմնանորոգում | D40: =+E40+F40+G40+H40 -> 59555.5 | F40: 59555.5
C41: Հ-17, Մ-5-Արմավիր-Մ-9, կմ 0+000 - կմ 2+070 | D41: =+E41+F41+G41+H41 -> 58019.1 | F41: 58019.1
...

Sheet 8
G1: Հավելված № 8
G2: ՀՀ կառավարության 2020 թվականի
G3: ___________ ի № ------------ -Ն որոշման
B5: ՀԱՅԱՍՏԱՆԻ ՀԱՆՐԱՊԵՏՈՒԹՅԱՆ ԿԱՌԱՎԱՐՈՒԹՅԱՆ 2019 ԹՎԱԿԱՆԻ ԴԵԿՏԵՄԲԵՐԻ 26-Ի № 1919-Ն ՈՐՈՇՄԱՆ № 5 ՀԱՎԵԼՎԱԾԻ № 2 ԱՂՅՈՒՍԱԿՈՒՄ ԿԱՏԱՐՎՈՂ ՓՈՓՈԽՈՒԹՅՈՒՆՆԵՐԸ ԵՎ ԼՐԱՑՈՒՄՆԵՐԸ
G6: հազար դրամներով
B7: Ծրագրային դասիչ | D7: Բյուջետային գլխավոր կարգադրիչների, ծրագրերի, միջոցառումների և ուղղությունների անվանումները | E7: Ցուցանիշների փոփոխությունները (ավելացումները նշված են դրական նշանով)
B8: Ծրագիր | C8: Միջոցառում | E8: Առաջին կիսամյակ | F8: Ինն ամիս | G8: Տարի
D9: ԸՆԴԱՄԵՆԸ | E9: =E11 -> 1202041.8 | F9: =F11 -> 1202041.8 | G9: =G11 -> 1202041.8
D10: այդ թվում՝
D11: ՀՀ ՏԱՐԱԾՔԱՅԻՆ ԿԱՌԱՎԱՐՄԱՆ ԵՎ ԵՆԹԱԿԱՌՈՒՑՎԱԾՔՆԵՐԻ ՆԱԽԱՐԱՐՈՒԹՅՈՒՆ | E11: =+E13 -> 1202041.8 | F11: =+F13 -> 1202041.8 | G11: =+G13 -> 1202041.8
D12: այդ թվում`
B13: 1049 | C13: 21001 | D13: Պետական նշանակության ավտոճանապարհների հիմնանորոգում | E13: =+E15 -> 1202041.8 | F13: =+F15 -> 1202041.8 | G13: =+G15 -> 1202041.8
D14: այդ թվում` ըստ կատարողների
D15: ՀՀ տարածքային կառավարման և ենթակառուցվածքների նախարարություն | E15: =+'[1]7'!F14 -> 1202041.8 | F15: =+E15 -> 1202041.8 | G15: =+F15 -> 1202041.8
D16: այդ թվում՝ ըստ ուղղությունների
C17: 1 | D17: Միջպետական նշանակության ավտոճանապարհներ, այդ թվում | E17: 523952.8 | F17: 523952.8 | G17: 523952.8
C18: 1.1 | D18: Մ-2, Երևան-Երասխ-Գորիս-Մեղրի-Իրանի սահման | E18: 121081.1 | F18: 121081.1 | G18: 121081.1
D19: կմ167+600-կմ174+100 հատվածի հիմնանորոգում | E19: 39454.4 | F19: 39454.4 | G19: 39454.4
D20: կմ265+000-կմ270+000 հատվածի հիմնանորոգում | E20: 41024.7 | F20: 41024.7 | G20: 41024.7
D21: կմ364+000 -կմ374+000 հատվածի հիմնանորոգում | E21: 40602 | F21: 40602 | G21: 40602
C22: 1.2 | D22: Մ- 3, Թուրքիայի սահման-Մարգարա-Վանաձոր-Տաշիր-Վրաստանի սահման | E22: 68898.8 | F22: 68898.8 | G22: 68898.8
D23: կմ45+300-կմ53+000 հատվածի հիմնանորոգում | E23: 68898.8 | F23: 68898.8 | G23: 68898.8
C24: 1.3 | D24: Մ-4, Երևան-Սևան-Իջևան-Ադրբեջանի սահման | E24: 39069.9 | F24: 39069.9 | G24: 39069.9
D25: Մետաղական արգելափակոցների տեղադրում 15 կմ երկարությամբ | E25: 30064.2 | F25: 30064.2 | G25: 30064.2
D26: կմ 96+176-կմ 96+433 (օղակաձև մաս) հատվածի հիմնանորոգման աշխատանքներ | E26: 9005.7 | F26: 9005.7 | G26: 9005.7
C27: 1.4 | D27: Մ-8, Վանաձոր (Մ-6 հատման կետ)-Դիլիջան | E27: 49113.1 | F27: 49113.1 | G27: 49113.1
D28: կմ33+500-կմ40+000 հատվածի հիմնանորոգում | E28: 49113.1 | F28: 49113.1 | G28: 49113.1
C29: 1.5 | D29: Մ-9, Մ-1-Թալին-Քարակերտ-Թուրքիայի սահման | E29: 71389.7 | F29: 71389.7 | G29: 71389.7
D30: կմ 1+300-կմ 3+600 հատվածի հիմնանորոգում | E30: 33227 | F30: 33227 | G30: 33227
D31: կմ 53+800-կմ 58+000 հատվածի հիմնանորոգում | E31: 38162.7 | F31: 38162.7 | G31: 38162.7
C32: 1.6 | D32: Մ10, Սևան-Մարտունի-Գետափ | E32: 59560.7 | F32: 59560.7 | G32: 59560.7
D33: կմ5+750- կմ5+886 հատվածի հողային պաստառի վերականգնում և մետաղական արգելափակոցների տեղադրում | E33: 9964.3 | F33: 9964.3 | G33: 9964.3
D34: կմ6+850 - կմ7+034 հատվածի հողային պաստառի վերականգնում և մետաղական արգելափակոցների տեղադրում | E34: 10464.3 | F34: 10464.3 | G34: 10464.3
D35: կմ64+500-կմ66+000 հատվածի հիմնանորոգում | E35: 39132.1 | F35: 39132.1 | G35: 39132.1
C36: 1.7 | D36: Մ-14, Մ-4-Շորժա-Վարդենիս | E36: 114839.5 | F36: 114839.5 | G36: 114839.5
D37: կմ32+888-կմ33+628 և կմ52+970-կմ53+350 փլուզված հատվածներում գաբիոնային հենապատերի կառուցում | E37: 9658.1 | F37: 9658.1 | G37: 9658.1
D38: կմ 19+450 - կմ 39+400 հատվածի հիմնանորոգում | E38: 105181.4 | F38: 105181.4 | G38: 105181.4
C39: 2 | D39: Հանրապետական նշանակության ավտոճանապարհներ, այդ թվում | E39: 464278.6 | F39: 464278.6 | G39: 464278.6
D40: Հ-5, /Հ-6/-Նոր Գեղի-Արգել-Արզական-Հրազդան հանրապետական նշանակության ավտոճանապարհի կմ36+000-կմ36+700 հատվածի հիմնանորոգում | E40: 8661.1 | F40: 8661.1 | G40: 8661.1
D41: Հ8, Երևան-Արտաշատ-Այգեվան կմ 26+400 - կմ 30+000 հատվածի հիմնանորոգում | E41: 36067.9 | F41: 36067.9 | G41: 36067.9
...

Sheet 9
E1: Հավելված № 9
E2: ՀՀ կառավարության 2020 թվականի
E3: ___________ ի № ------------ -Ն որոշման
A5: ՀԱՅԱՍՏԱՆԻ ՀԱՆՐԱՊԵՏՈՒԹՅԱՆ ԿԱՌԱՎԱՐՈՒԹՅԱՆ 2019 ԹՎԱԿԱՆԻ ԴԵԿՏԵՄԲԵՐԻ 26-Ի № 1919-Ն ՈՐՈՇՄԱՆ № 9 ՀԱՎԵԼՎԱԾԻ № 9.8 ԱՂՅՈՒՍԱԿՈՒՄ ԿԱՏԱՐՎՈՂ ՓՈՓՈԽՈՒԹՅՈՒՆԸ
A6: ՀՀ տարածքային կառավարման և ենթակառուցվածքների նախարարություն
A7: ՄԱՍ 2. ՊԵՏԱԿԱՆ ՄԱՐՄՆԻ ԳԾՈՎ ԱՐԴՅՈՒՆՔԱՅԻՆ (ԿԱՏԱՐՈՂԱԿԱՆ) ՑՈՒՑԱՆԻՇՆԵՐԸ
A8: Ծրագրի դասիչը | B8: Ծրագրի անվանումը
A9: 1049 | B9: Ճանապարհային ցանցի բարելավում
A11: Ծրագրի միջոցառումները
A12: Ծրագրի դասիչը` | B12: 1049 | C12: Ցուցանիշների փոփոխությունները (ավելացումները նշված են դրական նշանով)
A13: Միջոցառման դասիչը` | B13: 21001 | C13: Առաջին կիսամյակ | D13: Ինն ամիս | E13: Տարի
A14: Միջոցառման անվանումը` | B14: Պետական նշանակության ավտոճանապարհների հիմնանորոգում
A15: Նկարագրությունը` | B15: Միջպետական, հանրապետական և մարզային նշանակության ավտոճանապարհների քայքայված ծածկի վերանորոգում, մշակված ծածկի փոխարինում
A16: Միջոցառման տեսակը` | B16: Հանրության կողմից անմիջականորեն օգտագործվող ակտիվների հետ կապված միջոցառումներ
A17: Միջոցառումն իրականացնողի անվանումը | B17: ՀՀ տարածքային կառավարման և ենթակառուցվածքների նախարարություն
A18: Արդյունքի չափորոշիչներ
A19: Հիմնանորոգվող ավտոճանապարհների երկարությունը/կիլոմետր/ այդ թվում՛
A20: Միջպետական նշանակության ավտոճանապարհներ
A21: Հանրապետական նշանակության ավտոճանապարհներ
A22: Մարզային նշանակության ավտոճանապարհներ
A23: Աշխատանքների ավարտվածության աստիճան, %
A24: Պայմանագրեր, հատ | C24: 1 | D24: 1 | E24: 1
A25: Միջոցառման վրա կատարվող ծախսը (հազար դրամ) | C25: =+'8'!E15 -> 1202041.8 | D25: =+'8'!F15 -> 1202041.8 | E25: =+'8'!G15 -> 1202041.8

Sheet 10
E1: Հավելված № 10
E2: ՀՀ կառավարության 2020 թվականի
E3: ___________ ի № ------------ -Ն որոշման
A5: ՀԱՅԱՍՏԱՆԻ ՀԱՆՐԱՊԵՏՈՒԹՅԱՆ ԿԱՌԱՎԱՐՈՒԹՅԱՆ 2019 ԹՎԱԿԱՆԻ ԴԵԿՏԵՄԲԵՐԻ 26-Ի № 1919-Ն ՈՐՈՇՄԱՆ № 9 ՀԱՎԵԼՎԱԾԻ № 9.18 ԱՂՅՈՒՍԱԿՈՒՄ ԿԱՏԱՐՎՈՂ ՓՈՓՈԽՈՒԹՅՈՒՆԸ
A6: ՀՀ տարածքային կառավարման և ենթակառուցվածքների նախարարություն
A7: ՄԱՍ 2. ՊԵՏԱԿԱՆ ՄԱՐՄՆԻ ԳԾՈՎ ԱՐԴՅՈՒՆՔԱՅԻՆ (ԿԱՏԱՐՈՂԱԿԱՆ) ՑՈՒՑԱՆԻՇՆԵՐԸ
A8: Ծրագրի դասիչը | B8: Ծրագրի անվանումը
A9: 1049 | B9: Ճանապարհային ցանցի բարելավում
A11: Ծրագրի միջոցառումները
A12: Ծրագրի դասիչը` | B12: 1049 | C12: Ցուցանիշների փոփոխությունները (ավելացումները նշված են դրական նշանով)
A13: Միջոցառման դասիչը` | B13: 21001 | C13: Առաջին կիսամյակ | D13: Ինն ամիս | E13: Տարի
A14: Միջոցառման անվանումը` | B14: Պետական նշանակության ավտոճանապարհների հիմնանորոգում
A15: Նկարագրությունը` | B15: Միջպետական, հանրապետական և մարզային նշանակության ավտոճանապարհների քայքայված ծածկի վերանորոգում, մշակված ծածկի փոխարինում
A16: Միջոցառման տեսակը` | B16: Հանրության կողմից անմիջականորեն օգտագործվող ակտիվների հետ կապված միջոցառումներ
A17: Միջոցառումն իրականացնողի անվանումը | B17: ՀՀ տարածքային կառավարման և ենթակառուցվածքների նախարարություն
A18: Արդյունքի չափորոշիչներ
A19: Հիմնանորոգվող ավտոճանապարհների երկարությունը/կիլոմետր/ այդ թվում՛
A20: Միջպետական նշանակության ավտոճանապարհներ
A21: Հանրապետական նշանակության ավտոճանապարհներ
A22: Մարզային նշանակության ավտոճանապարհներ
A23: Աշխատանքների ավարտվածության աստիճան, %
A24: Պայմանագրեր, հատ | C24: 1 | D24: 1 | E24: 1
A25: Միջոցառման վրա կատարվող ծախսը (հազար դրամ) | C25: =+'9'!C25 -> 1202041.8 | D25: =+'9'!D25 -> 1202041.8 | E25: =+'9'!E25 -> 1202041.8

Sheet 11
A1: Հավելված № 11
A2: ՀՀ կառավարության 2020 թվականի
A3: ___________ ի № ------------ -Ն որոշման
A5: ՀԱՅԱՍՏԱՆԻ ՀԱՆՐԱՊԵՏՈՒԹՅԱՆ ԿԱՌԱՎԱՐՈՒԹՅԱՆ 2019 ԹՎԱԿԱՆԻ ԴԵԿՏԵՄԲԵՐԻ 26-Ի № 1919-Ն ՈՐՈՇՄԱՆ № 10 ՀԱՎԵԼՎԱԾՈՒՄ ԿԱՏԱՐՎՈՂ ԼՐԱՑՈՒՄՆԵՐԸ
A6: Կոդը | B6: Անվանումը | C6: Գնման ձևը | D6: Չափման միավորը | E6: Միավորի գինը | F6: Ցուցանիշների փոփոխությունը (ավելացումները նշված են դրական նշանով)
F7: Քանակը | G7: Գումարը (հազար դրամով)
A8: ՀՀ տարածքային կառավարման և ենթակառուցվածքների նախարարություն
A9: Բաժին N 04 | B9: Խումբ N 05 | C9: Դաս N 01 | D9: Ճանապարհային տրանսպորտ | G9: =+G10 -> 1202041.8
A10: 1049 21001 | B10: Պետական նշանակության ավտոճանապարհների հիմնանորոգում | G10: =+G20 -> 1202041.8
A11: ՄԱՍ III. ԱՇԽԱՏԱՆՔՆԵՐ | G11: =SUM(G12:G19) -> 0
A20: ՄԱՍ III. ԾԱՌԱՅՈՒԹՅՈՒՆՆԵՐ | G20: =+G21 -> 1202041.8
A21: 71351540 | B21: տեխնիկական հսկողության ծառայություններ | C21: ՄԱ | D21: դրամ | E21: =+F21*G21*1000 -> 1.2020418e+09 | F21: 1 | G21: 1202041.8
