Workbook
Name AgencyCode: #REF!
Name AgencyCode: #REF!
Name AgencyName: #REF!
Name AgencyName: #REF!
Name davit: #REF!
Name davit: #REF!
Name Functional1: #REF!
Name Functional1: #REF!
Name ggg: #REF!
Name ggg: #REF!
Name PANature: #REF!
Name PANature: #REF!
Name PAType: #REF!
Name PAType: #REF!
Name Performance2: #REF!
Name Performance2: #REF!
Name PerformanceType: #REF!
Name PerformanceType: #REF!
Name Հավելված: #REF!
Name Հավելված: #REF!
Name Մաս: #REF!
Name Մաս: #REF!
Name շախմատիստ: #REF!
Name շախմատիստ: #REF!

Sheet Havelvats 1
E1: Հավելված N 1
E2: ՀՀ կառավարության 2020 թվականի
E3: ______________ ի ___Ն որոշման
A5: «ՀԱՅԱUՏԱՆԻ ՀԱՆՐԱՊԵՏՈՒԹՅԱՆ 2020 ԹՎԱԿԱՆԻ ՊԵՏԱԿԱՆ ԲՅՈՒՋԵԻ ՄԱUԻՆ» ՀԱՅԱUՏԱՆԻ ՀԱՆՐԱՊԵՏՈՒԹՅԱՆ OՐԵՆՔԻ N 1 ՀԱՎԵԼՎԱԾԻ N 2 ԱՂՅՈՒՍԱԿՈՒՄ ԿԱՏԱՐՎՈՂ ՎԵՐԱԲԱՇԽՈՒՄԸ ԵՎ ՀԱՅԱՍՏԱՆԻ ՀԱՆՐԱՊԵՏՈՒԹՅԱՆ ԿԱՌԱՎԱՐՈՒԹՅԱՆ 2019 ԹՎԱԿԱՆԻ ԴԵԿՏԵՄԲԵՐԻ 26-Ի N 1919-Ն ՈՐՈՇՄԱՆ N 5 ՀԱՎԵԼՎԱԾԻ N 1 ԱՂՅՈՒՍԱԿՈՒՄ ԿԱՏԱՐՎՈՂ ՓՈՓՈԽՈՒԹՅՈՒՆՆԵՐԸ ԵՎ ԼՐԱՑՈՒՄՆԵՐԸ
E7: հազ. դրամներով
A8: Ծրագրային դասիչը | C8: Բյուջետային հատկացումների գլխավոր կարգադրիչների, ծրագրերի և միջոցառումների անվանումները | D8: Ցուցանիշների փոփոխությունը (ավելացումները նշված են դրական նշանով, իսկ նվազեցումները՝ փակագծերում)
A9: Ծրագիր | B9: Միջոցառում | D9: Առաջին կիսամյակ | E9: Ինն ամիս | F9: Տարի
A10: 1192 | C10: ԸՆԴԱՄԵՆԸ | D10: =+D12+D76 -> 0 | E10: =+E12+E76 -> 0 | F10: =+F12+F76 -> 0
C11: այդ թվում
B12: ՀՀ Կրթության, գիտության, մշակույթի և սպորտի նախարարություն | D12: =+D14+D27+D64 -> 0 | E12: =+E14+E27+E64 -> 0 | F12: =+F14+F27+F64 -> 0
A13: 1148 | C13: Ծրագրի անվանումը`
C14: Արտադպրոցական դաստիարակության ծրագիր | D14: =+D21 -> -37080 | E14: =+E21 -> -41069.636 | F14: =+F21 -> -422500.48
C15: Ծրագրի նպատակը`
C16: Նպաստել հանրակրթական ուսուցման համակարգում ընդգրկված երեխաների ֆիզիկական, հոգևոր և գեղագիտական զարգացմանը, բնապահպանական և կիրառական գիտելիքների ձեռքբերմանը_x000D_
C17: Վերջնական արդյունքի նկարագրությունը`
C18: Ստեղծել պայմաններ սովորողների ազատ ժամանացի կազմակերպան միջոցով նրանց հետաքրքրությունների բացահայտման, ձևավորման և զարգացման համար_x000D_
C19: Ծրագրի միջոցառումներ
B20: 11005 | C20: Միջոցառման անվանումը`
C21: Դպրոցականների ամառային հանգստի կազմակերպում և տրանսպորտային ծախսերի փոխհատուցում | D21: =-D27-D64 -> -37080 | E21: =-E27-E64 -> -41069.636 | F21: =-F27-F64 -> -422500.48
C22: Միջոցառման նկարագրությունը`
C23: Զոհված, հաշմանդամ դարձած զինծառայողների և աշխարհազորայինների, ծնողազուրկ և սակավ ապահովված բազմազավակ ընտանիքների 7-13 տարեկան երեխաների ամառային հանգստի կազմակերպում և տրանսպորտային ծախսերի փոխհատուցում
C24: Միջոցառման տեսակը
C25: Ծառայությունների մատուցում
A26: 1075 | C26: Ծրագրի անվանումը`
C27: Մշակութային ժառանգության ծրագիր | D27: =+D34+D40+D46+D52+D58 -> 37080 | E27: =+E34+E40+E46+E52+E58 -> 41069.636 | F27: =+F34+F40+F46+F52+F58 -> 420100.48
C28: Ծրագրի նպատակը`
C29: Մշակութային ժառանգության պահպանում, օգտագործում, համալրում և հանրահռչակում
C30: Վերջնական արդյունքի նկարագրությունը`
C31: Մշակութային ժառանգության շարունակական պահպանում, մշակութային զբոսաշրջության զարգացում և խթանում
C32: Ծրագրի միջոցառումներ
B33: 12002 | C33: Միջոցառման անվանումը`
C34: Աջակցություն քանդակների, արձանների պատրաստման,տեղադրման և վերականգնման աշխատանքներին | D34: 37080 | E34: 37080 | F34: 37080
C35: Միջոցառման նկարագրությունը`
C36: ժամանակակից արվեստի նմուշների գիտանախագծային փաստաթղթերի կազմում, ամրակայում, նորոգում և վերականգնում
C37: Միջոցառման տեսակը
C38: Տրանսֆերտների տրամադրում
B39: 12003 | C39: Միջոցառման անվանումը`
C40: Աջակցություն հուշարձանների ամրակայման, նորոգման և վերականգնման աշխատանքներին | D40: 0 | E40: 0 | F40: 8500
C41: Միջոցառման նկարագրությունը`
C42: Աջակցություն հուշարձանների գիտանախագծային փաստաթղթերի կազմման, հրատապ ուսումնասիրման, վավերագրման և ուսումնասիրման, հետախուզման և հնագիտական պեղումների, ամրակայման, նորոգման և վերականգնման աշխատանքներին
C43: Միջոցառման տեսակը
C44: Տրանսֆերտների տրամադրում
B45: 21001 | C45: Միջոցառման անվանումը`
C46: Հուշարձանների ամրակայում, նորոգում և վերականգնում | D46: =+'Havelvats 4'!D13 -> 0 | E46: =+'Havelvats 4'!E13 -> 3989.636 | F46: =+'Havelvats 4'!F13 -> 289248.86
C47: Միջոցառման նկարագրությունը`
C48: Հուշարձանների գիտանախագծային փաստաթղթերի կազմում, հրատապ ուսումնասիրում, վավերագրման և ուսումնասիրման աշխատանքներ, հետախուզում և հնագիտական պեղում, ամրակայում, նորոգում և վերականգնում
C49: Միջոցառման տեսակը
C50: Հանրության կողմից անմիջականորեն օգտագործվող ակտիվների հետ կապված միջոցառումներ
B51: 21003 | C51: Միջոցառման անվանումը`
C52: Քանդակների պատրաստման և տեղադրման աշխատանքներ | D52: =+'Havelvats 4'!D37 -> 0 | E52: =+'Havelvats 4'!E37 -> 0 | F52: =+'Havelvats 4'!F37 -> 8387.975
C53: Միջոցառման նկարագրությունը`
C54: Ժամանակակից արվեստի նմուշների ստեղծում, քանդակների պատրաստում և տեղադրում
C55: Միջոցառման տեսակը
C56: Հանրության կողմից անմիջականորեն օգտագործվող ակտիվների հետ կապված միջոցառումներ
B57: 21004 | C57: Միջոցառման անվանումը`
C58: Արձանների պատրաստման, նորոգման, վերականգնման և տեղադրման աշխատանքներ | D58: 0 | E58: 0 | F58: =+'Havelvats 8'!J48+'Havelvats 8'!J50+'Havelvats 8'!J51 -> 76883.641
C59: Միջոցառման նկարագրությունը`
C60: Արձանների պատրաստում, նորոգում և վերականգնում, տեղադրում
C61: Միջոցառման տեսակը
C62: Հանրության կողմից անմիջականորեն օգտագործվող ակտիվների հետ կապված միջոցառումներ
A63: 1196 | C63: Ծրագրի անվանումը`
C64: Մարզերի մշակութային զարգացման ծրագիր | D64: =+D71 -> 0 | E64: =+E71 -> 0 | F64: =+F71 -> 2400
C65: Ծրագրի նպատակը`
C66: Մարզերում մշակութային կյանքի և մշակութաստեղծ գործունեության ակտիվացում
C67: Վերջնական արդյունքի նկարագրությունը`
C68: Համայնքներում մշակույթի հասանելիության և մշակութային կյանքին մարզային բնակչության ընդգրկվածության ընդլայնում
C69: Ծրագրի միջոցառումներ
B70: 12001 | C70: Միջոցառման անվանումը`
C71: Աջակցություն համայնքներին մշակութային հաստատությունների շենքային պայմանների բարելավման համար | D71: 0 | E71: 0 | F71: =+'Havelvats 5'!G28 -> 2400
C72: Միջոցառման նկարագրությունը`
C73: Համայնքային ենթակայության մշակույթի տների՝ ակումբների և կենտրոնների հիմնանորոգում՝ կառուցում և նախագծում
C74: Միջոցառման տեսակը
C75: Տրանսֆերտների տրամադրում
B76: ՀՀ կառավարություն | C76: ՀՀ կառավարություն | D76: =+D78 -> 0 | E76: =+E78 -> 0 | F76: =+F78 -> 0
A77: 1139 | C77: Ծրագրի անվանումը`
C78: ՀՀ կառավարության պահուստային ֆոնդ | D78: =+D84+D90 -> 0 | E78: =+E84+E90 -> 0 | F78: =+F84+F90 -> 0
C79: Ծրագրի նպատակը`
C80: Պետական բյուջեում չկանխատեսված, ինչպես նաև բյուջետային երաշխիքների ապահովման ծախսերի ֆինանսավորման ապահովում
C81: Վերջնական արդյունքի նկարագրությունը`
C82: Պահուստային ֆոնդի կառավարման արդյունավետության և թափանցիկության ապահովում
B83: 11001 | C83: Միջոցառման անվանումը`
C84: ՀՀ կառավարության պահուստային ֆոնդ | D84: =D64+D58+D40+D34 -> 37080 | E84: =E64+E58+E40+E34 -> 37080 | F84: =F64+F58+F40+F34 -> 124863.64
C85: Միջոցառման նկարագրությունը`
C86: ՀՀ պետական բյուջեում նախատեսված ելքերի լրացուցիչ ֆինանսավորման՝ պետական բյուջեում չկանխատեսված ելքերի, ինչպես նաև բյուջետային երաշխիքների ապահովման ելքերի ֆինանսավորման ապահովում
C87: Միջոցառման տեսակը
C88: Ծառայությունների մատուցում
B89: 11001 | C89: Միջոցառման անվանումը`
C90: ՀՀ կառավարության պահուստային ֆոնդ | D90: =-D84 -> -37080 | E90: =-E84 -> -37080 | F90: =-F84 -> -124863.64
C91: Միջոցառման նկարագրությունը`
C92: ՀՀ պետական բյուջեում նախատեսված ելքերի լրացուցիչ ֆինանսավորման՝ պետական բյուջեում չկանխատեսված ելքերի, ինչպես նաև բյուջետային երաշխիքների ապահովման ելքերի ֆինանսավորման ապահովում
C93: Միջոցառման տեսակը
C94: Ծառայությունների մատուցում

Sheet Havelvats 2
H1: Հավելված N 2
H2: ՀՀ կառավարության 2020 թվականի
H3: ______________ ի ___Ն որոշման
A5: ՀԱՅԱՍՏԱՆԻ ՀԱՆՐԱՊԵՏՈՒԹՅԱՆ ԿԱՌԱՎԱՐՈՒԹՅԱՆ 2019 ԹՎԱԿԱՆԻ ԴԵԿՏԵՄԲԵՐԻ 26-Ի N 1919-Ն ՈՐՈՇՄԱՆ N 3 ԵՎ N 4 ՀԱՎԵԼՎԱԾՆԵՐՈՒՄ ԿԱՏԱՐՎՈՂ ՓՈՓՈԽՈՒԹՅՈՒՆՆԵՐԸ ԵՎ ԼՐԱՑՈՒՄՆԵՐԸ
H7: հազ. դրամներով
A8: Գործառական դասիչը | D8: Ծրագրային դասիչը | F8: Բյուջետային հատկացումների գլխավոր կարգադրիչների, ծրագրերի, միջոցառումների և միջոցառումները կատարող պետական մարմինների անվանումները | G8: Ցուցանիշների փոփոխությունը (ավելացումները նշված են դրական նշանով, իսկ նվազեցումները՝ փակագծերում)
A9: Բաժին | B9: Խումբ | C9: Դաս | D9: Ծրագիր | E9: Միջոցառում | G9: Առաջին կիսամյակ | H9: Ինն ամիս | I9: Տարի
F10: ԸՆԴԱՄԵՆԸ | G10: =+G12+G104 -> 0 | H10: =+H12+H104 -> 0 | I10: =+I12+I104 -> 0
F11: այդ թվում
F12: ՀՀ Կրթության, գիտության, մշակույթի և սպորտի նախարարություն | G12: =+G20+G31 -> 0 | H12: =+H20+H31 -> 0 | I12: =+I20+I31 -> 0
A13: 09 | E13: 11010 | F13: ԿՐԹՈՒԹՅՈՒՆ | G13: =G15 -> -37080 | H13: =H15 -> -41069.636 | I13: =I15 -> -422500.48
B14: 06 | F14: այդ թվում`
F15: Կրթությանը տրամադրվող օժանդակ ծառայություններ | G15: =G17 -> -37080 | H15: =H17 -> -41069.636 | I15: =I17 -> -422500.48
F16: այդ թվում`
C17: 01 | F17: Կրթությանը տրամադրվող օժանդակ ծառայություններ | G17: =+G20 -> -37080 | H17: =+H20 -> -41069.636 | I17: =+I20 -> -422500.48
F18: այդ թվում`
F19: ՀՀ կրթության, գիտության, մշակույթի և սպորտի նախարարություն
D20: 1148 | E20: Արտադպրոցական դաստիարակության ծրագիր | G20: =+G22 -> -37080 | H20: =+H22 -> -41069.636 | I20: =+I22 -> -422500.48
E21: 11005 | F21: այդ թվում`
F22: Դպրոցականների ամառային հանգստի կազմակերպում և տրանսպորտային ծախսերի փոխհատուցում | G22: =+G24 -> -37080 | H22: =H24 -> -41069.636 | I22: =I24 -> -422500.48
F23: այդ թվում` ըստ կատարողների
F24: ՀՀ կրթության, գիտության, մշակույթի և սպորտի նախարարություն | G24: =+G26 -> -37080 | H24: =H26 -> -41069.636 | I24: =I26 -> -422500.48
F25: այդ թվում՝ բյուջետային ծախսերի տնտեսագիտական դասակարգման հոդվածներ
F26: ԸՆԴԱՄԵՆԸ ԾԱԽՍԵՐ | G26: =+G27 -> -37080 | H26: =H27 -> -41069.636 | I26: =I27 -> -422500.48
F27: ԸՆԹԱՑԻԿ ԾԱԽՍԵՐ | G27: =+G28 -> -37080 | H27: =H28 -> -41069.636 | I27: =I28 -> -422500.48
F28: ԴՐԱՄԱՇՆՈՐՀՆԵՐ | G28: =+G29 -> -37080 | H28: =H29 -> -41069.636 | I28: =I29 -> -422500.48
F29: Ընթացիկ դրամաշնորհներ պետական հատվածի այլ մակարդակներին | G29: =+G30 -> -37080 | H29: =+H30 -> -41069.636 | I29: =+I30 -> -422500.48
F30: -Այլ ընթացիկ դրամաշնորհներ | G30: =+'Havelvats 1'!D21 -> -37080 | H30: =+'Havelvats 1'!E21 -> -41069.636 | I30: =+'Havelvats 1'!F21 -> -422500.48
A31: 08 | F31: ՀԱՆԳԻՍՏ, ՄՇԱԿՈՒՅԹ ԵՎ ԿՐՈՆ | G31: =G33 -> 37080 | H31: =H33 -> 41069.636 | I31: =I33 -> 422500.48
F32: այդ թվում`
B33: 02 | F33: Մշակութային ծառայություններ | G33: =+G35+G50 -> 37080 | H33: =+H35+H50 -> 41069.636 | I33: =+I35+I50 -> 422500.48
F34: այդ թվում`
C35: 03 | F35: Մշակույթի տներ, ակումբներ, կենտրոններ | G35: =+G37 -> 0 | H35: =+H37 -> 0 | I35: =+I37 -> 2400
F36: այդ թվում`
F37: ՀՀ կրթության, գիտության, մշակույթի և սպորտի նախարարություն | G37: =+G39 -> 0 | H37: =+H39 -> 0 | I37: =+I39 -> 2400
F38: այդ թվում`
D39: 1196 | E39: Մարզերի մշակութային զարգացման ծրագիր | G39: =+G41 -> 0 | H39: =+H41 -> 0 | I39: =+I41 -> 2400
F40: այդ թվում`
E41: 12001 | F41: Աջակցություն համայնքներին մշակութային հաստատությունների շենքային պայմանների բարելավման համար | G41: =G43 -> 0 | H41: =H43 -> 0 | I41: =I43 -> 2400
F42: այդ թվում`ըստ կատարողների
F43: ՀՀ կրթության, գիտության, մշակույթի և սպորտի նախարարություն | G43: =G45 -> 0 | H43: =H45 -> 0 | I43: =I45 -> 2400
F44: այդ թվում`բյուջետային ծախսերի տնտեսագիտական դասակարգման հոդվածներ
F45: ԸՆԴԱՄԵՆԸ ԾԱԽՍԵՐ | G45: =+G46 -> 0 | H45: =+H46 -> 0 | I45: =+I46 -> 2400
F46: ԸՆԹԱՑԻԿ ԾԱԽՍԵՐ | G46: =+G47 -> 0 | H46: =+H47 -> 0 | I46: =+I47 -> 2400
F47: ԴՐԱՄԱՄԱՇՆՈՐՆԵՐ | G47: =G48 -> 0 | H47: =H48 -> 0 | I47: =I48 -> 2400
F48: Կապիտալ դրամաշնորհներ պետական հատվածի այլ մակարդակներին | G48: =G49 -> 0 | H48: =H49 -> 0 | I48: =I49 -> 2400
F49: - Կապիտալ դրամաշնորհներ պետական և համայնքային ոչ առևտրային կազմակերպություններին | G49: =+'Havelvats 1'!D71 -> 0 | H49: =+'Havelvats 1'!E71 -> 0 | I49: =+'Havelvats 1'!F71 -> 2400
C50: 07 | F50: Հուշարձանների և մշակութային արժեքների վերականգնում և պահպանում | G50: =+G52 -> 37080 | H50: =+H52 -> 41069.636 | I50: =+I52 -> 420100.48
F51: այդ թվում`
F52: ՀՀ կրթության, գիտության, մշակույթի և սպորտի նախարարություն | G52: =+G54 -> 37080 | H52: =+H54 -> 41069.636 | I52: =+I54 -> 420100.48
F53: այդ թվում`
D54: 1075 | E54: Մշակութային ժառանգության ծրագիր | G54: =+G56+G65+G75+G86+G95 -> 37080 | H54: =+H56+H65+H75+H86+H95 -> 41069.636 | I54: =+I56+I65+I75+I86+I95 -> 420100.48
F55: այդ թվում`
E56: 12002 | F56: Աջակցություն քանդակների,արձանների պատրաստման,տեղադրման և վերականգնման աշխատանքներին | G56: =G58 -> 37080 | H56: =H58 -> 37080 | I56: =I58 -> 37080
F57: այդ թվում`ըստ կատարողների
F58: ՀՀ կրթության, գիտության, մշակույթի և սպորտի նախարարություն | G58: =G60 -> 37080 | H58: =H60 -> 37080 | I58: =I60 -> 37080
F59: այդ թվում`բյուջետային ծախսերի տնտեսագիտական դասակարգման հոդվածներ
F60: ԸՆԴԱՄԵՆԸ ԾԱԽՍԵՐ | G60: =G61 -> 37080 | H60: =H61 -> 37080 | I60: =I61 -> 37080
F61: ԸՆԹԱՑԻԿ ԾԱԽՍԵՐ | G61: =G62 -> 37080 | H61: =H62 -> 37080 | I61: =I62 -> 37080
F62: ԴՐԱՄԱՄԱՇՆՈՐՆԵՐ | G62: =G63 -> 37080 | H62: =H63 -> 37080 | I62: =I63 -> 37080
F63: Կապիտալ դրամաշնորհներ պետական հատվածի այլ մակարդակներին | G63: =G64 -> 37080 | H63: =H64 -> 37080 | I63: =I64 -> 37080
F64: - Կապիտալ դրամաշնորհներ պետական և համայնքային ոչ առևտրային կազմակերպություններին | G64: =+'Havelvats 1'!D34 -> 37080 | H64: =+'Havelvats 1'!E34 -> 37080 | I64: =+'Havelvats 1'!F34 -> 37080
E65: 12003 | F65: Աջակցություն հուշարձանների ամրակայման, նորոգման և վերականգնման աշխատանքներին | G65: =G67 -> 0 | H65: =H67 -> 0 | I65: =I67 -> 8500
F66: այդ թվում`ըստ կատարողների
F67: ՀՀ կրթության, գիտության, մշակույթի և սպորտի նախարարություն | G67: =G69 -> 0 | H67: =H69 -> 0 | I67: =I69 -> 8500
F68: այդ թվում`բյուջետային ծախսերի տնտեսագիտական դասակարգման հոդվածներ
F69: ԸՆԴԱՄԵՆԸ ԾԱԽՍԵՐ | G69: =G70 -> 0 | H69: =H70 -> 0 | I69: =I70 -> 8500
F70: ԸՆԹԱՑԻԿ ԾԱԽՍԵՐ | G70: =G71 -> 0 | H70: =H71 -> 0 | I70: =I71 -> 8500
F71: ԴՐԱՄԱՄԱՇՆՈՐՆԵՐ | G71: =G72 -> 0 | H71: =H72 -> 0 | I71: =I72 -> 8500
F72: Կապիտալ դրամաշնորհներ պետական հատվածի այլ մակարդակներին | G72: =G73 -> 0 | H72: =H73 -> 0 | I72: =I73 -> 8500
F73: - Կապիտալ դրամաշնորհներ պետական և համայնքային ոչ առևտրային կազմակերպություններին | G73: =+'Havelvats 1'!D40 -> 0 | H73: =+'Havelvats 1'!E40 -> 0 | I73: =+'Havelvats 1'!F40 -> 8500
E75: 21001 | F75: Հուշարձանների ամրակայում, նորոգում և վերականգնում | G75: =G77 -> 0 | H75: =H77 -> 3989.636 | I75: =I77 -> 289248.86
F76: այդ թվում`ըստ կատարողների
F77: ՀՀ կրթության, գիտության, մշակույթի և սպորտի նախարարություն | G77: =G79 -> 0 | H77: =H79 -> 3989.636 | I77: =I79 -> 289248.86
F78: այդ թվում`բյուջետային ծախսերի տնտեսագիտական դասակարգման հոդվածներ
F79: ԸՆԴԱՄԵՆԸ ԾԱԽՍԵՐ | G79: =G80 -> 0 | H79: =H80 -> 3989.636 | I79: =I80 -> 289248.86
F80: ՈՉ ՖԻՆԱՆՍԱԿԱՆ ԱԿՏԻՎՆԵՐԻ ԳԾՈՎ ԾԱԽՍԵՐ | G80: =G81 -> 0 | H80: =H81 -> 3989.636 | I80: =I81 -> 289248.86
F81: ՀԻՄՆԱԿԱՆ ՄԻՋՈՑՆԵՐ | G81: =G82+G84 -> 0 | H81: =H82+H84 -> 3989.636 | I81: =I82+I84 -> 289248.86
F82: ՇԵՆՔԵՐ ԵՎ ՇԻՆՈՒԹՅՈՒՆՆԵՐ | G82: =G83 -> 0 | H82: =H83 -> 3989.636 | I82: =I83 -> 242340.02
F83: - Շենքերի և շինությունների կապիտալ վերանորոգում | G83: =+'Havelvats 4'!D17 -> 0 | H83: =+'Havelvats 4'!E17 -> 3989.636 | I83: =+'Havelvats 4'!F17 -> 242340.02
F84: ԱՅԼ ՀԻՄՆԱԿԱՆ ՄԻՋՈՑՆԵՐ | G84: =G85 -> 0 | H84: =H85 -> 0 | I84: =I85 -> 46908.84
F85: - Նախագծահետազոտական ծախսեր | G85: =+'Havelvats 4'!D29 -> 0 | H85: =+'Havelvats 4'!E29 -> 0 | I85: =+'Havelvats 4'!F29 -> 46908.84
E86: 21003 | F86: Քանդակների պատրաստման և տեղադրման աշխատանքներ | G86: =+G88 -> 0 | H86: =+H88 -> 0 | I86: =+I88 -> 8387.975
F87: այդ թվում`ըստ կատարողների
F88: ՀՀ կրթության, գիտության, մշակույթի և սպորտի նախարարություն | G88: =+G90 -> 0 | H88: =+H90 -> 0 | I88: =+I90 -> 8387.975
F89: այդ թվում`բյուջետային ծախսերի տնտեսագիտական դասակարգման հոդվածներ
F90: ԸՆԴԱՄԵՆԸ ԾԱԽՍԵՐ | G90: =G91 -> 0 | H90: =H91 -> 0 | I90: =I91 -> 8387.975
F91: ՈՉ ՖԻՆԱՆՍԱԿԱՆ ԱԿՏԻՎՆԵՐԻ ԳԾՈՎ ԾԱԽՍԵՐ | G91: =G92 -> 0 | H91: =H92 -> 0 | I91: =I92 -> 8387.975
F92: ՀԻՄՆԱԿԱՆ ՄԻՋՈՑՆԵՐ | G92: =G93 -> 0 | H92: =H93 -> 0 | I92: =I93 -> 8387.975
F93: ՇԵՆՔԵՐ ԵՎ ՇԻՆՈՒԹՅՈՒՆՆԵՐ | G93: =G94 -> 0 | H93: =H94 -> 0 | I93: =I94 -> 8387.975
F94: - Շենքերի և շինությունների կապիտալ վերանորոգում | G94: =+'Havelvats 1'!D52 -> 0 | H94: =+'Havelvats 1'!E52 -> 0 | I94: =+'Havelvats 1'!F52 -> 8387.975
E95: 21004 | F95: Արձանների պատրաստման, նորոգման, վերականգնման և տեղադրման աշխատանքներ | G95: =+G97 -> 0 | H95: =+H97 -> 0 | I95: =+I97 -> 76883.641
F96: այդ թվում`ըստ կատարողների
F97: ՀՀ կրթության, գիտության, մշակույթի և սպորտի նախարարություն | G97: =+G99 -> 0 | H97: =+H99 -> 0 | I97: =+I99 -> 76883.641
F98: այդ թվում`բյուջետային ծախսերի տնտեսագիտական դասակարգման հոդվածներ
F99: ԸՆԴԱՄԵՆԸ ԾԱԽՍԵՐ | G99: =+G100 -> 0 | H99: =+H100 -> 0 | I99: =+I100 -> 76883.641
F100: ՈՉ ՖԻՆԱՆՍԱԿԱՆ ԱԿՏԻՎՆԵՐԻ ԳԾՈՎ ԾԱԽՍԵՐ | G100: =G101 -> 0 | H100: =H101 -> 0 | I100: =I101 -> 76883.641
F101: ՀԻՄՆԱԿԱՆ ՄԻՋՈՑՆԵՐ | G101: =G102 -> 0 | H101: =H102 -> 0 | I101: =I102 -> 76883.641
F102: ՇԵՆՔԵՐ ԵՎ ՇԻՆՈՒԹՅՈՒՆՆԵՐ | G102: =G103 -> 0 | H102: =H103 -> 0 | I102: =I103 -> 76883.641
F103: - Շենքերի և շինությունների կապիտալ վերանորոգում | G103: =+'Havelvats 1'!D58 -> 0 | H103: =+'Havelvats 1'!E58 -> 0 | I103: =+'Havelvats 1'!F58 -> 76883.641
...

Sheet Havelvats 3
F1: Հավելված N 3
F2: ՀՀ կառավարության 2020 թվականի
F3: ______________ ի ___Ն որոշման
A5: «ՀԱՅԱUՏԱՆԻ ՀԱՆՐԱՊԵՏՈՒԹՅԱՆ 2020 ԹՎԱԿԱՆԻ ՊԵՏԱԿԱՆ ԲՅՈՒՋԵԻ ՄԱUԻՆ» ՀԱՅԱUՏԱՆԻ ՀԱՆՐԱՊԵՏՈՒԹՅԱՆ OՐԵՆՔԻ N 1 ՀԱՎԵԼՎԱԾԻ N 3 ԱՂՅՈՒՍԱԿՈՒՄ ԿԱՏԱՐՎՈՂ ՓՈՓՈԽՈՒԹՅՈՒՆՆԵՐԸ ԵՎ ԼՐԱՑՈՒՄՆԵՐԸ
G8: հազ. դրամներով
A9: Ծրագրային դասիչ | C9: Բյուջետային գլխավոր կարգադրիչների, ծրագրերի, միջոցառումների և ուղղությունների անվանումները | D9: Ընդամենը, | E9: Ցուցանիշների փոփոխությունը (ավելացումները նշված են դրական նշանով)
E10: այդ թվում՝
A11: Ծրագիր | B11: Միջոցառում | E11: Կառուցման աշխատանքներ | F11: Վերակառուցման, վերանորոգման և վերականգնման աշխատանքներ | G11: Նախագծահե- տազոտական, գեոդեզիա- քարտեզագրա- կան աշխա- տանքներ | H11: Ոչ ֆինանսական այլ ակտիվների ձեռքբերում
C12: ԸՆԴԱՄԵՆԸ | D12: =SUM(E12:H12) -> 374520.48 | E12: =+E14 -> 0 | F12: =+F14 -> 327611.64 | G12: =+G14 -> 46908.84 | H12: =+H14 -> 0
C13: այդ թվում՝
C14: ՀՀ ԿՐԹՈՒԹՅԱՆ, ԳԻՏՈՒԹՅԱՆ, ՄՇԱԿՈՒՅԹԻ ԵՎ ՍՊՈՐՏԻ ՆԱԽԱՐԱՐՈՒԹՅՈՒՆ | D14: =SUM(E14:H14) -> 374520.48 | E14: =+E16+E38+E44 -> 0 | F14: =+F16+F38+F44 -> 327611.64 | G14: =+G16+G38+G44 -> 46908.84 | H14: =+H16+H38+H44 -> 0
C15: այդ թվում`
A16: 1075 | B16: 21001 | C16: Հուշարձանների ամրակայում, նորոգում և վերականգնում | D16: =SUM(E16:H16) -> 289248.86 | E16: =E18+E30 -> 0 | F16: =F18+F30 -> 242340.02 | G16: =G18+G30 -> 46908.84 | H16: =H18+H30 -> 0
C17: այդ թվում`
C18: 1. Վերականգնողական աշխատանքներ | D18: =D25+D20+D23+D27 -> 242340.02 | E18: =E25+E20+E23+E27 -> 0 | F18: =F25+F20+F23+F27 -> 242340.02 | G18: =G25+G20+G23+G27 -> 0 | H18: =H25+H20+H23+H27 -> 0
C19: որից`
C20: ՀՀ Արարատի մարզ | D20: =SUM(D21:D22) -> 11385.949 | E20: =SUM(E21:E22) -> 0 | F20: =SUM(F21:F22) -> 11385.949 | G20: =SUM(G21:G22) -> 0 | H20: =SUM(H21:H22) -> 0
C21: Լուսառատ համայնքի Արտաշատ քաղաքատեղիի բաղնիքի ամրակայում և մասնակի վերականգնում | D21: =SUM(E21:H21) -> 1622.419 | F21: ='Havelvats 8'!J16+'Havelvats 8'!J30+'Havelvats 8'!J31 -> 1622.419
C22: Հնաբերդ համայնքի Դվին հնավայրի բնակելի հատվածի (տան) ամրակայում, նորոգում, վերականգնում և տարածքի մասնակի բարեկարգում | D22: =SUM(E22:H22) -> 9763.53 | F22: ='Havelvats 8'!J17+'Havelvats 8'!J32+'Havelvats 8'!J33 -> 9763.53
C23: ՀՀ Լոռու մարզ | D23: =SUM(D24) -> 2367.217 | E23: =SUM(E24) -> 0 | F23: =SUM(F24) -> 2367.217 | G23: =SUM(G24) -> 0 | H23: =SUM(H24) -> 0
C24: Թումանյան համայնքի Քոբայրավանք համալիրի գլխավոր եկեղեցուն կից մատուռի (տանիքի) նորոգում | D24: =SUM(E24:H24) -> 2367.217 | F24: ='Havelvats 8'!J18+'Havelvats 8'!J34+'Havelvats 8'!J35 -> 2367.217
C25: ՀՀ Շիրակի մարզ | D25: =SUM(D26) -> 19475 | E25: =SUM(E26) -> 0 | F25: =SUM(F26) -> 19475 | G25: =SUM(G26) -> 0 | H25: =SUM(H26) -> 0
C26: Հոռոմ համայնքի Սբ Հռիփսիմե եկեղեցու ամրակայում, նորոգում և վերականգնում | D26: =SUM(E26:H26) -> 19475 | F26: ='Havelvats 8'!J15+'Havelvats 8'!J28+'Havelvats 8'!J29 -> 19475
C27: ՀՀ Կոտայքի մարզ | D27: =SUM(E27:H27) -> 209111.86 | E27: =SUM(E28:E49) -> 0 | F27: =+F28+F29 -> 209111.86 | H27: =SUM(H28:H49) -> 0
C28: Մեղրաձոր համայնքի Թեժառույք վանական համալիրի ամրակայում և տարածքի բարեկարգում | D28: =+E28+F28+G28+H28 -> 32890.648 | F28: ='Havelvats 8'!J19+'Havelvats 8'!J36+'Havelvats 8'!J37 -> 32890.648
C29: Չարենցավան համայնքի «Ճանապարհաշինարարներ» արձանի վերականգնում | D29: =+E29+F29+G29+H29 -> 176221.21 | F29: ='Havelvats 8'!J20+'Havelvats 8'!J38+'Havelvats 8'!J39 -> 176221.21
C30: 2. Վավերագրման և ուսումնասիրման աշխատանքներ, (այդ թվում՝ հետախուզումև պեղում), գիտանախագծային փաստաթղթերի կազմում և փորձաքննում | D30: =D34+D36+D32 -> 46908.84 | E30: =E34+E36+E32 -> 0 | F30: =F34+F36+F32 -> 0 | G30: =G34+G36+G32 -> 46908.84 | H30: =H34+H36+H32 -> 0
C31: որից`
C32: ՀՀ Արագածոտնի մարզ | D32: =D33 -> 19153 | E32: =E33 -> 0 | F32: =F33 -> 0 | G32: =G33 -> 19153 | H32: =H33 -> 0
C33: Ագարակ հնավայրի վաղ բրոնզի դարի կացարանների, միջնադարյան համալիրի և Պարսպապատի ամրակայում | D33: =SUM(E33:H33) -> 19153 | G33: ='Havelvats 8'!J24+'Havelvats 8'!J27 -> 19153
C34: ՀՀ Շիրակի մարզ | D34: =D35 -> 8382.88 | E34: =E35 -> 0 | F34: =F35 -> 0 | G34: =G35 -> 8382.88 | H34: =H35 -> 0
C35: Վահրամաբերդ համայնքի Մարմաշեն վանական համալիրի ուսումնասիրում, ամրակայում և տարածքի բարեկարգում | D35: =SUM(E35:H35) -> 8382.88 | G35: ='Havelvats 8'!J22+'Havelvats 8'!J25 -> 8382.88
C36: ՀՀ Վայոց Ձորի մարզ | D36: =D37 -> 19372.96 | E36: =E37 -> 0 | F36: =F37 -> 0 | G36: =G37 -> 19372.96 | H36: =H37 -> 0
C37: Շատիվանքի վանական համալիրի ամրակայում, մասնակի վերականգնում և տարածքի բարեկարգում | D37: =SUM(E37:H37) -> 19372.96 | G37: ='Havelvats 8'!J23+'Havelvats 8'!J26 -> 19372.96
A38: 1075 | B38: 21003 | C38: Քանդակների պատրաստման և տեղադրման աշխատանքներ | D38: =SUM(E38:H38) -> 8387.975 | E38: =+E40 -> 0 | F38: =+F40 -> 8387.975 | G38: =+G40 -> 0 | H38: =+H40 -> 0
C39: այդ թվում`
C40: 1. Վերականգնողական աշխատանքներ | D40: =SUM(E40:H40) -> 8387.975 | E40: =+E42 -> 0 | F40: =+F42 -> 8387.975 | G40: =+G42 -> 0 | H40: =+H42 -> 0
C41: որից`
C42: ՀՀ Լոռու մարզ | D42: =+D43 -> 8387.975 | E42: =+E43 -> 0 | F42: =+F43 -> 8387.975 | G42: =+G43 -> 0 | H42: =+H43 -> 0
C43: «ԼՈՌԵՑԻ ՍԱՔՈ» քանդակի վերականգնում, տեղափոխում և տարածքի բարեկարգում | D43: =SUM(E43:H43) -> 8387.975 | F43: =+'Havelvats 8'!J42+'Havelvats 8'!J44+'Havelvats 8'!J45 -> 8387.975
A44: 1075 | B44: 21004 | C44: Արձանների պատրաստման, նորոգման, վերականգնման և տեղադրման աշխատանքներ | D44: =SUM(E44:H44) -> 76883.641 | E44: =+E46 -> 0 | F44: =+F46 -> 76883.641 | G44: =+G46 -> 0 | H44: =+H46 -> 0
C45: այդ թվում`
C46: 1. Վերականգնողական աշխատանքներ | D46: =SUM(E46:H46) -> 76883.641 | E46: =+E48 -> 0 | F46: =+F48 -> 76883.641 | G46: =+G48 -> 0 | H46: =+H48 -> 0
C47: որից`
C48: ՀՀ Կոտայքի մարզ | D48: =SUM(E48:H48) -> 76883.641 | E48: =+E49 -> 0 | F48: =+F49 -> 76883.641 | G48: =+G49 -> 0 | H48: =+H49 -> 0
C49: Բյուրեղավանի համայնքի «Արձագանք» արձանի վերականգնում | D49: =+E49+F49+G49+H49 -> 76883.641 | F49: =+'Havelvats 8'!J48+'Havelvats 8'!J50+'Havelvats 8'!J51 -> 76883.641

Sheet Havelvats 4
E1: Հավելված N 4
E2: ՀՀ կառավարության 2020 թվականի
E3: ______________ ի ___Ն որոշման
A5: ՀԱՅԱՍՏԱՆԻ ՀԱՆՐԱՊԵՏՈՒԹՅԱՆ ԿԱՌԱՎԱՐՈՒԹՅԱՆ 2019 ԹՎԱԿԱՆԻ ԴԵԿՏԵՄԲԵՐԻ 26-Ի N 1919-Ն ՈՐՈՇՄԱՆ N 5 ՀԱՎԵԼՎԱԾԻ N 2 ԱՂՅՈՒՍԱԿՈՒՄ ԿԱՏԱՐՎՈՂ ՓՈՓՈԽՈՒԹՅՈՒՆՆԵՐԸ ԵՎ ԼՐԱՑՈՒՄՆԵՐԸ
A7: հազ. դրամներով
A8: Ծրագրային դասիչ | C8: Բյուջետային գլխավոր կարգադրիչների, ծրագրերի, միջոցառումների, միջոցառումները կատարող պետական մարմինների և ուղղությունների անվանումները | D8: Ցուցանիշների փոփոխությունը (ավելացումները նշված են դրական նշանով)
D9: Առաջին կիսամյակ | E9: Ինն ամիս | F9: Տարի
A10: Ծրագիր | B10: Միջոցառում
C11: ՀՀ ԿՐԹՈՒԹՅԱՆ, ԳԻՏՈՒԹՅԱՆ, ՄՇԱԿՈՒՅԹԻ ԵՎ ՍՊՈՐՏԻ ՆԱԽԱՐԱՐՈՒԹՅՈՒՆ | D11: =+D13+D37+D45 -> 0 | E11: =+E13+E37+E45 -> 3989.636 | F11: =+F13+F37+F45 -> 374520.48
C12: այդ թվում՝
A13: 1075 | B13: 21001 | C13: Հուշարձանների ամրակայում, նորոգում և վերականգնում | D13: =+D15 -> 0 | E13: =+E15 -> 3989.636 | F13: =+F15 -> 289248.86
C14: այդ թվում` ըստ կատարողների
C15: ՀՀ կրթության, գիտության, մշակույթի և սպորտի նախարարություն | D15: =D17+D29 -> 0 | E15: =E17+E29 -> 3989.636 | F15: =F17+F29 -> 289248.86
C16: այդ թվում`ըստ ուղղությունների
C17: 1. Վերականգնողական աշխատանքներ | D17: =D24+D19+D22+D26 -> 0 | E17: =E24+E19+E22+E26 -> 3989.636 | F17: =F24+F19+F22+F26 -> 242340.02
C18: որից`
C19: ՀՀ Արարատի մարզ | D19: =SUM(D20:D21) -> 0 | E19: =SUM(E20:E21) -> 1622.419 | F19: =SUM(F20:F21) -> 11385.949
C20: Լուսառատ համայնքի Արտաշատ քաղաքատեղիի բաղնիքի ամրակայում և մասնակի վերականգնում | D20: 0 | E20: ='Havelvats 3'!D21 -> 1622.419 | F20: =+E20+0 -> 1622.419
C21: Հնաբերդ համայնքի Դվին հնավայրի բնակելի հատվածի (տան) ամրակայում, նորոգում, վերականգնում և տարածքի մասնակի բարեկարգում | D21: 0 | E21: 0 | F21: ='Havelvats 3'!D22 -> 9763.53
C22: ՀՀ Լոռու մարզ | D22: =+D23 -> 0 | E22: =+E23 -> 2367.217 | F22: =+F23 -> 2367.217
C23: Թումանյան համայնքի Քոբայրավանք համալիրի գլխավոր եկեղեցուն կից մատուռի (տանիքի) նորոգում | D23: 0 | E23: ='Havelvats 3'!D24 -> 2367.217 | F23: =+E23+0 -> 2367.217
C24: ՀՀ Շիրակի մարզ | D24: =+D25 -> 0 | E24: =+E25 -> 0 | F24: =+F25 -> 19475
C25: Հոռոմ համայնքի Սբ Հռիփսիմե եկեղեցու ամրակայում, նորոգում և վերականգնում | D25: 0 | E25: 0 | F25: ='Havelvats 3'!D26 -> 19475
C26: ՀՀ Կոտայքի մարզ | D26: =SUM(D27:D28) -> 0 | E26: =SUM(E27:E28) -> 0 | F26: =SUM(F27:F28) -> 209111.86
C27: Մեղրաձոր համայնքի Թեժառույք վանական համալիրի ամրակայում և տարածքի բարեկարգում | D27: 0 | E27: 0 | F27: ='Havelvats 3'!D28 -> 32890.648
C28: Չարենցավան համայնքի «Ճանապարհաշինարարներ» արձանի վերականգնում | D28: 0 | E28: 0 | F28: ='Havelvats 3'!D29 -> 176221.21
C29: 2. Վավերագրման և ուսումնասիրման աշխատանքներ, (այդ թվում՝ հետախուզումև պեղում), գիտանախագծային փաստաթղթերի կազմում և փորձաքննում | D29: =D33+D35+D31 -> 0 | E29: =E33+E35+E31 -> 0 | F29: =F33+F35+F31 -> 46908.84
C30: որից`
C31: ՀՀ Արագածոտնի մարզ | D31: =SUM(D32) -> 0 | E31: =SUM(E32) -> 0 | F31: =SUM(F32) -> 19153
C32: Ագարակ հնավայրի վաղ բրոնզի դարի կացարանների, միջնադարյան համալիրի և Պարսպապատի ամրակայում | D32: 0 | E32: 0 | F32: 19153
C33: ՀՀ Շիրակի մարզ | D33: =+D34 -> 0 | E33: =+E34 -> 0 | F33: =+F34 -> 8382.88
C34: Վահրամաբերդ համայնքի Մարմաշեն վանական համալիրի ուսումնասիրում, ամրակայում և տարածքի բարեկարգում | D34: 0 | E34: 0 | F34: ='Havelvats 3'!D35 -> 8382.88
C35: ՀՀ Վայոց Ձորի մարզ | D35: =SUM(D36) -> 0 | E35: =SUM(E36) -> 0 | F35: =SUM(F36) -> 19372.96
C36: Շատիվանքի վանական համալիրի ամրակայում, մասնակի վերականգնում և տարածքի բարեկարգում | D36: 0 | E36: 0 | F36: ='Havelvats 3'!D37 -> 19372.96
A37: 1075 | B37: 21003 | C37: Քանդակների պատրաստման և տեղադրման աշխատանքներ | D37: =+D39 -> 0 | E37: =+E39 -> 0 | F37: =+F39 -> 8387.975
C38: այդ թվում` ըստ կատարողների
C39: ՀՀ կրթության, գիտության, մշակույթի և սպորտի նախարարություն | D39: =+D41 -> 0 | E39: =+E41 -> 0 | F39: =+F41 -> 8387.975
C40: այդ թվում`ըստ ուղղությունների
C41: 1. Վերականգնողական աշխատանքներ | D41: =+D43 -> 0 | E41: =+E43 -> 0 | F41: =+F43 -> 8387.975
C42: որից`
C43: ՀՀ Լոռու մարզ | D43: =+D44 -> 0 | E43: =+E44 -> 0 | F43: =+F44 -> 8387.975
C44: «ԼՈՌԵՑԻ ՍԱՔՈ» քանդակի վերականգնում, տեղափոխում և տարածքի բարեկարգում | F44: =+'Havelvats 3'!D43 -> 8387.975
A45: 1075 | B45: 21004 | C45: Արձանների պատրաստման, նորոգման, վերականգնման և տեղադրման աշխատանքներ | D45: =+D47 -> 0 | E45: =+E47 -> 0 | F45: =+F47 -> 76883.641
C46: այդ թվում` ըստ կատարողների
C47: ՀՀ կրթության, գիտության, մշակույթի և սպորտի նախարարություն | D47: =+D49 -> 0 | E47: =+E49 -> 0 | F47: =+F49 -> 76883.641
C48: այդ թվում`ըստ ուղղությունների
C49: 1. Վերականգնողական աշխատանքներ | D49: =+D51 -> 0 | E49: =+E51 -> 0 | F49: =+F51 -> 76883.641
C50: որից`
C51: ՀՀ Կոտայքի մարզ | D51: =+D52 -> 0 | E51: =+E52 -> 0 | F51: =+F52 -> 76883.641
C52: Բյուրեղավանի համայնքի «Արձագանք» արձանի վերականգնում | F52: 76883.641

Sheet Havelvats 5
F1: Հավելված 5
F2: ՀՀ կառավարության 2020 թվականի
F3: ______________ ի ___Ն որոշման
A6: ՀԱՅԱՍՏԱՆԻ ՀԱՆՐԱՊԵՏՈՒԹՅԱՆ ԿԱՌԱՎԱՐՈՒԹՅԱՆ 2019 ԹՎԱԿԱՆԻ ԴԵԿՏԵՄԲԵՐԻ 26-Ի N 1919-Ն ՈՐՈՇՄԱՆ N 5 ՀԱՎԵԼՎԱԾԻ N 7 ԱՂՅՈՒՍԱԿՈՒՄ ԿԱՏԱՐՎՈՂ ՓՈՓՈԽՈՒԹՅՈՒՆՆԵՐԸ ԵՎ ԼՐԱՑՈՒՄՆԵՐԸ
A7: հազար դրամ
A8: Ծրագրային դասիչը | D8: Բյուջետային հատկացումների գլխավոր կարգադրիչների, ծրագրերի, միջոցառումների և միջոցառումները կատարող պետական մարմինների անվանումները | F8: Միջոցառումները կատարող պետական մարմինների և դրամաշնորհ ստացող տնտեսվարող սուբյեկտների անվանումները | G8: Ցուցանիշների փոփոխությունը (ավելացումները նշված են դրական նշանով, իսկ նվազեցումները՝ փակագծերում)
A9: Ծրագիր | B9: Միջոցառում | G9: Տարի
A10: ՀՀ կրթության, գիտության, մշակույթի և սպորտի նախարարություն | G10: =+G11+G15+G24 -> -374520.48
A11: 1148 | B11: Արտադպրոցական դաստիարակության ծրագիր | G11: =+G12 -> -422500.48
B12: 11005 | C12: Դպրոցականների ամառային հանգստի կազմակերպում և տրանսպորտային ծախսերի փոխհատուցում | F12: ընդամենը, որից՝ | G12: =+G13 -> -422500.48
F13: ՀՀ կրթության, գիտության, մշակույթի և սպորտի նախարարություն | G13: =+G14 -> -422500.48
F14: Մրցույթով ընտրված կազմակերպություն | G14: =+'Havelvats 1'!F21 -> -422500.48
A15: 1075 | B15: Մշակութային ժառանգության ծրագիր | G15: =+G20+G16 -> 45580
B16: 12002 | C16: Աջակցություն քանդակների,արձանների պատրաստման,տեղադրման և վերականգնման աշխատանքներին | G16: =+G18 -> 37080
D17: այդ թվում՝ ըստ ուղղությունների
F18: ՀՀ կրթության, գիտության, մշակույթի և սպորտի նախարարություն | G18: =+G19 -> 37080
E19: Արտո Չաքմաքչյանի «Քայլող մարդը» քանդակի պատրաստում և տեղադրում | F19: «Հայաստանի ազգային պատկերասրահ» ՊՈԱԿ | G19: 37080
B20: 12003 | C20: Աջակցություն հուշարձանների ամրակայման, նորոգման և վերականգնման աշխատանքներին | G20: =+G22 -> 8500
D21: այդ թվում՝ ըստ ուղղությունների
F22: ՀՀ կրթության, գիտության, մշակույթի և սպորտի նախարարություն | G22: =+G23 -> 8500
E23: Երերույքի տաճարի և փոքր դամաբարանի թաղերի ամրակայում | F23: «Պատմամշակութային արգելոց-թանգարանների և պատմական միջավայրի պահպանության ծառայություն» ՊՈԱԿ | G23: 8500
A24: 1196 | B24: Մարզերի մշակութային զարգացման ծրագիր | G24: =+G25 -> 2400
B25: 12001 | C25: Աջակցություն համայնքներին մշակութային հաստատությունների շենքային պայմանների բարելավման համար | G25: =+G27 -> 2400
D26: այդ թվում՝ ըստ ուղղությունների
F27: ՀՀ կրթության, գիտության, մշակույթի և սպորտի նախարարություն | G27: =+G28 -> 2400
E28: Անիպեմզայի մշակույթի տան վերականգնում և փոքրիկ թանգարանի ստեղծում | F28: «Պատմամշակութային արգելոց-թանգարանների և պատմական միջավայրի պահպանության ծառայություն» ՊՈԱԿ | G28: 2400

Sheet Havelvats 6
E1: Հավելված N 6
E2: ՀՀ կառավարության 2020 թվականի
E3: ______________ ի ___Ն որոշման
B5: ՀԱՅԱՍՏԱՆԻ ՀԱՆՐԱՊԵՏՈՒԹՅԱՆ ԿԱՌԱՎԱՐՈՒԹՅԱՆ 2019 ԹՎԱԿԱՆԻ ԴԵԿՏԵՄԲԵՐԻ 26-Ի N 1919-Ն ՈՐՈՇՄԱՆ N 9 ՀԱՎԵԼՎԱԾԻ N 9.14 և 9.47 ԱՂՅՈՒՍԱԿՆԵՐՈՒՄ ԿԱՏԱՐՎՈՂ ՓՈՓՈԽՈՒԹՅՈՒՆՆԵՐԸ ԵՎ ԼՐԱՑՈՒՄՆԵՐԸ
B8: ՀՀ Կրթության, գիտության, մշակույթի և սպորտի նախարարություն
B9: ՄԱՍ 2. ՊԵՏԱԿԱՆ ՄԱՐՄՆԻ ԳԾՈՎ ԱՐԴՅՈՒՆՔԱՅԻՆ (ԿԱՏԱՐՈՂԱԿԱՆ) ՑՈՒՑԱՆԻՇՆԵՐԸ
B10: Ծրագրի դասիչը | C10: Ծրագրի անվանումը | D10: Ցուցանիշների փոփոխությունը (նվազեցումները նշված են փակագծերում)
B11: 1148 | C11: Արտադպրոցական դաստիարակության ծրագիր
B12: Ծրագրի միջոցառումները
B13: Ծրագրի դասիչը՝ | C13: 1148
B14: Միջոցառման դասիչը՝ | C14: 11005 | D14: Առաջին կիսամյակ | E14: Ինն ամիս | F14: Տարի
B15: Միջոցառման անվանումը՝ | C15: Դպրոցականների ամառային հանգստի կազմակերպում և տրանսպորտային ծախսերի փոխհատուցում
B16: Նկարագրությունը՝ | C16: Զոհված, հաշմանդամ դարձած զինծառայողների և աշխարհազորայինների, ծնողազուրկ և սակավ ապահովված բազմազավակ ընտանիքների 7-13 տարեկան երեխաների ամառային հանգստի կազմակերպում և տրանսպորտային ծախսերի փոխհատուցում
B17: Միջոցառման տեսակը՝ | C17: Ծառայությունների մատուցում
B18: Ծառայությունը մատուցող կազմակերպության(ների) անվանում(ներ)ը՛ | C18: «Գնումների մասին» ՀՀ օրենքի համաձայն ընտրված կազմակերպություններ
B19: Արդյունքի չափորոշիչներ
B20: Ճամբարների թիվ, հատ | D20: (7) | E20: (7) | F20: (7)
B21: Ճամբարներում ամառային հանգիստ անցկացնող երեխաների թիվը, մարդ | D21: (4800) | E21: (4800) | F21: (4800)
B22: Տրանսպորտային փոխհատուցում ստացող երեխաների թիվը, մարդ | D22: (4680) | E22: (4680) | F22: (4680)
B23: Միջոցառման վրա կատարվող ծախսը (հազար դրամ) | D23: =+'Havelvats 1'!D21 -> -37080 | E23: =+'Havelvats 1'!E21 -> -41069.636 | F23: =+'Havelvats 1'!F21 -> -422500.48
B25: Ծրագրի դասիչը | C25: Ծրագրի անվանումը | D25: Ցուցանիշների փոփոխությունը (ավելացումները նշված են դրական նշանով)
B26: 1075 | C26: Մշակութային ժառանգության ծրագիր
B27: Ծրագրի միջոցառումները
B28: Ծրագրի դասիչը | C28: 1075
B29: Միջոցառման դասիչը՝ | C29: 12002 | D29: Առաջին կիսամյակ | E29: Ինն ամիս | F29: Տարի
B30: Միջոցառման անվանումը՝ | C30: Աջակցություն քանդակների,արձանների պատրաստման,տեղադրման և վերականգնման աշխատանքներին
B31: Նկարագրությունը՝ | C31: ժամանակակից արվեստի նմուշների գիտանախագծային փաստաթղթերի կազմում, ամրակայում, նորոգում և վերականգնում
B32: Միջոցառման տեսակը՝ | C32: Տրանսֆերտների տրամադրում
B33: Միջոցառումն իրականացնողի անվանումը | C33: Մասնագիտացված կազմակերպություններ
B34: Արդյունքի չափորոշիչներ
B35: Արտո Չաքմաքչյանի «Քայլող մարդը» քանդակի պատրաստում և տեղադրում, քանակ | D35: 1 | E35: 1 | F35: 1
B36: Միջոցառման վրա կատարվող ծախսը (հազար դրամ) | D36: =+'Havelvats 1'!D34 -> 37080 | E36: =+'Havelvats 1'!E34 -> 37080 | F36: =+'Havelvats 1'!F34 -> 37080
B37: Ծրագրի դասիչը | C37: Ծրագրի անվանումը
B38: 1075 | C38: Մշակութային ժառանգության ծրագիր | D38: Ցուցանիշների փոփոխությունը (ավելացումները նշված են դրական նշանով)
B39: Ծրագրի միջոցառումները
B40: Ծրագրի դասիչը՝ | C40: 1075
B41: Միջոցառման դասիչը՝ | C41: 12003 | D41: Առաջին կիսամյակ | E41: Ինն ամիս | F41: Տարի
B42: Միջոցառման անվանումը՝ | C42: Աջակցություն հուշարձանների ամրակայման, նորոգման և վերականգնման աշխատանքներին
B43: Նկարագրությունը՝ | C43: Աջակցություն հուշարձանների գիտանախագծային փաստաթղթերի կազմման, հրատապ ուսումնասիրման, վավերագրման և ուսումնասիրման, հետախուզման և հնագիտական պեղումների, ամրակայման, նորոգման և վերականգնման աշխատանքներին
B44: Միջոցառման տեսակը՝ | C44: Տրանսֆերտների տրամադրում
B45: Միջոցառումն իրականացնողի անվանումը | C45: Մասնագիտացված կազմակերպություն
B46: Արդյունքի չափորոշիչներ
B47: Երերույքի տաճարի և փոքր դամաբարանի թաղերի ամրակայում,քանակ | F47: 1
B48: Միջոցառման վրա կատարվող ծախսը (հազար դրամ) | D48: =+'Havelvats 1'!D40 -> 0 | E48: =+'Havelvats 1'!E40 -> 0 | F48: =+'Havelvats 1'!F40 -> 8500
B50: Ծրագրի դասիչը | C50: Ծրագրի անվանումը | D50: Ցուցանիշների փոփոխությունը (ավելացումները նշված են դրական նշանով)
B51: 1075 | C51: Մշակութային ժառանգության ծրագիր
B52: Ծրագրի միջոցառումները
B53: Ծրագրի դասիչը՝ | C53: 1075
B54: Միջոցառման դասիչը՝ | C54: 21001 | D54: Առաջին կիսամյակ | E54: Ինն ամիս | F54: Տարի
B55: Միջոցառման անվանումը՝ | C55: Հուշարձանների ամրակայում, նորոգում և վերականգնում
B56: Նկարագրությունը՝ | C56: Հուշարձանների գիտանախագծային փաստաթղթերի կազմում, հրատապ ուսումնասիրում, վավերագրման և ուսումնասիրման աշխատանքներ, հետախուզում և հնագիտական պեղում, ամրակայում, նորոգում և վերականգնում
B57: Միջոցառման տեսակը՝ | C57: Հանրության կողմից անմիջականորեն օգտագործվող ակտիվների հետ կապված միջոցառումներ
B58: Միջոցառումն իրականացնողի անվանումը | C58: Մասնագիտացված կազմակերպություն
B59: Արդյունքի չափորոշիչներ
B60: Հուշարձանների ուսումնասիրման (այդ թվում` հետախուզում և պեղում) և նախագծման, փորձաքննության աշխատանքներ, քանակ | F60: 3
B61: Հուշարձանների ամրակայման, նորոգման և վերականգնման աշխատանքներ, քանակ | E61: 2 | F61: 6
B62: Միջոցառման վրա կատարվող ծախսը (հազար դրամ) | D62: =+'Havelvats 1'!D46 -> 0 | E62: =+'Havelvats 1'!E46 -> 3989.636 | F62: =+'Havelvats 1'!F46 -> 289248.86
B64: Ծրագրի դասիչը | C64: Ծրագրի անվանումը | D64: Ցուցանիշների փոփոխությունը (ավելացումները նշված են դրական նշանով)
B65: 1075 | C65: Մշակութային ժառանգության ծրագիր
B66: Ծրագրի միջոցառումները
B67: Ծրագրի դասիչը | C67: 1075
B68: Միջոցառման դասիչը՝ | C68: 21003 | D68: Առաջին կիսամյակ | E68: Ինն ամիս | F68: Տարի
B69: Միջոցառման անվանումը՝ | C69: Քանդակների պատրաստման և տեղադրման աշխատանքներ
B70: Նկարագրությունը՝ | C70: Ժամանակակից արվեստի նմուշների ստեղծում, քանդակների պատրաստում և տեղադրում
B71: Միջոցառման տեսակը՝ | C71: Հանրության կողմից անմիջականորեն օգտագործվող ակտիվների հետ կապված միջոցառումներ
B72: Միջոցառումն իրականացնողի անվանումը | C72: Մասնագիտացված կազմակերպություններ
B73: Արդյունքի չափորոշիչներ
B74: «ԼՈՌԵՑԻ ՍԱՔՈ» քանդակի վերականգնում, տեղափոխում և տարածքի բարեկարգում, քանակ | F74: 1
B75: Միջոցառման վրա կատարվող ծախսը (հազար դրամ) | D75: =+'Havelvats 1'!D52 -> 0 | E75: =+'Havelvats 1'!E52 -> 0 | F75: =+'Havelvats 1'!F52 -> 8387.975
B77: Ծրագրի դասիչը | C77: Ծրագրի անվանումը | D77: Ցուցանիշների փոփոխությունը (ավելացումները նշված են դրական նշանով)
B78: 1075 | C78: Մշակութային ժառանգության ծրագիր
B79: Ծրագրի միջոցառումները
B80: Ծրագրի դասիչը | C80: 1075
B81: Միջոցառման դասիչը՝ | C81: 21004 | D81: Առաջին կիսամյակ | E81: Ինն ամիս | F81: Տարի
B82: Միջոցառման անվանումը՝ | C82: Արձանների պատրաստման, նորոգման, վերականգնման և տեղադրման աշխատանքներ
B83: Նկարագրությունը՝ | C83: Արձանների պատրաստում, նորոգում և վերականգնում, տեղադրում, գիտանախագծային փաստաթղթերի կազմում,
B84: Միջոցառման տեսակը՝ | C84: Հանրության կողմից անմիջականորեն օգտագործվող ակտիվների հետ կապված միջոցառումներ
B85: Միջոցառումն իրականացնողի անվանումը | C85: Մասնագիտացված կազմակերպություններ
B86: Արդյունքի չափորոշիչներ
B87: Բյուրեղավանի համայնքի «Արձագանք» արձանի վերականգնում, քանակ | F87: 1
B88: Միջոցառման վրա կատարվող ծախսը (հազար դրամ) | D88: =+'Havelvats 1'!D58 -> 0 | E88: =+'Havelvats 1'!E58 -> 0 | F88: =+'Havelvats 1'!F58 -> 76883.641
B90: Ծրագրի դասիչը | C90: Ծրագրի անվանումը
B91: 1196 | C91: Մարզերի մշակութային զարգացման ծրագի
B92: Ծրագրի միջոցառումները
B93: Ծրագրի դասիչը՝ | C93: 1196 | D93: Ցուցանիշների փոփոխությունը (ավելացումները նշված են դրական նշանով)
B94: Միջոցառման դասիչը՝ | C94: 12001 | D94: Առաջին կիսամյակ | E94: Ինն ամիս | F94: Տարի
B95: Միջոցառման անվանումը՝ | C95: Աջակցություն համայնքներին մշակութային հաստատությունների շենքային պայմանների բարելավման համար
B96: Նկարագրությունը՝ | C96: Համայնքային ենթակայության մշակույթի տների՝ ակումբների և կենտրոնների հիմնանորոգում՝ կառուցում և նախագծում
B97: Միջոցառման տեսակը՝ | C97: Տրանսֆերտների տրամադրման միջոցառումներ
B98: Շահառուների ընտրության չափանիշները | C98: ՀՀ համայնքների ենթակայության մշակութային հաստատությունների շենքային պայմանների բարելավման անհրաժեշտությունը
B99: Արդյունքի չափորոշիչներ
B100: Համայնքներ, որտեղ կատարվում են ներդրումներ, թիվ | F100: 1
B101: Աշխատանքների ավարտվածության աստիճանը, % | F101: 100
B102: Միջոցառման վրա կատարվող ծախսը (հազար դրամ) | D102: =+'Havelvats 1'!D71 -> 0 | E102: =+'Havelvats 1'!E71 -> 0 | F102: =+'Havelvats 1'!F71 -> 2400
C106: ՀՀ կառավարություն
B107: ՄԱՍ 2. ՊԵՏԱԿԱՆ ՄԱՐՄՆԻ ԳԾՈՎ ԱՐԴՅՈՒՆՔԱՅԻՆ (ԿԱՏԱՐՈՂԱԿԱՆ) ՑՈՒՑԱՆԻՇՆԵՐԸ
B110: Ծրագրի դասիչը | C110: Ծրագրի անվանումը
B111: 1139 | C111: ՀՀ կառավարության պահուստային ֆոնդ
B112: Ծրագրի միջոցառումները
B113: Ծրագրի դասիչը՝ | C113: 1139 | D113: Ցուցանիշների փոփոխությունը (ավելացումները նշված են դրական նշանով, իսկ նվազեցումները՝ փակագծերում)
...

Sheet Havelvats 7
E1: Հավելված N 7
E2: ՀՀ կառավարության 2020 թվականի
E3: ______________ ի ___Ն որոշման
B5: ՀԱՅԱՍՏԱՆԻ ՀԱՆՐԱՊԵՏՈՒԹՅԱՆ ԿԱՌԱՎԱՐՈՒԹՅԱՆ 2019 ԹՎԱԿԱՆԻ ԴԵԿՏԵՄԲԵՐԻ 26-Ի N 1919-Ն ՈՐՈՇՄԱՆ N 9.1 ՀԱՎԵԼՎԱԾԻ N 9.1.14 և 9.1.58 ԱՂՅՈՒՍԱԿՆԵՐՈՒՄ ԿԱՏԱՐՎՈՂ ՓՈՓՈԽՈՒԹՅՈՒՆՆԵՐԸ ԵՎ ԼՐԱՑՈՒՄՆԵՐԸ
B8: ՀՀ Կրթության, գիտության, մշակույթի և սպորտի նախարարություն
B9: ՄԱՍ 2. ՊԵՏԱԿԱՆ ՄԱՐՄՆԻ ԳԾՈՎ ԱՐԴՅՈՒՆՔԱՅԻՆ (ԿԱՏԱՐՈՂԱԿԱՆ) ՑՈՒՑԱՆԻՇՆԵՐԸ
B10: Ծրագրի դասիչը | C10: Ծրագրի անվանումը | D10: Ցուցանիշների փոփոխությունը (նվազեցումները նշված են փակագծերում)
B11: 1148 | C11: Արտադպրոցական դաստիարակության ծրագիր
B12: Ծրագրի միջոցառումները
B13: Ծրագրի դասիչը՝ | C13: 1148
B14: Միջոցառման դասիչը՝ | C14: 11005 | D14: Առաջին կիսամյակ | E14: Ինն ամիս | F14: Տարի
B15: Միջոցառման անվանումը՝ | C15: Դպրոցականների ամառային հանգստի կազմակերպում և տրանսպորտային ծախսերի փոխհատուցում
B16: Նկարագրությունը՝ | C16: Զոհված, հաշմանդամ դարձած զինծառայողների և աշխարհազորայինների, ծնողազուրկ և սակավ ապահովված բազմազավակ ընտանիքների 7-13 տարեկան երեխաների ամառային հանգստի կազմակերպում և տրանսպորտային ծախսերի փոխհատուցում
B17: Միջոցառման տեսակը՝ | C17: Ծառայությունների մատուցում
B18: Ծառայությունը մատուցող կազմակերպության(ների) անվանում(ներ)ը՛ | C18: «Գնումների մասին» ՀՀ օրենքի համաձայն ընտրված կազմակերպություններ
B19: Արդյունքի չափորոշիչներ
B20: Ճամբարների թիվ, հատ | D20: (7) | E20: (7) | F20: (7)
B21: Ճամբարներում ամառային հանգիստ անցկացնող երեխաների թիվը, մարդ | D21: (4800) | E21: (4800) | F21: (4800)
B22: Տրանսպորտային փոխհատուցում ստացող երեխաների թիվը, մարդ | D22: (4680) | E22: (4680) | F22: (4680)
B23: Միջոցառման վրա կատարվող ծախսը (հազար դրամ) | D23: =+'Havelvats 6'!D23 -> -37080 | E23: =+'Havelvats 6'!E23 -> -41069.636 | F23: =+'Havelvats 6'!F23 -> -422500.48
B25: Ծրագրի դասիչը | C25: Ծրագրի անվանումը | D25: Ցուցանիշների փոփոխությունը (ավելացումները նշված են դրական նշանով)
B26: 1075 | C26: Մշակութային ժառանգության ծրագիր
B27: Ծրագրի միջոցառումները
B28: Ծրագրի դասիչը | C28: 1075
B29: Միջոցառման դասիչը՝ | C29: 12002 | D29: Առաջին կիսամյակ | E29: Ինն ամիս | F29: Տարի
B30: Միջոցառման անվանումը՝ | C30: Աջակցություն քանդակների,արձանների պատրաստման,տեղադրման և վերականգնման աշխատանքներին
B31: Նկարագրությունը՝ | C31: ժամանակակից արվեստի նմուշների գիտանախագծային փաստաթղթերի կազմում, ամրակայում, նորոգում և վերականգնում
B32: Միջոցառման տեսակը՝ | C32: Տրանսֆերտների տրամադրում
B33: Միջոցառումն իրականացնողի անվանումը | C33: Մասնագիտացված կազմակերպություններ
B34: Արդյունքի չափորոշիչներ
B35: Արտո Չաքմաքչյանի «Քայլող մարդը» քանդակի պատրաստում և տեղադրում, քանակ | D35: 1 | E35: 1 | F35: 1
B36: Միջոցառման վրա կատարվող ծախսը (հազար դրամ) | D36: =+'Havelvats 6'!D36 -> 37080 | E36: =+'Havelvats 6'!E36 -> 37080 | F36: =+'Havelvats 6'!F36 -> 37080
B37: Ծրագրի դասիչը | C37: Ծրագրի անվանումը
B38: 1075 | C38: Մշակութային ժառանգության ծրագիր | D38: Ցուցանիշների փոփոխությունը (ավելացումները նշված են դրական նշանով)
B39: Ծրագրի միջոցառումները
B40: Ծրագրի դասիչը՝ | C40: 1075
B41: Միջոցառման դասիչը՝ | C41: 12003 | D41: Առաջին կիսամյակ | E41: Ինն ամիս | F41: Տարի
B42: Միջոցառման անվանումը՝ | C42: Աջակցություն հուշարձանների ամրակայման, նորոգման և վերականգնման աշխատանքներին
B43: Նկարագրությունը՝ | C43: Աջակցություն հուշարձանների գիտանախագծային փաստաթղթերի կազմման, հրատապ ուսումնասիրման, վավերագրման և ուսումնասիրման, հետախուզման և հնագիտական պեղումների, ամրակայման, նորոգման և վերականգնման աշխատանքներին
B44: Միջոցառման տեսակը՝ | C44: Տրանսֆերտների տրամադրում
B45: Միջոցառումն իրականացնողի անվանումը | C45: Մասնագիտացված կազմակերպություն
B46: Արդյունքի չափորոշիչներ
B47: Երերույքի տաճարի և փոքր դամաբարանի թաղերի ամրակայում,քանակ | F47: 1
B48: Միջոցառման վրա կատարվող ծախսը (հազար դրամ) | D48: =+'Havelvats 6'!D48 -> 0 | E48: =+'Havelvats 6'!E48 -> 0 | F48: =+'Havelvats 6'!F48 -> 8500
B50: Ծրագրի դասիչը | C50: Ծրագրի անվանումը | D50: Ցուցանիշների փոփոխությունը (ավելացումները նշված են դրական նշանով)
B51: 1075 | C51: Մշակութային ժառանգության ծրագիր
B52: Ծրագրի միջոցառումները
B53: Ծրագրի դասիչը՝ | C53: 1075
B54: Միջոցառման դասիչը՝ | C54: 21001 | D54: Առաջին կիսամյակ | E54: Ինն ամիս | F54: Տարի
B55: Միջոցառման անվանումը՝ | C55: Հուշարձանների ամրակայում, նորոգում և վերականգնում
B56: Նկարագրությունը՝ | C56: Հուշարձանների գիտանախագծային փաստաթղթերի կազմում, հրատապ ուսումնասիրում, վավերագրման և ուսումնասիրման աշխատանքներ, հետախուզում և հնագիտական պեղում, ամրակայում, նորոգում և վերականգնում
B57: Միջոցառման տեսակը՝ | C57: Հանրության կողմից անմիջականորեն օգտագործվող ակտիվների հետ կապված միջոցառումներ
B58: Միջոցառումն իրականացնողի անվանումը | C58: Մասնագիտացված կազմակերպություն
B59: Արդյունքի չափորոշիչներ
B60: Հուշարձանների ուսումնասիրման (այդ թվում` հետախուզում և պեղում) և նախագծման, փորձաքննության աշխատանքներ, քանակ | F60: 3
B61: Հուշարձանների ամրակայման, նորոգման և վերականգնման աշխատանքներ, քանակ | E61: 2 | F61: 6
B62: Միջոցառման վրա կատարվող ծախսը (հազար դրամ) | D62: =+'Havelvats 6'!D62 -> 0 | E62: =+'Havelvats 6'!E62 -> 3989.636 | F62: =+'Havelvats 6'!F62 -> 289248.86
B64: Ծրագրի դասիչը | C64: Ծրագրի անվանումը | D64: Ցուցանիշների փոփոխությունը (ավելացումները նշված են դրական նշանով)
B65: 1075 | C65: Մշակութային ժառանգության ծրագիր
B66: Ծրագրի միջոցառումները
B67: Ծրագրի դասիչը | C67: 1075
B68: Միջոցառման դասիչը՝ | C68: 21003 | D68: Առաջին կիսամյակ | E68: Ինն ամիս | F68: Տարի
B69: Միջոցառման անվանումը՝ | C69: Քանդակների պատրաստման և տեղադրման աշխատանքներ
B70: Նկարագրությունը՝ | C70: Ժամանակակից արվեստի նմուշների ստեղծում, քանդակների պատրաստում և տեղադրում
B71: Միջոցառման տեսակը՝ | C71: Հանրության կողմից անմիջականորեն օգտագործվող ակտիվների հետ կապված միջոցառումներ
B72: Միջոցառումն իրականացնողի անվանումը | C72: Մասնագիտացված կազմակերպություններ
B73: Արդյունքի չափորոշիչներ
B74: «ԼՈՌԵՑԻ ՍԱՔՈ» քանդակի վերականգնում, տեղափոխում և տարածքի բարեկարգում, քանակ | F74: 1
B75: Միջոցառման վրա կատարվող ծախսը (հազար դրամ) | D75: =+'Havelvats 6'!D75 -> 0 | E75: =+'Havelvats 6'!E75 -> 0 | F75: =+'Havelvats 6'!F75 -> 8387.975
B77: Ծրագրի դասիչը | C77: Ծրագրի անվանումը | D77: Ցուցանիշների փոփոխությունը (ավելացումները նշված են դրական նշանով)
B78: 1075 | C78: Մշակութային ժառանգության ծրագիր
B79: Ծրագրի միջոցառումները
B80: Ծրագրի դասիչը | C80: 1075
B81: Միջոցառման դասիչը՝ | C81: 21004 | D81: Առաջին կիսամյակ | E81: Ինն ամիս | F81: Տարի
B82: Միջոցառման անվանումը՝ | C82: Արձանների պատրաստման, նորոգման, վերականգնման և տեղադրման աշխատանքներ
B83: Նկարագրությունը՝ | C83: Արձանների պատրաստում, նորոգում և վերականգնում, տեղադրում, գիտանախագծային փաստաթղթերի կազմում,
B84: Միջոցառման տեսակը՝ | C84: Հանրության կողմից անմիջականորեն օգտագործվող ակտիվների հետ կապված միջոցառումներ
B85: Միջոցառումն իրականացնողի անվանումը | C85: Մասնագիտացված կազմակերպություններ
B86: Արդյունքի չափորոշիչներ
B87: Բյուրեղավանի համայնքի «Արձագանք» արձանի վերականգնում, քանակ | F87: 1
B88: Միջոցառման վրա կատարվող ծախսը (հազար դրամ) | D88: =+'Havelvats 6'!D88 -> 0 | E88: =+'Havelvats 6'!E88 -> 0 | F88: =+'Havelvats 6'!F88 -> 76883.641
B90: Ծրագրի դասիչը | C90: Ծրագրի անվանումը
B91: 1196 | C91: Մարզերի մշակութային զարգացման ծրագի
B92: Ծրագրի միջոցառումները
B93: Ծրագրի դասիչը՝ | C93: 1196 | D93: Ցուցանիշների փոփոխությունը (ավելացումները նշված են դրական նշանով)
B94: Միջոցառման դասիչը՝ | C94: 12001 | D94: Առաջին կիսամյակ | E94: Ինն ամիս | F94: Տարի
B95: Միջոցառման անվանումը՝ | C95: Աջակցություն համայնքներին մշակութային հաստատությունների շենքային պայմանների բարելավման համար
B96: Նկարագրությունը՝ | C96: Համայնքային ենթակայության մշակույթի տների՝ ակումբների և կենտրոնների հիմնանորոգում՝ կառուցում և նախագծում
B97: Միջոցառման տեսակը՝ | C97: Տրանսֆերտների տրամադրման միջոցառումներ
B98: Շահառուների ընտրության չափանիշները | C98: ՀՀ համայնքների ենթակայության մշակութային հաստատությունների շենքային պայմանների բարելավման անհրաժեշտությունը
B99: Արդյունքի չափորոշիչներ
B100: Համայնքներ, որտեղ կատարվում են ներդրումներ, թիվ | F100: 1
B101: Աշխատանքների ավարտվածության աստիճանը, % | F101: 100
B102: Միջոցառման վրա կատարվող ծախսը (հազար դրամ) | D102: =+'Havelvats 6'!D102 -> 0 | E102: =+'Havelvats 6'!E102 -> 0 | F102: =+'Havelvats 6'!F102 -> 2400
A105: Աղյուսակ 9․1.58
C106: ՀՀ կառավարություն
B107: ՄԱՍ 2. ՊԵՏԱԿԱՆ ՄԱՐՄՆԻ ԳԾՈՎ ԱՐԴՅՈՒՆՔԱՅԻՆ (ԿԱՏԱՐՈՂԱԿԱՆ) ՑՈՒՑԱՆԻՇՆԵՐԸ
B110: Ծրագրի դասիչը | C110: Ծրագրի անվանումը
B111: 1139 | C111: ՀՀ կառավարության պահուստային ֆոնդ
B112: Ծրագրի միջոցառումները
...

Sheet Havelvats 8
I1: Հավելված N 8
I2: ՀՀ կառավարության 2020 թվականի
I3: ______________ ի ___Ն որոշման
A5: ՀԱՅԱՍՏԱՆԻ ՀԱՆՐԱՊԵՏՈՒԹՅԱՆ ԿԱՌԱՎԱՐՈՒԹՅԱՆ 2019 ԹՎԱԿԱՆԻ ԴԵԿՏԵՄԲԵՐԻ 26-Ի N 1919-Ն ՈՐՈՇՄԱՆ N 10 ՀԱՎԵԼՎԱԾՈՒՄ ԿԱՏԱՐՎՈՂ ՓՈՓՈԽՈՒԹՅՈՒՆՆԵՐԸ ԵՎ ԼՐԱՑՈՒՄՆԵՐԸ
A7: Կոդը | B7: Անվանումը | E7: Գնման ձևը | F7: Չափման միավորը | G7: Միավորի գինը | I7: Քանակը | J7: Ցուցանիշների փոփոխությունը (ավելացումները նշված են դրական նշանով, իսկ նվազեցումները` փակագծերում)
J8: Գումարը (հազար դրամ)
A10: 1 | B10: 2 | E10: 3 | F10: 4 | G10: 5 | I10: 6 | J10: 7
A11: ՀՀ կրթության, գիտության, մշակույթի և սպորտի նախարարություն | J11: =+J12 -> 374520.48
A12: Բաժին N 08 | B12: Խումբ N 02 | C12: Դաս N 07 | D12: Հուշարձանների և մշակութային արժեքների վերականգնում և պահպանում | J12: =+J13+J40+J46 -> 374520.48
A13: 1075-21001 | B13: Հուշարձանների ամրակայում, նորոգում և վերականգնում | J13: =+J14+J21 -> 289248.86
B14: ՄԱՍ II. ԱՇԽԱՏԱՆՔՆԵՐ | J14: =SUM(J15:J20) -> 238708.11
A15: 45451600 | B15: վերականգնողական աշխատանքներ | E15: ԳՀ | F15: դրամ | H15: 19240000 | I15: 1 | J15: =+H15/1000 -> 19240
A16: 45451600 | B16: վերականգնողական աշխատանքներ | E16: ԳՀ | F16: դրամ | G16: 16328300 | H16: 1552554 | I16: 1 | J16: =+H16/1000 -> 1552.554
A17: 45451600 | B17: վերականգնողական աշխատանքներ | E17: ԳՀ | F17: դրամ | G17: 6064800 | H17: 9343091 | I17: 1 | J17: =+H17/1000 -> 9343.091
A18: 45451600 | B18: վերականգնողական աշխատանքներ | E18: ԳՀ | F18: դրամ | G18: 2101000 | H18: 2265280 | I18: 1 | J18: =+H18/1000 -> 2265.28
A19: 45451600 | B19: վերականգնողական աշխատանքներ | E19: ԳՀ | F19: դրամ | G19: 1261000 | H19: 32261548 | I19: 1 | J19: =+H19/1000 -> 32261.548
A20: 45451600 | B20: վերականգնողական աշխատանքներ | E20: ՀԲՄ | F20: դրամ | G20: 16328300 | H20: 174045640 | I20: 1 | J20: =+H20/1000 -> 174045.64
B21: ՄԱՍ III. ԾԱՌԱՅՈՒԹՅՈՒՆՆԵՐ | J21: =SUM(J22:J39) -> 50540.751
A22: 71241200 | B22: նախագծերի պատրաստում, ծախսերի գնահատում | E22: ԳՀ | F22: դրամ | G22: 16328300 | H22: 7998880 | I22: 1 | J22: =+H22/1000 -> 7998.88
A23: 71241200 | B23: նախագծերի պատրաստում, ծախսերի գնահատում | E23: ԳՀ | F23: դրամ | G23: 16328300 | H23: 18553760 | I23: 1 | J23: =+H23/1000 -> 18553.76
A24: 71241200 | B24: նախագծերի պատրաստում, ծախսերի գնահատում | E24: ԳՀ | F24: դրամ | G24: 6064800 | H24: 17900000 | I24: 1 | J24: =+H24/1000 -> 17900
A25: 50531140 | B25: փորձաքննության ծառայություններ | E25: ԳՀ | F25: դրամ | G25: 16328300 | H25: 384000 | I25: 1 | J25: =+H25/1000 -> 384
A26: 50531140 | B26: փորձաքննության ծառայություններ | E26: ԳՀ | F26: դրամ | G26: 16328300 | H26: 819200 | I26: 1 | J26: =+H26/1000 -> 819.2
A27: 50531140 | B27: փորձաքննության ծառայություններ | E27: ԳՀ | F27: դրամ | G27: 6064800 | H27: 1253000 | I27: 1 | J27: =+H27/1000 -> 1253
A28: 71351540 | B28: տեխնիկական հսկողության ծառայություններ | E28: ԳՀ | F28: դրամ | G28: 2101000 | H28: 141000 | I28: 1 | J28: =+H28/1000 -> 141
A29: 98111140 | B29: հեղինակային հսկողության ծառայություններ | E29: ՄԱ | F29: դրամ | G29: 1261000 | H29: 94000 | I29: 1 | J29: =+H29/1000 -> 94
A30: 71351540 | B30: տեխնիկական հսկողության ծառայություններ | E30: ԳՀ | F30: դրամ | G30: 2101000 | H30: 46577 | I30: 1 | J30: =+H30/1000 -> 46.577
A31: 98111140 | B31: հեղինակային հսկողության ծառայություններ | E31: ՄԱ | F31: դրամ | G31: 1261000 | H31: 23288 | I31: 1 | J31: =+H31/1000 -> 23.288
A32: 71351540 | B32: տեխնիկական հսկողության ծառայություններ | E32: ԳՀ | F32: դրամ | G32: 2101000 | H32: 280293 | I32: 1 | J32: =+H32/1000 -> 280.293
A33: 98111140 | B33: հեղինակային հսկողության ծառայություններ | E33: ՄԱ | F33: դրամ | G33: 1261000 | H33: 140146 | I33: 1 | J33: =+H33/1000 -> 140.146
... A39: 98111140 | B39: հեղինակային հսկողության ծառայություններ | E39: ՄԱ | F39: դրամ | G39: 1261000 | H39: 870228 | I39: 1 | J39: =+H39/1000 -> 870.228
A40: 1075-21003 | B40: Քանդակների պատրաստման և տեղադրման աշխատանքներ | J40: =+J41+J43 -> 8387.975
B41: ՄԱՍ II. ԱՇԽԱՏԱՆՔՆԵՐ | J41: =+J42 -> 8026.77
A42: 45451600 | B42: վերականգնողական աշխատանքներ | E42: ԳՀ | F42: դրամ | G42: 6064800 | H42: 8026770 | I42: 1 | J42: =+H42/1000 -> 8026.77
B43: ՄԱՍ III. ԾԱՌԱՅՈՒԹՅՈՒՆՆԵՐ | J43: =SUM(J44:J45) -> 361.205
A44: 71351540 | B44: տեխնիկական հսկողության ծառայություններ | E44: ԳՀ | F44: դրամ | G44: 2101000 | H44: 240803 | I44: 1 | J44: =+H44/1000 -> 240.803
A45: 98111140 | B45: հեղինակային հսկողության ծառայություններ | E45: ՄԱ | F45: դրամ | G45: 1261000 | H45: 120402 | I45: 1 | J45: =+H45/1000 -> 120.402
A46: 1075-21004 | B46: Արձանների պատրաստման, նորոգման, վերականգնման և տեղադրման աշխատանքներ | J46: =+J47+J49 -> 76883.641
B47: ՄԱՍ II. ԱՇԽԱՏԱՆՔՆԵՐ | J47: =+J48 -> 74862.358
A48: 45451600 | B48: վերականգնողական աշխատանքներ | E48: ՀԲՄ | F48: դրամ | G48: 6064800 | H48: 74862358 | I48: 1 | J48: =+H48/1000 -> 74862.358
B49: ՄԱՍ III. ԾԱՌԱՅՈՒԹՅՈՒՆՆԵՐ | J49: =+J50+J51 -> 2021.283
A50: 71351540 | B50: տեխնիկական հսկողության ծառայություններ | E50: ԳՀ | F50: դրամ | G50: 2101000 | H50: 1122935 | I50: 1 | J50: =+H50/1000 -> 1122.935
A51: 98111140 | B51: հեղինակային հսկողության ծառայություններ | E51: ՄԱ | F51: դրամ | G51: 1261000 | H51: 898348 | I51: 1 | J51: =+H51/1000 -> 898.348

Sheet Havelvats 9
C1: Հավելված N 9
C2: ՀՀ կառավարության 2020 թվականի
C3: ______________ ի ___Ն որոշման
A6: «ՀԱՅԱUՏԱՆԻ ՀԱՆՐԱՊԵՏՈՒԹՅԱՆ 2020 ԹՎԱԿԱՆԻ ՊԵՏԱԿԱՆ ԲՅՈՒՋԵԻ ՄԱUԻՆ» ՀԱՅԱUՏԱՆԻ ՀԱՆՐԱՊԵՏՈՒԹՅԱՆ OՐԵՆՔԻ N 6 ՀԱՎԵԼՎԱԾԻ N 1 ԱՂՅՈՒՍԱԿՈՒՄ ԿԱՏԱՐՎՈՂ ՓՈՓՈԽՈՒԹՅՈՒՆՆԵՐԸ
C7: հազար դրամներով
A8: Ծրագրային դասիչ | C8: Բյուջետային գլխավոր կարգադրիչների, ծրագրերի, միջոցառումների և ուղղությունների անվանումները | D8: Ընդամենը
A9: Ծրագիր | B9: Միջոցառում
C10: ԸՆԴԱՄԵՆԸ | D10: =+D12 -> -188400
C11: այդ թվում՝
C12: ՀՀ ԿՐԹՈՒԹՅԱՆ, ԳԻՏՈՒԹՅԱՆ, ՄՇԱԿՈՒՅԹԻ ԵՎ ՍՊՈՐՏԻ ՆԱԽԱՐԱՐՈՒԹՅՈՒՆ | D12: =+D14+D15 -> -188400
C13: այդ թվում`
A14: 1075 | B14: 21001 | C14: Հուշարձանների ամրակայում, նորոգում և վերականգնում | D14: -186000
A15: 1196 | B15: 12001 | C15: Աջակցություն համայնքներին մշակութային հաստատությունների շենքային պայմանների բարելավման համար | D15: =-'Havelvats 1'!F64 -> -2400

Sheet Havelvats 10
G1: Հավելված N 10
G2: ՀՀ կառավարության 2020 թվականի
G3: ______________ ի ___Ն որոշման
A6: ՀԱՅԱՍՏԱՆԻ ՀԱՆՐԱՊԵՏՈՒԹՅԱՆ 2020 ԹՎԱԿԱՆԻ ՊԵՏԱԿԱՆ ԲՅՈՒՋԵՈՎ ՆԱԽԱՏԵՍՎԱԾ՝ ՀԱՅԱՍՏԱՆԻ ՀԱՆՐԱՊԵՏՈՒԹՅԱՆ ԿԱՌԱՎԱՐՈՒԹՅԱՆ ՊԱՀՈՒՍՏԱՅԻՆ ՖՈՆԴԻՑ ՀԱՏԿԱՑՈՒՄՆԵՐ ԿԱՏԱՐԵԼՈՒ ՎԵՐԱԲԵՐՅԱԼ
H8: հազ. դրամներով
A9: Գործառական դասիչը | D9: Ծրագրային դասիչը | F9: Բյուջետային հատկացումների գլխավոր կարգադրիչների, ծրագրերի, միջոցառումների և միջոցառումները կատարող պետական մարմինների անվանումները | G9: Ցուցանիշների փոփոխությունը (ավելացումները նշված են դրական նշանով, իսկ նվազեցումները՝ փակագծերում)
A10: Բաժին | B10: Խումբ | C10: Դաս | D10: Ծրագիր | E10: Միջոցառում | G10: Առաջին կիսամյակ | H10: Ինն ամիս | I10: Տարի
F11: ԸՆԴԱՄԵՆԸ | G11: =+G13+G32 -> 0 | H11: =+H13+H32 -> 0 | I11: =+I13+I32 -> 0
F12: այդ թվում
F13: ՀՀ կառավարություն | G13: =+G14 -> -37080 | H13: =+H14 -> -37080 | I13: =+I14 -> -124863.64
A14: 11 | F14: ՀԻՄՆԱԿԱՆ ԲԱԺԻՆՆԵՐԻՆ ՉԴԱՍՎՈՂ ՊԱՀՈՒՍՏԱՅԻՆ ՖՈՆԴԵՐ | G14: =+G16 -> -37080 | H14: =+H16 -> -37080 | I14: =+I16 -> -124863.64
F15: այդ թվում`
B16: 01 | F16: ՀՀ կառավարության և համայնքների պահուստային ֆոնդ | G16: =+G18 -> -37080 | H16: =+H18 -> -37080 | I16: =+I18 -> -124863.64
F17: այդ թվում`
C18: 01 | F18: ՀՀ կառավարության պահուստային ֆոնդ | G18: =+G20 -> -37080 | H18: =+H20 -> -37080 | I18: =+I20 -> -124863.64
F19: այդ թվում`
F20: ՀՀ կառավարություն | G20: =+G22 -> -37080 | H20: =+H22 -> -37080 | I20: =+I22 -> -124863.64
F21: այդ թվում`
D22: 1139 | E22: ՀՀ կառավարության պահուստային ֆոնդ | F22: ՀՀ կառավարության պահուստային ֆոնդ | G22: =+G24 -> -37080 | H22: =+H24 -> -37080 | I22: =+I24 -> -124863.64
F23: այդ թվում`
E24: 11001 | F24: ՀՀ կառավարության պահուստային ֆոնդ | G24: =+G26 -> -37080 | H24: =+H26 -> -37080 | I24: =+I26 -> -124863.64
F25: այդ թվում` ըստ կատարողների
F26: ՀՀ կառավարություն | G26: =+G28 -> -37080 | H26: =+H28 -> -37080 | I26: =+I28 -> -124863.64
F27: այդ թվում` բյուջետային ծախսերի տնտեսագիտական դասակարգման հոդվածներ
F28: ԸՆԴԱՄԵՆԸ ԾԱԽՍԵՐ | G28: =+G29 -> -37080 | H28: =+H29 -> -37080 | I28: =+I29 -> -124863.64
F29: ԸՆԹԱՑԻԿ ԾԱԽՍԵՐ | G29: =+G30 -> -37080 | H29: =+H30 -> -37080 | I29: =+I30 -> -124863.64
F30: ԱՅԼ ԾԱԽՍԵՐ | G30: =+G31 -> -37080 | H30: =+H31 -> -37080 | I30: =+I31 -> -124863.64
F31: Պահուստային միջոցներ | G31: =+'Havelvats 2'!G130 -> -37080 | H31: =+'Havelvats 2'!H130 -> -37080 | I31: =+'Havelvats 2'!I130 -> -124863.64
F32: ՀՀ կրթության, գիտության, մշակույթի և սպորտի նախարարություն | G32: =+G33 -> 37080 | H32: =+H33 -> 37080 | I32: =+I33 -> 124863.64
A33: 08 | F33: ՀԱՆԳԻՍՏ, ՄՇԱԿՈՒՅԹ ԵՎ ԿՐՈՆ | G33: =G35 -> 37080 | H33: =H35 -> 37080 | I33: =I35 -> 124863.64
F34: այդ թվում`
B35: 02 | F35: Մշակութային ծառայություններ | G35: =+G37+G52 -> 37080 | H35: =+H37+H52 -> 37080 | I35: =+I37+I52 -> 124863.64
F36: այդ թվում`
C37: 03 | F37: Մշակույթի տներ, ակումբներ, կենտրոններ | G37: =+G39 -> 0 | H37: =+H39 -> 0 | I37: =+I39 -> 2400
F38: այդ թվում`
F39: ՀՀ կրթության, գիտության, մշակույթի և սպորտի նախարարություն | G39: =+G41 -> 0 | H39: =+H41 -> 0 | I39: =+I41 -> 2400
F40: այդ թվում`
D41: 1196 | E41: Մարզերի մշակութային զարգացման ծրագիր | G41: =+G43 -> 0 | H41: =+H43 -> 0 | I41: =+I43 -> 2400
F42: այդ թվում`
E43: 12001 | F43: Աջակցություն համայնքներին մշակութային հաստատությունների շենքային պայմանների բարելավման համար | G43: =G45 -> 0 | H43: =H45 -> 0 | I43: =I45 -> 2400
F44: այդ թվում`ըստ կատարողների
F45: ՀՀ կրթության, գիտության, մշակույթի և սպորտի նախարարություն | G45: =G47 -> 0 | H45: =H47 -> 0 | I45: =I47 -> 2400
F46: այդ թվում`բյուջետային ծախսերի տնտեսագիտական դասակարգման հոդվածներ
F47: ԸՆԴԱՄԵՆԸ ԾԱԽՍԵՐ | G47: =+G48 -> 0 | H47: =+H48 -> 0 | I47: =+I48 -> 2400
F48: ԸՆԹԱՑԻԿ ԾԱԽՍԵՐ | G48: =+G49 -> 0 | H48: =+H49 -> 0 | I48: =+I49 -> 2400
F49: ԴՐԱՄԱՄԱՇՆՈՐՆԵՐ | G49: =G50 -> 0 | H49: =H50 -> 0 | I49: =I50 -> 2400
F50: Կապիտալ դրամաշնորհներ պետական հատվածի այլ մակարդակներին | G50: =G51 -> 0 | H50: =H51 -> 0 | I50: =I51 -> 2400
F51: - Կապիտալ դրամաշնորհներ պետական և համայնքային ոչ առևտրային կազմակերպություններին | G51: =+'Havelvats 2'!G49 -> 0 | H51: =+'Havelvats 2'!H49 -> 0 | I51: =+'Havelvats 2'!I49 -> 2400
C52: 07 | F52: Հուշարձանների և մշակութային արժեքների վերականգնում և պահպանում | G52: =+G54 -> 37080 | H52: =+H54 -> 37080 | I52: =+I54 -> 122463.64
F53: այդ թվում`
F54: ՀՀ կրթության, գիտության, մշակույթի և սպորտի նախարարություն | G54: =+G56 -> 37080 | H54: =+H56 -> 37080 | I54: =+I56 -> 122463.64
F55: այդ թվում`
D56: 1075 | E56: Մշակութային ժառանգության ծրագիր | G56: =+G58+G67+G77 -> 37080 | H56: =+H58+H67+H77 -> 37080 | I56: =+I58+I67+I77 -> 122463.64
F57: այդ թվում`
E58: 12002 | F58: Աջակցություն քանդակների,արձանների պատրաստման,տեղադրման և վերականգնման աշխատանքներին | G58: =G60 -> 37080 | H58: =H60 -> 37080 | I58: =I60 -> 37080
F59: այդ թվում`ըստ կատարողների
F60: ՀՀ կրթության, գիտության, մշակույթի և սպորտի նախարարություն | G60: =G62 -> 37080 | H60: =H62 -> 37080 | I60: =I62 -> 37080
F61: այդ թվում`բյուջետային ծախսերի տնտեսագիտական դասակարգման հոդվածներ
F62: ԸՆԴԱՄԵՆԸ ԾԱԽՍԵՐ | G62: =G63 -> 37080 | H62: =H63 -> 37080 | I62: =I63 -> 37080
F63: ԸՆԹԱՑԻԿ ԾԱԽՍԵՐ | G63: =G64 -> 37080 | H63: =H64 -> 37080 | I63: =I64 -> 37080
F64: ԴՐԱՄԱՄԱՇՆՈՐՆԵՐ | G64: =G65 -> 37080 | H64: =H65 -> 37080 | I64: =I65 -> 37080
F65: Կապիտալ դրամաշնորհներ պետական հատվածի այլ մակարդակներին | G65: =G66 -> 37080 | H65: =H66 -> 37080 | I65: =I66 -> 37080
F66: - Կապիտալ դրամաշնորհներ պետական և համայնքային ոչ առևտրային կազմակերպություններին | G66: =+'Havelvats 2'!G64 -> 37080 | H66: =+'Havelvats 2'!H64 -> 37080 | I66: =+'Havelvats 2'!I64 -> 37080
E67: 12003 | F67: Աջակցություն հուշարձանների ամրակայման, նորոգման և վերականգնման աշխատանքներին | G67: =G69 -> 0 | H67: =H69 -> 0 | I67: =I69 -> 8500
F68: այդ թվում`ըստ կատարողների
F69: ՀՀ կրթության, գիտության, մշակույթի և սպորտի նախարարություն | G69: =G71 -> 0 | H69: =H71 -> 0 | I69: =I71 -> 8500
F70: այդ թվում`բյուջետային ծախսերի տնտեսագիտական դասակարգման հոդվածներ
F71: ԸՆԴԱՄԵՆԸ ԾԱԽՍԵՐ | G71: =G72 -> 0 | H71: =H72 -> 0 | I71: =I72 -> 8500
F72: ԸՆԹԱՑԻԿ ԾԱԽՍԵՐ | G72: =G73 -> 0 | H72: =H73 -> 0 | I72: =I73 -> 8500
F73: ԴՐԱՄԱՄԱՇՆՈՐՆԵՐ | G73: =G74 -> 0 | H73: =H74 -> 0 | I73: =I74 -> 8500
F74: Կապիտալ դրամաշնորհներ պետական հատվածի այլ մակարդակներին | G74: =G75 -> 0 | H74: =H75 -> 0 | I74: =I75 -> 8500
F75: - Կապիտալ դրամաշնորհներ պետական և համայնքային ոչ առևտրային կազմակերպություններին | G75: =+'Havelvats 2'!G73 -> 0 | H75: =+'Havelvats 2'!H73 -> 0 | I75: =+'Havelvats 2'!I73 -> 8500
E77: 21004 | F77: Արձանների պատրաստման, նորոգման, վերականգնման և տեղադրման աշխատանքներ | G77: =+G79 -> 0 | H77: =+H79 -> 0 | I77: =+I79 -> 76883.641
F78: այդ թվում`ըստ կատարողների
F79: ՀՀ կրթության, գիտության, մշակույթի և սպորտի նախարարություն | G79: =+G81 -> 0 | H79: =+H81 -> 0 | I79: =+I81 -> 76883.641
F80: այդ թվում`բյուջետային ծախսերի տնտեսագիտական դասակարգման հոդվածներ
F81: ԸՆԴԱՄԵՆԸ ԾԱԽՍԵՐ | G81: =+G82 -> 0 | H81: =+H82 -> 0 | I81: =+I82 -> 76883.641
F82: ՈՉ ՖԻՆԱՆՍԱԿԱՆ ԱԿՏԻՎՆԵՐԻ ԳԾՈՎ ԾԱԽՍԵՐ | G82: =G83 -> 0 | H82: =H83 -> 0 | I82: =I83 -> 76883.641
F83: ՀԻՄՆԱԿԱՆ ՄԻՋՈՑՆԵՐ | G83: =G84 -> 0 | H83: =H84 -> 0 | I83: =I84 -> 76883.641
F84: ՇԵՆՔԵՐ ԵՎ ՇԻՆՈՒԹՅՈՒՆՆԵՐ | G84: =G85 -> 0 | H84: =H85 -> 0 | I84: =I85 -> 76883.641
F85: - Շենքերի և շինությունների կապիտալ վերանորոգում | G85: =+'Havelvats 2'!G103 -> 0 | H85: =+'Havelvats 2'!H103 -> 0 | I85: =+'Havelvats 2'!I103 -> 76883.641
