Workbook
Name AgencyCode: #REF!
Name AgencyCode: #REF!
Name AgencyName: #REF!
Name AgencyName: #REF!
Name davit: #REF!
Name davit: #REF!
Name Functional1: #REF!
Name Functional1: #REF!
Name ggg: #REF!
Name ggg: #REF!
Name PANature: #REF!
Name PANature: #REF!
Name PAType: #REF!
Name PAType: #REF!
Name Performance2: #REF!
Name Performance2: #REF!
Name PerformanceType: #REF!
Name PerformanceType: #REF!
Name Հավելված: #REF!
Name Հավելված: #REF!
Name Մաս: #REF!
Name Մաս: #REF!
Name շախմատիստ: #REF!
Name շախմատիստ: #REF!

Sheet Havelvats 1
E1: Հավելված N 1
E2: ՀՀ կառավարության 2020 թվականի
E3: ______________ ի ___Ն որոշման
A5: «ՀԱՅԱUՏԱՆԻ ՀԱՆՐԱՊԵՏՈՒԹՅԱՆ 2020 ԹՎԱԿԱՆԻ ՊԵՏԱԿԱՆ ԲՅՈՒՋԵԻ ՄԱUԻՆ» ՀԱՅԱUՏԱՆԻ ՀԱՆՐԱՊԵՏՈՒԹՅԱՆ OՐԵՆՔԻ N 1 ՀԱՎԵԼՎԱԾԻ N 2 ԱՂՅՈՒՍԱԿՈՒՄ ԿԱՏԱՐՎՈՂ ՎԵՐԱԲԱՇԽՈՒՄԸ ԵՎ ՀԱՅԱՍՏԱՆԻ ՀԱՆՐԱՊԵՏՈՒԹՅԱՆ ԿԱՌԱՎԱՐՈՒԹՅԱՆ 2019 ԹՎԱԿԱՆԻ ԴԵԿՏԵՄԲԵՐԻ 26-Ի N 1919-Ն ՈՐՈՇՄԱՆ N 5 ՀԱՎԵԼՎԱԾԻ N 1 ԱՂՅՈՒՍԱԿՈՒՄ ԿԱՏԱՐՎՈՂ ՓՈՓՈԽՈՒԹՅՈՒՆՆԵՐԸ ԵՎ ԼՐԱՑՈՒՄՆԵՐԸ
E7: հազ. դրամներով
A8: Ծրագրային դասիչը | C8: Բյուջետային հատկացումների գլխավոր կարգադրիչների, ծրագրերի և միջոցառումների անվանումները | D8: Ցուցանիշների փոփոխությունը (ավելացումները նշված են դրական նշանով, իսկ նվազեցումները՝ փակագծերում)
A9: Ծրագիր | B9: Միջոցառում | D9: Առաջին կիսամյակ | E9: Ինն ամիս | F9: Տարի
A10: 1192 | C10: ԸՆԴԱՄԵՆԸ | D10: =+D12+D76 -> 0 | E10: =+E12+E76 -> 0 | F10: =+F12+F76 -> 0
C11: այդ թվում
B12: ՀՀ Կրթության, գիտության, մշակույթի և սպորտի նախարարություն | D12: =+D14+D27+D64 -> 0 | E12: =+E14+E27+E64 -> 0 | F12: =+F14+F27+F64 -> 0
A13: 1148 | C13: Ծրագրի անվանումը`
C14: Արտադպրոցական դաստիարակության ծրագիր | D14: =+D21 -> -37080 | E14: =+E21 -> -41069.636 | F14: =+F21 -> -422500.48
C15: Ծրագրի նպատակը`
C16: Նպաստել հանրակրթական ուսուցման համակարգում ընդգրկված երեխաների ֆիզիկական, հոգևոր և գեղագիտական զարգացմանը, բնապահպանական և կիրառական գիտելիքների ձեռքբերմանը_x000D_
C17: Վերջնական արդյունքի նկարագրությունը`
C18: Ստեղծել պայմաններ սովորողների ազատ ժամանացի կազմակերպան միջոցով նրանց հետաքրքրությունների բացահայտման, ձևավորման և զարգացման համար_x000D_
C19: Ծրագրի միջոցառումներ
B20: 11005 | C20: Միջոցառման անվանումը`
C21: Դպրոցականների ամառային հանգստի կազմակերպում և տրանսպորտային ծախսերի փոխհատուցում | D21: =-D27-D64 -> -37080 | E21: =-E27-E64 -> -41069.636 | F21: =-F27-F64 -> -422500.48
C22: Միջոցառման նկարագրությունը`
C23: Զոհված, հաշմանդամ դարձած զինծառայողների և աշխարհազորայինների, ծնողազուրկ և սակավ ապահովված բազմազավակ ընտանիքների 7-13 տարեկան երեխաների ամառային հանգստի կազմակերպում և տրանսպորտային ծախսերի փոխհատուցում
C24: Միջոցառման տեսակը
C25: Ծառայությունների մատուցում
A26: 1075 | C26: Ծրագրի անվանումը`
C27: Մշակութային ժառանգության ծրագիր | D27: =+D34+D40+D46+D52+D58 -> 37080 | E27: =+E34+E40+E46+E52+E58 -> 41069.636 | F27: =+F34+F40+F46+F52+F58 -> 420100.48
C28: Ծրագրի նպատակը`
C29: Մշակութային ժառանգության պահպանում, օգտագործում, համալրում և հանրահռչակում
C30: Վերջնական արդյունքի նկարագրությունը`
C31: Մշակութային ժառանգության շարունակական պահպանում, մշակութային զբոսաշրջության զարգացում և խթանում
C32: Ծրագրի միջոցառումներ
B33: 12002 | C33: Միջոցառման անվանումը`
C34: Աջակցություն քանդակների, արձանների պատրաստման,տեղադրման և վերականգնման աշխատանքներին | D34: 37080 | E34: 37080 | F34: 37080
C35: Միջոցառման նկարագրությունը`
C36: ժամանակակից արվեստի նմուշների գիտանախագծային փաստաթղթերի կազմում, ամրակայում, նորոգում և վերականգնում
C37: Միջոցառման տեսակը
C38: Տրանսֆերտների տրամադրում
B39: 12003 | C39: Միջոցառման անվանումը`
C40: Աջակցություն հուշարձանների ամրակայման, նորոգման և վերականգնման աշխատանքներին | D40: 0 | E40: 0 | F40: 8500
C41: Միջոցառման նկարագրությունը`
C42: Աջակցություն հուշարձանների գիտանախագծային փաստաթղթերի կազմման, հրատապ ուսումնասիրման, վավերագրման և ուսումնասիրման, հետախուզման և հնագիտական պեղումների, ամրակայման, նորոգման և վերականգնման աշխատանքներին
...

Sheet Havelvats 2
H1: Հավելված N 2
H2: ՀՀ կառավարության 2020 թվականի
H3: ______________ ի ___Ն որոշման
A5: ՀԱՅԱՍՏԱՆԻ ՀԱՆՐԱՊԵՏՈՒԹՅԱՆ ԿԱՌԱՎԱՐՈՒԹՅԱՆ 2019 ԹՎԱԿԱՆԻ ԴԵԿՏԵՄԲԵՐԻ 26-Ի N 1919-Ն ՈՐՈՇՄԱՆ N 3 ԵՎ N 4 ՀԱՎԵԼՎԱԾՆԵՐՈՒՄ ԿԱՏԱՐՎՈՂ ՓՈՓՈԽՈՒԹՅՈՒՆՆԵՐԸ ԵՎ ԼՐԱՑՈՒՄՆԵՐԸ
H7: հազ. դրամներով
A8: Գործառական դասիչը | D8: Ծրագրային դասիչը | F8: Բյուջետային հատկացումների գլխավոր կարգադրիչների, ծրագրերի, միջոցառումների և միջոցառումները կատարող պետական մարմինների անվանումները | G8: Ցուցանիշների փոփոխությունը (ավելացումները նշված են դրական նշանով, իսկ նվազեցումները՝ փակագծերում)
A9: Բաժին | B9: Խումբ | C9: Դաս | D9: Ծրագիր | E9: Միջոցառում | G9: Առաջին կիսամյակ | H9: Ինն ամիս | I9: Տարի
F10: ԸՆԴԱՄԵՆԸ | G10: =+G12+G104 -> 0 | H10: =+H12+H104 -> 0 | I10: =+I12+I104 -> 0
F11: այդ թվում
F12: ՀՀ Կրթության, գիտության, մշակույթի և սպորտի նախարարություն | G12: =+G20+G31 -> 0 | H12: =+H20+H31 -> 0 | I12: =+I20+I31 -> 0
A13: 09 | E13: 11010 | F13: ԿՐԹՈՒԹՅՈՒՆ | G13: =G15 -> -37080 | H13: =H15 -> -41069.636 | I13: =I15 -> -422500.48
B14: 06 | F14: այդ թվում`
F15: Կրթությանը տրամադրվող օժանդակ ծառայություններ | G15: =G17 -> -37080 | H15: =H17 -> -41069.636 | I15: =I17 -> -422500.48
F16: այդ թվում`
C17: 01 | F17: Կրթությանը տրամադրվող օժանդակ ծառայություններ | G17: =+G20 -> -37080 | H17: =+H20 -> -41069.636 | I17: =+I20 -> -422500.48
F18: այդ թվում`
F19: ՀՀ կրթության, գիտության, մշակույթի և սպորտի նախարարություն
D20: 1148 | E20: Արտադպրոցական դաստիարակության ծրագիր | G20: =+G22 -> -37080 | H20: =+H22 -> -41069.636 | I20: =+I22 -> -422500.48
E21: 11005 | F21: այդ թվում`
F22: Դպրոցականների ամառային հանգստի կազմակերպում և տրանսպորտային ծախսերի փոխհատուցում | G22: =+G24 -> -37080 | H22: =H24 -> -41069.636 | I22: =I24 -> -422500.48
F23: այդ թվում` ըստ կատարողների
F24: ՀՀ կրթության, գիտության, մշակույթի և սպորտի նախարարություն | G24: =+G26 -> -37080 | H24: =H26 -> -41069.636 | I24: =I26 -> -422500.48
F25: այդ թվում՝ բյուջետային ծախսերի տնտեսագիտական դասակարգման հոդվածներ
F26: ԸՆԴԱՄԵՆԸ ԾԱԽՍԵՐ | G26: =+G27 -> -37080 | H26: =H27 -> -41069.636 | I26: =I27 -> -422500.48
F27: ԸՆԹԱՑԻԿ ԾԱԽՍԵՐ | G27: =+G28 -> -37080 | H27: =H28 -> -41069.636 | I27: =I28 -> -422500.48
F28: ԴՐԱՄԱՇՆՈՐՀՆԵՐ | G28: =+G29 -> -37080 | H28: =H29 -> -41069.636 | I28: =I29 -> -422500.48
F29: Ընթացիկ դրամաշնորհներ պետական հատվածի այլ մակարդակներին | G29: =+G30 -> -37080 | H29: =+H30 -> -41069.636 | I29: =+I30 -> -422500.48
F30: -Այլ ընթացիկ դրամաշնորհներ | G30: =+'Havelvats 1'!D21 -> -37080 | H30: =+'Havelvats 1'!E21 -> -41069.636 | I30: =+'Havelvats 1'!F21 -> -422500.48
A31: 08 | F31: ՀԱՆԳԻՍՏ, ՄՇԱԿՈՒՅԹ ԵՎ ԿՐՈՆ | G31: =G33 -> 37080 | H31: =H33 -> 41069.636 | I31: =I33 -> 422500.48
F32: այդ թվում`
B33: 02 | F33: Մշակութային ծառայություններ | G33: =+G35+G50 -> 37080 | H33: =+H35+H50 -> 41069.636 | I33: =+I35+I50 -> 422500.48
F34: այդ թվում`
C35: 03 | F35: Մշակույթի տներ, ակումբներ, կենտրոններ | G35: =+G37 -> 0 | H35: =+H37 -> 0 | I35: =+I37 -> 2400
F36: այդ թվում`
F37: ՀՀ կրթության, գիտության, մշակույթի և սպորտի նախարարություն | G37: =+G39 -> 0 | H37: =+H39 -> 0 | I37: =+I39 -> 2400
F38: այդ թվում`
D39: 1196 | E39: Մարզերի մշակութային զարգացման ծրագիր | G39: =+G41 -> 0 | H39: =+H41 -> 0 | I39: =+I41 -> 2400
F40: այդ թվում`
E41: 12001 | F41: Աջակցություն համայնքներին մշակութային հաստատությունների շենքային պայմանների բարելավման համար | G41: =G43 -> 0 | H41: =H43 -> 0 | I41: =I43 -> 2400
F42: այդ թվում`ըստ կատարողների
...

Sheet Havelvats 3
F1: Հավելված N 3
F2: ՀՀ կառավարության 2020 թվականի
F3: ______________ ի ___Ն որոշման
A5: «ՀԱՅԱUՏԱՆԻ ՀԱՆՐԱՊԵՏՈՒԹՅԱՆ 2020 ԹՎԱԿԱՆԻ ՊԵՏԱԿԱՆ ԲՅՈՒՋԵԻ ՄԱUԻՆ» ՀԱՅԱUՏԱՆԻ ՀԱՆՐԱՊԵՏՈՒԹՅԱՆ OՐԵՆՔԻ N 1 ՀԱՎԵԼՎԱԾԻ N 3 ԱՂՅՈՒՍԱԿՈՒՄ ԿԱՏԱՐՎՈՂ ՓՈՓՈԽՈՒԹՅՈՒՆՆԵՐԸ ԵՎ ԼՐԱՑՈՒՄՆԵՐԸ
G8: հազ. դրամներով
A9: Ծրագրային դասիչ | C9: Բյուջետային գլխավոր կարգադրիչների, ծրագրերի, միջոցառումների և ուղղությունների անվանումները | D9: Ընդամենը, | E9: Ցուցանիշների փոփոխությունը (ավելացումները նշված են դրական նշանով)
E10: այդ թվում՝
A11: Ծրագիր | B11: Միջոցառում | E11: Կառուցման աշխատանքներ | F11: Վերակառուցման, վերանորոգման և վերականգնման աշխատանքներ | G11: Նախագծահե- տազոտական, գեոդեզիա- քարտեզագրա- կան աշխա- տանքներ | H11: Ոչ ֆինանսական այլ ակտիվների ձեռքբերում
C12: ԸՆԴԱՄԵՆԸ | D12: =SUM(E12:H12) -> 374520.48 | E12: =+E14 -> 0 | F12: =+F14 -> 327611.64 | G12: =+G14 -> 46908.84 | H12: =+H14 -> 0
C13: այդ թվում՝
C14: ՀՀ ԿՐԹՈՒԹՅԱՆ, ԳԻՏՈՒԹՅԱՆ, ՄՇԱԿՈՒՅԹԻ ԵՎ ՍՊՈՐՏԻ ՆԱԽԱՐԱՐՈՒԹՅՈՒՆ | D14: =SUM(E14:H14) -> 374520.48 | E14: =+E16+E38+E44 -> 0 | F14: =+F16+F38+F44 -> 327611.64 | G14: =+G16+G38+G44 -> 46908.84 | H14: =+H16+H38+H44 -> 0
C15: այդ թվում`
A16: 1075 | B16: 21001 | C16: Հուշարձանների ամրակայում, նորոգում և վերականգնում | D16: =SUM(E16:H16) -> 289248.86 | E16: =E18+E30 -> 0 | F16: =F18+F30 -> 242340.02 | G16: =G18+G30 -> 46908.84 | H16: =H18+H30 -> 0
C17: այդ թվում`
C18: 1. Վերականգնողական աշխատանքներ | D18: =D25+D20+D23+D27 -> 242340.02 | E18: =E25+E20+E23+E27 -> 0 | F18: =F25+F20+F23+F27 -> 242340.02 | G18: =G25+G20+G23+G27 -> 0 | H18: =H25+H20+H23+H27 -> 0
C19: որից`
C20: ՀՀ Արարատի մարզ | D20: =SUM(D21:D22) -> 11385.949 | E20: =SUM(E21:E22) -> 0 | F20: =SUM(F21:F22) -> 11385.949 | G20: =SUM(G21:G22) -> 0 | H20: =SUM(H21:H22) -> 0
C21: Լուսառատ համայնքի Արտաշատ քաղաքատեղիի բաղնիքի ամրակայում և մասնակի վերականգնում | D21: =SUM(E21:H21) -> 1622.419 | F21: ='Havelvats 8'!J16+'Havelvats 8'!J30+'Havelvats 8'!J31 -> 1622.419
C22: Հնաբերդ համայնքի Դվին հնավայրի բնակելի հատվածի (տան) ամրակայում, նորոգում, վերականգնում և տարածքի մասնակի բարեկարգում | D22: =SUM(E22:H22) -> 9763.53 | F22: ='Havelvats 8'!J17+'Havelvats 8'!J32+'Havelvats 8'!J33 -> 9763.53
C23: ՀՀ Լոռու մարզ | D23: =SUM(D24) -> 2367.217 | E23: =SUM(E24) -> 0 | F23: =SUM(F24) -> 2367.217 | G23: =SUM(G24) -> 0 | H23: =SUM(H24) -> 0
C24: Թումանյան համայնքի Քոբայրավանք համալիրի գլխավոր եկեղեցուն կից մատուռի (տանիքի) նորոգում | D24: =SUM(E24:H24) -> 2367.217 | F24: ='Havelvats 8'!J18+'Havelvats 8'!J34+'Havelvats 8'!J35 -> 2367.217
C25: ՀՀ Շիրակի մարզ | D25: =SUM(D26) -> 19475 | E25: =SUM(E26) -> 0 | F25: =SUM(F26) -> 19475 | G25: =SUM(G26) -> 0 | H25: =SUM(H26) -> 0
C26: Հոռոմ համայնքի Սբ Հռիփսիմե եկեղեցու ամրակայում, նորոգում և վերականգնում | D26: =SUM(E26:H26) -> 19475 | F26: ='Havelvats 8'!J15+'Havelvats 8'!J28+'Havelvats 8'!J29 -> 19475
C27: ՀՀ Կոտայքի մարզ | D27: =SUM(E27:H27) -> 209111.86 | E27: =SUM(E28:E49) -> 0 | F27: =+F28+F29 -> 209111.86 | H27: =SUM(H28:H49) -> 0
C28: Մեղրաձոր համայնքի Թեժառույք վանական համալիրի ամրակայում և տարածքի բարեկարգում | D28: =+E28+F28+G28+H28 -> 32890.648 | F28: ='Havelvats 8'!J19+'Havelvats 8'!J36+'Havelvats 8'!J37 -> 32890.648
C29: Չարենցավան համայնքի «Ճանապարհաշինարարներ» արձանի վերականգնում | D29: =+E29+F29+G29+H29 -> 176221.21 | F29: ='Havelvats 8'!J20+'Havelvats 8'!J38+'Havelvats 8'!J39 -> 176221.21
C30: 2. Վավերագրման և ուսումնասիրման աշխատանքներ, (այդ թվում՝ հետախուզումև պեղում), գիտանախագծային փաստաթղթերի կազմում և փորձաքննում | D30: =D34+D36+D32 -> 46908.84 | E30: =E34+E36+E32 -> 0 | F30: =F34+F36+F32 -> 0 | G30: =G34+G36+G32 -> 46908.84 | H30: =H34+H36+H32 -> 0
C31: որից`
C32: ՀՀ Արագածոտնի մարզ | D32: =D33 -> 19153 | E32: =E33 -> 0 | F32: =F33 -> 0 | G32: =G33 -> 19153 | H32: =H33 -> 0
C33: Ագարակ հնավայրի վաղ բրոնզի դարի կացարանների, միջնադարյան համալիրի և Պարսպապատի ամրակայում | D33: =SUM(E33:H33) -> 19153 | G33: ='Havelvats 8'!J24+'Havelvats 8'!J27 -> 19153
C34: ՀՀ Շիրակի մարզ | D34: =D35 -> 8382.88 | E34: =E35 -> 0 | F34: =F35 -> 0 | G34: =G35 -> 8382.88 | H34: =H35 -> 0
C35: Վահրամաբերդ համայնքի Մարմաշեն վանական համալիրի ուսումնասիրում, ամրակայում և տարածքի բարեկարգում | D35: =SUM(E35:H35) -> 8382.88 | G35: ='Havelvats 8'!J22+'Havelvats 8'!J25 -> 8382.88
C36: ՀՀ Վայոց Ձորի մարզ | D36: =D37 -> 19372.96 | E36: =E37 -> 0 | F36: =F37 -> 0 | G36: =G37 -> 19372.96 | H36: =H37 -> 0
C37: Շատիվանքի վանական համալիրի ամրակայում, մասնակի վերականգնում և տարածքի բարեկարգում | D37: =SUM(E37:H37) -> 19372.96 | G37: ='Havelvats 8'!J23+'Havelvats 8'!J26 -> 19372.96
A38: 1075 | B38: 21003 | C38: Քանդակների պատրաստման և տեղադրման աշխատանքներ | D38: =SUM(E38:H38) -> 8387.975 | E38: =+E40 -> 0 | F38: =+F40 -> 8387.975 | G38: =+G40 -> 0 | H38: =+H40 -> 0
C39: այդ թվում`
C40: 1. Վերականգնողական աշխատանքներ | D40: =SUM(E40:H40) -> 8387.975 | E40: =+E42 -> 0 | F40: =+F42 -> 8387.975 | G40: =+G42 -> 0 | H40: =+H42 -> 0
C41: որից`
C42: ՀՀ Լոռու մարզ | D42: =+D43 -> 8387.975 | E42: =+E43 -> 0 | F42: =+F43 -> 8387.975 | G42: =+G43 -> 0 | H42: =+H43 -> 0
C43: «ԼՈՌԵՑԻ ՍԱՔՈ» քանդակի վերականգնում, տեղափոխում և տարածքի բարեկարգում | D43: =SUM(E43:H43) -> 8387.975 | F43: =+'Havelvats 8'!J42+'Havelvats 8'!J44+'Havelvats 8'!J45 -> 8387.975
...

Sheet Havelvats 4
E1: Հավելված N 4
E2: ՀՀ կառավարության 2020 թվականի
E3: ______________ ի ___Ն որոշման
A5: ՀԱՅԱՍՏԱՆԻ ՀԱՆՐԱՊԵՏՈՒԹՅԱՆ ԿԱՌԱՎԱՐՈՒԹՅԱՆ 2019 ԹՎԱԿԱՆԻ ԴԵԿՏԵՄԲԵՐԻ 26-Ի N 1919-Ն ՈՐՈՇՄԱՆ N 5 ՀԱՎԵԼՎԱԾԻ N 2 ԱՂՅՈՒՍԱԿՈՒՄ ԿԱՏԱՐՎՈՂ ՓՈՓՈԽՈՒԹՅՈՒՆՆԵՐԸ ԵՎ ԼՐԱՑՈՒՄՆԵՐԸ
A7: հազ. դրամներով
A8: Ծրագրային դասիչ | C8: Բյուջետային գլխավոր կարգադրիչների, ծրագրերի, միջոցառումների, միջոցառումները կատարող պետական մարմինների և ուղղությունների անվանումները | D8: Ցուցանիշների փոփոխությունը (ավելացումները նշված են դրական նշանով)
D9: Առաջին կիսամյակ | E9: Ինն ամիս | F9: Տարի
A10: Ծրագիր | B10: Միջոցառում
C11: ՀՀ ԿՐԹՈՒԹՅԱՆ, ԳԻՏՈՒԹՅԱՆ, ՄՇԱԿՈՒՅԹԻ ԵՎ ՍՊՈՐՏԻ ՆԱԽԱՐԱՐՈՒԹՅՈՒՆ | D11: =+D13+D37+D45 -> 0 | E11: =+E13+E37+E45 -> 3989.636 | F11: =+F13+F37+F45 -> 374520.48
C12: այդ թվում՝
A13: 1075 | B13: 21001 | C13: Հուշարձանների ամրակայում, նորոգում և վերականգնում | D13: =+D15 -> 0 | E13: =+E15 -> 3989.636 | F13: =+F15 -> 289248.86
C14: այդ թվում` ըստ կատարողների
C15: ՀՀ կրթության, գիտության, մշակույթի և սպորտի նախարարություն | D15: =D17+D29 -> 0 | E15: =E17+E29 -> 3989.636 | F15: =F17+F29 -> 289248.86
C16: այդ թվում`ըստ ուղղությունների
C17: 1. Վերականգնողական աշխատանքներ | D17: =D24+D19+D22+D26 -> 0 | E17: =E24+E19+E22+E26 -> 3989.636 | F17: =F24+F19+F22+F26 -> 242340.02
C18: որից`
C19: ՀՀ Արարատի մարզ | D19: =SUM(D20:D21) -> 0 | E19: =SUM(E20:E21) -> 1622.419 | F19: =SUM(F20:F21) -> 11385.949
C20: Լուսառատ համայնքի Արտաշատ քաղաքատեղիի բաղնիքի ամրակայում և մասնակի վերականգնում | D20: 0 | E20: ='Havelvats 3'!D21 -> 1622.419 | F20: =+E20+0 -> 1622.419
C21: Հնաբերդ համայնքի Դվին հնավայրի բնակելի հատվածի (տան) ամրակայում, նորոգում, վերականգնում և տարածքի մասնակի բարեկարգում | D21: 0 | E21: 0 | F21: ='Havelvats 3'!D22 -> 9763.53
C22: ՀՀ Լոռու մարզ | D22: =+D23 -> 0 | E22: =+E23 -> 2367.217 | F22: =+F23 -> 2367.217
C23: Թումանյան համայնքի Քոբայրավանք համալիրի գլխավոր եկեղեցուն կից մատուռի (տանիքի) նորոգում | D23: 0 | E23: ='Havelvats 3'!D24 -> 2367.217 | F23: =+E23+0 -> 2367.217
C24: ՀՀ Շիրակի մարզ | D24: =+D25 -> 0 | E24: =+E25 -> 0 | F24: =+F25 -> 19475
C25: Հոռոմ համայնքի Սբ Հռիփսիմե եկեղեցու ամրակայում, նորոգում և վերականգնում | D25: 0 | E25: 0 | F25: ='Havelvats 3'!D26 -> 19475
C26: ՀՀ Կոտայքի մարզ | D26: =SUM(D27:D28) -> 0 | E26: =SUM(E27:E28) -> 0 | F26: =SUM(F27:F28) -> 209111.86
C27: Մեղրաձոր համայնքի Թեժառույք վանական համալիրի ամրակայում և տարածքի բարեկարգում | D27: 0 | E27: 0 | F27: ='Havelvats 3'!D28 -> 32890.648
C28: Չարենցավան համայնքի «Ճանապարհաշինարարներ» արձանի վերականգնում | D28: 0 | E28: 0 | F28: ='Havelvats 3'!D29 -> 176221.21
C29: 2. Վավերագրման և ուսումնասիրման աշխատանքներ, (այդ թվում՝ հետախուզումև պեղում), գիտանախագծային փաստաթղթերի կազմում և փորձաքննում | D29: =D33+D35+D31 -> 0 | E29: =E33+E35+E31 -> 0 | F29: =F33+F35+F31 -> 46908.84
C30: որից`
C31: ՀՀ Արագածոտնի մարզ | D31: =SUM(D32) -> 0 | E31: =SUM(E32) -> 0 | F31: =SUM(F32) -> 19153
C32: Ագարակ հնավայրի վաղ բրոնզի դարի կացարանների, միջնադարյան համալիրի և Պարսպապատի ամրակայում | D32: 0 | E32: 0 | F32: 19153
C33: ՀՀ Շիրակի մարզ | D33: =+D34 -> 0 | E33: =+E34 -> 0 | F33: =+F34 -> 8382.88
C34: Վահրամաբերդ համայնքի Մարմաշեն վանական համալիրի ուսումնասիրում, ամրակայում և տարածքի բարեկարգում | D34: 0 | E34: 0 | F34: ='Havelvats 3'!D35 -> 8382.88
C35: ՀՀ Վայոց Ձորի մարզ | D35: =SUM(D36) -> 0 | E35: =SUM(E36) -> 0 | F35: =SUM(F36) -> 19372.96
C36: Շատիվանքի վանական համալիրի ամրակայում, մասնակի վերականգնում և տարածքի բարեկարգում | D36: 0 | E36: 0 | F36: ='Havelvats 3'!D37 -> 19372.96
A37: 1075 | B37: 21003 | C37: Քանդակների պատրաստման և տեղադրման աշխատանքներ | D37: =+D39 -> 0 | E37: =+E39 -> 0 | F37: =+F39 -> 8387.975
C38: այդ թվում` ըստ կատարողների
C39: ՀՀ կրթության, գիտության, մշակույթի և սպորտի նախարարություն | D39: =+D41 -> 0 | E39: =+E41 -> 0 | F39: =+F41 -> 8387.975
C40: այդ թվում`ըստ ուղղությունների
C41: 1. Վերականգնողական աշխատանքներ | D41: =+D43 -> 0 | E41: =+E43 -> 0 | F41: =+F43 -> 8387.975
C42: որից`
...

Sheet Havelvats 5
F1: Հավելված 5
F2: ՀՀ կառավարության 2020 թվականի
F3: ______________ ի ___Ն որոշման
A6: ՀԱՅԱՍՏԱՆԻ ՀԱՆՐԱՊԵՏՈՒԹՅԱՆ ԿԱՌԱՎԱՐՈՒԹՅԱՆ 2019 ԹՎԱԿԱՆԻ ԴԵԿՏԵՄԲԵՐԻ 26-Ի N 1919-Ն ՈՐՈՇՄԱՆ N 5 ՀԱՎԵԼՎԱԾԻ N 7 ԱՂՅՈՒՍԱԿՈՒՄ ԿԱՏԱՐՎՈՂ ՓՈՓՈԽՈՒԹՅՈՒՆՆԵՐԸ ԵՎ ԼՐԱՑՈՒՄՆԵՐԸ
A7: հազար դրամ
A8: Ծրագրային դասիչը | D8: Բյուջետային հատկացումների գլխավոր կարգադրիչների, ծրագրերի, միջոցառումների և միջոցառումները կատարող պետական մարմինների անվանումները | F8: Միջոցառումները կատարող պետական մարմինների և դրամաշնորհ ստացող տնտեսվարող սուբյեկտների անվանումները | G8: Ցուցանիշների փոփոխությունը (ավելացումները նշված են դրական նշանով, իսկ նվազեցումները՝ փակագծերում)
A9: Ծրագիր | B9: Միջոցառում | G9: Տարի
A10: ՀՀ կրթության, գիտության, մշակույթի և սպորտի նախարարություն | G10: =+G11+G15+G24 -> -374520.48
A11: 1148 | B11: Արտադպրոցական դաստիարակության ծրագիր | G11: =+G12 -> -422500.48
B12: 11005 | C12: Դպրոցականների ամառային հանգստի կազմակերպում և տրանսպորտային ծախսերի փոխհատուցում | F12: ընդամենը, որից՝ | G12: =+G13 -> -422500.48
F13: ՀՀ կրթության, գիտության, մշակույթի և սպորտի նախարարություն | G13: =+G14 -> -422500.48
F14: Մրցույթով ընտրված կազմակերպություն | G14: =+'Havelvats 1'!F21 -> -422500.48
A15: 1075 | B15: Մշակութային ժառանգության ծրագիր | G15: =+G20+G16 -> 45580
B16: 12002 | C16: Աջակցություն քանդակների,արձանների պատրաստման,տեղադրման և վերականգնման աշխատանքներին | G16: =+G18 -> 37080
D17: այդ թվում՝ ըստ ուղղությունների
F18: ՀՀ կրթության, գիտության, մշակույթի և սպորտի նախարարություն | G18: =+G19 -> 37080
E19: Արտո Չաքմաքչյանի «Քայլող մարդը» քանդակի պատրաստում և տեղադրում | F19: «Հայաստանի ազգային պատկերասրահ» ՊՈԱԿ | G19: 37080
B20: 12003 | C20: Աջակցություն հուշարձանների ամրակայման, նորոգման և վերականգնման աշխատանքներին | G20: =+G22 -> 8500
D21: այդ թվում՝ ըստ ուղղությունների
F22: ՀՀ կրթության, գիտության, մշակույթի և սպորտի նախարարություն | G22: =+G23 -> 8500
E23: Երերույքի տաճարի և փոքր դամաբարանի թաղերի ամրակայում | F23: «Պատմամշակութային արգելոց-թանգարանների և պատմական միջավայրի պահպանության ծառայություն» ՊՈԱԿ | G23: 8500
A24: 1196 | B24: Մարզերի մշակութային զարգացման ծրագիր | G24: =+G25 -> 2400
B25: 12001 | C25: Աջակցություն համայնքներին մշակութային հաստատությունների շենքային պայմանների բարելավման համար | G25: =+G27 -> 2400
D26: այդ թվում՝ ըստ ուղղությունների
F27: ՀՀ կրթության, գիտության, մշակույթի և սպորտի նախարարություն | G27: =+G28 -> 2400
E28: Անիպեմզայի մշակույթի տան վերականգնում և փոքրիկ թանգարանի ստեղծում | F28: «Պատմամշակութային արգելոց-թանգարանների և պատմական միջավայրի պահպանության ծառայություն» ՊՈԱԿ | G28: 2400

Sheet Havelvats 6
E1: Հավելված N 6
E2: ՀՀ կառավարության 2020 թվականի
E3: ______________ ի ___Ն որոշման
B5: ՀԱՅԱՍՏԱՆԻ ՀԱՆՐԱՊԵՏՈՒԹՅԱՆ ԿԱՌԱՎԱՐՈՒԹՅԱՆ 2019 ԹՎԱԿԱՆԻ ԴԵԿՏԵՄԲԵՐԻ 26-Ի N 1919-Ն ՈՐՈՇՄԱՆ N 9 ՀԱՎԵԼՎԱԾԻ N 9.14 և 9.47 ԱՂՅՈՒՍԱԿՆԵՐՈՒՄ ԿԱՏԱՐՎՈՂ ՓՈՓՈԽՈՒԹՅՈՒՆՆԵՐԸ ԵՎ ԼՐԱՑՈՒՄՆԵՐԸ
B8: ՀՀ Կրթության, գիտության, մշակույթի և սպորտի նախարարություն
B9: ՄԱՍ 2. ՊԵՏԱԿԱՆ ՄԱՐՄՆԻ ԳԾՈՎ ԱՐԴՅՈՒՆՔԱՅԻՆ (ԿԱՏԱՐՈՂԱԿԱՆ) ՑՈՒՑԱՆԻՇՆԵՐԸ
B10: Ծրագրի դասիչը | C10: Ծրագրի անվանումը | D10: Ցուցանիշների փոփոխությունը (նվազեցումները նշված են փակագծերում)
B11: 1148 | C11: Արտադպրոցական դաստիարակության ծրագիր
B12: Ծրագրի միջոցառումները
B13: Ծրագրի դասիչը՝ | C13: 1148
B14: Միջոցառման դասիչը՝ | C14: 11005 | D14: Առաջին կիսամյակ | E14: Ինն ամիս | F14: Տարի
B15: Միջոցառման անվանումը՝ | C15: Դպրոցականների ամառային հանգստի կազմակերպում և տրանսպորտային ծախսերի փոխհատուցում
B16: Նկարագրությունը՝ | C16: Զոհված, հաշմանդամ դարձած զինծառայողների և աշխարհազորայինների, ծնողազուրկ և սակավ ապահովված բազմազավակ ընտանիքների 7-13 տարեկան երեխաների ամառային հանգստի կազմակերպում և տրանսպորտային ծախսերի փոխհատուցում
B17: Միջոցառման տեսակը՝ | C17: Ծառայությունների մատուցում
B18: Ծառայությունը մատուցող կազմակերպության(ների) անվանում(ներ)ը՛ | C18: «Գնումների մասին» ՀՀ օրենքի համաձայն ընտրված կազմակերպություններ
B19: Արդյունքի չափորոշիչներ
B20: Ճամբարների թիվ, հատ | D20: (7) | E20: (7) | F20: (7)
B21: Ճամբարներում ամառային հանգիստ անցկացնող երեխաների թիվը, մարդ | D21: (4800) | E21: (4800) | F21: (4800)
B22: Տրանսպորտային փոխհատուցում ստացող երեխաների թիվը, մարդ | D22: (4680) | E22: (4680) | F22: (4680)
B23: Միջոցառման վրա կատարվող ծախսը (հազար դրամ) | D23: =+'Havelvats 1'!D21 -> -37080 | E23: =+'Havelvats 1'!E21 -> -41069.636 | F23: =+'Havelvats 1'!F21 -> -422500.48
B25: Ծրագրի դասիչը | C25: Ծրագրի անվանումը | D25: Ցուցանիշների փոփոխությունը (ավելացումները նշված են դրական նշանով)
B26: 1075 | C26: Մշակութային ժառանգության ծրագիր
B27: Ծրագրի միջոցառումները
B28: Ծրագրի դասիչը | C28: 1075
B29: Միջոցառման դասիչը՝ | C29: 12002 | D29: Առաջին կիսամյակ | E29: Ինն ամիս | F29: Տարի
B30: Միջոցառման անվանումը՝ | C30: Աջակցություն քանդակների,արձանների պատրաստման,տեղադրման և վերականգնման աշխատանքներին
B31: Նկարագրությունը՝ | C31: ժամանակակից արվեստի նմուշների գիտանախագծային փաստաթղթերի կազմում, ամրակայում, նորոգում և վերականգնում
B32: Միջոցառման տեսակը՝ | C32: Տրանսֆերտների տրամադրում
B33: Միջոցառումն իրականացնողի անվանումը | C33: Մասնագիտացված կազմակերպություններ
B34: Արդյունքի չափորոշիչներ
B35: Արտո Չաքմաքչյանի «Քայլող մարդը» քանդակի պատրաստում և տեղադրում, քանակ | D35: 1 | E35: 1 | F35: 1
B36: Միջոցառման վրա կատարվող ծախսը (հազար դրամ) | D36: =+'Havelvats 1'!D34 -> 37080 | E36: =+'Havelvats 1'!E34 -> 37080 | F36: =+'Havelvats 1'!F34 -> 37080
B37: Ծրագրի դասիչը | C37: Ծրագրի անվանումը
B38: 1075 | C38: Մշակութային ժառանգության ծրագիր | D38: Ցուցանիշների փոփոխությունը (ավելացումները նշված են դրական նշանով)
B39: Ծրագրի միջոցառումները
B40: Ծրագրի դասիչը՝ | C40: 1075
B41: Միջոցառման դասիչը՝ | C41: 12003 | D41: Առաջին կիսամյակ | E41: Ինն ամիս | F41: Տարի
B42: Միջոցառման անվանումը՝ | C42: Աջակցություն հուշարձանների ամրակայման, նորոգման և վերականգնման աշխատանքներին
B43: Նկարագրությունը՝ | C43: Աջակցություն հուշարձանների գիտանախագծային փաստաթղթերի կազմման, հրատապ ուսումնասիրման, վավերագրման և ուսումնասիրման, հետախուզման և հնագիտական պեղումների, ամրակայման, նորոգման և վերականգնման աշխատանքներին
B44: Միջոցառման տեսակը՝ | C44: Տրանսֆերտների տրամադրում
...

Sheet Havelvats 7
E1: Հավելված N 7
E2: ՀՀ կառավարության 2020 թվականի
E3: ______________ ի ___Ն որոշման
B5: ՀԱՅԱՍՏԱՆԻ ՀԱՆՐԱՊԵՏՈՒԹՅԱՆ ԿԱՌԱՎԱՐՈՒԹՅԱՆ 2019 ԹՎԱԿԱՆԻ ԴԵԿՏԵՄԲԵՐԻ 26-Ի N 1919-Ն ՈՐՈՇՄԱՆ N 9.1 ՀԱՎԵԼՎԱԾԻ N 9.1.14 և 9.1.58 ԱՂՅՈՒՍԱԿՆԵՐՈՒՄ ԿԱՏԱՐՎՈՂ ՓՈՓՈԽՈՒԹՅՈՒՆՆԵՐԸ ԵՎ ԼՐԱՑՈՒՄՆԵՐԸ
B8: ՀՀ Կրթության, գիտության, մշակույթի և սպորտի նախարարություն
B9: ՄԱՍ 2. ՊԵՏԱԿԱՆ ՄԱՐՄՆԻ ԳԾՈՎ ԱՐԴՅՈՒՆՔԱՅԻՆ (ԿԱՏԱՐՈՂԱԿԱՆ) ՑՈՒՑԱՆԻՇՆԵՐԸ
B10: Ծրագրի դասիչը | C10: Ծրագրի անվանումը | D10: Ցուցանիշների փոփոխությունը (նվազեցումները նշված են փակագծերում)
B11: 1148 | C11: Արտադպրոցական դաստիարակության ծրագիր
B12: Ծրագրի միջոցառումները
B13: Ծրագրի դասիչը՝ | C13: 1148
B14: Միջոցառման դասիչը՝ | C14: 11005 | D14: Առաջին կիսամյակ | E14: Ինն ամիս | F14: Տարի
B15: Միջոցառման անվանումը՝ | C15: Դպրոցականների ամառային հանգստի կազմակերպում և տրանսպորտային ծախսերի փոխհատուցում
B16: Նկարագրությունը՝ | C16: Զոհված, հաշմանդամ դարձած զինծառայողների և աշխարհազորայինների, ծնողազուրկ և սակավ ապահովված բազմազավակ ընտանիքների 7-13 տարեկան երեխաների ամառային հանգստի կազմակերպում և տրանսպորտային ծախսերի փոխհատուցում
B17: Միջոցառման տեսակը՝ | C17: Ծառայությունների մատուցում
B18: Ծառայությունը մատուցող կազմակերպության(ների) անվանում(ներ)ը՛ | C18: «Գնումների մասին» ՀՀ օրենքի համաձայն ընտրված կազմակերպություններ
B19: Արդյունքի չափորոշիչներ
B20: Ճամբարների թիվ, հատ | D20: (7) | E20: (7) | F20: (7)
B21: Ճամբարներում ամառային հանգիստ անցկացնող երեխաների թիվը, մարդ | D21: (4800) | E21: (4800) | F21: (4800)
B22: Տրանսպորտային փոխհատուցում ստացող երեխաների թիվը, մարդ | D22: (4680) | E22: (4680) | F22: (4680)
B23: Միջոցառման վրա կատարվող ծախսը (հազար դրամ) | D23: =+'Havelvats 6'!D23 -> -37080 | E23: =+'Havelvats 6'!E23 -> -41069.636 | F23: =+'Havelvats 6'!F23 -> -422500.48
B25: Ծրագրի դասիչը | C25: Ծրագրի անվանումը | D25: Ցուցանիշների փոփոխությունը (ավելացումները նշված են դրական նշանով)
B26: 1075 | C26: Մշակութային ժառանգության ծրագիր
B27: Ծրագրի միջոցառումները
B28: Ծրագրի դասիչը | C28: 1075
B29: Միջոցառման դասիչը՝ | C29: 12002 | D29: Առաջին կիսամյակ | E29: Ինն ամիս | F29: Տարի
B30: Միջոցառման անվանումը՝ | C30: Աջակցություն քանդակների,արձանների պատրաստման,տեղադրման և վերականգնման աշխատանքներին
B31: Նկարագրությունը՝ | C31: ժամանակակից արվեստի նմուշների գիտանախագծային փաստաթղթերի կազմում, ամրակայում, նորոգում և վերականգնում
B32: Միջոցառման տեսակը՝ | C32: Տրանսֆերտների տրամադրում
B33: Միջոցառումն իրականացնողի անվանումը | C33: Մասնագիտացված կազմակերպություններ
B34: Արդյունքի չափորոշիչներ
B35: Արտո Չաքմաքչյանի «Քայլող մարդը» քանդակի պատրաստում և տեղադրում, քանակ | D35: 1 | E35: 1 | F35: 1
B36: Միջոցառման վրա կատարվող ծախսը (հազար դրամ) | D36: =+'Havelvats 6'!D36 -> 37080 | E36: =+'Havelvats 6'!E36 -> 37080 | F36: =+'Havelvats 6'!F36 -> 37080
B37: Ծրագրի դասիչը | C37: Ծրագրի անվանումը
B38: 1075 | C38: Մշակութային ժառանգության ծրագիր | D38: Ցուցանիշների փոփոխությունը (ավելացումները նշված են դրական նշանով)
B39: Ծրագրի միջոցառումները
B40: Ծրագրի դասիչը՝ | C40: 1075
B41: Միջոցառման դասիչը՝ | C41: 12003 | D41: Առաջին կիսամյակ | E41: Ինն ամիս | F41: Տարի
B42: Միջոցառման անվանումը՝ | C42: Աջակցություն հուշարձանների ամրակայման, նորոգման և վերականգնման աշխատանքներին
B43: Նկարագրությունը՝ | C43: Աջակցություն հուշարձանների գիտանախագծային փաստաթղթերի կազմման, հրատապ ուսումնասիրման, վավերագրման և ուսումնասիրման, հետախուզման և հնագիտական պեղումների, ամրակայման, նորոգման և վերականգնման աշխատանքներին
B44: Միջոցառման տեսակը՝ | C44: Տրանսֆերտների տրամադրում
...

Sheet Havelvats 8
I1: Հավելված N 8
I2: ՀՀ կառավարության 2020 թվականի
I3: ______________ ի ___Ն որոշման
A5: ՀԱՅԱՍՏԱՆԻ ՀԱՆՐԱՊԵՏՈՒԹՅԱՆ ԿԱՌԱՎԱՐՈՒԹՅԱՆ 2019 ԹՎԱԿԱՆԻ ԴԵԿՏԵՄԲԵՐԻ 26-Ի N 1919-Ն ՈՐՈՇՄԱՆ N 10 ՀԱՎԵԼՎԱԾՈՒՄ ԿԱՏԱՐՎՈՂ ՓՈՓՈԽՈՒԹՅՈՒՆՆԵՐԸ ԵՎ ԼՐԱՑՈՒՄՆԵՐԸ
A7: Կոդը | B7: Անվանումը | E7: Գնման ձևը | F7: Չափման միավորը | G7: Միավորի գինը | I7: Քանակը | J7: Ցուցանիշների փոփոխությունը (ավելացումները նշված են դրական նշանով, իսկ նվազեցումները` փակագծերում)
J8: Գումարը (հազար դրամ)
A10: 1 | B10: 2 | E10: 3 | F10: 4 | G10: 5 | I10: 6 | J10: 7
A11: ՀՀ կրթության, գիտության, մշակույթի և սպորտի նախարարություն | J11: =+J12 -> 374520.48
A12: Բաժին N 08 | B12: Խումբ N 02 | C12: Դաս N 07 | D12: Հուշարձանների և մշակութային արժեքների վերականգնում և պահպանում | J12: =+J13+J40+J46 -> 374520.48
A13: 1075-21001 | B13: Հուշարձանների ամրակայում, նորոգում և վերականգնում | J13: =+J14+J21 -> 289248.86
B14: ՄԱՍ II. ԱՇԽԱՏԱՆՔՆԵՐ | J14: =SUM(J15:J20) -> 238708.11
A15: 45451600 | B15: վերականգնողական աշխատանքներ | E15: ԳՀ | F15: դրամ | H15: 19240000 | I15: 1 | J15: =+H15/1000 -> 19240
A16: 45451600 | B16: վերականգնողական աշխատանքներ | E16: ԳՀ | F16: դրամ | G16: 16328300 | H16: 1552554 | I16: 1 | J16: =+H16/1000 -> 1552.554
A17: 45451600 | B17: վերականգնողական աշխատանքներ | E17: ԳՀ | F17: դրամ | G17: 6064800 | H17: 9343091 | I17: 1 | J17: =+H17/1000 -> 9343.091
A18: 45451600 | B18: վերականգնողական աշխատանքներ | E18: ԳՀ | F18: դրամ | G18: 2101000 | H18: 2265280 | I18: 1 | J18: =+H18/1000 -> 2265.28
A19: 45451600 | B19: վերականգնողական աշխատանքներ | E19: ԳՀ | F19: դրամ | G19: 1261000 | H19: 32261548 | I19: 1 | J19: =+H19/1000 -> 32261.548
A20: 45451600 | B20: վերականգնողական աշխատանքներ | E20: ՀԲՄ | F20: դրամ | G20: 16328300 | H20: 174045640 | I20: 1 | J20: =+H20/1000 -> 174045.64
B21: ՄԱՍ III. ԾԱՌԱՅՈՒԹՅՈՒՆՆԵՐ | J21: =SUM(J22:J39) -> 50540.751
A22: 71241200 | B22: նախագծերի պատրաստում, ծախսերի գնահատում | E22: ԳՀ | F22: դրամ | G22: 16328300 | H22: 7998880 | I22: 1 | J22: =+H22/1000 -> 7998.88
A23: 71241200 | B23: նախագծերի պատրաստում, ծախսերի գնահատում | E23: ԳՀ | F23: դրամ | G23: 16328300 | H23: 18553760 | I23: 1 | J23: =+H23/1000 -> 18553.76
A24: 71241200 | B24: նախագծերի պատրաստում, ծախսերի գնահատում | E24: ԳՀ | F24: դրամ | G24: 6064800 | H24: 17900000 | I24: 1 | J24: =+H24/1000 -> 17900
A25: 50531140 | B25: փորձաքննության ծառայություններ | E25: ԳՀ | F25: դրամ | G25: 16328300 | H25: 384000 | I25: 1 | J25: =+H25/1000 -> 384
A26: 50531140 | B26: փորձաքննության ծառայություններ | E26: ԳՀ | F26: դրամ | G26: 16328300 | H26: 819200 | I26: 1 | J26: =+H26/1000 -> 819.2
A27: 50531140 | B27: փորձաքննության ծառայություններ | E27: ԳՀ | F27: դրամ | G27: 6064800 | H27: 1253000 | I27: 1 | J27: =+H27/1000 -> 1253
A28: 71351540 | B28: տեխնիկական հսկողության ծառայություններ | E28: ԳՀ | F28: դրամ | G28: 2101000 | H28: 141000 | I28: 1 | J28: =+H28/1000 -> 141
A29: 98111140 | B29: հեղինակային հսկողության ծառայություններ | E29: ՄԱ | F29: դրամ | G29: 1261000 | H29: 94000 | I29: 1 | J29: =+H29/1000 -> 94
A30: 71351540 | B30: տեխնիկական հսկողության ծառայություններ | E30: ԳՀ | F30: դրամ | G30: 2101000 | H30: 46577 | I30: 1 | J30: =+H30/1000 -> 46.577
A31: 98111140 | B31: հեղինակային հսկողության ծառայություններ | E31: ՄԱ | F31: դրամ | G31: 1261000 | H31: 23288 | I31: 1 | J31: =+H31/1000 -> 23.288
A32: 71351540 | B32: տեխնիկական հսկողության ծառայություններ | E32: ԳՀ | F32: դրամ | G32: 2101000 | H32: 280293 | I32: 1 | J32: =+H32/1000 -> 280.293
A33: 98111140 | B33: հեղինակային հսկողության ծառայություններ | E33: ՄԱ | F33: դրամ | G33: 1261000 | H33: 140146 | I33: 1 | J33: =+H33/1000 -> 140.146
... A39: 98111140 | B39: հեղինակային հսկողության ծառայություններ | E39: ՄԱ | F39: դրամ | G39: 1261000 | H39: 870228 | I39: 1 | J39: =+H39/1000 -> 870.228
A40: 1075-21003 | B40: Քանդակների պատրաստման և տեղադրման աշխատանքներ | J40: =+J41+J43 -> 8387.975
B41: ՄԱՍ II. ԱՇԽԱՏԱՆՔՆԵՐ | J41: =+J42 -> 8026.77
A42: 45451600 | B42: վերականգնողական աշխատանքներ | E42: ԳՀ | F42: դրամ | G42: 6064800 | H42: 8026770 | I42: 1 | J42: =+H42/1000 -> 8026.77
B43: ՄԱՍ III. ԾԱՌԱՅՈՒԹՅՈՒՆՆԵՐ | J43: =SUM(J44:J45) -> 361.205
A44: 71351540 | B44: տեխնիկական հսկողության ծառայություններ | E44: ԳՀ | F44: դրամ | G44: 2101000 | H44: 240803 | I44: 1 | J44: =+H44/1000 -> 240.803
A45: 98111140 | B45: հեղինակային հսկողության ծառայություններ | E45: ՄԱ | F45: դրամ | G45: 1261000 | H45: 120402 | I45: 1 | J45: =+H45/1000 -> 120.402
A46: 1075-21004 | B46: Արձանների պատրաստման, նորոգման, վերականգնման և տեղադրման աշխատանքներ | J46: =+J47+J49 -> 76883.641
B47: ՄԱՍ II. ԱՇԽԱՏԱՆՔՆԵՐ | J47: =+J48 -> 74862.358
A48: 45451600 | B48: վերականգնողական աշխատանքներ | E48: ՀԲՄ | F48: դրամ | G48: 6064800 | H48: 74862358 | I48: 1 | J48: =+H48/1000 -> 74862.358
...

Sheet Havelvats 9
C1: Հավելված N 9
C2: ՀՀ կառավարության 2020 թվականի
C3: ______________ ի ___Ն որոշման
A6: «ՀԱՅԱUՏԱՆԻ ՀԱՆՐԱՊԵՏՈՒԹՅԱՆ 2020 ԹՎԱԿԱՆԻ ՊԵՏԱԿԱՆ ԲՅՈՒՋԵԻ ՄԱUԻՆ» ՀԱՅԱUՏԱՆԻ ՀԱՆՐԱՊԵՏՈՒԹՅԱՆ OՐԵՆՔԻ N 6 ՀԱՎԵԼՎԱԾԻ N 1 ԱՂՅՈՒՍԱԿՈՒՄ ԿԱՏԱՐՎՈՂ ՓՈՓՈԽՈՒԹՅՈՒՆՆԵՐԸ
C7: հազար դրամներով
A8: Ծրագրային դասիչ | C8: Բյուջետային գլխավոր կարգադրիչների, ծրագրերի, միջոցառումների և ուղղությունների անվանումները | D8: Ընդամենը
A9: Ծրագիր | B9: Միջոցառում
C10: ԸՆԴԱՄԵՆԸ | D10: =+D12 -> -188400
C11: այդ թվում՝
C12: ՀՀ ԿՐԹՈՒԹՅԱՆ, ԳԻՏՈՒԹՅԱՆ, ՄՇԱԿՈՒՅԹԻ ԵՎ ՍՊՈՐՏԻ ՆԱԽԱՐԱՐՈՒԹՅՈՒՆ | D12: =+D14+D15 -> -188400
C13: այդ թվում`
A14: 1075 | B14: 21001 | C14: Հուշարձանների ամրակայում, նորոգում և վերականգնում | D14: -186000
A15: 1196 | B15: 12001 | C15: Աջակցություն համայնքներին մշակութային հաստատությունների շենքային պայմանների բարելավման համար | D15: =-'Havelvats 1'!F64 -> -2400

Sheet Havelvats 10
G1: Հավելված N 10
G2: ՀՀ կառավարության 2020 թվականի
G3: ______________ ի ___Ն որոշման
A6: ՀԱՅԱՍՏԱՆԻ ՀԱՆՐԱՊԵՏՈՒԹՅԱՆ 2020 ԹՎԱԿԱՆԻ ՊԵՏԱԿԱՆ ԲՅՈՒՋԵՈՎ ՆԱԽԱՏԵՍՎԱԾ՝ ՀԱՅԱՍՏԱՆԻ ՀԱՆՐԱՊԵՏՈՒԹՅԱՆ ԿԱՌԱՎԱՐՈՒԹՅԱՆ ՊԱՀՈՒՍՏԱՅԻՆ ՖՈՆԴԻՑ ՀԱՏԿԱՑՈՒՄՆԵՐ ԿԱՏԱՐԵԼՈՒ ՎԵՐԱԲԵՐՅԱԼ
H8: հազ. դրամներով
A9: Գործառական դասիչը | D9: Ծրագրային դասիչը | F9: Բյուջետային հատկացումների գլխավոր կարգադրիչների, ծրագրերի, միջոցառումների և միջոցառումները կատարող պետական մարմինների անվանումները | G9: Ցուցանիշների փոփոխությունը (ավելացումները նշված են դրական նշանով, իսկ նվազեցումները՝ փակագծերում)
A10: Բաժին | B10: Խումբ | C10: Դաս | D10: Ծրագիր | E10: Միջոցառում | G10: Առաջին կիսամյակ | H10: Ինն ամիս | I10: Տարի
F11: ԸՆԴԱՄԵՆԸ | G11: =+G13+G32 -> 0 | H11: =+H13+H32 -> 0 | I11: =+I13+I32 -> 0
F12: այդ թվում
F13: ՀՀ կառավարություն | G13: =+G14 -> -37080 | H13: =+H14 -> -37080 | I13: =+I14 -> -124863.64
A14: 11 | F14: ՀԻՄՆԱԿԱՆ ԲԱԺԻՆՆԵՐԻՆ ՉԴԱՍՎՈՂ ՊԱՀՈՒՍՏԱՅԻՆ ՖՈՆԴԵՐ | G14: =+G16 -> -37080 | H14: =+H16 -> -37080 | I14: =+I16 -> -124863.64
F15: այդ թվում`
B16: 01 | F16: ՀՀ կառավարության և համայնքների պահուստային ֆոնդ | G16: =+G18 -> -37080 | H16: =+H18 -> -37080 | I16: =+I18 -> -124863.64
F17: այդ թվում`
C18: 01 | F18: ՀՀ կառավարության պահուստային ֆոնդ | G18: =+G20 -> -37080 | H18: =+H20 -> -37080 | I18: =+I20 -> -124863.64
F19: այդ թվում`
F20: ՀՀ կառավարություն | G20: =+G22 -> -37080 | H20: =+H22 -> -37080 | I20: =+I22 -> -124863.64
F21: այդ թվում`
D22: 1139 | E22: ՀՀ կառավարության պահուստային ֆոնդ | F22: ՀՀ կառավարության պահուստային ֆոնդ | G22: =+G24 -> -37080 | H22: =+H24 -> -37080 | I22: =+I24 -> -124863.64
F23: այդ թվում`
E24: 11001 | F24: ՀՀ կառավարության պահուստային ֆոնդ | G24: =+G26 -> -37080 | H24: =+H26 -> -37080 | I24: =+I26 -> -124863.64
F25: այդ թվում` ըստ կատարողների
F26: ՀՀ կառավարություն | G26: =+G28 -> -37080 | H26: =+H28 -> -37080 | I26: =+I28 -> -124863.64
F27: այդ թվում` բյուջետային ծախսերի տնտեսագիտական դասակարգման հոդվածներ
F28: ԸՆԴԱՄԵՆԸ ԾԱԽՍԵՐ | G28: =+G29 -> -37080 | H28: =+H29 -> -37080 | I28: =+I29 -> -124863.64
F29: ԸՆԹԱՑԻԿ ԾԱԽՍԵՐ | G29: =+G30 -> -37080 | H29: =+H30 -> -37080 | I29: =+I30 -> -124863.64
F30: ԱՅԼ ԾԱԽՍԵՐ | G30: =+G31 -> -37080 | H30: =+H31 -> -37080 | I30: =+I31 -> -124863.64
F31: Պահուստային միջոցներ | G31: =+'Havelvats 2'!G130 -> -37080 | H31: =+'Havelvats 2'!H130 -> -37080 | I31: =+'Havelvats 2'!I130 -> -124863.64
F32: ՀՀ կրթության, գիտության, մշակույթի և սպորտի նախարարություն | G32: =+G33 -> 37080 | H32: =+H33 -> 37080 | I32: =+I33 -> 124863.64
A33: 08 | F33: ՀԱՆԳԻՍՏ, ՄՇԱԿՈՒՅԹ ԵՎ ԿՐՈՆ | G33: =G35 -> 37080 | H33: =H35 -> 37080 | I33: =I35 -> 124863.64
F34: այդ թվում`
B35: 02 | F35: Մշակութային ծառայություններ | G35: =+G37+G52 -> 37080 | H35: =+H37+H52 -> 37080 | I35: =+I37+I52 -> 124863.64
F36: այդ թվում`
C37: 03 | F37: Մշակույթի տներ, ակումբներ, կենտրոններ | G37: =+G39 -> 0 | H37: =+H39 -> 0 | I37: =+I39 -> 2400
F38: այդ թվում`
F39: ՀՀ կրթության, գիտության, մշակույթի և սպորտի նախարարություն | G39: =+G41 -> 0 | H39: =+H41 -> 0 | I39: =+I41 -> 2400
F40: այդ թվում`
D41: 1196 | E41: Մարզերի մշակութային զարգացման ծրագիր | G41: =+G43 -> 0 | H41: =+H43 -> 0 | I41: =+I43 -> 2400
F42: այդ թվում`
E43: 12001 | F43: Աջակցություն համայնքներին մշակութային հաստատությունների շենքային պայմանների բարելավման համար | G43: =G45 -> 0 | H43: =H45 -> 0 | I43: =I45 -> 2400
...
