Workbook
Name AgencyCode: #REF!
Name AgencyCode: #REF!
Name AgencyCode: #REF!
Name AgencyName: #REF!
Name AgencyName: #REF!
Name AgencyName: #REF!
Name Functional1: #REF!
Name Functional1: #REF!
Name Functional1: #REF!
Name PANature: #REF!
Name PANature: #REF!
Name PANature: #REF!
Name PAType: #REF!
Name PAType: #REF!
Name PAType: #REF!
Name Performance2: #REF!
Name Performance2: #REF!
Name Performance2: #REF!
Name PerformanceType: #REF!
Name PerformanceType: #REF!
Name PerformanceType: #REF!

Sheet հավելված 1
E1: Հավելված 1
D2: ՀՀ կառավարության 2020 թվականի
D3: ______________ ի ___Ն որոշման
A6: «ՀԱՅԱUՏԱՆԻ ՀԱՆՐԱՊԵՏՈՒԹՅԱՆ 2020 ԹՎԱԿԱՆԻ ՊԵՏԱԿԱՆ ԲՅՈՒՋԵԻ ՄԱUԻՆ» ՀԱՅԱUՏԱՆԻ ՀԱՆՐԱՊԵՏՈՒԹՅԱՆ OՐԵՆՔԻ N 1 ՀԱՎԵԼՎԱԾԻ N 2 ԱՂՅՈՒՍԱԿՈՒՄ ԿԱՏԱՐՎՈՂ ՎԵՐԱԲԱՇԽՈՒՄԸ ԵՎ ՀԱՅԱՍՏԱՆԻ ՀԱՆՐԱՊԵՏՈՒԹՅԱՆ ԿԱՌԱՎԱՐՈՒԹՅԱՆ 2019 ԹՎԱԿԱՆԻ ԴԵԿՏԵՄԲԵՐԻ 26-Ի N 1919-Ն ՈՐՈՇՄԱՆ N 5 ՀԱՎԵԼՎԱԾԻ N 1 ԱՂՅՈՒՍԱԿՈՒՄ ԿԱՏԱՐՎՈՂ ՓՈՓՈԽՈՒԹՅՈՒՆՆԵՐԸ
E8: հազ. դրամներով
A9: Ծրագրային դասիչը | C9: Բյուջետային հատկացումների գլխավոր կարգադրիչների, ծրագրերի և միջոցառումների անվանումները | D9: Ցուցանիշների փոփոխությունը (ավելացումները նշված են դրական նշանով, իսկ նվազեցումները` փակագծերում)
A10: Ծրագիր | B10: Միջոցառում | D10: Առաջին կիսամյակ | E10: Ինն ամիս | F10: Տարի
A11: 1192 | C11: ԸՆԴԱՄԵՆԸ | D11: =D15+D28+D50 -> 0 | E11: =E15+E28+E50 -> 0 | F11: =F15+F28+F50 -> 0
C12: այդ թվում
B13: ՀՀ Կրթության, գիտության, մշակույթի և սպորտի նախարարություն | D13: =D15+D50 -> 0 | E13: =E15+E50 -> 0 | F13: =F15+F50 -> 0
C14: Ծրագրի անվանումը`
C15: Կրթության որակի ապահովում | D15: =D22 -> -1900 | E15: =E22 -> -1900 | F15: =F22 -> -1900
C16: Ծրագրի նպատակը`
C17: Ընթացիկ աշխատանքների, բարեփոխումների և նոր նախաձեռնությունների միջոցով ֆորմալ և ոչ-ֆորմալ կրթության ոլորտում իրականացվող միջոցառումների, մատուցվող ծառայությունների բովանդակության և կազմակերպման որակի շարունակական բարելավում
C18: Վերջնական արդյունքի նկարագրությունը`
C19: Նախադպրոցականից մինչև հետբուհական կրթության որակի, այն է սովորողների, միջավայրի, ծրագրերի և ուսումնական նյութերի բովանդակության, գործընթացների, ինչպես նաև վերջնարդյունքների որակի բարելավում ըստ ներպետական և միջազգային ցուցիչների
C20: Ծրագրի միջոցառումներ
B21: 11017 | C21: Միջոցառման անվանումը`
C22: Կրթության , գիտության, մշակույթի, սպորտի և երիտասարդության ոլորտների այլ միջոցառումներ | D22: -1900 | E22: -1900 | F22: -1900
C23: Միջոցառման նկարագրությունը`
C24: Կրթության , գիտության, մշակույթի, սպորտի և երիտասարդության ոլորտների այլ միջոցառումներ
C25: Միջոցառման տեսակը
C26: Ծառայությունների մատուցում
B27: ՀՀ կառավարության պահուստային ֆոնդ
C28: ՀՀ կառավարություն | D28: =D30 -> 0 | E28: =E30 -> 0 | F28: =F30 -> 0
A29: 1139 | C29: Ծրագրի անվանումը`
C30: ՀՀ կառավարության պահուստային ֆոնդ | D30: =D37+D43 -> 0 | E30: =E37+E43 -> 0 | F30: =F37+F43 -> 0
C31: Ծրագրի նպատակը`
C32: Պետական բյուջեում չկանխատեսված, ինչպես նաեւ բյուջետային երաշխիքների ապահովման ծախսերի ֆինանսավորման ապահովում
C33: Վերջնական արդյունքի նկարագրությունը`
C34: Պահուստային ֆոնդի կառավարման արդյունավետության և թափանցիկության ապահովում
C35: Ծրագրի միջոցառումներ
B36: 11001 | C36: Միջոցառման անվանումը`
C37: ՀՀ կառավարության պահուստային ֆոնդ | D37: 1900 | E37: 1900 | F37: 1900
C38: Միջոցառման նկարագրությունը`
C39: ՀՀ պետական բյուջեում նախատեսված ելքերի լրացուցիչ ֆինանսավորման, պետական բյուջեում չկանխատեսված ելքերի, ինչպես նաև բյուջետային երաշխիքների ապահովման ելքերի ֆինանսավորման ապահովում
C40: Միջոցառման տեսակը
C41: Ծառայությունների մատուցում
B42: 11001 | C42: Միջոցառման անվանումը`
C43: ՀՀ կառավարության պահուստային ֆոնդ | D43: -1900 | E43: -1900 | F43: -1900
C44: Միջոցառման նկարագրությունը`
C45: ՀՀ պետական բյուջեում նախատեսված ելքերի լրացուցիչ ֆինանսավորման, պետական բյուջեում չկանխատեսված ելքերի, ինչպես նաև բյուջետային երաշխիքների ապահովման ելքերի ֆինանսավորման ապահովում
C46: Միջոցառման տեսակը
C47: Ծառայությունների մատուցում
A48: 1215 | B48: ՀՀ Կրթության, գիտության, մշակույթի և սպորտի նախարարություն
C49: Ծրագրի անվանումը`
C50: Կրթության, մշակույթի և սպորտի ոլորտներում միջազգային և սփյուռքի հետ համագործակցության զարգացում | D50: =D57 -> 1900 | E50: =E57 -> 1900 | F50: =F57 -> 1900
C51: Ծրագրի նպատակը`
C52: Կրթության, մշակույթի և սպորտի ոլորտներում միջազգային համագործակցության ընդլայնում, սփյուռքում և օտարերկրյա պետություններում հայկական կրթական կարողությունների հզորացում_x000D__x000D_ _x000D_ _x000D_ _x000D_
C53: Վերջնական արդյունքի նկարագրությունը`
C54: Սփյուռքի ուսուցիչների կարողությունների բարելավում, հայագիտական առարկաների դասավանդման հիմքերի ամրապնդում, համահայկական միջոցառումների կազմակերպում, միջազգային համաձայնագրերով և հուշագրերով անդամակցությունների գործընթացի ապահովում_x000D_
C55: Ծրագրի միջոցառումներ
B56: 11003 | C56: Միջոցառման անվանումը`
C57: Սփյուռքի կրթօջախների համար դասագրքերի և այլ ուսումնական նյութերի մշակում, ձեռքբերում և տրամադրում_x000D_ | D57: 1900 | E57: 1900 | F57: 1900
C58: Միջոցառման նկարագրությունը`
C59: Սփյուռքի կրթօջախների համար դասագրքերի և այլ ուսումնական նյութերի մշակում, բաշխում և առաքում
C60: Միջոցառման տեսակը
C61: Ծառայությունների մատուցում

Sheet հավելված 2
H1: Հավելված 2
G2: ՀՀ կառավարության 2020 թվականի
G3: ______________ ի ___Ն որոշման
A6: ՀԱՅԱՍՏԱՆԻ ՀԱՆՐԱՊԵՏՈՒԹՅԱՆ ԿԱՌԱՎԱՐՈՒԹՅԱՆ 2019 ԹՎԱԿԱՆԻ ԴԵԿՏԵՄԲԵՐԻ 26-Ի N 1919-Ն ՈՐՈՇՄԱՆ N 3 ԵՎ N 4 ՀԱՎԵԼՎԱԾՆԵՐՈՒՄ ԿԱՏԱՐՎՈՂ ՓՈՓՈԽՈՒԹՅՈՒՆՆԵՐԸ
H8: հազ. դրամներով
A9: Գործառական դասիչը | D9: Ծրագրային դասիչը | F9: Բյուջետային հատկացումների գլխավոր կարգադրիչների, ծրագրերի, միջոցառումների և միջոցառումները կատարող պետական մարմինների անվանումները | G9: Ցուցանիշների փոփոխությունը (ավելացումները նշված են դրական նշանով, իսկ նվազեցումները` փակագծերում)
A10: Բաժին | B10: Խումբ | C10: Դաս | D10: Ծրագիր | E10: Միջոցառում | G10: Առաջին կիսամյակ | H10: Ինն ամիս | I10: Տարի
F11: ԸՆԴԱՄԵՆԸ | G11: =G15 -> 0 | H11: =H15 -> 0 | I11: =I15 -> 0
F12: այդ թվում
F13: ՀՀ կրթության, գիտության, մշակույթի և սպորտի նախարարություն | G13: =G15 -> 0 | H13: =H15 -> 0 | I13: =I15 -> 0
F14: այդ թվում`
A15: 09 | E15: 11010 | F15: ԿՐԹՈՒԹՅՈՒՆ | G15: =G17 -> 0 | H15: =H17 -> 0 | I15: =I17 -> 0
B16: 06 | F16: այդ թվում`
F17: Կրթությանը տրամադրվող օժանդակ ծառայություններ | G17: =G19 -> 0 | H17: =H19 -> 0 | I17: =I19 -> 0
F18: այդ թվում`
C19: 01 | F19: Կրթությանը տրամադրվող օժանդակ ծառայություններ | G19: =G24+G35 -> 0 | H19: =H24+H35 -> 0 | I19: =I24+I35 -> 0
F20: այդ թվում`
F21: ՀՀ կրթության, գիտության, մշակույթի և սպորտի նախարարություն
D22: 1192 | F22: Կրթության որակի ապահովում | G22: =G24 -> -1900 | H22: =H24 -> -1900 | I22: =I24 -> -1900
F23: այդ թվում`
E24: 11017 | F24: Կրթության, գիտության, մշակույթի, սպորտի և երիտասարդության ոլորտների այլ միջոցառումներ | G24: =G26 -> -1900 | H24: =H26 -> -1900 | I24: =I26 -> -1900
F25: այդ թվում` ըստ կատարողների
F26: ՀՀ կառավարություն | G26: =G28 -> -1900 | H26: =H28 -> -1900 | I26: =I28 -> -1900
F27: այդ թվում՝ բյուջետային ծախսերի տնտեսագիտական դասակարգման հոդվածներ
F28: ԸՆԴԱՄԵՆԸ ԾԱԽՍԵՐ | G28: =G29 -> -1900 | H28: =H29 -> -1900 | I28: =I29 -> -1900
F29: ԸՆԹԱՑԻԿ ԾԱԽՍԵՐ | G29: =G30 -> -1900 | H29: =H30 -> -1900 | I29: =I30 -> -1900
F30: ԾԱՌԱՅՈՒԹՅՈՒՆՆԵՐԻ ԵՎ ԱՊՐԱՆՔՆԵՐԻ ՁԵՌՔԲԵՐՈՒՄ | G30: =G31 -> -1900 | H30: =H31 -> -1900 | I30: =I31 -> -1900
F31: Պայմանագրային այլ ծառայությունների ձեռքբերում | G31: =G32 -> -1900 | H31: =H32 -> -1900 | I31: =I32 -> -1900
F32: - Ընդհանուր բնույթի այլ ծառայություններ | G32: ='հավելված 1'!D22 -> -1900 | H32: ='հավելված 1'!E22 -> -1900 | I32: ='հավելված 1'!F22 -> -1900
D33: 1215 | F33: Կրթության, մշակույթի և սպորտի ոլորտներում միջազգային և սփյուռքի հետ համագործակցության զարգացում | G33: =G35 -> 1900 | H33: =H35 -> 1900 | I33: =I35 -> 1900
F34: այդ թվում`
E35: 11003 | F35: Սփյուռքի կրթօջախների համար դասագրքերի և այլ ուսումնական նյութերի մշակում, ձեռքբերում և տրամադրում | G35: =G37 -> 1900 | H35: =H37 -> 1900 | I35: =I37 -> 1900
F36: այդ թվում` ըստ կատարողների
F37: ՀՀ կրթության, գիտության, մշակույթի և սպորտի նախարարություն | G37: =G40 -> 1900 | H37: =H40 -> 1900 | I37: =I40 -> 1900
F38: այդ թվում`
F39: այդ թվում՝ բյուջետային ծախսերի տնտեսագիտական դասակարգման հոդվածներ
F40: ԸՆԴԱՄԵՆԸ ԾԱԽՍԵՐ | G40: =G41 -> 1900 | H40: =H41 -> 1900 | I40: =I41 -> 1900
F41: ԸՆԹԱՑԻԿ ԾԱԽՍԵՐ | G41: =G42 -> 1900 | H41: =H42 -> 1900 | I41: =I42 -> 1900
F42: ԾԱՌԱՅՈՒԹՅՈՒՆՆԵՐԻ ԵՎ ԱՊՐԱՆՔՆԵՐԻ ՁԵՌՔԲԵՐՈՒՄ | G42: =G43 -> 1900 | H42: =H43 -> 1900 | I42: =I43 -> 1900
F43: Պայմանագրային այլ ծառայությունների ձեռքբերում | G43: =G44 -> 1900 | H43: =H44 -> 1900 | I43: =I44 -> 1900
F44: - Ընդհանուր բնույթի այլ ծառայություններ | G44: ='հավելված 1'!D57 -> 1900 | H44: ='հավելված 1'!E57 -> 1900 | I44: ='հավելված 1'!F57 -> 1900
A45: 11 | F45: ՀԻՄՆԱԿԱՆ ԲԱԺԻՆՆԵՐԻՆ ՉԴԱՍՎՈՂ ՊԱՀՈՒՍՏԱՅԻՆ ՖՈՆԴԵՐ | G45: =G47 -> 0 | H45: =H47 -> 0 | I45: =I47 -> 0
B46: 01 | F46: այդ թվում`
F47: ՀՀ կառավարության և համայնքների պահուստային ֆոնդ | G47: =G49 -> 0 | H47: =H49 -> 0 | I47: =I49 -> 0
F48: այդ թվում`
C49: 01 | F49: ՀՀ կառավարության պահուստային ֆոնդ | G49: =G51 -> 0 | H49: =H51 -> 0 | I49: =I51 -> 0
F50: այդ թվում`
D51: 1139 | F51: ՀՀ կառավարություն | G51: =G52+G60 -> 0 | H51: =H52+H60 -> 0 | I51: =I52+I60 -> 0
E52: 11001 | F52: ՀՀ կառավարության պահուստային ֆոնդ | G52: =G54 -> 1900 | H52: =H54 -> 1900 | I52: =I54 -> 1900
F53: այդ թվում` ըստ կատարողների`
F54: ՀՀ կառավարություն | G54: =G56 -> 1900 | H54: =H56 -> 1900 | I54: =I56 -> 1900
F55: այդ թվում` բյուջետային ծախսերի տնտեսագիտական դասակարգման հոդվածներ
F56: ԸՆԴԱՄԵՆԸ ԾԱԽՍԵՐ | G56: =G57+G58 -> 1900 | H56: =H57+H58 -> 1900 | I56: =I57+I58 -> 1900
F57: ԸՆԹԱՑԻԿ ԾԱԽՍԵՐ | H57: =G57 -> 0 | I57: =H57 -> 0
F58: ԱՅԼ ԾԱԽՍԵՐ | G58: =G59 -> 1900 | H58: =H59 -> 1900 | I58: =I59 -> 1900
F59: Պահուստային միջոցներ | G59: 1900 | H59: 1900 | I59: 1900
E60: 11001 | F60: ՀՀ կառավարության պահուստային ֆոնդ | G60: =G62 -> -1900 | H60: =H62 -> -1900 | I60: =I62 -> -1900
F61: այդ թվում` ըստ կատարողների`
F62: ՀՀ կառավարություն | G62: =G64 -> -1900 | H62: =H64 -> -1900 | I62: =I64 -> -1900
F63: այդ թվում` բյուջետային ծախսերի տնտեսագիտական դասակարգման հոդվածներ
F64: ԸՆԴԱՄԵՆԸ ԾԱԽՍԵՐ | G64: =G65+G66 -> -1900 | H64: =H65+H66 -> -1900 | I64: =I65+I66 -> -1900
F65: ԸՆԹԱՑԻԿ ԾԱԽՍԵՐ
F66: ԱՅԼ ԾԱԽՍԵՐ | G66: =G67 -> -1900 | H66: =H67 -> -1900 | I66: =I67 -> -1900
F67: Պահուստային միջոցներ | G67: -1900 | H67: -1900 | I67: -1900

Sheet հավելված 3
D2: Հավելված 3
C3: ՀՀ կառավարության 2020 թվականի
C4: ______________ ի ___Ն որոշման
A7: ՀԱՅԱՍՏԱՆԻ ՀԱՆՐԱՊԵՏՈՒԹՅԱՆ ԿԱՌԱՎԱՐՈՒԹՅԱՆ 2019 ԹՎԱԿԱՆԻ ԴԵԿՏԵՄԲԵՐԻ 26-Ի N 1919-Ն ՈՐՈՇՄԱՆ N 9 ՀԱՎԵԼՎԱԾԻ N 9.14 ԱՂՅՈՒՍԱԿՈՒՄ ԿԱՏԱՐՎՈՂ ՓՈՓՈԽՈՒԹՅՈՒՆՆԵՐԸ
A9: ՀՀ Կրթության, գիտության, մշակույթի և սպորտի նախարարություն
A11: ՄԱՍ 2. ՊԵՏԱԿԱՆ ՄԱՐՄՆԻ ԳԾՈՎ ԱՐԴՅՈՒՆՔԱՅԻՆ (ԿԱՏԱՐՈՂԱԿԱՆ) ՑՈՒՑԱՆԻՇՆԵՐԸ
A13: Ծրագրի դասիչը | B13: Ծրագրի անվանումը
A14: 1192 | B14: Կրթության որակի ապահովում
A15: Ծրագրի միջոցառումները
A16: Ծրագրի դասիչը՝ | B16: 1192 | C16: Ցուցանիշների փոփոխությունը (նվազեցումները նշված են փակագծերում)
A17: Միջոցառման դասիչը՝ | B17: 11017 | C17: Առաջին կիսամյակ | D17: Ինն ամիս | E17: Տարի
A18: Միջոցառման անվանումը՝ | B18: Կրթության, գիտության, մշակույթի սպորտի և երիտասարդության ոլորտների այլ միջոցառումներ
A19: Նկարագրությունը՝ | B19: Կրթության, գիտության, մշակույթի, սպորտի և երիտասարդության ոլորտների այլ միջոցառումներ
A20: Միջոցառման տեսակը՝ | B20: Ծառայությունների մատուցում
A21: Միջոցառումն իրականացնողի անվանումը | B21: «Գնումների մասին» ՀՀ օրենքի համաձայն ընտրված կազմակերպություն
B22: Արդյունքի չափորոշիչներ
A23: Միջոցառման վրա կատարվող ծախսը (հազար դրամ) | C23: ='հավելված 2'!G32 -> -1900 | D23: ='հավելված 2'!H32 -> -1900 | E23: ='հավելված 2'!I32 -> -1900
A25: Ծրագրի դասիչը 1215 | B25: Ծրագրի անվանումը
A26: 1215 | B26: Կրթության, մշակույթի և սպորտի ոլորտներում միջազգային և սփյուռքի հետ համագործակցության զարգացում
A27: Ծրագրի միջոցառումները
A28: Ծրագրի դասիչը` | B28: 1215 | C28: Ցուցանիշների փոփոխությունը (ավելացումները նշված են դրական նշանով)
A29: Միջոցառման դասիչը` | B29: 11003 | C29: Առաջին կիսամյակ | D29: Ինն ամիս | E29: Տարի
A30: Միջոցառման անվանումը` | B30: Սփյուռքի կրթօջախների համար դասագրքերի և այլ ուսումնական նյութերի մշակում, ձեռքբերում և տրամադրում
A31: Նկարագրությունը` | B31: Սփյուռքի կրթօջախների համար դասագրքերի և այլ ուսումնական նյութերի մշակում, բաշխում և առաքում
A32: Միջոցառման տեսակը` | B32: Ծառայությունների մատուցում
A33: Միջոցառումն իրականացնողի անվանումը | B33: «Գնումների մասին» ՀՀ օրենքի համաձայն ընտրված կազմակերպություն
A34: Արդյունքի չափորոշիչներ
A35: Միջոցառման վրա կատարվող ծախսը (հազար դրամ) | C35: ='հավելված 2'!G44 -> 1900 | D35: ='հավելված 2'!H44 -> 1900 | E35: ='հավելված 2'!I44 -> 1900

Sheet հավելված 4
D2: Հավելված 4
C3: ՀՀ կառավարության 2020 թվականի
C4: ______________ ի ___Ն որոշման
A7: ՀԱՅԱՍՏԱՆԻ ՀԱՆՐԱՊԵՏՈՒԹՅԱՆ ԿԱՌԱՎԱՐՈՒԹՅԱՆ 2019 ԹՎԱԿԱՆԻ ԴԵԿՏԵՄԲԵՐԻ 26-Ի N 1919-Ն ՈՐՈՇՄԱՆ N 9.1 ՀԱՎԵԼՎԱԾԻ N 9.1.58 և 9.1.14 ԱՂՅՈՒՍԱԿՆԵՐՈՒՄ ԿԱՏԱՐՎՈՂ ՓՈՓՈԽՈՒԹՅՈՒՆՆԵՐԸ
A9: ՀՀ Կառավարություն
A11: ՄԱՍ 1. ՊԵՏԱԿԱՆ ՄԱՐՄՆԻ ԳԾՈՎ ԱՐԴՅՈՒՆՔԱՅԻՆ (ԿԱՏԱՐՈՂԱԿԱՆ) ՑՈՒՑԱՆԻՇՆԵՐԸ
A13: Ծրագրի դասիչը | B13: Ծրագրի անվանումը
A14: 1192 | B14: Կրթության որակի ապահովում
A16: Ծրագրի միջոցառումները
A17: Ծրագրի դասիչը՝ | B17: 1192 | C17: Ցուցանիշների փոփոխությունը (նվազեցումները նշված են փակագծերում)
A18: Միջոցառման դասիչը՝ | B18: 11017 | C18: Առաջին կիսամյակ | D18: Ինն ամիս | E18: Տարի
A19: Միջոցառման անվանումը՝ | B19: Կրթության , գիտության, մշակույթի, սպորտի և երիտասարդության ոլորտների այլ միջոցառումներ
A20: Նկարագրությունը՝ | B20: Կրթության , գիտության, մշակույթի, սպորտի և երիտասարդության ոլորտների այլ միջոցառումներ
A21: Միջոցառման տեսակը՝ | B21: Ծառայությունների մատուցում
A22: Միջոցառումն իրականացնողի անվանումը | B22: «Գնումների մասին» ՀՀ օրենքի համաձայն ընտրված կազմակերպություն
B23: Արդյունքի չափորոշիչներ
A24: Միջոցառման վրա կատարվող ծախսը (հազար դրամ) | C24: ='հավելված 2'!G32 -> -1900 | D24: ='հավելված 2'!H32 -> -1900 | E24: ='հավելված 2'!I32 -> -1900
A26: ՀՀ Կրթության, գիտության, մշակույթի և սպորտի նախարարություն
A28: ՄԱՍ 1. ՊԵՏԱԿԱՆ ՄԱՐՄՆԻ ԳԾՈՎ ԱՐԴՅՈՒՆՔԱՅԻՆ (ԿԱՏԱՐՈՂԱԿԱՆ) ՑՈՒՑԱՆԻՇՆԵՐԸ
A30: Ծրագրի դասիչը | B30: Ծրագրի անվանումը
A31: 1215 | B31: Կրթության, մշակույթի և սպորտի ոլորտներում միջազգային և սփյուռքի հետ համագործակցության զարգացում
A33: Ծրագրի միջոցառումները
A34: Ծրագրի դասիչը` | B34: 1215 | C34: Ցուցանիշների փոփոխությունը (ավելացումները նշված են դրական նշանով)
A35: Միջոցառման դասիչը` | B35: 11003 | C35: Առաջին կիսամյակ | D35: Ինն ամիս | E35: Տարի
A36: Միջոցառման անվանումը` | B36: Սփյուռքի կրթօջախների համար դասագրքերի և այլ ուսումնական նյութերի մշակում, ձեռքբերում և տրամադրում
A37: Նկարագրությունը` | B37: Սփյուռքի կրթօջախների համար դասագրքերի և այլ ուսումնական նյութերի մշակում, բաշխում և առաքում
A38: Միջոցառման տեսակը` | B38: Ծառայությունների մատուցում
A39: Միջոցառումն իրականացնողի անվանումը | B39: «Գնումների մասին» ՀՀ օրենքի համաձայն ընտրված կազմակերպություն
A40: Արդյունքի չափորոշիչներ
A41: Միջոցառման վրա կատարվող ծախսը (հազար դրամ) | C41: ='հավելված 2'!G44 -> 1900 | D41: ='հավելված 2'!H44 -> 1900 | E41: ='հավելված 2'!I44 -> 1900
