Workbook
Name AgencyCode: #REF!
Name AgencyCode: #REF!
Name AgencyName: #REF!
Name AgencyName: #REF!
Name davit: #REF!
Name davit: #REF!
Name Functional1: #REF!
Name Functional1: #REF!
Name ggg: #REF!
Name ggg: #REF!
Name PANature: #REF!
Name PANature: #REF!
Name PAType: #REF!
Name PAType: #REF!
Name Performance2: #REF!
Name Performance2: #REF!
Name PerformanceType: #REF!
Name PerformanceType: #REF!
Name Հավելված: #REF!
Name Հավելված: #REF!
Name Մաս: #REF!
Name Մաս: #REF!
Name շախմատիստ: #REF!
Name շախմատիստ: #REF!

Sheet 1
A1: Հավելված N 1
A2: ՀՀ կառավարության 2020 թվականի
A3: N որոշման
A5: «ՀԱՅԱUՏԱՆԻ ՀԱՆՐԱՊԵՏՈՒԹՅԱՆ 2020 ԹՎԱԿԱՆԻ ՊԵՏԱԿԱՆ ԲՅՈՒՋԵԻ ՄԱUԻՆ» ՀԱՅԱUՏԱՆԻ ՀԱՆՐԱՊԵՏՈՒԹՅԱՆ OՐԵՆՔԻ N 1 ՀԱՎԵԼՎԱԾԻ N 2 ԱՂՅՈՒՍԱԿՈՒՄ ԿԱՏԱՐՎՈՂ ՎԵՐԱԲԱՇԽՈՒՄԸ ԵՎ ՀԱՅԱՍՏԱՆԻ ՀԱՆՐԱՊԵՏՈՒԹՅԱՆ ԿԱՌԱՎԱՐՈՒԹՅԱՆ 2019 ԹՎԱԿԱՆԻ ԴԵԿՏԵՄԲԵՐԻ 26-Ի N 1919-Ն ՈՐՈՇՄԱՆ N 5 ՀԱՎԵԼՎԱԾԻ N 1 ԱՂՅՈՒՍԱԿՈՒՄ ԿԱՏԱՐՎՈՂ ՓՈՓՈԽՈՒԹՅՈՒՆՆԵՐԸ ԵՎ ԼՐԱՑՈՒՄՆԵՐԸ
E7: (հազար դրամներով)
A8: Ծրագրային դասիչը | C8: Բյուջետային հատկացումների գլխավոր կարգադրիչների, ծրագրերի և միջոցառումների անվանումները | D8: Ցուցանիշների փոփոխությունը (ավելացումները նշված են դրական նշանով, իսկ նվազեցումները՝ փակագծերում)
A9: Ծրագիր | B9: Միջոցառում | D9: Առաջին կիսամյակ | E9: Ինն ամիս | F9: Տարի
C10: ԸՆԴԱՄԵՆԸ | D10: =D12 -> 0 | E10: =E12 -> 0 | F10: =F12 -> 0
C11: այդ թվում՝
C12: ՀՀ աշխատանքի և սոցիալական հարցերի նախարարություն | D12: =D14 -> 0 | E12: =E14 -> 0 | F12: =F14 -> 0
C13: այդ թվում՝
A14: 1225 | C14: Ծրագրի անվանումը` | D14: =D21+D27 -> 0 | E14: =E21+E27 -> 0 | F14: =F21+F27 -> 0
C15: Ճգնաժամերի հակազդման և արտակարգ իրավիճակների հետևանքների նվազեցման և վերացման նպատակով՝ առանձին սոցիալական խմբերին տրվող սոցիալական աջակցություն
C16: Ծրագրի նպատակը՝
C17: Օժանդակել ճգնաժամերի հակազդման և արտակարգ իրավիճակների հետևանքներով ընտանիքների առջև ծառացած սոցիալական խնդիրների բացասական հետևանքների մեղմմանը
C18: Վերջնական արդյունքի նկարագրությունը
C19: Ճգնաժամերի հակազդման և արտակարգ իրավիճակների առաջացած սոցիալական խնդիրների բացասական հետևանքները մեղմելու նպատակով ընտանիքներին դրամական աջակցության տրամադրում
C20: Ծրագրի միջոցառումներ
B21: 12002 | C21: Միջոցառման անվանումը` | D21: ='2'!G23 -> -1550000 | E21: ='2'!H23 -> -1550000 | F21: ='2'!I23 -> -1550000
C22: Կորոնավիրուսի (COVID-19)հետևանքով ճգնաժամերի հակազդման և արտակարգ իրավիճակների հետևանքների նվազեցման և վերացման նպատակով՝ առանձին սոցիալական խմբերին տրվող սոցիալական աջակցություն
C23: Միջոցառման նկարագրությունը`
C24: Կորոնավիրուսի (COVID-19) հետևանքով օժանդակել ճգնաժամերի հակազդման և արտակարգ իրավիճակների հետևանքներով ընտանիքների առջև ծառացած սոցիալական խնդիրների բացասական հետևանքների մեղմմանը
C25: Միջոցառման տեսակը
C26: Տրանսֆերտների տրամադրում
B27: 12004 | C27: Միջոցառման անվանումը` | D27: ='2'!G31 -> 1550000 | E27: ='2'!H31 -> 1550000 | F27: ='2'!I31 -> 1550000
C28: Աջակցություն կորոնավիրուսի (COVID-19) տարածման հետևանքով աշխատանքի շուկայում գոյացած դժվարությունների արդյունքում սոցիալական խնդիրների առջև կանգնած հղի կանանց (Կորոնավիրուսի տնտեսական հետևանքների չեզոքացման յոթերորդ միջոցառում)
C29: Միջոցառման նկարագրությունը`
C30: Կորոնավիրուսի տարածման հետևանքով աշխատանքի շուկայում գոյացած դժվարությունների արդյունքում սոցիալական խնդիրների առջև կանգնած հղի կանանց միանվագ դրամական օժանդակության տրամադրում
C31: Միջոցառման տեսակը
C32: Տրանսֆերտների տրամադրում

Sheet 2
A1: Հավելված N 2
A2: ՀՀ կառավարության 2020 թվականի
A3: ______________ ի ___Ն որոշման
A6: ՀԱՅԱՍՏԱՆԻ ՀԱՆՐԱՊԵՏՈՒԹՅԱՆ ԿԱՌԱՎԱՐՈՒԹՅԱՆ 2019 ԹՎԱԿԱՆԻ ԴԵԿՏԵՄԲԵՐԻ 26-Ի N 1919-Ն ՈՐՈՇՄԱՆ N 3 ԵՎ N 4 ՀԱՎԵԼՎԱԾՆԵՐՈՒՄ ԿԱՏԱՐՎՈՂ ՓՈՓՈԽՈՒԹՅՈՒՆՆԵՐԸ ԵՎ ԼՐԱՑՈՒՄՆԵՐԸ
H8: (հազար դրամներով)
A9: Գործառական դասիչը | D9: Ծրագրային դասիչը | F9: Բյուջետային ծախսերի գործառական դասակարգման բաժինների, խմբերի և դասերի, տնտեսագիտական դասակարգման հոդվածների, բյուջետային հատկացումների գլխավոր կարգադրիչների, բյուջետային ծրագրերի, միջոցառումների և միջոցառումները կատարող պետական մարմինների անվանումները | G9: Ցուցանիշների փոփոխությունը (ավելացումները նշված են դրական նշանով, իսկ նվազեցումները՝ փակագծերում)
A10: Բաժին | B10: Խումբ | C10: Դաս | D10: Ծրագիր | E10: Միջոցառում | G10: Առաջին կիսամյակ | H10: Ինն ամիս | I10: Տարի
F11: ԸՆԴԱՄԵՆԸ ԾԱԽՍԵՐ | G11: =G13 -> 0 | H11: =H13 -> 0 | I11: =I13 -> 0
F12: այդ թվում`
A13: 10 | F13: ՍՈՑԻԱԼԱԿԱՆ ՊԱՇՏՊԱՆՈՒԹՅՈՒՆ | G13: =G15 -> 0 | H13: =H15 -> 0 | I13: =I15 -> 0
F14: այդ թվում`
B15: 09 | F15: Սոցիալական պաշտպանություն (այլ դասերին չպատկանող) | G15: =+G17 -> 0 | H15: =+H17 -> 0 | I15: =+I17 -> 0
F16: այդ թվում՝
C17: 02 | F17: Սոցիալական պաշտպանությանը տրամադրվող օժանդակ ծառայություններ (այլ դասերին չպատկանող) | G17: =+G19 -> 0 | H17: =+H19 -> 0 | I17: =+I19 -> 0
F18: այդ թվում`
F19: ՀՀ աշխատանքի և սոցիալական հարցերի նախարարություն | G19: =+G21 -> 0 | H19: =+H21 -> 0 | I19: =+I21 -> 0
F20: այդ թվում`
D21: 1225 | F21: Ճգնաժամերի հակազդման և արտակարգ իրավիճակների հետևանքների նվազեցման և վերացման նպատակով՝ առանձին սոցիալական խմբերին տրվող սոցիալական աջակցություն | G21: =G23+G31 -> 0 | H21: =H23+H31 -> 0 | I21: =I23+I31 -> 0
F22: այդ թվում՝
E23: 12002 | F23: Կորոնավիրուսի (COVID-19)հետևանքով ճգնաժամերի հակազդման և արտակարգ իրավիճակների հետևանքների նվազեցման և վերացման նպատակով՝ առանձին սոցիալական խմբերին տրվող սոցիալական աջակցություն | G23: =G25 -> -1550000 | H23: =H25 -> -1550000 | I23: =I25 -> -1550000
F24: այդ թվում` ըստ կատարողների
F25: ՀՀ աշխատանքի և սոցիալական հարցերի նախարարության սոցիալական ապահովության ծառայություն | G25: =+G27 -> -1550000 | H25: =+H27 -> -1550000 | I25: =+I27 -> -1550000
F26: այդ թվում` բյուջետային ծախսերի տնտեսագիտական դասակարգման հոդվածներ
F27: ԸՆԴԱՄԵՆԸ ԾԱԽՍԵՐ | G27: =+G28 -> -1550000 | H27: =+H28 -> -1550000 | I27: =+I28 -> -1550000
F28: ԸՆԹԱՑԻԿ ԾԱԽՍԵՐ | G28: =G30 -> -1550000 | H28: =H30 -> -1550000 | I28: =I30 -> -1550000
F29: ՍՈՑԻԱԼԱԿԱՆ ՆՊԱՍՏՆԵՐ ԵՎ ԿԵՆՍԱԹՈՇԱԿՆԵՐ | G29: =G30 -> -1550000 | H29: =H30 -> -1550000 | I29: =I30 -> -1550000
F30: - Այլ նպաստներ բյուջեից | G30: =-G38 -> -1550000 | H30: =-H38 -> -1550000 | I30: =-I38 -> -1550000
E31: 12004 | F31: ='1'!C28 -> Աջակցություն կորոնավիրուսի (COVID-19) տարածման հետևանքով աշխատանքի շուկայում գոյացած դժվարությունների արդյունքում սոցիալական խնդիրների առջև կանգնած հղի կանանց (Կորոնավիրուսի տնտեսական հետևանքների չեզոքացման յոթերորդ միջոցառում) | G31: =G33 -> 1550000 | H31: =H33 -> 1550000 | I31: =I33 -> 1550000
F32: այդ թվում` ըստ կատարողների
F33: ՀՀ աշխատանքի և սոցիալական հարցերի նախարարության սոցիալական ապահովության ծառայություն | G33: =+G35 -> 1550000 | H33: =+H35 -> 1550000 | I33: =+I35 -> 1550000
F34: այդ թվում` բյուջետային ծախսերի տնտեսագիտական դասակարգման հոդվածներ
F35: ԸՆԴԱՄԵՆԸ ԾԱԽՍԵՐ | G35: =+G36 -> 1550000 | H35: =+H36 -> 1550000 | I35: =+I36 -> 1550000
F36: ԸՆԹԱՑԻԿ ԾԱԽՍԵՐ | G36: =G38 -> 1550000 | H36: =H38 -> 1550000 | I36: =I38 -> 1550000
F37: ՍՈՑԻԱԼԱԿԱՆ ՆՊԱՍՏՆԵՐ ԵՎ ԿԵՆՍԱԹՈՇԱԿՆԵՐ | G37: =G38 -> 1550000 | H37: =H38 -> 1550000 | I37: =I38 -> 1550000
F38: - Այլ նպաստներ բյուջեից | G38: ='3'!C32 -> 1550000 | H38: ='3'!D32 -> 1550000 | I38: ='3'!E32 -> 1550000

Sheet 3
A1: Հավելված N 3
A2: ՀՀ կառավարության 2020 թվականի
A3: ______________ ի ___Ն որոշման
A6: ՀԱՅԱՍՏԱՆԻ ՀԱՆՐԱՊԵՏՈՒԹՅԱՆ ԿԱՌԱՎԱՐՈՒԹՅԱՆ 2019 ԹՎԱԿԱՆԻ ԴԵԿՏԵՄԲԵՐԻ 26-Ի N 1919-Ն ՈՐՈՇՄԱՆ N 9 ՀԱՎԵԼՎԱԾԻ 9․16 ԱՂՅՈՒՍԱԿՈՒՄ ԿԱՏԱՐՎՈՂ ՓՈՓՈԽՈՒԹՅՈՒՆՆԵՐԸ ԵՎ ԼՐԱՑՈՒՄՆԵՐԸ
A8: ՀՀ աշխատանքի և սոցիալական հարցերի նախարարություն
A10: ՄԱՍ 2. ՊԵՏԱԿԱՆ ՄԱՐՄՆԻ ԳԾՈՎ ԱՐԴՅՈՒՆՔԱՅԻՆ (ԿԱՏԱՐՈՂԱԿԱՆ) ՑՈՒՑԱՆԻՇՆԵՐԸ
A11: Ծրագրի դասիչը | B11: Ծրագրի անվանումը
A12: 1225 | B12: Ճգնաժամերի հակազդման և արտակարգ իրավիճակների հետևանքների նվազեցման և վերացման նպատակով՝ առանձին սոցիալական խմբերին տրվող սոցիալական աջակցություն
A14: Միջոցառման անվանումը` | B14: 1225 | C14: Ցուցանիշների փոփոխությունը (նվազեցումները նշված են փակագծերում)
A15: Միջոցառման դասիչը` | B15: 12002 | C15: Առաջին կիսամյակ | D15: Ինն ամիս | E15: Տարի
A16: Միջոցառման անվանումը` | B16: Կորոնավիրուսի (COVID-19)հետևանքով ճգնաժամերի հակազդման և արտակարգ իրավիճակների հետևանքների նվազեցման և վերացման նպատակով՝ առանձին սոցիալական խմբերին տրվող սոցիալական աջակցություն
A17: Նկարագրությունը` | B17: Կորոնավիրուսի (COVID-19) հետևանքով օժանդակել ճգնաժամերի հակազդման և արտակարգ իրավիճակների հետևանքներով ընտանիքների առջև ծառացած սոցիալական խնդիրների բացասական հետևանքների մեղմմանը
A18: Միջոցառման տեսակը` | B18: Տրասֆերտների տրամադրում
A19: Շահառուների ընտրության չափանիշները | B19: ՀՀ կառավարության որոշումներով հաստատված Կորոնավիրուսի (COVID-19) տնտեսական հետևանքների չեզոքացման միջոցառման պահանջներին համապատասխան
A20: Արդյունքի չափորոշիչներ
A21: Դրամական աջակցություն ստացողներ, թիվ | C21: մշակված չէ
A22: Միջոցառման վրա կատարվող ծախսը (հազար դրամ) | C22: =-C32 -> -1550000 | D22: =-D32 -> -1550000 | E22: =-E32 -> -1550000
A24: Միջոցառման անվանումը` | B24: 1225 | C24: Ցուցանիշների փոփոխությունը (ավելացումները նշված են դրական նշանով)
A25: Միջոցառման դասիչը` | B25: 12004 | C25: Առաջին կիսամյակ | D25: Ինն ամիս | E25: Տարի
A26: Միջոցառման անվանումը` | B26: ='1'!C28 -> Աջակցություն կորոնավիրուսի (COVID-19) տարածման հետևանքով աշխատանքի շուկայում գոյացած դժվարությունների արդյունքում սոցիալական խնդիրների առջև կանգնած հղի կանանց (Կորոնավիրուսի տնտեսական հետևանքների չեզոքացման յոթերորդ միջոցառում)
A27: Նկարագրությունը` | B27: ='1'!C30 -> Կորոնավիրուսի տարածման հետևանքով աշխատանքի շուկայում գոյացած դժվարությունների արդյունքում սոցիալական խնդիրների առջև կանգնած հղի կանանց միանվագ դրամական օժանդակության տրամադրում
A28: Միջոցառման տեսակը` | B28: Տրասֆերտների տրամադրում
A29: Շահառուների ընտրության չափանիշները | B29: ՀՀ կառավարության 30.03.2020թ-ի N411-Լ և 06.04.2020թ-ի № 484–Լ որոշումների պահանջներին համապատասխան
A30: Արդյունքի չափորոշիչներ
A31: Դրամական աջակցություն ստացողների թիվը | C31: 15500 | D31: 15500 | E31: 15500
A32: Միջոցառման վրա կատարվող ծախսը (հազար դրամ) | C32: =100*C31 -> 1550000 | D32: =100*D31 -> 1550000 | E32: =100*E31 -> 1550000

Sheet 4
A1: Հավելված N 4
A2: ՀՀ կառավարության 2020 թվականի
A3: ______________ ի ___Ն որոշման
A6: ՀԱՅԱՍՏԱՆԻ ՀԱՆՐԱՊԵՏՈՒԹՅԱՆ ԿԱՌԱՎԱՐՈՒԹՅԱՆ 2019 ԹՎԱԿԱՆԻ ԴԵԿՏԵՄԲԵՐԻ 26-Ի ԹԻՎ 1919-Ն ՈՐՈՇՄԱՆ N 9.1 ՀԱՎԵԼՎԱԾԻ 9․1.20 ԱՂՅՈՒՍԱԿՈՒՄ ԿԱՏԱՐՎՈՂ ՓՈՓՈԽՈՒԹՅՈՒՆՆԵՐԸ ԵՎ ԼՐԱՑՈՒՄՆԵՐԸ
A8: ՀՀ աշխատանքի և սոցիալական հարցերի նախարարության սոցիալական ապահովության ծառայություն
A10: ՄԱՍ 2. ՊԵՏԱԿԱՆ ՄԱՐՄՆԻ ԳԾՈՎ ԱՐԴՅՈՒՆՔԱՅԻՆ (ԿԱՏԱՐՈՂԱԿԱՆ) ՑՈՒՑԱՆԻՇՆԵՐԸ
A11: Ծրագրի դասիչը | B11: Ծրագրի անվանումը
A12: 1225 | B12: Ճգնաժամերի հակազդման և արտակարգ իրավիճակների հետևանքների նվազեցման և վերացման նպատակով՝ առանձին սոցիալական խմբերին տրվող սոցիալական աջակցություն
A14: Միջոցառման անվանումը` | B14: 1225 | C14: Ցուցանիշների փոփոխությունը (նվազեցումները նշված են փակագծերում)
A15: Միջոցառման դասիչը` | B15: 12002 | C15: Առաջին կիսամյակ | D15: Ինն ամիս | E15: Տարի
A16: Միջոցառման անվանումը` | B16: Կորոնավիրուսի (COVID-19)հետևանքով ճգնաժամերի հակազդման և արտակարգ իրավիճակների հետևանքների նվազեցման և վերացման նպատակով՝ առանձին սոցիալական խմբերին տրվող սոցիալական աջակցություն
A17: Նկարագրությունը` | B17: Կորոնավիրուսի (COVID-19) հետևանքով օժանդակել ճգնաժամերի հակազդման և արտակարգ իրավիճակների հետևանքներով ընտանիքների առջև ծառացած սոցիալական խնդիրների բացասական հետևանքների մեղմմանը
A18: Միջոցառման տեսակը` | B18: Տրասֆերտների տրամադրում
A19: Շահառուների ընտրության չափանիշները | B19: ՀՀ կառավարության որոշումներով հաստատված Կորոնավիրուսի (COVID-19) տնտեսական հետևանքների չեզոքացման միջոցառման պահանջներին համապատասխան
A20: Արդյունքի չափորոշիչներ
A21: Դրամական աջակցություն ստացողներ, թիվ | C21: մշակված չէ
A22: Միջոցառման վրա կատարվող ծախսը (հազար դրամ) | C22: ='3'!C22 -> -1550000 | D22: ='3'!D22 -> -1550000 | E22: ='3'!E22 -> -1550000
A24: Միջոցառման անվանումը` | B24: 1225 | C24: Ցուցանիշների փոփոխությունը (ավելացումները նշված են դրական նշանով)
A25: Միջոցառման դասիչը` | B25: 12004 | C25: Առաջին կիսամյակ | D25: Ինն ամիս | E25: Տարի
A26: Միջոցառման անվանումը` | B26: ='1'!C28 -> Աջակցություն կորոնավիրուսի (COVID-19) տարածման հետևանքով աշխատանքի շուկայում գոյացած դժվարությունների արդյունքում սոցիալական խնդիրների առջև կանգնած հղի կանանց (Կորոնավիրուսի տնտեսական հետևանքների չեզոքացման յոթերորդ միջոցառում)
A27: Նկարագրությունը` | B27: ='3'!B27 -> Կորոնավիրուսի տարածման հետևանքով աշխատանքի շուկայում գոյացած դժվարությունների արդյունքում սոցիալական խնդիրների առջև կանգնած հղի կանանց միանվագ դրամական օժանդակության տրամադրում
A28: Միջոցառման տեսակը` | B28: Տրասֆերտների տրամադրում
A29: Շահառուների ընտրության չափանիշները | B29: ='3'!B29 -> ՀՀ կառավարության 30.03.2020թ-ի N411-Լ և 06.04.2020թ-ի № 484–Լ որոշումների պահանջներին համապատասխան
A30: Արդյունքի չափորոշիչներ
A31: Դրամական աջակցություն ստացողների թիվը | C31: ='3'!C31 -> 15500 | D31: ='3'!D31 -> 15500 | E31: ='3'!E31 -> 15500
A32: Միջոցառման վրա կատարվող ծախսը (հազար դրամ) | C32: ='3'!C32 -> 1550000 | D32: ='3'!D32 -> 1550000 | E32: ='3'!E32 -> 1550000
