Workbook

Sheet 1
A1: Հավելված N 1
A2: ՀՀ կառավարության 2020 թվականի
A3: -ի N -Ն որոշման
A4: «ՀԱՅԱՍՏԱՆԻ ՀԱՆՐԱՊԵՏՈՒԹՅԱՆ 2019 ԹՎԱԿԱՆԻ ՊԵՏԱԿԱՆ ԲՅՈՒՋԵԻ ՄԱՍԻՆ» ՀՀ ՕՐԵՆՔԻ N 1 ՀԱՎԵԼՎԱԾԻ N 3 ԱՂՅՈՒՍԱԿՈՒՄ ԿԱՏԱՐՎՈՂ ՓՈՓՈԽՈՒԹՅՈՒՆՆԵՐԸ
G5: հազար դրամներով
A6: Ծրագրային դասիչ | C6: Բյուջետային գլխավոր կարգադրիչների, ծրագրերի, միջոցառումների և ուղղությունների անվանումները | D6: Ցուցանիշների փոփոխությունը (ավելացումները նշված են դրական նշանով, իսկ նվազեցումները՝ փակագծերում)
D7: Ընդամենը, | E7: այդ թվում՝
A8: Ծրագիր | B8: Միջոցառում | E8: Կառուցման աշխատանքներ | F8: Վերակառուցման, վերանորոգման և վերականգնման աշխատանքներ | G8: Նախագծահե- տազոտական, գեոդեզիա- քարտեզագրա- կան աշխա- տանքներ | H8: Ոչ ֆինանսական այլ ակտիվների ձեռքբերում
C9: ԸՆԴԱՄԵՆԸ | D9: =D11 -> 0 | E9: =E11 -> -24745.5 | F9: =F11 -> 0 | G9: =G11 -> 24745.5 | H9: =H11 -> 0
C10: այդ թվում՝
C11: ՀՀ տարածքային կառավարման և ենթակառուցվածքների նախարարություն | D11: =D13 -> 0 | E11: =E13 -> -24745.5 | F11: =F13 -> 0 | G11: =G13 -> 24745.5 | H11: =H13 -> 0
C12: այդ թվում`
A13: 1004 | B13: 31010 | C13: Հեր-Հերի ջրամբարից ինքնահոս ջրատարի կառուցում | D13: =SUM(E13:H13) -> 0 | E13: -24745.5 | G13: 24745.5

Sheet 2
A1: Հավելված N2
A2: ՀՀ կառավարության 2020 թվականի
A3: -ի N -Ն որոշման
A4: ՀԱՅԱՍՏԱՆԻ ՀԱՆՐԱՊԵՏՈՒԹՅԱՆ ԿԱՌԱՎԱՐՈՒԹՅԱՆ 2019 ԹՎԱԿԱՆԻ ԴԵԿՏԵՄԲԵՐԻ 26-Ի N 1919-Ն ՈՐՈՇՄԱՆ N 3 ԵՎ N 4 ՀԱՎԵԼՎԱԾՆԵՐՈՒՄ ԿԱՏԱՐՎՈՂ ՓՈՓՈԽՈՒԹՅՈՒՆՆԵՐԸ ԵՎ ԼՐԱՑՈՒՄՆԵՐԸ
I6: հազար դրամ
A7: Գործառական դասիչը | D7: Ծրագրային դասիչը | F7: Բյուջետային ծախսերի գործառական դասակարգման բաժինների, խմբերի և դասերի, բյուջետային ծրագրերի միջոցառումների, բյուջետային հատկացումների գլխավոր կարգադրիչների անվանումները | G7: Ցուցանիշների փոփոխությունը (ավելացումները նշված են դրական նշանով, իսկ նվազեցումները՝ փակագծերում)
G8: Առաջին կիսամյակ | H8: Ինն ամիս | I8: Տարի
A9: Բաժին | B9: Խումբ | C9: Դաս | D9: Ծրագիր | E9: Միջոցառում
F10: ԸՆԴԱՄԵՆԸ ԾԱԽՍԵՐ | G10: =G12 -> 0 | H10: =H12 -> 0 | I10: =I12 -> 0
F11: այդ թվում`
A12: 04 | F12: ՏՆՏԵՍԱԿԱՆ ՀԱՐԱԲԵՐՈՒԹՅՈՒՆՆԵՐ | G12: =G14 -> 0 | H12: =H14 -> 0 | I12: =I14 -> 0
F13: այդ թվում`
B14: 02 | F14: Գյուղատնտեսություն, անտառային տնտեսություն, ձկնորսություն և որսորդություն | G14: =G16 -> 0 | H14: =H16 -> 0 | I14: =I16 -> 0
F15: այդ թվում`
C16: 04 | F16: Ոռոգում | G16: =G18 -> 0 | H16: =H18 -> 0 | I16: =I18 -> 0
F17: այդ թվում`
F18: ՀՀ տարածքային կառավարման և ենթակառուցվածքների նախարարություն | G18: =G20 -> 0 | H18: =H20 -> 0 | I18: =I20 -> 0
F19: այդ թվում`
D20: 1004 | F20: Ոռոգման համակարգի առողջացում | G20: =G22 -> 0 | H20: =H22 -> 0 | I20: =I22 -> 0
F21: այդ թվում`
E22: 31010 | F22: ='1'!C13 -> Հեր-Հերի ջրամբարից ինքնահոս ջրատարի կառուցում | G22: =G24+G30 -> 0 | H22: =H24+H30 -> 0 | I22: =I24+I30 -> 0
F23: այդ թվում` ըստ կատարողների
F24: ՀՀ կառավարություն | G24: =G26 -> -24745.5 | H24: =H26 -> -24745.5 | I24: =I26 -> -24745.5
F25: այդ թվում` բյուջետային ծախսերի տնտեսագիտական դասակարգման հոդվածներ
F26: ԸՆԴԱՄԵՆԸ ԾԱԽՍԵՐ | G26: =G27 -> -24745.5 | H26: =H27 -> -24745.5 | I26: =I27 -> -24745.5
F27: ՈՉ ՖԻՆԱՆՍԱԿԱՆ ԱԿՏԻՎՆԵՐԻ ԳԾՈՎ ԾԱԽՍԵՐ | G27: =G28 -> -24745.5 | H27: =H28 -> -24745.5 | I27: =I28 -> -24745.5
F28: ՀԻՄՆԱԿԱՆ ՄԻՋՈՑՆԵՐ | G28: =G29 -> -24745.5 | H28: =H29 -> -24745.5 | I28: =I29 -> -24745.5
F29: - Շենքերի և շինությունների շինարարություն | G29: -24745.5 | H29: =G29 -> -24745.5 | I29: =H29 -> -24745.5
F30: ՀՀ տարածքային կառավարման և ենթակառուցվածքների նախարարության ջրային կոմիտե | G30: =G32 -> 24745.5 | H30: =H32 -> 24745.5 | I30: =I32 -> 24745.5
F31: այդ թվում` բյուջետային ծախսերի տնտեսագիտական դասակարգման հոդվածներ
F32: ԸՆԴԱՄԵՆԸ ԾԱԽՍԵՐ | G32: =G33 -> 24745.5 | H32: =H33 -> 24745.5 | I32: =I33 -> 24745.5
F33: ՈՉ ՖԻՆԱՆՍԱԿԱՆ ԱԿՏԻՎՆԵՐԻ ԳԾՈՎ ԾԱԽՍԵՐ | G33: =G34 -> 24745.5 | H33: =H34 -> 24745.5 | I33: =I34 -> 24745.5
F34: ԱՅԼ ՀԻՄՆԱԿԱՆ ՄԻՋՈՑՆԵՐ | G34: =G35 -> 24745.5 | H34: =H35 -> 24745.5 | I34: =I35 -> 24745.5
F35: - Նախագծահետազոտական ծախսեր | G35: 24745.5 | H35: =G35 -> 24745.5 | I35: =H35 -> 24745.5

Sheet 3
A1: Հավելված N 3
A2: ՀՀ կառավարության 2020 թվականի
A3: -ի N -Ն որոշման
A4: ԿԱՌԱՎԱՐՈՒԹՅԱՆ 2019 ԹՎԱԿԱՆԻ ԴԵԿՏԵՄԲԵՐԻ 26-Ի N 1919-Ն ՈՐՈՇՄԱՆ N 5 ՀԱՎԵԼՎԱԾԻ N 2 ԱՂՅՈՒՍԱԿՈՒՄ ԿԱՏԱՐՎՈՂ ԼՐԱՑՈՒՄՆԵՐԸ
F5: հազար դրամներով
A6: Ծրագրային դասիչ | C6: Բյուջետային գլխավոր կարգադրիչների, ծրագրերի, միջոցառումների, միջոցառումները կատարող պետական մարմինների և ուղղությունների անվանումները | D6: Ցուցանիշների փոփոխությունը (ավելացումները նշված են դրական նշանով, իսկ նվազեցումները՝ փակագծերում)
D7: Առաջին կիսամյակ | E7: Ինն ամիս | F7: Տարի
A8: Ծրագիր | B8: Միջոցառում
C9: ԸՆԴԱՄԵՆԸ | D9: =D11 -> 0 | E9: =E11 -> 0 | F9: =F11 -> 0
C10: այդ թվում՝
C11: ՀՀ ՏԱՐԱԾՔԱՅԻՆ ԿԱՌԱՎԱՐՄԱՆ ԵՎ ԵՆԹԱԿԱՌՈՒՑՎԱԾՔՆԵՐԻ ՆԱԽԱՐԱՐՈՒԹՅՈՒՆ | D11: =D13 -> 0 | E11: =E13 -> 0 | F11: =F13 -> 0
C12: այդ թվում`
A13: 1004 | B13: 31010 | C13: ='1'!C13 -> Հեր-Հերի ջրամբարից ինքնահոս ջրատարի կառուցում | D13: =D15+D16 -> 0 | E13: =E15+E16 -> 0 | F13: =F15+F16 -> 0
C14: այդ թվում` ըստ կատարողների
C15: ՀՀ կառավարություն | D15: ='2'!G29 -> -24745.5 | E15: ='2'!H29 -> -24745.5 | F15: ='2'!I29 -> -24745.5
C16: ՀՀ տարածքային կառավարման և ենթակառուցվածքների նախարարության ջրային կոմիտե | D16: ='2'!G35 -> 24745.5 | E16: ='2'!H35 -> 24745.5 | F16: ='2'!I35 -> 24745.5

Sheet 4-1
F1: Հավելված N 4
E2: Աղյուսակ 1
F3: ՀՀ կառավարության 2020 թվականի
F4: -ի N -Ն որոշման
A6: ՀԱՅԱՍՏԱՆԻ ՀԱՆՐԱՊԵՏՈՒԹՅԱՆ ԿԱՌԱՎԱՐՈՒԹՅԱՆ 2019 ԹՎԱԿԱՆԻ ԴԵԿՏԵՄԲԵՐԻ 26-Ի N 1919-Ն ՈՐՈՇՄԱՆ N 9 ՀԱՎԵԼՎԱԾԻ N 9.8 ԱՂՅՈՒՍԱԿՈՒՄ ԿԱՏԱՐՎՈՂ ՓՈՓՈԽՈՒԹՅՈՒՆՆԵՐԸ ԵՎ ԼՐԱՑՈՒՄՆԵՐԸ
E8: Աղյուսակ 9.8
A9: ՀՀ տարածքային կառավարման և ենթակառուցվածքների նախարարություն
A10: ՄԱՍ 2. ՊԵՏԱԿԱՆ ՄԱՐՄՆԻ ԳԾՈՎ ԱՐԴՅՈՒՆՔԱՅԻՆ (ԿԱՏԱՐՈՂԱԿԱՆ) ՑՈՒՑԱՆԻՇՆԵՐԸ
A11: Ծրագրի դասիչը | B11: Ծրագրի անվանումը
A12: 1004 | B12: Ոռոգման համակարգի առողջացում
A13: Ծրագրի միջոցառումները
A14: Ծրագրի դասիչը` | B14: 1004 | C14: Ցուցանիշների փոփոխությունը (ավելացումները նշված են դրական նշանով)
A15: Միջոցառման դասիչը` | B15: 31010 | C15: Առաջին կիսամյակ | D15: Ինն ամիս | E15: Տարի
A16: Միջոցառման անվանումը` | B16: Հեր-Հերի ջրամբարից ինքնահոս ջրատարի կառուցում_x000D_
A17: Նկարագրությունը` | B17: Հեր-Հերի ջրամբարից ինքնահոս ջրատարի կառուցման համար նախագծերի և աշխատանքների ձեռքբերում
A18: Միջոցառման տեսակը` | B18: Պետական մարմինների կողմից օգտագործվող ոչ ֆինանսական ակտիվների հետ գործառնություններ
A19: Ակտիվն օգտագործող կազմակերպության անվանումը | B19: ՀՀ ՏԿԵՆ ջրային կոմիտե
A20: Արդյունքի չափորոշիչներ
A21: Նախագծանախահաշվային փաստաթղթեր, հատ | C21: 1 | D21: 1 | E21: 1
A22: Միջոցառման վրա կատարվող ծախսը (հազար դրամ) | C22: 0 | D22: =C22 -> 0 | E22: =D22 -> 0

Sheet 4-2
F1: Հավելված N 4
E2: Աղյուսակ 2
F3: ՀՀ կառավարության 2020 թվականի
F4: -ի N -Ն որոշման
A5: ՀԱՅԱՍՏԱՆԻ ՀԱՆՐԱՊԵՏՈՒԹՅԱՆ ԿԱՌԱՎԱՐՈՒԹՅԱՆ 2019 ԹՎԱԿԱՆԻ ԴԵԿՏԵՄԲԵՐԻ 26-Ի N 1919-Ն ՈՐՈՇՄԱՆ N 9.1 ՀԱՎԵԼՎԱԾԻ N 9.1.26 ԵՎ N 9.1.58 ԱՂՅՈՒՍԱԿՆԵՐՈՒՄ ԿԱՏԱՐՎՈՂ ՓՈՓՈԽՈՒԹՅՈՒՆՆԵՐԸ ԵՎ ԼՐԱՑՈՒՄՆԵՐԸ
E6: Աղյուսակ 9.1.26
A7: ՀՀ տարածքային կառավարման և ենթակառուցվածքների նախարարության ջրային կոմիտե
A8: ՄԱՍ 2. ՊԵՏԱԿԱՆ ՄԱՐՄՆԻ ԳԾՈՎ ԱՐԴՅՈՒՆՔԱՅԻՆ (ԿԱՏԱՐՈՂԱԿԱՆ) ՑՈՒՑԱՆԻՇՆԵՐԸ
A9: Ծրագրի դասիչը | B9: Ծրագրի անվանումը
A10: 1004 | B10: Ոռոգման համակարգի առողջացում
A11: Ծրագրի միջոցառումները
A12: Ծրագրի դասիչը` | B12: 1004 | C12: Ցուցանիշների փոփոխությունը (ավելացումները նշված են դրական նշանով)
A13: Միջոցառման դասիչը` | B13: 31010 | C13: Առաջին կիսամյակ | D13: Ինն ամիս | E13: Տարի
A14: Միջոցառման անվանումը` | B14: ='4-1'!B16 -> Հեր-Հերի ջրամբարից ինքնահոս ջրատարի կառուցում_x000D_
A15: Նկարագրությունը` | B15: ='4-1'!B17 -> Հեր-Հերի ջրամբարից ինքնահոս ջրատարի կառուցման համար նախագծերի և աշխատանքների ձեռքբերում
A16: Միջոցառման տեսակը` | B16: Պետական մարմինների կողմից օգտագործվող ոչ ֆինանսական ակտիվների հետ գործառնություններ
A17: Ակտիվն օգտագործող կազմակերպության անվանումը | B17: ՀՀ ՏԿԵՆ ջրային կոմիտե
A18: Արդյունքի չափորոշիչներ
A19: Նախագծանախահաշվային փաստաթղթեր, հատ | C19: 1 | D19: 1 | E19: 1
A20: Միջոցառման վրա կատարվող ծախսը (հազար դրամ) | C20: ='2'!G35 -> 24745.5 | D20: =C20 -> 24745.5 | E20: =D20 -> 24745.5
F22: Աղյուսակ 9.1.58
A23: ՀՀ կառավարություն
A24: ՄԱՍ 2. ՊԵՏԱԿԱՆ ՄԱՐՄՆԻ ԳԾՈՎ ԱՐԴՅՈՒՆՔԱՅԻՆ (ԿԱՏԱՐՈՂԱԿԱՆ) ՑՈՒՑԱՆԻՇՆԵՐԸ
A26: Ծրագրի դասիչը | B26: Ծրագրի անվանումը
A27: 1004 | B27: Ոռոգման համակարգի առողջացում
A28: Ծրագրի միջոցառումները
A29: Ծրագրի դասիչը` | B29: 1004 | C29: Ցուցանիշների փոփոխությունը (նվազեցումները նշված են փակագծերում)
A30: Միջոցառման դասիչը` | B30: 31010 | C30: Առաջին կիսամյակ | D30: Ինն ամիս | E30: Տարի
A31: Միջոցառման անվանումը` | B31: Հեր-Հերի ջրամբարից ինքնահոս ջրատարի կառուցում_x000D_
A32: Նկարագրությունը` | B32: Հեր-Հերի ջրամբարից ինքնահոս ջրատարի կառուցման համար նախագծերի և աշխատանքների ձեռքբերում
A33: Միջոցառման տեսակը` | B33: Պետական մարմինների կողմից օգտագործվող ոչ ֆինանսական ակտիվների հետ գործառնություններ
A34: Ակտիվն օգտագործող կազմակերպության անվանումը | B34: ՀՀ ՏԿԵՆ ջրային կոմիտե
A35: Արդյունքի չափորոշիչներ
A36: Միջոցառման վրա կատարվող ծախսը (հազար դրամ) | C36: ='2'!G29 -> -24745.5 | D36: =C36 -> -24745.5 | E36: =D36 -> -24745.5

Sheet 5
A2: Հավելված N 5
A3: ՀՀ կառավարության 2020 թվականի
A4: -ի N -Ն որոշման
A6: ԿԱՌԱՎԱՐՈՒԹՅԱՆ 2019 ԹՎԱԿԱՆԻ ԴԵԿՏԵՄԲԵՐԻ 26-Ի N 1919-Ն ՈՐՈՇՄԱՆ N 10 ՀԱՎԵԼՎԱԾՈՒՄ ԿԱՏԱՐՎՈՂ ԼՐԱՑՈՒՄՆԵՐԸ
A8: Կոդը | B8: Անվանումը | C8: Գնման ձևը | D8: Չափի միավորը | E8: Միավորի գինը | F8: Ցուցանիշների փոփոխությունը (ավելացումները նշված են դրական նշանով)
F9: քանակը | G9: գումարը (հազ. դրամ)
A10: ՀՀ տարածքային կառավարման և ենթակառուցվածքների նախարարության ջրային կոմիտե | G10: =G11 -> 24745.5
A11: Ծրագիր <<Ոռոգման համակարգի առողջացում>> Միջոցառում <<Հեր-Հերի ջրամբարից ինքնահոս ջրատարի կառուցում>> Բաժին N 04 , Խումբ 02 , Դաս 04 Ծրագիր 1004 Միջոցառում 31010 | G11: =G12 -> 24745.5
B12: ՄԱՍ II ԱՇԽԱՏԱՆՔՆԵՐ | G12: =SUM(G13:G13) -> 24745.5
A13: 71241200/1 | B13: Նախագծերի պատրաստում, ծախսերի գնահատում | C13: ԳՀ | D13: դրամ | E13: 24745500 | F13: 1 | G13: =E13*F13/1000 -> 24745.5
