Workbook
Name _tab10: #REF!
Name _tab10: #REF!
Name _tab11: #REF!
Name _tab11: #REF!
Name _tab12: #REF!
Name _tab12: #REF!
Name _tab13: #REF!
Name _tab13: #REF!
Name _tab14: #REF!
Name _tab14: #REF!
Name _tab15: #REF!
Name _tab15: #REF!
Name _tab16: #REF!
Name _tab16: #REF!
Name _tab17: #REF!
Name _tab17: #REF!
Name _tab18: #REF!
Name _tab18: #REF!
Name _tab19: #REF!
Name _tab19: #REF!
Name _tab20: #REF!
Name _tab20: #REF!
Name _tab21: #REF!
Name _tab21: #REF!
Name _tab22: #REF!
Name _tab22: #REF!
Name _tab23: #REF!
Name _tab23: #REF!
Name _tab24: #REF!
Name _tab24: #REF!
Name _tab5: #REF!
Name _tab5: #REF!
Name _tab6: #REF!
Name _tab6: #REF!
Name _tab7: #REF!
Name _tab7: #REF!
Name _tab8: #REF!
Name _tab8: #REF!
Name _tab9: #REF!
Name _tab9: #REF!
Name par_count: #REF!,#REF!,#REF!,#REF!,#REF!,#REF!,#REF!,#REF!,#REF!,#REF!,#REF!,#REF!,#REF!,#REF!,#REF!
Name par_count: #REF!,#REF!,#REF!,#REF!,#REF!,#REF!,#REF!,#REF!,#REF!,#REF!,#REF!,#REF!,#REF!,#REF!,#REF!
Name par_qual: #REF!,#REF!,#REF!,#REF!,#REF!
Name par_qual: #REF!,#REF!,#REF!,#REF!,#REF!
Name par_time: #REF!,#REF!,#REF!,#REF!
Name par_time: #REF!,#REF!,#REF!,#REF!
Name par2.12s: #REF!
Name par2.12s: #REF!
Name par2.4s: #REF!,#REF!,#REF!,#REF!,#REF!,#REF!,#REF!,#REF!,#REF!,#REF!,#REF!,#REF!,#REF!,#REF!,#REF!,#REF!
Name par2.4s: #REF!,#REF!,#REF!,#REF!,#REF!,#REF!,#REF!,#REF!,#REF!,#REF!,#REF!,#REF!,#REF!,#REF!,#REF!,#REF!
Name par2.5s: #REF!,#REF!
Name par2.5s: #REF!,#REF!
Name par2.6s: #REF!,#REF!,#REF!,#REF!
Name par2.6s: #REF!,#REF!,#REF!,#REF!
Name par2.7s: #REF!,#REF!
Name par2.7s: #REF!,#REF!
Name par2.9s: #REF!,#REF!,#REF!,#REF!,#REF!,#REF!,#REF!,#REF!,#REF!,#REF!,#REF!,#REF!,#REF!,#REF!,#REF!,#REF!
Name par2.9s: #REF!,#REF!,#REF!,#REF!,#REF!,#REF!,#REF!,#REF!,#REF!,#REF!,#REF!,#REF!,#REF!,#REF!,#REF!,#REF!
Name par4.10s: #REF!,#REF!
Name par4.10s: #REF!,#REF!

Sheet 1
G2: Հավելված № 1
F3: ՀՀ կառավարության 2020 թվականի
G4: № ------------ -Ն որոշման
A6: ՀԱՅԱՍՏԱՆԻ ՀԱՆՐԱՊԵՏՈՒԹՅԱՆ ԿԱՌԱՎԱՐՈՒԹՅԱՆ 2019 ԹՎԱԿԱՆԻ ԴԵԿՏԵՄԲԵՐԻ 26-Ի № 1919-Ն ՈՐՈՇՄԱՆ NN 3 և 4 ՀԱՎԵԼՎԱԾՆԵՐՈՒՄ ԿԱՏԱՐՎՈՂ ՓՈՓՈԽՈՒԹՅՈՒՆՆԵՐԸ ԵՎ ԼՐԱՑՈՒՄԸ
A8: Գործառական դասիչը | D8: Ծրագրային դասիչը | F8: Բյուջետային հատկացումների գլխավոր կարգադրիչների, ծրագրերի, միջոցառումների և միջոցառումները կատարող պետական մարմինների անվանումները | G8: Ցուցանիշների փոփոխությունները (ավելացումները նշված են դրական նշանով իսկ նվազեցումները` փակագծերում)
A9: բաժին | B9: խումբ | C9: դաս | D9: Ծրագիր | E9: Միջոցառում | G9: Տարի
A10: 07 | F10: ԱՌՈՂՋԱՊԱՀՈՒԹՅՈՒՆ | G10: =G12+G27 -> 0
F11: այդ թվում՝
B12: 03 | F12: Հիվանդանոցային ծառայություններ | G12: =+G14 -> -234600
F13: այդ թվում՝
C14: 02 | F14: Մասնագիտացված հիվանդանոցային ծառայություններ | G14: =G18 -> -234600
F15: այդ թվում՝
D16: 1208 | F16: Վարակիչ հիվանդությունների կանխարգելման ծրագիր
F17: այդ թվում՝
E18: 11002 | F18: Տուբերկուլյոզի բժշկական օգնության ծառայություններ | G18: =G20 -> -234600
F19: այդ թվում՝ ըստ կատարողների
F20: ՀՀ առողջապահության նախարարություն | G20: =G26 -> -234600
F21: այդ թվում՝ բյուջետային ծախսերի տնտեսագիտական դասակարգման հոդվածներ
F22: ԸՆԴԱՄԵՆԸ ԾԱԽՍԵՐ | G22: =G23 -> -234600
F23: ԸՆԹԱՑԻԿ ԾԱԽՍԵՐ | G23: =G24 -> -234600
F24: ԾԱՌԱՅՈՒԹՅՈՒՆՆԵՐԻ ԵՎ ԱՊՐԱՆՔՆԵՐԻ ՁԵՌՔԲԵՐՈՒՄ | G24: =G25 -> -234600
F25: Պայմանագրային այլ ծառայությունների ձեռքբերում | G25: =G26 -> -234600
F26: Ընդհանուր բնույթի այլ ծառայություններ | G26: -234600
B27: 06 | F27: Առողջապահություն (այլ դասերին չպատկանող) | G27: =G29 -> 234600
F28: այդ թվում`
C29: 02 | F29: Առողջապահություն (այլ դասերին չպատկանող) | G29: =G31 -> 234600
F30: այդ թվում`
D31: 1126 | F31: Առողջապահության ոլորտում պետական քաղաքականության մշակում, ծրագրերի համակարգում և մոնիտորինգ | G31: 234600
F32: այդ թվում`
E33: 31002 | F33: Առողջապահական կազմակերպությունների վերազինում
F34: այդ թվում՝ ըստ կատարողների
F35: ՀՀ առողջապահության նախարարություն | G35: =G31 -> 234600
F36: այդ թվում՝ բյուջետային ծախսերի տնտեսագիտական դասակարգման հոդվածներ
F37: ԸՆԴԱՄԵՆԸ՝ ԾԱԽՍԵՐ | G37: =G39 -> 234600
F38: ՈՉ ՖԻՆԱՆՍԱԿԱՆ ԱԿՏԻՎՆԵՐԻ ԳԾՈՎ ԾԱԽՍԵՐ | G38: =G41 -> 234600
F39: ՀԻՄՆԱԿԱՆ ՄԻՋՈՑՆԵՐ | G39: =G40 -> 234600
F40: Մեքենաներ և սարքավորումներ | G40: =G41 -> 234600
F41: - Վարչական սարքավորումներ | G41: 234600
A42: 11 | F42: ՀԻՄՆԱԿԱՆ ԲԱԺԻՆՆԵՐԻՆ ՉԴԱՍՎՈՂ ՊԱՀՈՒՍՏԱՅԻՆ ՖՈՆԴԵՐ | G42: 0
F43: այդ թվում՝
...

Sheet 2
D2: Հավելված № 2
C3: ՀՀ կառավարության 2020 թվականի
D4: № ------------ -Ն որոշման
A6: ՀԱՅԱՍՏԱՆԻ ՀԱՆՐԱՊԵՏՈՒԹՅԱՆ 2020 ԹՎԱԿԱՆԻ ՊԵՏԱԿԱՆ ԲՅՈՒՋԵԻ ՄԱՍԻՆ» ՀԱՅԱՍՏԱՆԻ ՀԱՆՐԱՊԵՏՈՒԹՅԱՆ ՕՐԵՆՔԻ N 1 ՀԱՎԵԼՎԱԾԻ N 2 ԱՂՅՈՒՍԱԿՈՒՄ ԿԱՏԱՐՎՈՂ ՎԵՐԱԲԱՇԽՈՒՄԸ ԵՎ ՀԱՅԱՍՏԱՆԻ ՀԱՆՐԱՊԵՏՈՒԹՅԱՆ ԿԱՌԱՎԱՐՈՒԹՅԱՆ 2019 ԹՎԱԿԱՆԻ ԴԵԿՏԵՄԲԵՐԻ 26-Ի № 1919-Ն ՈՐՈՇՄԱՆ № 5 ՀԱՎԵԼՎԱԾԻ № 1 ԱՂՅՈՒՍԱԿՈՒՄ ԿԱՏԱՐՎՈՂ ՓՈՓՈԽՈՒԹՅՈՒՆՆԵՐԸ ԵՎ ԼՐԱՑՈՒՄԸ
A8: Ծրագրային դասիչը | C8: Բյուջետային հատկացումների գլխավոր կարգադրիչների, ծրագրերի և միջոցառումների անվանումները | D8: Ցուցանիշների փոփոխությունները (ավելացումները նշված են դրական նշանով իսկ նվազեցումները` փակագծերում)
A9: Ծրագիր | B9: Միջոցառում | D9: Տարի
C10: ԸՆԴԱՄԵՆԸ | D10: =D12+D25 -> 0
C11: ՀՀ առողջապահության նախարարություն
A12: 1208 | C12: Ծրագրի անվանումը՝ | D12: =D19 -> -234600
C13: Վարակիչ հիվանդությունների կանխարգելման ծրագիր
C14: Ծրագրի նպատակը՝
C15: Վարակիչ և բնակչության համար մեծ ռիսկ ներկայացնող հիվանդությունների (մալարիա՝ տուբերկուլյոզ՝ ՄԻԱՎ/ՁԻԱՀ և այլն) վաղ հայտնաբերում՝ արդյունվետ հակազդում և բժշկական օգնության ապահովում:
C16: Վերջնական արդյունքի նկարագրությունը՝
C17: Վարակի փոխանցման՝ վարակիչ հիվանդություններով պայմանավորված հիվանդացության և մահացության նվազեցում
C18: Ծրագրի միջոցառումներ
B19: 11002 | C19: Միջոցառման անվանումը՝ | D19: -234600
C20: Տուբերկուլյոզի բժշկական օգնության ծառայություններ
C21: Միջոցառման նկարագրությունը՝
C22: Տուբերկուլյոզի վաղ հայտնաբերմանն ուղղված ախտորոշիչ և այլ հետազոտություններ՝ հիվանդների բուժում
C23: Միջոցառման տեսակը՝
C24: Ծառայությունների մատուցում
A25: 1126 | C25: Ծրագրի անվանումը՝ | D25: =D32 -> 234600
C26: Առողջապահության ոլորտում պետական քաղաքականության մշակում,ծրագրերի համակարգում և մոնիտորինգ
C27: Ծրագրի նպատակը՝
C28: Մարդու և հանրության առողջության պահպանում, բնակչության առողջության բարելավում, հիվանդությունների կանխարգելում, հաշմանդամության և մահացության ցուցանիշների նվազեցում
C29: Վերջնական արդյունքի նկարագրությունը՝
C30: Առողջապահության ոլորտում իրականացվող ծրագրերի ազդեցության և արդյունավետության բարելավում
C31: Ծրագրի միջոցառումներ
B32: 31002 | C32: Միջոցառման անվանումը՝ | D32: =+'1'!G31 -> 234600
C33: Առողջապահական կազմակերպությունների վերազինում
C34: Միջոցառման նկարագրությունը՝
C35: Բնակչությանը որակյալ բժշկական օգնության և սպասարկման ծառայություններ մատուցելու նպատակով առողջապահական կազմակերպությունների անհրաժեշտ սարքավորումներով վերազինում
C36: Միջոցառման տեսակը՝
C37: Ծառայությունների մատուցում
C38: ՀՀ կառավարություն
C39: Ծրագրի անվանումը
A40: 1139 | C40: ՀՀ կառավարության պահուստային ֆոնդ | D40: =D46+D53 -> 0
C41: Ծրագրի նպատակը
C42: ՀՀ պետական բյուջեով չկանխատեսված, ինչպես նաև բյուջետային երաշխիքների ապահովման ծախսերի ֆինանսավորման ապահովում
C43: Վերջնական արդյունքի նկարագրությունը
...

Sheet 3
E2: Հավելված № 3
C3: ՀՀ կառավարության 2020 թվականի
E4: № ------------ -Ն որոշման
A6: ՀԱՅԱՍՏԱՆԻ ՀԱՆՐԱՊԵՏՈՒԹՅԱՆ 2020 ԹՎԱԿԱՆԻ ՊԵՏԱԿԱՆ ԲՅՈՒՋԵԻ ՄԱՍԻՆ» ՀԱՅԱՍՏԱՆԻ ՀԱՆՐԱՊԵՏՈՒԹՅԱՆ ՕՐԵՆՔԻ N 1 ՀԱՎԵԼՎԱԾԻ N 3 ԵՎ ՀԱՅԱՍՏԱՆԻ ՀԱՆՐԱՊԵՏՈՒԹՅԱՆ ԿԱՌԱՎԱՐՈՒԹՅԱՆ 2019 ԹՎԱԿԱՆԻ ԴԵԿՏԵՄԲԵՐԻ 26-Ի № 1919-Ն ՈՐՈՇՄԱՆ № 5 ՀԱՎԵԼՎԱԾԻ № 2 ԱՂՅՈՒՍԱԿՆԵՐՈՒՄ ԿԱՏԱՐՎՈՂ ԼՐԱՑՈՒՄՆԵՐԸ
E7: հազ. Դրամ
A8: Ծրագրային դասիչը | C8: Բյուջետային հատկացումների գլխավոր կարգադրիչների, ծրագրերի և միջոցառումների անվանումները | D8: Ընդամենը | E8: Ոչ ֆինանսական այլ ակտիվների ձեռքբերում
A9: Ծրագիր | B9: Միջոցառում | E9: Տարի
C10: ԸՆԴԱՄԵՆԸ | E10: =D12 -> 234600
C11: ՀՀ առողջապահության նախարարություն
A12: 1126 | B12: 31002 | C12: Առողջապահական կազմակերպությունների վերազինում | D12: =E12 -> 234600 | E12: 234600

Sheet 4
D2: Հավելված № 4
B3: ՀՀ կառավարության 2020 թվականի
C4: № ------------ -Ն որոշման
A6: ՀԱՅԱՍՏԱՆԻ ՀԱՆՐԱՊԵՏՈՒԹՅԱՆ ԿԱՌԱՎԱՐՈՒԹՅԱՆ 2019 ԹՎԱԿԱՆԻ ԴԵԿՏԵՄԲԵՐԻ 26-Ի N 1919-Ն ՈՐՈՇՄԱՆ N 9 ՀԱՎԵԼՎԱԾԻ 9.9 ԱՂՅՈՒՍԱԿՈՒՄ ԿԱՏԱՐՎՈՂ ՓՈՓՈԽՈՒԹՅՈՒՆՆԵՐԸ ԵՎ ԼՐԱՑՈՒՄԸ _x000D_
A7: ՀՀ Առողջապահության նախարարություն
A8: ՄԱՍ 2. ՊԵՏԱԿԱՆ ՄԱՐՄՆԻ ԳԾՈՎ ԱՐԴՅՈՒՆՔԱՅԻՆ (ԿԱՏԱՐՈՂԱԿԱՆ) ՑՈՒՑԱՆԻՇՆԵՐԸ
A9: Ծրագրի դասիչը | B9: Ծրագրի անվանումը
A10: 1208 | B10: Վարակիչ հիվանդությունների կանխարգելման ծրագիր
A11: Ծրագրի միջոցառումները
A12: Ծրագրի դասիչը` | B12: 1208 | C12: Ցուցանիշների փոփոխությունը (նվազեցումը նշված է փակագծերում)
A13: Միջոցառման դասիչը` | B13: 11002 | C13: Տարի
A14: Միջոցառման անվանումը` | B14: Տուբերկուլյոզի բժշկական օգնության ծառայություններ
A15: Նկարագրությունը` | B15: Տուբերկուլյոզի վաղ հայտնաբերմանն ուղղված ախտորոշիչ և այլ հետազոտություններ՝ հիվանդների բուժում
A16: Միջոցառման տեսակը` | B16: Ծառայությունների մատուցում
A17: Ծառայությունը մատուցող կազմակերպության(ների) անվանում(ներ)ը | B17: ՀՀ գնումների մասին օրենսդրությանը համապատասխան ընտրված կազմակերպություններ
A18: Արդյունքի չափորոշիչներ
A19: Տուբերկուլյոզի բժշկական օգնության գծով ծառայություններից օգտվելու դեպքերի թիվ, հատ
A20: Միջոցառման վրա կատարվող ծախսը (հազար դրամ) | C20: ='1'!G14 -> -234600
A21: Ծրագրի դասիչը | B21: Ծրագրի անվանումը
A22: 1126 | B22: Առողջապահության ոլորտում պետական քաղաքականության մշակում,ծրագրերի համակարգում և մոնիտորինգ
A23: Ծրագրի միջոցառումները
A24: Ծրագրի դասիչը` | B24: 1126 | C24: Ցուցանիշների փոփոխությունը (ավելացումը նշված է դրական նշանով)
A25: Միջոցառման դասիչը` | B25: 31002 | C25: Տարի
A26: Միջոցառման անվանումը` | B26: Առողջապահական կազմակերպությունների վերազինում
A27: Նկարագրությունը` | B27: Բնակչությանը որակյալ բժշկական օգնության և սպասարկման ծառայություններ մատուցելու նպատակով առողջապահական կազմակերպություններին անհրաժեշտ սարքավորումներով և տեխնիկայով վերազինում
A28: Միջոցառման տեսակը` | B28: Ծառայությունների մատուցում
A29: Միջոցառումն իրականացնողի անվանումը | B29: ՀՀ առողջապահության նախարարություն
A30: Արդյունքի չափորոշիչներ
A31: Վերազինված առողջապահական կազմակերպությունների թիվ | C31: 1
A32: Ձեռքբերված սարքավորումների քանակ | C32: 2
A33: Միջոցառման վրա կատարվող ծախսը (հազար դրամ) | C33: =+'1'!G31 -> 234600
A35: ՀԱՅԱՍՏԱՆԻ ՀԱՆՐԱՊԵՏՈՒԹՅԱՆ ԿԱՌԱՎԱՐՈՒԹՅԱՆ 2019 ԹՎԱԿԱՆԻ ԴԵԿՏԵՄԲԵՐԻ 26-Ի N 1919-Ն ՈՐՈՇՄԱՆ N 9 ՀԱՎԵԼՎԱԾԻ 9.58 ԱՂՅՈՒՍԱԿՈՒՄ ԿԱՏԱՐՎՈՂ ՓՈՓՈԽՈՒԹՅՈՒՆԸ ԵՎ ԼՐԱՑՈՒՄԸ _x000D_
A36: ՀՀ կառավարություն
A37: ՄԱՍ 2.ՊԵՏԱԿԱՆ ՄԱՐՄՆԻ ԳԾՈՎ ԱՐԴՅՈՒՆՔԱՅԻՆ (ԿԱՏԱՐՈՂԱԿԱՆ) ՑՈՒՑԱՆԻՇՆԵՐԸ
A39: Ծրագրի դասիչը | B39: Ծրագրի անվանումը
A40: 1139 | B40: ՀՀ կառավարության պահուստային ֆոնդ
A42: Ծրագրի միջոցառումները
A43: Ծրագրի դասիչը` | B43: 1139 | C43: Ցուցանիշների փոփոխությունը (ավելացումը նշված է դրական նշանով)
A44: Միջոցառման դասիչը` | B44: 11001 | C44: Տարի
A45: Միջոցառման անվանումը` | B45: ՀՀ կառավարության պահուստային ֆոնդ
...

Sheet 5
D2: Հավելված № 5
B3: ՀՀ կառավարության 2020 թվականի
C4: № ------------ -Ն որոշման
A6: ՀԱՅԱՍՏԱՆԻ ՀԱՆՐԱՊԵՏՈՒԹՅԱՆ ԿԱՌԱՎԱՐՈՒԹՅԱՆ 2019 ԹՎԱԿԱՆԻ ԴԵԿՏԵՄԲԵՐԻ 26-Ի N 1919-Ն ՈՐՈՇՄԱՆ N 9.1 ՀԱՎԵԼՎԱԾԻ 9.1.9 ԱՂՅՈՒՍԱԿՈՒՄ ԿԱՏԱՐՎՈՂ ՓՈՓՈԽՈՒԹՅՈՒՆՆԵՐԸ ԵՎ ԼՐԱՑՈՒՄԸ _x000D_
A7: ՀՀ Առողջապահության նախարարություն
A8: ՄԱՍ 2. ՊԵՏԱԿԱՆ ՄԱՐՄՆԻ ԳԾՈՎ ԱՐԴՅՈՒՆՔԱՅԻՆ (ԿԱՏԱՐՈՂԱԿԱՆ) ՑՈՒՑԱՆԻՇՆԵՐԸ
A9: Ծրագրի դասիչը | B9: Ծրագրի անվանումը
A10: 1208 | B10: Վարակիչ հիվանդությունների կանխարգելման ծրագիր
A11: Ծրագրի միջոցառումները
A12: Ծրագրի դասիչը` | B12: 1208 | C12: Ցուցանիշների փոփոխությունը (նվազեցումը նշված է փակագծերում)
A13: Միջոցառման դասիչը` | B13: 11002 | C13: Տարի
A14: Միջոցառման անվանումը` | B14: Տուբերկուլյոզի բժշկական օգնության ծառայություններ
A15: Նկարագրությունը` | B15: Տուբերկուլյոզի վաղ հայտնաբերմանն ուղղված ախտորոշիչ և այլ հետազոտություններ՝ հիվանդների բուժում
A16: Միջոցառման տեսակը` | B16: Ծառայությունների մատուցում
A17: Ծառայությունը մատուցող կազմակերպության(ների) անվանում(ներ)ը | B17: ՀՀ գնումների մասին օրենսդրությանը համապատասխան ընտրված կազմակերպություններ
A18: Արդյունքի չափորոշիչներ
A19: Տուբերկուլյոզի բժշկական օգնության գծով ծառայություններից օգտվելու դեպքերի թիվ, հատ
A20: Միջոցառման վրա կատարվող ծախսը (հազար դրամ) | C20: ='1'!G14 -> -234600
A21: Ծրագրի դասիչը | B21: Ծրագրի անվանումը
A22: 1126 | B22: Առողջապահության ոլորտում պետական քաղաքականության մշակում,ծրագրերի համակարգում և մոնիտորինգ
A23: Ծրագրի միջոցառումները
A24: Ծրագրի դասիչը` | B24: 1126 | C24: Ցուցանիշների փոփոխությունը (ավելացումը նշված է դրական նշանով)
A25: Միջոցառման դասիչը` | B25: 31002 | C25: Տարի
A26: Միջոցառման անվանումը` | B26: Առողջապահական կազմակերպությունների վերազինում
A27: Նկարագրությունը` | B27: Բնակչությանը որակյալ բժշկական օգնության և սպասարկման ծառայություններ մատուցելու նպատակով առողջապահական կազմակերպություններին անհրաժեշտ սարքավորումներով և տեխնիկայով վերազինում
A28: Միջոցառման տեսակը` | B28: Ծառայությունների մատուցում
A29: Միջոցառումն իրականացնողի անվանումը | B29: ՀՀ առողջապահության նախարարություն
A30: Արդյունքի չափորոշիչներ
A31: Վերազինված առողջապահական կազմակերպությունների թիվ | C31: 1
A32: Ձեռքբերված սարքավորումների քանակ | C32: 2
A33: Միջոցառման վրա կատարվող ծախսը (հազար դրամ) | C33: =+'1'!G31 -> 234600
A35: ՀԱՅԱՍՏԱՆԻ ՀԱՆՐԱՊԵՏՈՒԹՅԱՆ ԿԱՌԱՎԱՐՈՒԹՅԱՆ 2019 ԹՎԱԿԱՆԻ ԴԵԿՏԵՄԲԵՐԻ 26-Ի N 1919-Ն ՈՐՈՇՄԱՆ N 9.1 ՀԱՎԵԼՎԱԾԻ 9.1.58 ԱՂՅՈՒՍԱԿՈՒՄ ԿԱՏԱՐՎՈՂ ՓՈՓՈԽՈՒԹՅՈՒՆԸ ԵՎ ԼՐԱՑՈՒՄԸ _x000D_
A36: ՀՀ կառավարություն
A37: ՄԱՍ 2.ՊԵՏԱԿԱՆ ՄԱՐՄՆԻ ԳԾՈՎ ԱՐԴՅՈՒՆՔԱՅԻՆ (ԿԱՏԱՐՈՂԱԿԱՆ) ՑՈՒՑԱՆԻՇՆԵՐԸ
A38: Ծրագրի դասիչը | B38: Ծրագրի անվանումը
A39: 1139 | B39: ՀՀ կառավարության պահուստային ֆոնդ
A41: Ծրագրի միջոցառումները
A42: Ծրագրի դասիչը` | B42: 1139 | C42: Ցուցանիշների փոփոխությունը (ավելացումը նշված է դրական նշանով)
A43: Միջոցառման դասիչը` | B43: 11001 | C43: Տարի
A44: Միջոցառման անվանումը` | B44: ՀՀ կառավարության պահուստային ֆոնդ
...

Sheet 6
H2: Հավելված № 6
G3: ՀՀ կառավարության 2020 թվականի
H4: № ------------ -Ն որոշման
A6: ՀԱՅԱՍՏԱՆԻ ՀԱՆՐԱՊԵՏՈՒԹՅԱՆ ԿԱՌԱՎԱՐՈՒԹՅԱՆ 2019 ԹՎԱԿԱՆԻ ԴԵԿՏԵՄԲԵՐԻ 26-Ի N 1919-Ն ՈՐՈՇՄԱՆ N 10 ՀԱՎԵԼՎԱԾՈՒՄ ԿԱՏԱՐՎՈՂ ՓՈՓՈԽՈՒԹՅՈՒՆՆԵՐԸ ԵՎ ԼՐԱՑՈՒՄԸ _x000D_
A7: ՀՀ Առողջապահության նախարարություն
I8: (հազար դրամներով)
A9: Գնման առարկայի | E9: Գնման ձևը (ընթացակարգը) | F9: Չափի միավորը | G9: Միավորի գինը (ՀՀ դրամ) | H9: Քանակը | I9: Ցուցանիշների փոփոխությունը (նվազեցումները` փակագծերում) (հազ. դրամ)
A10: Միջանցիկ կոդը` ըստ CPV դասակարգման | B10: անվանումը
A11: 1 | B11: 2 | E11: 3 | F11: 4 | G11: 5 | H11: 6 | I11: 7
A12: Բաժին 07 | B12: Խումբ 03 | C12: Դաս 02 | D12: Մասնագիտացված հիվանդանոցային ծառայություններ | I12: =+I13 -> -234600
A13: 1208 11002 | B13: Տուբերկուլոզի բժշկական օգնության ծառայություններ | I13: =I15 -> -234600
B14: ՄԱՍ III. ԾԱՌԱՅՈՒԹՅՈՒՆՆԵՐ
A15: 85111120-1 | B15: հիվանդանոցների կողմից մատուցվող բժշկական ծառայություններ | E15: ՄԱ | F15: դրամ | I15: ='1'!G26 -> -234600
A16: Բաժին 07 | B16: Խումբ 06 | C16: Դաս 02 | D16: Առողջապահություն (այլ դասերին չպատկանող) | I16: =I17 -> 234600
A17: 1126 31002 | B17: Առողջապահական կազմակերպությունների վերազինում | I17: =I19+I20 -> 234600
B18: ՄԱՍ I. ԱՊՐԱՆՔՆԵՐ
A19: 33111100-504 | B19: ռենտգեն սարքեր | E19: ԲՄ | F19: հատ | G19: 21600000 | H19: 1 | I19: =G19*H19/1000 -> 21600
A20: 38511210-503 | B20: ֆլուորեսցենտային մանրադիտակներ | E20: ԲՄ | F20: հատ | G20: 213000000 | H20: 1 | I20: =G20*H20/1000 -> 213000
