Workbook
Name _GoBack: Sheet1!#REF!

Sheet Sheet1
A1: ԿՅԱՆՔԻ ԻՐԱՎՈՒՆՔ
A3: Նպատակ. Ապահովել պետության պաշտպանության ներքո գտնվող և ընտանեկան բռնության ենթարկված անձանց կյանքի իրավունքը
A5: Խնդիր. Մահացության դեպքերի թվի կրճատում և թիրախային խմբերի պաշտպանվածության մակարդակի բարձրացում
A6: Գ թիվ | B6: Գործողություն | C6: Ակնկալվող անմիջական արդյունք | D6: Ակնկալվող ազդեցություն | E6: Նվազագույն գնահատական, հազար դրամ | F6: Առավելագույն գնահատական, հազար դրամ | G6: Ծախսերի գնահատական, հազար դրամ | H6: Վերջնաժամկետ | I6: Ֆինանսավորում
A7: 1 | B7: Վերապատրաստումներ (դասընթացներ) իրականացնել կյանքի իրավունքի թեմայով՝ միջազգային չափանիշներին համապատասխան, այդ թվում` ԶՈւ հրամանատարների, ռազմական ոստիկանների, քննիչների, դատախազների, դատավորների, փաստաբանների և քրեակատարողական ծառայության ծառայողների համար | C7: Դասընթացի մշակում | E7: ='Cost details'!G22 -> 15000 | F7: =E7 -> 15000 | G7: =F7 -> 15000 | H7: 2020-2022թթ. պարբերաբար | I7: Պետական բյուջե, Օրենքով չարգելված այլ աղբյուրներ | K7: TR
C8: 1. Վերապատրաստվել է հրամատարների 18%-ը | D8: Նվազել են ԶՈՒ-ում մահվան դեպքերը | E8: ='Cost details'!C83/1000 -> 47376 | F8: =E8 -> 47376 | G8: =F8 -> 47376 | K8: TR
C9: 2. «Մարդու իրավունքները զինված ուժերում» առարկան ներառել Վ.Սարգսյանի անվան ռազմական համալսարանի Սպաների որակավորման բարձրացման կենտրոնի (ՍՈԲԿ) և հրամանատարա-շտաբային ֆակուլտետի (ՀՇՖ) ուսումնական ծրագրերում | E9: 0 | F9: 0 | G9: 0 | K9: TR
C10: Վերապատրաստվել է ռազմական ոստիկանների 17%-ը (ֆինանսական գնահատականը ներառված է սույն կետի ենթակետ 1-ի գնահատականի մեջ) | D10: Նվազել են ԶՈւ-ում մահվան դեպքերը, դրանց վերաբերյալ քրեական գործերով հետաքննության ընթացքում մարդու իրավունքների խախտումները | K10: TR
C11: Վերապատրաստվել է քննիչների 8%-ը | D11: Նվազել են ԶՈւ-ում և ՔԿՀ-ներում մահվան դեպքերի վերաբերյալ քրեական գործերով նախաքննության ընթացքում մարդու իրավունքների խախտումները | E11: 0 | F11: =E11 -> 0 | G11: =F11 -> 0 | K11: TR | L11: թեման ներառված է ԱԱ պարտադիր դասընթացների մեջ: հնարավոր է անհրաժեշտ լինի ընդլայնել
C12: Վերապատրաստվել է դատախազների 4%-ը (հեռաուսուցում, ներառված է դատավորների վերապատրաստման գումարի մեջ) | D12: Նվազել են ԶՈւ-ում և ՔԿՀ-ներում մահվան դեպքերը, դրանց վերաբերյալ քրեական գործերով մինչդատական քննության ընթացքում մարդու իրավունքների խախտումները | K12: TR | L12: թեման ներառված է ԱԱ պարտադիր դասընթացների մեջ: հնարավոր է անհրաժեշտ լինի ընդլայնել
C13: Վերապատրաստվել է դատավորների 41%-ը (հեռաուսուցում) | D13: ԶՈւ-ում և ՔԿՀ-ներում մահվան դեպքերի վերաբերյալ քրեական գործերով նվազել են դատական քննության ընթացքում մարդու իրավունքների խախտման դեպքերը | K13: TR | L13: թեման ներառված է ԱԱ պարտադիր դասընթացների մեջ: հնարավոր է անհրաժեշտ լինի ընդլայնել
C14: Վերապատրաստվել է քրեակատարողական ծառայողների 25%-ը | D14: Նվազել են ՔԿՀ-ներում մահվան դեպքերը | E14: ='Cost details'!C91/1000 -> 12779.282 | F14: =E14 -> 12779.282 | G14: =F14 -> 12779.282 | K14: TR
A15: 2 | B15: Բարձրացնել կյանքի իրավունքի վերաբերյալ զորակոչիկների, զինծառայողների և ազատությունից զրկված անձանց իրազեկությունը | C15: 1. Զորամասերի և զինկոմիսարիատների 60%-ում փակցվել են մարդու իրավունքների (կյանքի իրավունք, խոշտանգումների արգելք) վերաբերյալ պաստառներ | D15: Նվազել են ԶՈւ-ում և ՔԿՀ-ներում մահվան դեպքերը | E15: ='Cost details'!C6 -> 12250 | F15: ='Cost details'!D6 -> 24500 | G15: ='Cost details'!E6 -> 18375 | H15: 2020-2022թթ. պարբերաբար | I15: Պետական բյուջե, Օրենքով չարգելված այլ աղբյուրներ | K15: PR
C16: 1.1 Զորամասերում և զինկոմիսարիատներում իրականացվել է կյանքի իրավունքի վերաբերյալ թվով 15 իրազեկման ակցիա
C17: 1.2 Մշակվել և տարածվել են զորամասերում, զինկոմիսարիատներում մարդու իրավունքների վերաբերյալ առնվազն 3 տեղեկատվական նյութ, այդ թվում` իրավունքների պաշտպանության միջոցների մասին
C18: 1.3 Մշակվել և զանգվածային լրատվության միջոցներով տարածվել են զինված ուժերում մարդու իրավունքների վերաբերյալ առնվազն 3 տեսաձայնագրություն
C19: 2.ՔԿՀ-ների 100%-ում փակցվել են մարդու իրավունքների (կյանքի իրավունք, խոշտանգումների արգելք) վերաբերյալ պաստառներ
C20: 2.1 Մշակվել և տարածվել են ՔԿՀ-ներում մարդու իրավունքների վերաբերյալ առնվազն 10 տեղեկատվական նյութ, այդ թվում` իրավունքների պաշտպանության միջոցների մասին
C21: 2.2 Մշակվել և զանգվածային լրատվության միջոցներով տարածվել են ՔԿՀ-ներում մարդու իրավունքների վերաբերյալ առնվազն 3 տեսաձայնագրություն
A22: 3 | B22: ԶՈւ-ում ամրապնդել հանդուրժողականության և փոխադարձ հարգանքի մթնոլորտը | C22: 1. Կատարվել է ուսումնասիրություն՝ ԶՈւ-ում անհանդուրժողականության դրսևորումների պատճառների, նպաստող գործոնների և դրանց հաղթահարման ուղիների վերաբերյալ | D22: ԶՈւ-ում նվազել են ոչ կանոնադրային հարաբերությունների հետևանքով մահվան դեպքերը | E22: ='Cost details'!C11 -> 9800 | F22: ='Cost details'!D11 -> 14700 | G22: ='Cost details'!E11 -> 12250 | H22: 2020-2022թթ. պարբերաբար | I22: Պետական բյուջե, Օրենքով չարգելված այլ աղբյուրներ | K22: ST
C23: 2.Զորամասերի 30%-ում կազմակերպվել են հոգեբանների դասախոսություններ | E23: 0 | F23: =E23 -> 0 | G23: 0
A24: 4 | B24: Սահմանել ԶՈւ-ում և ՔԿՀ-ներում մահվան դեպքերի արագ և թափանցիկ քննության վերաբերյալ իրազեկման չափորոշիչներ | C24: Ընդունվել են ԶՈւ-ում և ՔԿՀ-ներում մահվան դեպքերի արագ և թափանցիկ քննության վերաբերյալ գերատեսչական ակտեր (ուղեցույցներ)` քննչական և դատավարական գործողությունների Վերջնաժամկետների, եղանակների, տուժողների իրավահաջորդների/ներկայացուցիչների և հանրությանը իրազեկման պարբերականության վերաբերյալ | D24: Նվազել են ԶՈւ-ում և ՔԿՀ-ներում մահվան դեպքերի վերաբերյալ քրեական գործերով մինչդատական վարույթի ընթացքում մարդու իրավունքների խախտման դեպքերը | E24: 0 | F24: 0 | G24: 0 | H24: 2022թ. առաջին կիսամյակ | I24: Պետական բյուջեից ֆինանսավորում չի պահանջվում
A25: 5 | B25: Քրեականացնել ընտանեկան բռնությունը և կանանց նկատմամբ բռնությունը՝ միջազգային չափանիշներին համապատասխան | C25: Քրեական օրենսգրքում փոփոխությւններ և լրացումներ կատարելու մասին օրենքի նախագիծն ուղարկվել է Ազգային Ժողով | D25: Ավելացել է քրեաիրավական արդյունավետ պաշտպանություն ստացած անձանց քանակը, որոնք տուժել են ընտանեկան բռնությունից | E25: 0 | F25: 0 | G25: 0 | I25: Պետական բյուջեից ֆինանսավորում չի պահանջվում, Օրենքով չարգելված այլ աղբյուրներ
D26: Նվազել են ընտանեկան բռնության դեպքերով, նյութաիրավական հիմքերի բացակայության պատճառով, միջազգային չափանիշներին հակառակ, քրեական գործի հարուցումը մերժելու կամ դրանք կարճելու մասին որոշումները
A27: 6 | B27: Օրենսդրորեն ամրագրել ընտանեկան բռնությունից և կանանց նկատմամբ բռնությունից տուժած անձանց արդյունավետ պաշտպանության դատավարական երաշխիքները` միջազգային չափանիշներին համապատասխան | C27: 1. Կատարվել է վերլուծություն` Քրեական դատավարության օրենսգրքի` միջազգային չափանիշներին համապատասխանության տեսանկյունից | D27: Նվազել են ընտանեկան բռնության դեպքերով միջազգային չափանիշներին հակառակ` նյութաիրավական հիմքերի և/կամ դատավարական երաշխիքների բացակայության պատճառով քրեական գործի հարուցումը մերժելու կամ դրանք կարճելու մասին որոշումները | E27: ='Cost details'!C11 -> 9800 | F27: ='Cost details'!D11 -> 14700 | G27: ='Cost details'!E11 -> 12250 | I27: Պետական բյուջեից ֆինանսավորում չի պահանջվում, Օրենքով չարգելված այլ աղբյուրներ | K27: ST
C28: 2. Քրեական դատավարության օրենսգրքում փոփոխություններ և լրացումներ կատարելու մասին օրենքի նախագիծն ուղարկվել է Ազգային ժողով | E28: 0 | F28: 0 | G28: 0
A29: 7 | B29: Վերապատրաստումներ իրականացնել ընտանեկան բռնության և կանանց նկատմամբ բռնության թեմաներով` միջազգային չափանիշներին համապատասխան, այդ թվում` ոստիկանների, քննիչների, դատախազների, դատավորների համար, ընտանեկան բռնության ենթարկված անձանց աջակցության կենտրոնների աշխատակիցների համար | C29: Դասընթացի մշակում | E29: ='Cost details'!G22 -> 15000 | F29: =E29 -> 15000 | G29: =F29 -> 15000 | H29: 2020-2022թթ. Պարբերաբար | I29: Պետական բյուջե, Օրենքով չարգելված այլ աղբյուրներ | K29: TR
C30: Վերապատրաստվել է ոստիկանների 10%-ը | D30: Նվազել են ընտանեկան բռնության և կանանց նկատմամբ բռնության հետևանքով մահվան դեպքերը, դրանց վերաբերյալ քրեական գործերով հետաքննության ընթացքում մարդու իրավունքների խախտումները | E30: ='Cost details'!C100/1000 -> 36060.64 | F30: =E30 -> 36060.64 | G30: =F30 -> 36060.64 | K30: TR
C31: Վերապատրաստվել է քննիչների 23%-ը | D31: Նվազել են ընտանեկան բռնության և կանանց նկատմամբ բռնության դեպքերի վերաբերյալ քրեական գործերով նախաքննության ընթացքում մարդու իրավունքների խախտման դեպքերը | K31: TR | L31: թեման ներառված է ԱԱ պարտադիր դասընթացների մեջ: հնարավոր է անհրաժեշտ լինի ընդլայնել
C32: Վերապատրաստվել է դատախազների 11%-ը (հեռաուսուցում) | D32: Նվազել են ընտանեկան բռնության և կանանց նկատմամբ բռնության դեպքերի վերաբերյալ քրեական գործերով մինչդատական վարույթի ընթացքում մարդու իրավունքների խախտման դեպքերը | K32: TR | L32: թեման ներառված է ԱԱ պարտադիր դասընթացների մեջ: հնարավոր է անհրաժեշտ լինի ընդլայնել
C33: Վերապատրաստվել է դատավորների 61%-ը | D33: Նվազել են ընտանեկան բռնության և կանանց նկատմամբ բռնության դեպքերի վերաբերյալ քրեական գործերով դատական քննության ընթացքում մարդու իրավունքների խախտման դեպքերը | K33: TR | L33: թեման ներառված է ԱԱ պարտադիր դասընթացների մեջ: հնարավոր է անհրաժեշտ լինի ընդլայնել
C34: Վերապատրաստվել է ընտանեկան բռնության ենթարկված անձանց աջակցության կենտրոնների աշխատակիցների 90%-ը | D34: Նվազել են ընտանեկան բռնության և կանանց նկատմամբ բռնության դեպքերը | E34: ='Cost details'!C111/1000 -> 5076 | F34: =E34 -> 5076 | G34: =F34 -> 5076 | K34: TR
C35: Վերապատրաստվել է կրթական հաստատությունների ներկայացուցիչների % | D35: Նվազել են ընտանեկան բռնության և երեխաների նկատմամբ բռնության դեպքերը | K35: TR
C36: Վերապատրաստվել է բուժաշխատողների 20 % (Դասընթացի մշակում և 10 դասընթացավարների ուսուցանում) | D36: Բարձրացել է ընտանեկան բռնության զոհերի նկատմամբ արձագանքման որակը | E36: ='Cost details'!C115/1000+'Cost details'!G21/1000 -> 18098.46 | F36: =E36 -> 18098.46 | G36: =F36 -> 18098.46 | K36: TR
A37: 8 | B37: Ստեղծել աջակցության կենտրոններ ընտանեկան բռնությունից տուժած անձանց համար | C37: Ստեղծվել է ընտանեկան բռնությունից տուժած անձանց համար 11աջակցման կենտրոն/2 ապաստարան (կենտրոնների կառուցման/ստեղծման ծախսերն իրականացնելու են ՀԿ-ները կամ միջազգային կառույցները, մինչդեռ ՀՀ պետբյուջեից ֆինանսավորվելու է աշխատակիցների որոշակի մասի աշխատավարձի գծով ծախսը, որն արդեն իսկ ներառված է 2020թ․ պետական բյուջեի նախագծում)։ | D37: Նվազել են ընտանեկան բռնության հետևանքով մահվան դեպքերը | E37: 0 | F37: 0 | G37: 0 | H37: 2020 թ. առաջին կիսամյակ | I37: Պետական բյուջե, Օրենքով չարգելված այլ աղբյուրներ
B38: Ընտանիքում բռնության ենթարկված անձանց, անհրաժեշտության դեպքում նրանց խնամքի տակ եղած անձանց ծառայությունների տրամադրում | C38: 2. Օրենքով սահմանված ծառայությունների մատուցում 1800 անձի համար | E38: 0 | F38: 0 | G38: 0
A39: 9 | B39: Ընդունել ընտանեկան բռնության դեմ պայքարի վերաբերյալ ռազմավարություն և գործողությունների ծրագիր | C39: Ընդունվել է ընտանեկան բռնության դեմ պայքարի ռազմավարությունը և գործողությունների ծրագիրը հաստատելու մասին կառավարության որոշում | D39: Նվազել են ընտանեկան բռնության և կանանց նկատմամբ բռնության հետևանքով մահվան դեպքերը | E39: 0 | F39: 0 | G39: 0 | H39: 2020թ. երկրորդ կիսամյակ | I39: Պետական բյուջեից ֆինանսավորում չի պահանջվում
A40: 10 | B40: Ընդունել տարեցների (կենսաթոշակային տարիքի անձանց) նկատմամբ բռնության դեմ պայքարի գործողությունների ծրագիր | C40: Ընդունվել է տարեցների նկատմամբ բռնության դեմ պայքարի վերաբերյալ ռազմավարությունը և գործողությունների ծրագիրը հաստատելու մասին կառավարության որոշում | D40: Նվազել են տարեցների նկատմամբ բռնության հետևանքով մահվան դեպքերը | E40: 0 | F40: 0 | G40: 0 | H40: 2021թ. երկրորդ կիսամյակ | I40: Պետական բյուջեից ֆինանսավորում չի պահանջվում
B41: Ընդամենը Կյանքի իրավունքի գծով | E41: =SUM(E7:E40) -> 181240.38 | F41: =SUM(F7:F40) -> 203290.38 | G41: =SUM(G7:G40) -> 192265.38
A42: Խոշտանգումների արգելք
...

Sheet Cost details
A1: USD/AMD | C1: 490
A2: EUR/AMD | C2: 530
C4: Min | D4: Max | E4: Average
B5: PR actions, USD | C5: 25000 | D5: 50000
B6: PR actions, AMD thousand | C6: =C5*$C$1/1000 -> 12250 | D6: =D5*$C$1/1000 -> 24500 | E6: =(D6+C6)/2 -> 18375
C9: Min | D9: Max | E9: Average
B10: Studies, USD | C10: 20000 | D10: 30000
B11: Studies, AMD thousand | C11: =C10*$C$1/1000 -> 9800 | D11: =D10*$C$1/1000 -> 14700 | E11: =(D11+C11)/2 -> 12250
B13: Development of training materials
B14: AMD | C14: unit | D14: number of units | E14: Number of positions | F14: Unit price/cost | G14: Total
B15: Coordinator | C15: month | D15: 5 | E15: 1 | F15: 700000 | G15: =+F15*E15*D15 -> 3500000
B16: Expert | C16: month | D16: 5 | E16: 2 | F16: 425000 | G16: =+F16*E16*D16 -> 4250000
B17: Editor | C17: month | D17: 4 | E17: 1 | F17: 560000 | G17: =+F17*E17*D17 -> 2240000
B18: Printing | C18: copies | D18: 200 | F18: 20000 | G18: =+F18*D18 -> 4000000
B19: Total w/o VAT | G19: =SUM(G15:G18) -> 13990000
B20: VAT @ 20% | G20: =G19*0.2 -> 2798000
B21: TOTAL including VAT | G21: =G20+G19 -> 16788000
F22: AMD thousand | G22: 15000
B24: On-line/Distant trainings
B25: Eductaion technology expert | D25: 4 | E25: 1 | F25: 454500 | G25: =+F25*E25*D25 -> 1818000
B26: Contentual Designer | D26: 4 | E26: 1 | F26: 725000 | G26: =+F26*E26*D26 -> 2900000
B27: Designer | D27: 4 | E27: 1 | F27: 487500 | G27: =+F27*E27*D27 -> 1950000
B28: Audio-Video specialist | D28: 4 | E28: 1 | F28: 487500 | G28: =+F28*E28*D28 -> 1950000
B29: E-learning website expert | D29: 4 | E29: 1 | F29: 500000 | G29: =+F29*E29*D29 -> 2000000
B30: Total w/o VAT | G30: =SUM(G25:G29) -> 10618000
B31: VAT @ 20% | G31: =G30*0.2 -> 2123600
B32: TOTAL including VAT | G32: =G31+G30 -> 12741600
B34: Total for Distant training | G34: =G32+G21 -> 29529600
B37: Trainings at the Academy
C38: Number | D38: Hours per year | F38: Cost per participant
B39: Judges | C39: 229 | D39: 80 | F39: 131046
B40: Prosecutors | C40: 327 | D40: 80 | F40: 158109
B41: Investigation comittee staff | C41: 650 | D41: 30 | F41: 23416
B42: Investigators from the Special Investigation Service | C42: 32 | D42: 30 | F42: 62590
B43: Judicial bailiffs | D43: 30 | F43: 107777
B44: Court staff | D44: 30 | F44: 57828
B46: Ոստիկանների քանակ | D46: 15400
B47: Ռազմական ոստիկանների քանակ | D47: 1300
B48: Բժշկական ոլորտի աշխատակիցների քանակ
B49: Հոգեբուժական հաստատությունների աշխատակիցների քանակ | D49: 239
...
