Workbook
Name _GoBack: Sheet1!#REF!

Sheet Sheet1
A1: ԿՅԱՆՔԻ ԻՐԱՎՈՒՆՔ
A3: Նպատակ. Ապահովել պետության պաշտպանության ներքո գտնվող և ընտանեկան բռնության ենթարկված անձանց կյանքի իրավունքը
A5: Խնդիր. Մահացության դեպքերի թվի կրճատում և թիրախային խմբերի պաշտպանվածության մակարդակի բարձրացում
A6: Գ թիվ | B6: Գործողություն | C6: Ակնկալվող անմիջական արդյունք | D6: Ակնկալվող ազդեցություն | E6: Նվազագույն գնահատական, հազար դրամ | F6: Առավելագույն գնահատական, հազար դրամ | G6: Ծախսերի գնահատական, հազար դրամ | H6: Վերջնաժամկետ | I6: Ֆինանսավորում
A7: 1 | B7: Վերապատրաստումներ (դասընթացներ) իրականացնել կյանքի իրավունքի թեմայով՝ միջազգային չափանիշներին համապատասխան, այդ թվում` ԶՈւ հրամանատարների, ռազմական ոստիկանների, քննիչների, դատախազների, դատավորների, փաստաբանների և քրեակատարողական ծառայության ծառայողների համար | C7: Դասընթացի մշակում | E7: ='Cost details'!G22 -> 15000 | F7: =E7 -> 15000 | G7: =F7 -> 15000 | H7: 2020-2022թթ. պարբերաբար | I7: Պետական բյուջե, Օրենքով չարգելված այլ աղբյուրներ | K7: TR
C8: 1. Վերապատրաստվել է հրամատարների 18%-ը | D8: Նվազել են ԶՈՒ-ում մահվան դեպքերը | E8: ='Cost details'!C83/1000 -> 47376 | F8: =E8 -> 47376 | G8: =F8 -> 47376 | K8: TR
C9: 2. «Մարդու իրավունքները զինված ուժերում» առարկան ներառել Վ.Սարգսյանի անվան ռազմական համալսարանի Սպաների որակավորման բարձրացման կենտրոնի (ՍՈԲԿ) և հրամանատարա-շտաբային ֆակուլտետի (ՀՇՖ) ուսումնական ծրագրերում | E9: 0 | F9: 0 | G9: 0 | K9: TR
C10: Վերապատրաստվել է ռազմական ոստիկանների 17%-ը (ֆինանսական գնահատականը ներառված է սույն կետի ենթակետ 1-ի գնահատականի մեջ) | D10: Նվազել են ԶՈւ-ում մահվան դեպքերը, դրանց վերաբերյալ քրեական գործերով հետաքննության ընթացքում մարդու իրավունքների խախտումները | K10: TR
C11: Վերապատրաստվել է քննիչների 8%-ը | D11: Նվազել են ԶՈւ-ում և ՔԿՀ-ներում մահվան դեպքերի վերաբերյալ քրեական գործերով նախաքննության ընթացքում մարդու իրավունքների խախտումները | E11: 0 | F11: =E11 -> 0 | G11: =F11 -> 0 | K11: TR | L11: թեման ներառված է ԱԱ պարտադիր դասընթացների մեջ: հնարավոր է անհրաժեշտ լինի ընդլայնել
C12: Վերապատրաստվել է դատախազների 4%-ը (հեռաուսուցում, ներառված է դատավորների վերապատրաստման գումարի մեջ) | D12: Նվազել են ԶՈւ-ում և ՔԿՀ-ներում մահվան դեպքերը, դրանց վերաբերյալ քրեական գործերով մինչդատական քննության ընթացքում մարդու իրավունքների խախտումները | K12: TR | L12: թեման ներառված է ԱԱ պարտադիր դասընթացների մեջ: հնարավոր է անհրաժեշտ լինի ընդլայնել
C13: Վերապատրաստվել է դատավորների 41%-ը (հեռաուսուցում) | D13: ԶՈւ-ում և ՔԿՀ-ներում մահվան դեպքերի վերաբերյալ քրեական գործերով նվազել են դատական քննության ընթացքում մարդու իրավունքների խախտման դեպքերը | K13: TR | L13: թեման ներառված է ԱԱ պարտադիր դասընթացների մեջ: հնարավոր է անհրաժեշտ լինի ընդլայնել
C14: Վերապատրաստվել է քրեակատարողական ծառայողների 25%-ը | D14: Նվազել են ՔԿՀ-ներում մահվան դեպքերը | E14: ='Cost details'!C91/1000 -> 12779.282 | F14: =E14 -> 12779.282 | G14: =F14 -> 12779.282 | K14: TR
A15: 2 | B15: Բարձրացնել կյանքի իրավունքի վերաբերյալ զորակոչիկների, զինծառայողների և ազատությունից զրկված անձանց իրազեկությունը | C15: 1. Զորամասերի և զինկոմիսարիատների 60%-ում փակցվել են մարդու իրավունքների (կյանքի իրավունք, խոշտանգումների արգելք) վերաբերյալ պաստառներ | D15: Նվազել են ԶՈւ-ում և ՔԿՀ-ներում մահվան դեպքերը | E15: ='Cost details'!C6 -> 12250 | F15: ='Cost details'!D6 -> 24500 | G15: ='Cost details'!E6 -> 18375 | H15: 2020-2022թթ. պարբերաբար | I15: Պետական բյուջե, Օրենքով չարգելված այլ աղբյուրներ | K15: PR
C16: 1.1 Զորամասերում և զինկոմիսարիատներում իրականացվել է կյանքի իրավունքի վերաբերյալ թվով 15 իրազեկման ակցիա
C17: 1.2 Մշակվել և տարածվել են զորամասերում, զինկոմիսարիատներում մարդու իրավունքների վերաբերյալ առնվազն 3 տեղեկատվական նյութ, այդ թվում` իրավունքների պաշտպանության միջոցների մասին
C18: 1.3 Մշակվել և զանգվածային լրատվության միջոցներով տարածվել են զինված ուժերում մարդու իրավունքների վերաբերյալ առնվազն 3 տեսաձայնագրություն
C19: 2.ՔԿՀ-ների 100%-ում փակցվել են մարդու իրավունքների (կյանքի իրավունք, խոշտանգումների արգելք) վերաբերյալ պաստառներ
C20: 2.1 Մշակվել և տարածվել են ՔԿՀ-ներում մարդու իրավունքների վերաբերյալ առնվազն 10 տեղեկատվական նյութ, այդ թվում` իրավունքների պաշտպանության միջոցների մասին
C21: 2.2 Մշակվել և զանգվածային լրատվության միջոցներով տարածվել են ՔԿՀ-ներում մարդու իրավունքների վերաբերյալ առնվազն 3 տեսաձայնագրություն
A22: 3 | B22: ԶՈւ-ում ամրապնդել հանդուրժողականության և փոխադարձ հարգանքի մթնոլորտը | C22: 1. Կատարվել է ուսումնասիրություն՝ ԶՈւ-ում անհանդուրժողականության դրսևորումների պատճառների, նպաստող գործոնների և դրանց հաղթահարման ուղիների վերաբերյալ | D22: ԶՈւ-ում նվազել են ոչ կանոնադրային հարաբերությունների հետևանքով մահվան դեպքերը | E22: ='Cost details'!C11 -> 9800 | F22: ='Cost details'!D11 -> 14700 | G22: ='Cost details'!E11 -> 12250 | H22: 2020-2022թթ. պարբերաբար | I22: Պետական բյուջե, Օրենքով չարգելված այլ աղբյուրներ | K22: ST
C23: 2.Զորամասերի 30%-ում կազմակերպվել են հոգեբանների դասախոսություններ | E23: 0 | F23: =E23 -> 0 | G23: 0
A24: 4 | B24: Սահմանել ԶՈւ-ում և ՔԿՀ-ներում մահվան դեպքերի արագ և թափանցիկ քննության վերաբերյալ իրազեկման չափորոշիչներ | C24: Ընդունվել են ԶՈւ-ում և ՔԿՀ-ներում մահվան դեպքերի արագ և թափանցիկ քննության վերաբերյալ գերատեսչական ակտեր (ուղեցույցներ)` քննչական և դատավարական գործողությունների Վերջնաժամկետների, եղանակների, տուժողների իրավահաջորդների/ներկայացուցիչների և հանրությանը իրազեկման պարբերականության վերաբերյալ | D24: Նվազել են ԶՈւ-ում և ՔԿՀ-ներում մահվան դեպքերի վերաբերյալ քրեական գործերով մինչդատական վարույթի ընթացքում մարդու իրավունքների խախտման դեպքերը | E24: 0 | F24: 0 | G24: 0 | H24: 2022թ. առաջին կիսամյակ | I24: Պետական բյուջեից ֆինանսավորում չի պահանջվում
A25: 5 | B25: Քրեականացնել ընտանեկան բռնությունը և կանանց նկատմամբ բռնությունը՝ միջազգային չափանիշներին համապատասխան | C25: Քրեական օրենսգրքում փոփոխությւններ և լրացումներ կատարելու մասին օրենքի նախագիծն ուղարկվել է Ազգային Ժողով | D25: Ավելացել է քրեաիրավական արդյունավետ պաշտպանություն ստացած անձանց քանակը, որոնք տուժել են ընտանեկան բռնությունից | E25: 0 | F25: 0 | G25: 0 | I25: Պետական բյուջեից ֆինանսավորում չի պահանջվում, Օրենքով չարգելված այլ աղբյուրներ
D26: Նվազել են ընտանեկան բռնության դեպքերով, նյութաիրավական հիմքերի բացակայության պատճառով, միջազգային չափանիշներին հակառակ, քրեական գործի հարուցումը մերժելու կամ դրանք կարճելու մասին որոշումները
A27: 6 | B27: Օրենսդրորեն ամրագրել ընտանեկան բռնությունից և կանանց նկատմամբ բռնությունից տուժած անձանց արդյունավետ պաշտպանության դատավարական երաշխիքները` միջազգային չափանիշներին համապատասխան | C27: 1. Կատարվել է վերլուծություն` Քրեական դատավարության օրենսգրքի` միջազգային չափանիշներին համապատասխանության տեսանկյունից | D27: Նվազել են ընտանեկան բռնության դեպքերով միջազգային չափանիշներին հակառակ` նյութաիրավական հիմքերի և/կամ դատավարական երաշխիքների բացակայության պատճառով քրեական գործի հարուցումը մերժելու կամ դրանք կարճելու մասին որոշումները | E27: ='Cost details'!C11 -> 9800 | F27: ='Cost details'!D11 -> 14700 | G27: ='Cost details'!E11 -> 12250 | I27: Պետական բյուջեից ֆինանսավորում չի պահանջվում, Օրենքով չարգելված այլ աղբյուրներ | K27: ST
C28: 2. Քրեական դատավարության օրենսգրքում փոփոխություններ և լրացումներ կատարելու մասին օրենքի նախագիծն ուղարկվել է Ազգային ժողով | E28: 0 | F28: 0 | G28: 0
A29: 7 | B29: Վերապատրաստումներ իրականացնել ընտանեկան բռնության և կանանց նկատմամբ բռնության թեմաներով` միջազգային չափանիշներին համապատասխան, այդ թվում` ոստիկանների, քննիչների, դատախազների, դատավորների համար, ընտանեկան բռնության ենթարկված անձանց աջակցության կենտրոնների աշխատակիցների համար | C29: Դասընթացի մշակում | E29: ='Cost details'!G22 -> 15000 | F29: =E29 -> 15000 | G29: =F29 -> 15000 | H29: 2020-2022թթ. Պարբերաբար | I29: Պետական բյուջե, Օրենքով չարգելված այլ աղբյուրներ | K29: TR
C30: Վերապատրաստվել է ոստիկանների 10%-ը | D30: Նվազել են ընտանեկան բռնության և կանանց նկատմամբ բռնության հետևանքով մահվան դեպքերը, դրանց վերաբերյալ քրեական գործերով հետաքննության ընթացքում մարդու իրավունքների խախտումները | E30: ='Cost details'!C100/1000 -> 36060.64 | F30: =E30 -> 36060.64 | G30: =F30 -> 36060.64 | K30: TR
C31: Վերապատրաստվել է քննիչների 23%-ը | D31: Նվազել են ընտանեկան բռնության և կանանց նկատմամբ բռնության դեպքերի վերաբերյալ քրեական գործերով նախաքննության ընթացքում մարդու իրավունքների խախտման դեպքերը | K31: TR | L31: թեման ներառված է ԱԱ պարտադիր դասընթացների մեջ: հնարավոր է անհրաժեշտ լինի ընդլայնել
C32: Վերապատրաստվել է դատախազների 11%-ը (հեռաուսուցում) | D32: Նվազել են ընտանեկան բռնության և կանանց նկատմամբ բռնության դեպքերի վերաբերյալ քրեական գործերով մինչդատական վարույթի ընթացքում մարդու իրավունքների խախտման դեպքերը | K32: TR | L32: թեման ներառված է ԱԱ պարտադիր դասընթացների մեջ: հնարավոր է անհրաժեշտ լինի ընդլայնել
C33: Վերապատրաստվել է դատավորների 61%-ը | D33: Նվազել են ընտանեկան բռնության և կանանց նկատմամբ բռնության դեպքերի վերաբերյալ քրեական գործերով դատական քննության ընթացքում մարդու իրավունքների խախտման դեպքերը | K33: TR | L33: թեման ներառված է ԱԱ պարտադիր դասընթացների մեջ: հնարավոր է անհրաժեշտ լինի ընդլայնել
C34: Վերապատրաստվել է ընտանեկան բռնության ենթարկված անձանց աջակցության կենտրոնների աշխատակիցների 90%-ը | D34: Նվազել են ընտանեկան բռնության և կանանց նկատմամբ բռնության դեպքերը | E34: ='Cost details'!C111/1000 -> 5076 | F34: =E34 -> 5076 | G34: =F34 -> 5076 | K34: TR
C35: Վերապատրաստվել է կրթական հաստատությունների ներկայացուցիչների % | D35: Նվազել են ընտանեկան բռնության և երեխաների նկատմամբ բռնության դեպքերը | K35: TR
C36: Վերապատրաստվել է բուժաշխատողների 20 % (Դասընթացի մշակում և 10 դասընթացավարների ուսուցանում) | D36: Բարձրացել է ընտանեկան բռնության զոհերի նկատմամբ արձագանքման որակը | E36: ='Cost details'!C115/1000+'Cost details'!G21/1000 -> 18098.46 | F36: =E36 -> 18098.46 | G36: =F36 -> 18098.46 | K36: TR
A37: 8 | B37: Ստեղծել աջակցության կենտրոններ ընտանեկան բռնությունից տուժած անձանց համար | C37: Ստեղծվել է ընտանեկան բռնությունից տուժած անձանց համար 11աջակցման կենտրոն/2 ապաստարան (կենտրոնների կառուցման/ստեղծման ծախսերն իրականացնելու են ՀԿ-ները կամ միջազգային կառույցները, մինչդեռ ՀՀ պետբյուջեից ֆինանսավորվելու է աշխատակիցների որոշակի մասի աշխատավարձի գծով ծախսը, որն արդեն իսկ ներառված է 2020թ․ պետական բյուջեի նախագծում)։ | D37: Նվազել են ընտանեկան բռնության հետևանքով մահվան դեպքերը | E37: 0 | F37: 0 | G37: 0 | H37: 2020 թ. առաջին կիսամյակ | I37: Պետական բյուջե, Օրենքով չարգելված այլ աղբյուրներ
B38: Ընտանիքում բռնության ենթարկված անձանց, անհրաժեշտության դեպքում նրանց խնամքի տակ եղած անձանց ծառայությունների տրամադրում | C38: 2. Օրենքով սահմանված ծառայությունների մատուցում 1800 անձի համար | E38: 0 | F38: 0 | G38: 0
A39: 9 | B39: Ընդունել ընտանեկան բռնության դեմ պայքարի վերաբերյալ ռազմավարություն և գործողությունների ծրագիր | C39: Ընդունվել է ընտանեկան բռնության դեմ պայքարի ռազմավարությունը և գործողությունների ծրագիրը հաստատելու մասին կառավարության որոշում | D39: Նվազել են ընտանեկան բռնության և կանանց նկատմամբ բռնության հետևանքով մահվան դեպքերը | E39: 0 | F39: 0 | G39: 0 | H39: 2020թ. երկրորդ կիսամյակ | I39: Պետական բյուջեից ֆինանսավորում չի պահանջվում
A40: 10 | B40: Ընդունել տարեցների (կենսաթոշակային տարիքի անձանց) նկատմամբ բռնության դեմ պայքարի գործողությունների ծրագիր | C40: Ընդունվել է տարեցների նկատմամբ բռնության դեմ պայքարի վերաբերյալ ռազմավարությունը և գործողությունների ծրագիրը հաստատելու մասին կառավարության որոշում | D40: Նվազել են տարեցների նկատմամբ բռնության հետևանքով մահվան դեպքերը | E40: 0 | F40: 0 | G40: 0 | H40: 2021թ. երկրորդ կիսամյակ | I40: Պետական բյուջեից ֆինանսավորում չի պահանջվում
B41: Ընդամենը Կյանքի իրավունքի գծով | E41: =SUM(E7:E40) -> 181240.38 | F41: =SUM(F7:F40) -> 203290.38 | G41: =SUM(G7:G40) -> 192265.38
A42: Խոշտանգումների արգելք
A43: Նպատակ. Կանխարգելել խոշտանգումների և վատ վերաբերմունքի դեպքերը
A45: Խնդիր. Արդյունավետ քննության միջոցով խոշտանգումների և վատ վերաբերմունքի դեպքերի նվազում
A46: Գ թիվ | B46: Գործողություն | C46: Ակնկալվող անմիջական արդյունք | D46: Ակնկալվող ազդեցություն | E46: Նվազագույն գնահատական, հազար դրամ | F46: Առավելագույն գնահատական, հազար դրամ | G46: Ծախսերի գնահատական, հազար դրամ | H46: Վերջնաժամկետ | I46: Ֆինանսավորում
A47: 11 | B47: ՀՀ ոստիկանության և ռազմական ոստիկանության բաժիններում տեղադրել տեսաձայնագրման միջոցներ | C47: 1. ՀՀ Ոստիկանության 12 բաժիններում տեղադրվել են տեսախցիկներ | D47: Նվազել են ՀՀ Ոստիկանությանբաժիններում խոշտանգումների, անմադրկային կամ արժանապատվությունը նվաստացնող վերաբերմունքի դեպքերը, տեսաձայնագրություններն օգտագործվել են որպես ապացույց` այդ դեպքերի վերաբերյալ քրեական գործերով | E47: =44258 -> 44258 | F47: =E47 -> 44258 | G47: =F47 -> 44258 | H47: 2020թ. երկրորդ կիսամյակ | I47: Պետական բյուջե, Օրենքով չարգելված այլ աղբյուրներ | K47: EQ
C48: 2. ՀՀ Ոստիկանության 22 բաժիններում տեղադրվել են տեսախցիկներ | E48: 208000 | F48: =E48 -> 208000 | G48: =F48 -> 208000 | H48: 2022թ. առաջին կիսամյակ | K48: EQ
C49: 3. ՀՀ ռազմական ոստիկանության 13 բաժնում, 3 բաժանմունքում և 1 զորամասում, տեղադրվել է 8 տեսախցիկ յուրաքանչյուրում | D49: Նվազել են ռազմական ՀՀ Ոստիկանությանբաժիններում խոշտանգումների, անմադրկային կամ արժանապատվությունը նվաստացնող վերաբերմունքի դեպքերը, տեսաձայնագրություններն օգտագործվել են որպես ապացույց` այդ դեպքերի վերաբերյալ քրեական գործերով; Նվազել են քրեական գործերի մինչդատական վարույթում քրեական դատավարության մասնակիցների իրավունքների խախտումները, ապացույցների` քննչական և դատավարական գործողությունների իրականացման կարգի խախտմամբ ձեռքբերման դեպքերը | E49: =17*8*E47/20 -> 300954.4 | F49: =E49 -> 300954.4 | G49: =F49 -> 300954.4 | H49: 2021թ. երկրորդ կիսամյակ | K49: EQ
A50: 12 | B50: Ձեռք բերել ձերբակալված և կալանավորված անձանց (այդ թվում՝ հատուկ կարիքներ և հաշմանդամություն ունեցող անձանց) տեղափոխող հատուկ տրանսպորտային միջոցներ՝ միջազգային չափանիշներին համապատասխան | C50: Ձեռք է բերվել 44 տրանսպորտային միջոց` նախատեսված ազատությունից զրկված անձանց (այդ թվում՝ հատուկ կարիքներ և հաշմանդամություն ունեցող անձանց) տեղափոխման համար | D50: Նվազել են ձերբակալված և կալանավորված անձանց նկատմամբ վատ վերաբերմունքի դեպքերը | E50: =44*55*'Cost details'!C1 -> 1185800 | F50: =E50 -> 1185800 | G50: =F50 -> 1185800 | H50: 2022թ. առաջին կիսամյակ | I50: Պետական բյուջե, Օրենքով չարգելված այլ աղբյուրներ | K50: EQ
A51: 13 | B51: Օրենսդրորեն ամրագրել վաղեմության ժամկետի կիրառման սահմանափակումներ խոշտանգման հանցանքի նկատմամբ | C51: Քրեական օրենսգրքում փոփոխություններ և լրացումներ կատարելու կատարելու մասին օրենքի նախագիծն ուղարկվել է Ազգային ժողով | D51: Նվազել են խոշտանգման դեպքերը, դրանց վերաբերյալ քրեական գործերով քրեական գործի հարուցումը մերժելու կամ դրանք կարճելու մասին որոշումները | E51: 0 | F51: 0 | G51: 0 | H51: 2020թ. երկրորդ կիսամյակ | I51: Պետական բյուջեից ֆինանսավորում չի պահանջվում
A52: 14 | B52: Մշակել «ֆիզիկական ուժեղ ցավ» և «հոգեկան տառապանք» եզրույթների մեկնաբանման և կիրառման վերաբերյալ ուղեցույցներ՝ միջազգային չափանիշներին համապատասխան | C52: 1. Կատարվել է ուսումնասիրություն խոշտանգումների համատեքստում «ֆիզիկական ուժեղ ցավ» և « հոգեկան տառապանք» եզրույթների սահմանումների, դրսևորումների վերաբերյալ | D52: Նվազել են խոշտանգման դեպքերը, դրանց վերաբերյալ քրեական գործերով քրեական գործի հարուցումը մերժելու կամ դրանք կարճելու մասին որոշումները | E52: ='Cost details'!C11 -> 9800 | F52: ='Cost details'!D11 -> 14700 | G52: ='Cost details'!E11 -> 12250 | H52: 2021թ. առաջին կիսամյակ | I52: Պետական բյուջե, Օրենքով չարգելված այլ աղբյուրներ | K52: ST
C53: 2. ՀՀ արդարադատության ակադեմիայի կողմից ընդունվել է ուղեցույց իրավակիրառողների համար՝ նշված հասկացությունների մեկնաբանման և կիրառման վերաբերյալ | E53: 0 | F53: 0 | G53: 0
A54: 15 | B54: Վերանորոգել ՔԿՀ-ների խցերը՝ միջազգային չափորոշիչներին համապատասխան | C54: 1. Իրականացնել ՔԿՀ-ների խցերի պայմանների ուսումնասիրություն Վերանորոգվել է ՔԿՀ-ների առնվազն 25 խուց | D54: Բարելավվել են ազատությունից զրկված անձանց պահման պայմանները: Նվազել են ազատությունից զրկված անձանց նկատմամբ անմարդակային կամ արժանապատվությունը նվաստացնող վերաբերմունքի ցուցաբերման ռիսկերը: | E54: ='Cost details'!C125/1000 -> 75000 | F54: =+E54 -> 75000 | G54: =+F54 -> 75000 | H54: 2022թ. Երկրորդ կիսամյակ | I54: Պետական բյուջե, Օրենքով չարգելված այլ աղբյուրներ | K54: Construction
A55: 16 | B55: Կահավորել ՔԿՀ-ներում հատուկ խցեր՝ ինքնասպանության հակում ունեցող անձանց համար | C55: Առնվազն 2 ՔԿՀ-ում կահավորվել են հատուկ խցեր | D55: Նվազել են ՔԿՀ-ներում ինքնասպանության դեպքերը | E55: 0 | F55: =E55 -> 0 | G55: =F55 -> 0 | H55: 2021 թ.առաջին կիսամյակ | I55: Պետական բյուջե, Օրենքով չարգելված այլ աղբյուրներ
A56: 17 | B56: Ստեղծել խոշտանգումների, անմարդկային կամ արժանապատվությունը նվաստացնող վերաբերմունքի մասին անանուն հաղորդումներ ներկայացնելու մեխանիզմ | C56: ԶՈւ-ում ներդրվել են խոշտանգումների, անմարդկային կամ արժանապատվությունը նվաստացնող վերաբերմունքի մասին անանուն հաղորդումներ ներկայացնելու միջոցներ | D56: Նվազել են ԶՈւ-ում խոշտանգումների, անմարդկային կամ արժանապատվությունը նվաստացնող վերաբերմունքի դեպքերը | E56: 0 | F56: 0 | G56: 0 | H56: 2022 թ. առաջին կիսամյակ | I56: Պետական բյուջե, Օրենքով չարգելված այլ աղբյուրներ
C57: ՔԿՀ-ներում ներդրվել են խոշտանգումների, անմարդկային կամ արժանապատվությունը նվաստացնող վերաբերմունքի մասին անանուն հաղորդումներ ներկայացնելու միջոցներ | D57: Նվազել են ՔԿՀ--ներում խոշտանգումների, անմարդկային կամ արժանապատվությունը նվաստացնող վերաբերմունքի դեպքերը | E57: 0 | F57: 0 | G57: 0
C58: Հոգեբուժական հաստատություններում ներդրվել են խոշտանգումների, անմարդկային կամ արժանապատվությունը նվաստացնող վերաբերմունքի մասին անանուն հաղորդումներ ներկայացնելու միջոցներ | D58: Նվազել են հոգեբուժական հաստատություններում խոշտանգումների, անմարդկային կամ արժանապատվությունը նվաստացնող վերաբերմունքի դեպքերը | E58: 0 | F58: 0 | G58: 0
C59: Երեխաների խնամքի հաստատություններում ներդրվել են խոշտանգումների, անմարդկային կամ արժանապատվությունը նվաստացնող վերաբերմունքի մասին անանուն հաղորդումներ ներկայացնելու միջոցներ | D59: Նվազել են Երեխաների խնամքի հաստատություններում խոշտանգումների, անմարդկային կամ արժանապատվությունը նվաստացնող վերաբերմունքի դեպքերը | E59: 0 | F59: 0 | G59: 0
A60: 18 | B60: Ապահովել խոշտանգումից տուժած անձանց հոգեբանական, սոցիալական և իրավական ծառայություններից օգտվելու իրավունքի արդյունավետ իրականացման մեխանիզմները | C60: «Խոշտանգումից տուժած անձանց հոգեբանական ծառայություններից օգտվելու կարգը և պայմանները սահմանելու մասին» 2017 թվականի հոկտեմբերի 26-ի թիվ 1367-Ն որոշմամբ ամրագրված մեխանիզմները կիրառվում են | D60: Խոշտանգման և այլ վատ վերաբերմունքի զոհերը պետության կողմից ապահվվում են վերականգնողական ծառայություններով, այդ թվում՝ բժշկական, հոգեբանական, սոցիալական և իրավական | E60: 0 | F60: 0 | G60: 0 | H60: 2020թ. երկրորդ կիսամյակ | I60: Պետական բյուջե, Օրենքով չարգելված այլ աղբյուրներ
D61: Ստեղծվել են երաշխիքներ խոշտանգման զոհերի իրավունքների վերականգնման ուղղությամբ | G61: 0
A62: 19 | B62: Ավելացնել ապաստան հայցող անձանց համար նախատեսված սենյակների քանակը | C62: Ապաստան հայցող անձանց համար նախատեսված սենյակների թիվն ավելացել է 100-ով | D62: Նվազել են ապաստան հայցող անձանց նկատմամբ անմարդկային կամ արժանապատվությունը նվաստացնող վերաբերմունքի դեպքերը | E62: =1500*'Cost details'!C1 -> 735000 | F62: =E62 -> 735000 | G62: =F62 -> 735000 | H62: 2020թ. առաջին կիսամյակ | I62: Պետական բյուջե, Օրենքով չարգելված այլ աղբյուրներ | K62: Construction
A63: 20 | B63: Բարելավել ձերբակալված և կալանավոված անձանց դատարաններում պահելու համար նախատեսված խցերի պայմանները` միջազգային չափանիշներին համապատասխան | C63: Բարելավվել է ազատությունից զրկված անձանց դատարաններում պահելու համար նախատեսված առնվազն 3 խուց (ներառված է դատաիրավական բարեփոխումների գործողությունների ծրագրում՝ որպես դատարանների շենքերի հիմնանորոգման, վերակառուցման կամ կառուցման ծախս) | D63: Նվազել են ազատությունից զրկված անձանց նկատմամբ անմարդկային կամ արժանապատվությունը նվաստացնող վերաբերմունքի դեպքերը | E63: 0 | F63: 0 | G63: 0 | H63: 2020թ. առաջին կիսամյակ | I63: Պետական բյուջե, Օրենքով չարգելված այլ աղբյուրներ
A64: 21 | B64: Հատուկ քննչական ծառայության անձնակազմը համալրել օպերատիվ աշխատակիցներով | C64: Հատուկ քննչական ծառայության կազմում ստեղծվել է օպերատիվ-հետախուզական ստորաբաժանում և համալրվել առնվազն 3 օպերատիվ աշխատակիցներով | D64: Բարձրացել է քրեական գործերի քննության արդյունավետությունը՝ բացառելով հետաքննության այլ մարմնի աշխատակիցներին դիմելու անհրաժեշտությունը | E64: =3*300*12*1.1 -> 11880 | F64: =3*300*12*1.2 -> 12960 | G64: =(E64+F64)/2 -> 12420 | H64: 2021թ. երկրորդ կիսամյակ | I64: Պետական բյուջե, Օրենքով չարգելված այլ աղբյուրներ | K64: Other
A65: 22 | B65: Բարձրացնել հոգեկան առողջության խնդիրներ ունեցող անձանց իրավունքների վերաբերյալ իրազեկությունը | C65: 1. Հոգեբուժական հաստատությունների 100%-ում փակցվել են մարդու իրավունքների վերաբերյալ պաստառներ | D65: Նվազել են հոգեկան առողջության խնդիրներ ունեցող անձանց նկատմամբ անմարդկային կամ արժանապատվությունը նվաստացնող վերաբերմունքի, այլ իրավունքների խախտումների դեպքերը | E65: ='Cost details'!C6 -> 12250 | F65: ='Cost details'!D6 -> 24500 | G65: =E65 -> 12250 | H65: 1. 2021թ. առաջին կիսամյակ | I65: Պետական բյուջե, Օրենքով չարգելված այլ աղբյուրներ | K65: PR
C66: 2. Մշակվել և տարածվել են հոգեբուժական հաստատություններում մարդու իրավունքների վերաբերյալ 2 տեղեկատվական նյութ, այդ թվում` իրավունքների պաշտպանության միջոցների մասին | H66: 2. 2021թ. երկրորդ կիսամյակ
C67: 3. Մշակվել և զանգվածային լրատվության միջոցներով տարածվել են հոգեբուժական հաստատություններում մարդու իրավունքների վերաբերյալ 1 տեսաձայնագրություն | H67: 3. 2022թ. երկրորդ կիսամյակ
C68: 4. Իրականացվել է հոգեկան առողջության խնդիրներ ունեցող անձանց իրավունքների վերաբերյալ թվով 1 իրազեկման ակցիա | H68: 4. 2022թ. առաջին կիսամյակ
A69: 23 | B69: Օրենսդրորեն արգելել երեխայի նկատմամբ մարմնական պատիժները | C69: «Երեխայի իրավունքների մասին» ՀՀ օրենքում փոփոխություններ և լրացումներ կատարելու մասին օրենքի նախագիծն ուղարկվել է Ազգային ժողով | D69: Նվազել են երեխաների նկատմամբ բռնության դեպքերը | E69: 0 | F69: 0 | G69: 0 | H69: 2021թ. առաջին կիսամյակ | I69: Պետական բյուջեից ֆինանսավորում չի պահանջվում, Օրենքով չարգելված այլ աղբյուրներ
A70: 24 | B70: Վերապատրաստումներ իրականացնել խոշտանգումների, անմարդկային կամ արժանապատվությունը նվաստացնող վերաբերմունքի թեմայով` միջազգային չափանիշներին համապատասխան, այդ թվում` ոստիկանների, ռազմական ոստիկանների, քննիչների, դատախազների, դատավորների, հոգեբուժական, երեխաների խնամքի հաստատությունների աշխատողների, քրեակատարողական ծառայության ծառայողների և բժշկական անձնակազմի համար | C70: Դասընթացի կազմում | E70: ='Cost details'!G22 -> 15000 | F70: =E70 -> 15000 | G70: =F70 -> 15000 | H70: 2020-2022թթ. Պարբերաբար | I70: Պետական բյուջե, Օրենքով չարգելված այլ աղբյուրներ | K70: TR
C71: Վերապատրաստվել է ոստիկանների 21%-ը | D71: Նվազել են ազատությունից զրկված անձանց, ՀՀ Ոստիկանությանբաժիններում գտնվող անձանց նկատմամբ խոշտանգումների, անմարդկային կամ արժանապատվությունը նվաստացնող վերաբերմունքի դեպքերը | E71: ='Cost details'!C130/1000 -> 75727.344 | F71: =E71 -> 75727.344 | G71: =F71 -> 75727.344 | K71: TR
C72: Վերապատրաստվել է ռազմական ոստիկանների 35%-ը | D72: Նվազել են ռազմական ՀՀ Ոստիկանությանբաժիններում գտնվող անձանց նկատմամբ խոշտանգումների, անմարդկային կամ արժանապատվությունը նվաստացնող վերաբերմունքի դեպքերը | E72: ='Cost details'!C135/1000 -> 10654.28 | F72: =E72 -> 10654.28 | G72: =F72 -> 10654.28 | K72: TR
C73: Վերապատրաստվել է քննիչների 51%-ը | D73: Նվազել են ազատությունից զրկված անձանց, քրեական դատավարության այլ մասնակիցների նկատմամբ խոշտանգումների, անմարդկային կամ արժանապատվությունը նվաստացնող վերաբերմունքի դեպքերը | K73: TR | L73: թեման ներառված է ԱԱ պարտադիր դասընթացների մեջ: հնարավոր է անհրաժեշտ լինի ընդլայնել
C74: Վերապատրաստվել է դատախազների 7%-ը | D74: Նվազել են ազատությունից զրկված անձանց, քրեական դատավարության այլ մասնակիցների նկատմամբ խոշտանգումների, անմարդկային կամ արժանապատվությունը նվաստացնող վերաբերմունքի դեպքերը | E74: 0 | F74: 0 | G74: 0 | K74: TR | L74: թեման ներառված է ԱԱ պարտադիր դասընթացների մեջ: հնարավոր է անհրաժեշտ լինի ընդլայնել
C75: Վերապատրաստվել է դատավորների 10%-ը | D75: Նվազել են ազատությունից զրկված անձանց, քրեական դատավարության այլ մասնակիցների նկատմամբ խոշտանգումների, անմարդկային կամ արժանապատվությունը նվաստացնող վերաբերմունքի դեպքերը | F75: =E75 -> 0 | G75: =F75 -> 0 | K75: TR | L75: թեման ներառված է ԱԱ պարտադիր դասընթացների մեջ: հնարավոր է անհրաժեշտ լինի ընդլայնել
C76: Վերապատրաստվել է հոգեբուժական հաստատությունների աշխատակիցների 20%-ը | D76: Նվազել են հոգեբուժական հաստատություններում գտնվող անձանց նկատմամբ խոշտանգումների, անմարդկային կամ արժանապատվությունը նվաստացնող վերաբերմունքի դեպքերը | E76: ='Cost details'!C144/1000 -> 2764.1784 | F76: =E76 -> 2764.1784 | G76: =F76 -> 2764.1784 | K76: TR
C77: Վերապատրաստվել է երեխայի խնամքի հաստատությունների աշխատակիցների 50%-ը | D77: Նվազել են երեխայի խնամքի հաստատություններում գտնվող երեխաների նկատմամբ խոշտանգումների, անմարդկային կամ արժանապատվությունը նվաստացնող վերաբերմունքի դեպքերը | E77: ='Cost details'!C148/1000 -> 12690 | F77: =E77 -> 12690 | G77: =F77 -> 12690 | K77: TR
C78: ՎԵրապատրաստվել է ՔԿՀ ծառայողների 25% | D78: Նվազել են ազատությունից զրկված անձանց, քրեական դատավարության այլ մասնակիցների նկատմամբ խոշտանգումների, անմարդկային կամ արժանապատվությունը նվաստացնող վերաբերմունքի դեպքերը | E78: ='Cost details'!C152/1000 -> 12779.282 | F78: =E78 -> 12779.282 | G78: =F78 -> 12779.282 | K78: TR
C79: Վերապատրաստվել է ՔԿՀ-ներում աշխատող բժշկական անձնակազմի անդամների 25%-ը | D79: Նվազել են ազատությունից զրկված անձանց նկատմամբ խոշտանգումների, անմարդկային կամ արժանապատվությունը նվաստացնող վերաբերմունքի դեպքերը, ավելացել է խոշտանգումների և վատ վերաբերմունքի բացահայտված դեպքերի քանակը | E79: ='Cost details'!C156/1000 -> 1001.034 | F79: =E79 -> 1001.034 | G79: =F79 -> 1001.034 | K79: TR
B80: Ընդամենը Խոշտանգումների արգելքի գծով | E80: =SUM(E47:E79) -> 2713558.5 | F80: =SUM(F47:F79) -> 2731788.5 | G80: =SUM(G47:G79) -> 2716548.5
A82: Գործի արդար քննության իրավունք
A84: Նպատակ. Ապահովել դատավարության մասնակիցների իրավունքների արդյունավետ պաշտպանությունը
A86: Խնդիր. Մեղադրյալ անձանց նկատմամբ մարդու իրավունքների խախտումների քանակի և բողոքների նվազում
A87: Գ թիվ | B87: Գործողություն | C87: Ակնկալվող անմիջական արդյունք | D87: Ակնկալվող ազդեցություն | E87: Նվազագույն գնահատական, հազար դրամ | F87: Առավելագույն գնահատական, հազար դրամ | G87: Ծախսերի գնահատական, հազար դրամ | H87: Վերջնաժամկետ | I87: Ֆինանսավորում
A88: 25 | B88: Ձեռք բերել քննչական և դատավարական գործողությունների տեսաձայնագրման տեխնիկական միջոցներ | C88: ՀՀ քննչական կոմիտեի թվով 85 ստորաբաժանումներում առկա են տեսաձայնագրման միջոցներ | D88: Նվազել են քրեական գործերի մինչդատական վարույթում քրեական դատավարության մասնակիցների իրավունքների խախտումները, ապացույցների` քննչական և դատավարական գործողությունների իրականացման կարգի խախտմամբ ձեռքբերման դեպքերը | E88: =E47/20*85 -> 188096.5 | F88: =E88 -> 188096.5 | G88: =F88 -> 188096.5 | H88: 2021թ. առաջին կիսամյակ | I88: Պետական բյուջե, Օրենքով չարգելված այլ աղբյուրներ | K88: EQ
C89: ՀՀ հատուկ քննչական ծառայությունում առկա են տեսաձայնագրման միջոցներ | E89: 0 | F89: 0 | G89: =F89 -> 0 | H89: 2022թ. առաջին կիսամյակ
A90: 26 | B90: Կահավորել քննչական բաժինները ճանաչման ներկայացնելու և առերեսման քննչական գործողությունները մասնակիցների՝ միմյանց տեսողական ընկալումից դուրս իրականացման նպատակով (Ծախսերը հնարավոր չէ գնահատել, անհրաժեշտ է իրականացնել նմանատիպ սարքավորումների և աշխատանքների իրականացման հնարավորությունը պարզելու ուսումնասիրություն) | C90: ՀՀ քննչական կոմիտեի թվով 10 ստորաբաժանումներում ստեղծվել են ճանաչման ներկայացնելու և առերեսման քննչական գործողությունները մասնակիցների՝ միմյանց տեսողական ընկալումից դուրս իրականացման համար նախատեսված սենյակ | D90: Նվազել են ճանաչման ներկայացնելու և առերեսման ժամանակ համապատասխանաբար ճանաչողի և ճանաչվողի, առերեսվողների (հարցաքննվողների) իրավունքների խախտման դեպքերը | E90: 0 | F90: 0 | G90: 0 | H90: 2021թ. առաջին կիսամյակ | I90: Պետական բյուջե, Օրենքով չարգելված այլ աղբյուրներ
C91: Հատուկ քննչական ծառայության թվով 2 ստորաբաժանումներում ստեղծվել են ճանաչման ներկայացնելու և առերեսման քննչական գործողությունները մասնակիցների՝ միմյանց տեսողական ընկալումից դուրս իրականացման համար նախատեսված սենյակ | E91: 0 | F91: 0 | G91: 0 | H91: 2022թ. առաջին կիսամյակ
A92: 27 | B92: Օրենսդրորեն ամրագրել գրավի՝ որպես այլընտրանքային խափանման միջոցի կիրառման հստակ չափանիշներ | C92: Քրեական դատավարության օրենսգրքում փոփոխություններ և լրացումներ կատարելու մասին օրենքի նախագիծն ուղարկվել է Ազգային ժողով | D92: Նվազել են կալանավորման` որպես խափանման միջոցի կիրառման և գրավի հայեցողական կիրառման դեպքերը | E92: 0 | F92: 0 | G92: 0 | H92: 2020թ. առաջին կիսամյակ | I92: Պետական բյուջեից ֆինանսավորում չի պահանջվում, Օրենքով չարգելված այլ աղբյուրներ
A93: 28 | B93: Օրենսդրորեն սահմանել բացատրություն վերցնելու կարգը | C93: Իրավական ակտի նախագիծն ուղարկվել է Ազգային ժողով | D93: Նվազել են բացատրություն վերցնելու շրջանակներում մարդու իրավունքների խախտման դեպքերը | E93: 0 | F93: 0 | G93: 0 | H93: 2021թ. առաջին կիսամյակ | I93: Պետական բյուջեից ֆինանսավորում չի պահանջվում, Օրենքով չարգելված այլ աղբյուրներ
A94: 29 | B94: Վերանայել բերման ենթարկելու կարգի իրավական կարգավորումները | C94: Քրեական դատավարության օրենսգրքում փոփոխություններ և լրացումներ կատարելու մասին օրենքի նախագիծն ուղարկվել է Ազգային ժողով | D94: Նվազել են բերման ենթարկելու շրջանակներում մարդու իրավունքների խախտման դեպքերը | E94: 0 | F94: 0 | G94: 0 | H94: 2021թ. առաջին կիսամյակ | I94: Պետական բյուջեից ֆինանսավորում չի պահանջվում, Օրենքով չարգելված այլ աղբյուրներ
A95: 30 | B95: Օրենսդրորեն ամրագրել «հանցագործության մասին հաղորդման» հասկացությունը՝ հստակեցնելով հաղորդման բովանդակությանը ներկայացվող պահանջները | C95: Քրեական դատավարության օրենսգրքում փոփոխություններ և լրացումներ կատարելու մասին օրենքի նախագիծն ուղարկվել է Ազգային ժողով | D95: Նվազել են հանցագործությունից տուժած անձանց իրավունքների խախտման, միջազգային չափանիշներին հակառակ քրեական գործի հարուցումը մերժելու մասին որոշումների քանակը | E95: 0 | F95: 0 | G95: 0 | H95: 2021թ. առաջին կիսամյակ | I95: Պետական բյուջեից ֆինանսավորում չի պահանջվում, Օրենքով չարգելված այլ աղբյուրներ
A96: 31 | B96: Օրենսդրորեն ամրապնդել իրավապաշտպան գործունեություն իրականացնող անձանց քրեաիրավական պաշտպանության երաշխիքները | C96: 1. Կատարվել է ուսումնասիրություն իրավապաշտպան գործունեությյուն իրականացնող անձանց քրեաիրավական պաշտպանությանն առնչվող միջազգային չափանիշների և լավագույն փորձի վերաբերյալ | D96: Նվազել են իրավապաշտպան գործունեություն իրականացնող անձանց իրավունքների խախտման դեպքերը | E96: ='Cost details'!C11 -> 9800 | F96: ='Cost details'!D11 -> 14700 | G96: ='Cost details'!E11 -> 12250 | H96: 2021թ. երկրորդ կիսամյակ | I96: Պետական բյուջեից ֆինանսավորում չի պահանջվում, Օրենքով չարգելված այլ աղբյուրներ | K96: ST
C97: 2. Քրեական օրենսգրքում փոփոխություններ և լրացումներ կատարելու մասին օրենքի նախագիծն ուղարկվել է Ազգային ժողով | E97: 0 | F97: 0
A98: 32 | B98: Վերապատրաստումներ իրականացնել գործի արդարացի քննության իրավունքի թեմայով` միջազգային չափանիշներին համապատասխան, այդ թվում` ոստիկանների, ռազմական ոստիկանների, քննիչների, դատախազների, դատավորների, փաստաբանների համար | C98: Վերապատրաստվել է ոստիկանների 21%-ը | D98: Նվազել են ՀՀ Ոստիկանությանկողմից քրեական գործի քննության մինչդատական վարույթում գործի արդարացի քննության իրավունքի խախտման դեպքերը | E98: ='Cost details'!C130/1000 -> 75727.344 | F98: =E98 -> 75727.344 | G98: =F98 -> 75727.344 | H98: 2020-2022թթ. պարբերաբար | I98: Պետական բյուջե, Օրենքով չարգելված այլ աղբյուրներ | K98: TR
C99: Վերապատրաստվել է ռազմական ոստիկանների 30%-ը | D99: Նվազել են ռազմական ՀՀ Ոստիկանությանկողմից քրեական գործի քննության մինչդատական վարույթում գործի արդարացի քննության իրավունքի խախտման դեպքերը | E99: ='Cost details'!C135/1000 -> 10654.28 | F99: =E99 -> 10654.28 | G99: =F99 -> 10654.28 | K99: TR
C100: Վերապատրաստվել է ՀՔԾ քննիչների 11%-ը | D100: Նվազել են քրեական գործի նախաքննության փուլում գործի արդարացի քննության իրավունքի խախտման դեպքերը | E100: 0 | F100: 0 | G100: 0 | K100: TR | L100: թեման ներառված է ԱԱ պարտադիր դասընթացների մեջ: հնարավոր է անհրաժեշտ լինի ընդլայնել
C101: Վերապատրաստվել է դատախազների 25%-ը | D101: Նվազել են քրեական գործի մինչդատական վարույթում գործի արդարացի քննության իրավունքի խախտման դեպքերը | E101: 0 | F101: 0 | G101: 0 | K101: TR | L101: թեման ներառված է ԱԱ պարտադիր դասընթացների մեջ: հնարավոր է անհրաժեշտ լինի ընդլայնել
C102: Վերապատրաստվել է դատավորների 41%-ը | D102: Նվազել են գործի արդարացի քննության իրավունքի խախտման դեպքերը քրեական, քաղաքացիական և վարչական գործերով | E102: 0 | F102: 0 | G102: 0 | K102: TR | L102: թեման ներառված է ԱԱ պարտադիր դասընթացների մեջ: հնարավոր է անհրաժեշտ լինի ընդլայնել
A103: 33 | B103: Կատարելագործել վարույթն իրականացնող մարմին ներկայանալու վերաբերյալ անձի ծանուցմանը վերաբերող օրենսդրական կարգավորումները | C103: 1. Կատարվել է ուսումնասիրություն գույքի վրա կալանք դնելու միջոցառման՝ միջազգային չափանիշներին և լավագույն փորձին համապատասխանության տեսանկյունից | D103: Նվազել են քրեական վարույթն իրականացնող մարմնի կողմից ծանուցման հետ կապված մարդու իրավունքների խախտման դեպքերը | E103: ='Cost details'!C11 -> 9800 | F103: ='Cost details'!D11 -> 14700 | G103: ='Cost details'!E11 -> 12250 | H103: 2021թ. երկրորդ կիսամյակ | I103: Պետական բյուջեից ֆինանսավորում չի պահանջվում, Օրենքով չարգելված այլ աղբյուրներ | K103: ST
C104: 2. Քրեական դատավարության օրենսգրքում փոփոխություններ և լրացումներ կատարելու մասին օրենքի նախագիծն ուղարկվել է Ազգային ժողով | E104: 0 | F104: 0 | G104: 0
A105: 34 | B105: Կատարելագործել գույքի վրա կալանք դնելու քրեադատավարական միջոցառման վերաբերյալ օրենսդրական կարգավորումները | C105: 1. Կատարվել է ուսումնասիրություն գույքի վրա կալանք դնելու միջոցառման՝ միջազգային չափանիշներին և լավագույն փորձին համապատասխանության տեսանկյունից | D105: Նվազել են գույքի վրա կալանք դնելու արդյունքում մարդու իրավունքների խախտման դեպքերը | E105: ='Cost details'!C11 -> 9800 | F105: ='Cost details'!D11 -> 14700 | G105: ='Cost details'!E11 -> 12250 | H105: 2020թ. երկրորդ կիսամյակ | I105: Պետական բյուջեից ֆինանսավորում չի պահանջվում, Օրենքով չարգելված այլ աղբյուրներ | K105: ST
C106: 2. Քրեական դատավարության օրենսգրքում փոփոխություններ և լրացումներ կատարելու մասին օրենքի նախագիծն ուղարկվել է Ազգային ժողով | E106: 0 | F106: 0
...

Sheet Cost details
A1: USD/AMD | C1: 490
A2: EUR/AMD | C2: 530
C4: Min | D4: Max | E4: Average
B5: PR actions, USD | C5: 25000 | D5: 50000
B6: PR actions, AMD thousand | C6: =C5*$C$1/1000 -> 12250 | D6: =D5*$C$1/1000 -> 24500 | E6: =(D6+C6)/2 -> 18375
C9: Min | D9: Max | E9: Average
B10: Studies, USD | C10: 20000 | D10: 30000
B11: Studies, AMD thousand | C11: =C10*$C$1/1000 -> 9800 | D11: =D10*$C$1/1000 -> 14700 | E11: =(D11+C11)/2 -> 12250
B13: Development of training materials
B14: AMD | C14: unit | D14: number of units | E14: Number of positions | F14: Unit price/cost | G14: Total
B15: Coordinator | C15: month | D15: 5 | E15: 1 | F15: 700000 | G15: =+F15*E15*D15 -> 3500000
B16: Expert | C16: month | D16: 5 | E16: 2 | F16: 425000 | G16: =+F16*E16*D16 -> 4250000
B17: Editor | C17: month | D17: 4 | E17: 1 | F17: 560000 | G17: =+F17*E17*D17 -> 2240000
B18: Printing | C18: copies | D18: 200 | F18: 20000 | G18: =+F18*D18 -> 4000000
B19: Total w/o VAT | G19: =SUM(G15:G18) -> 13990000
B20: VAT @ 20% | G20: =G19*0.2 -> 2798000
B21: TOTAL including VAT | G21: =G20+G19 -> 16788000
F22: AMD thousand | G22: 15000
B24: On-line/Distant trainings
B25: Eductaion technology expert | D25: 4 | E25: 1 | F25: 454500 | G25: =+F25*E25*D25 -> 1818000
B26: Contentual Designer | D26: 4 | E26: 1 | F26: 725000 | G26: =+F26*E26*D26 -> 2900000
B27: Designer | D27: 4 | E27: 1 | F27: 487500 | G27: =+F27*E27*D27 -> 1950000
B28: Audio-Video specialist | D28: 4 | E28: 1 | F28: 487500 | G28: =+F28*E28*D28 -> 1950000
B29: E-learning website expert | D29: 4 | E29: 1 | F29: 500000 | G29: =+F29*E29*D29 -> 2000000
B30: Total w/o VAT | G30: =SUM(G25:G29) -> 10618000
B31: VAT @ 20% | G31: =G30*0.2 -> 2123600
B32: TOTAL including VAT | G32: =G31+G30 -> 12741600
B34: Total for Distant training | G34: =G32+G21 -> 29529600
B37: Trainings at the Academy
C38: Number | D38: Hours per year | F38: Cost per participant
B39: Judges | C39: 229 | D39: 80 | F39: 131046
B40: Prosecutors | C40: 327 | D40: 80 | F40: 158109
B41: Investigation comittee staff | C41: 650 | D41: 30 | F41: 23416
B42: Investigators from the Special Investigation Service | C42: 32 | D42: 30 | F42: 62590
B43: Judicial bailiffs | D43: 30 | F43: 107777
B44: Court staff | D44: 30 | F44: 57828
B46: Ոստիկանների քանակ | D46: 15400
B47: Ռազմական ոստիկանների քանակ | D47: 1300
B48: Բժշկական ոլորտի աշխատակիցների քանակ
B49: Հոգեբուժական հաստատությունների աշխատակիցների քանակ | D49: 239
B50: Կրթության ոլորտի աշխատակիցների քանակ
B63: 2-day seminar/training in Tsaxkadzor | C63: 2 | D63: Number of units
B64: Fixed | F64: =F65+F66 -> 220000
B65: Transportation | C65: way | D65: 2 | E65: 65000 | F65: =E65*D65 -> 130000
B66: Trainings | C66: hours | D66: 18 | E66: 5000 | F66: =E66*D66 -> 90000
B67: Variable | F67: =SUM(F68:F70) -> 59500
B68: hotel room | C68: nights | D68: 1 | E68: 25000 | F68: =E68*D68 -> 25000
B69: meals | C69: days | D69: 3 | E69: 5000 | F69: =E69*D69*C63 -> 30000
B70: Coffe breaks | C70: per day | D70: 3 | E70: 1500 | F70: =E70*D70*D68 -> 4500
B72: Number of participants | F72: 20
B73: Total variable Cost | F73: =+F72*F67 -> 1190000
B74: Total Fixed +Variable cost | F74: =F73+F64 -> 1410000
B75: VAT @20% | F75: =F74*0.2 -> 282000
B76: TOTAL COST | F76: =F75+F74 -> 1692000
A79: 1.1, 1.3 | B79: Հրամանատարների ՌՈ ոստիկանների վերապատրաստման հաշվարկ
B81: Մասնակիցների քանակ | C81: 560
B82: Խմբերի քանակ | C82: =C81/20 -> 28
B83: Վերապատրաստման անկցկացման ծախսեր | C83: =F76*C82 -> 47376000
A85: 1.4. | B85: Մասնակիցների քանակ | C85: =C41*0.08 -> 52
B86: Խմբերի քանակ | C86: 2
B87: Վերապատրաստման անկցկացման ծախսեր | C87: =C85*F41 -> 1217632
A89: 1.7. | B89: Մասնակիցների քանակ | C89: =2183*0.25 -> 545.75
B90: Խմբերի քանակ | C90: =C89/20 -> 27.2875
B91: Վերապատրաստման անկցկացման ծախսեր | C91: =C89*F41 -> 12779282
A93: 3.2. | B93: Դասախոսությունների ընդահանուր ժամաքանակը | C93: =40*3 -> 120
B94: 1 ժամի գինը | C94: 10000
B95: Ընդամենը | C95: =C93*C94 -> 1200000
A98: 7.1 | B98: Մասնակիցների քանակ | C98: =15400*0.1 -> 1540
B99: Խմբերի քանակ | C99: =C98/30 -> 51.333333
B100: Վերապատրաստման անկցկացման ծախսեր | C100: =C98*F41 -> 36060640
A104: 7.2 | B104: Մասնակիցների քանակ | C104: =C41*0.23 -> 149.5
B105: Խմբերի քանակ | C105: 8
B106: Վերապատրաստման անկցկացման ծախսեր | C106: =F41*C104 -> 3500692
A109: 7.5 | B109: Մասնակիցների քանակ | C109: =60*0.9 -> 54
B110: Խմբերի քանակ | C110: 3
B111: Վերապատրաստման անկցկացման ծախսեր | C111: =F76*C110 -> 5076000
A113: 7.7 | B113: Մասնակիցների քանակ | C113: 10
B114: Խմբերի քանակ | C114: 1
B115: Վերապատրաստման անկցկացման ծախսեր | C115: =C113*F39 -> 1310460
A121: 15
B122: Խցերի քանակ | C122: 25
B123: 1 խցի մակերես, ք․մ․ | C123: =20 -> 20
B124: 1 ք․մ․ վերանորոգման գինը, դրամ | C124: 150000
B125: Ընդամենը | C125: =C124*C123*C122 -> 75000000
A128: 25.1 | B128: Մասնակիցների քանակ | C128: =15400*0.21 -> 3234
B129: Խմբերի քանակ | C129: =C128/30 -> 107.8
B130: Վերապատրաստման անցկացման ծախսեր | C130: =C128*F41 -> 75727344
A133: 25.2 | B133: Մասնակիցների քանակ | C133: =1300*0.35 -> 455
B134: Խմբերի քանակ | C134: =C133/25 -> 18.2
B135: Վերապատրաստման անցկացման ծախսեր | C135: =C133*F41 -> 10654280
A138: 25.3 | B138: Մասնակիցների քանակ | C138: =C41*0.51 -> 331.5
B139: Խմբերի քանակ | C139: =C138/20 -> 16.575
B140: Վերապատրաստման անցկացման ծախսեր | C140: =C138*F41 -> 7762404
A142: 25.5 | B142: Մասնակիցների քանակ | C142: =239*0.2 -> 47.8
B143: Խմբերի քանակ | C143: =C142/20 -> 2.39
B144: Վերապատրաստման անցկացման ծախսեր | C144: =C142*F44 -> 2764178.4
A146: 25.7 | B146: Մասնակիցների քանակ | C146: =300*0.5 -> 150
B147: Խմբերի քանակ | C147: =C146/20 -> 7.5
B148: Վերապատրաստման անցկացման ծախսեր | C148: =F76*C147 -> 12690000
A150: 25.8 | B150: Մասնակիցների քանակ | C150: =2183*0.25 -> 545.75
...
