Workbook

Sheet Հավելված 1(3)
H1: Ð³í»Éí³Í N1 ÐÐ Ï³é³í³ñáõÃÛ³Ý 2019 Ãí³Ï³ÝÇ __________-Ç ____-Ç N _____-Ü áñáßÙ³Ý
A3: Ð²Ú²êî²ÜÆ Ð²Üð²äºîàôÂÚ²Ü Î²è²ì²ðàôÂÚ²Ü 2018 Âì²Î²ÜÆ ¸ºÎîºØ´ºðÆ 27-Æ N1515-Ü àðàÞØ²Ü N3 Ð²ìºÈì²ÌàôØ Î²î²ðìàÔ öàöàÊàôÂÚàôÜÜºðÀ
A5: ¶áñÍ³é³Ï³Ý ¹³ëÇãÁ | D5: Ìñ³·ñ³ÛÇÝ ¹³ëÇãÁ | F5: ´Ûáõç»ï³ÛÇÝ Í³Ëë»ñÇ ·áñÍ³é³Ï³Ý ¹³ë³Ï³ñ·Ù³Ý µ³ÅÇÝÝ»ñÇ, ËÙµ»ñÇ ¨ ¹³ë»ñÇ, µÛáõç»ï³ÛÇÝ Íñ³·ñ»ñÇ ÙÇçáó³éáõÙÝ»ñÇ, µÛáõç»ï³ÛÇÝ Ñ³ïÏ³óáõÙÝ»ñÇ ·ÉË³íáñ Ï³ñ·³¹ñÇãÝ»ñÇ ³Ýí³ÝáõÙÝ»ñÁ | G5: Ցուցանիշների փոփոխությունը (ավելացումները նշված են դրական նշանով, իսկ նվազեցումները` փակագծերում)
G6: ²é³çÇÝ »é³ÙëÛ³Ï | H6: ²é³çÇÝ ÏÇë³ÙÛ³Ï | I6: ÆÝÝ ³ÙÇë | J6: î³ñÇ
A7: ´³ÅÇÝ | B7: ÊáõÙµ | C7: ¸³ë | D7: Ìñ³·Çñ | E7: ØÇçáó³ éáõÙ
A8: 03 | B8: 03 | C8: 01 | F8: ¸³ï³ñ³ÝÝ»ñ, ³Û¹ ÃíáõÙ՝ | G8: =+G9+G11+G13+G15+G17+G19+G21+G23++G25+G27+G29+G31+G33+G35+G37+G39+G41 -> 0 | H8: =+H9+H11+H13+H15+H17+H19+H21+H23++H25+H27+H29+H31+H33+H35+H37+H39+H41 -> 0 | I8: =+I9+I11+I13+I15+I17+I19+I21+I23++I25+I27+I29+I31+I33+I35+I37+I39+I41 -> 0 | J8: =+J9+J11+J13+J15+J17+J19+J21+J23++J25+J27+J29+J31+J33+J35+J37+J39+J41 -> -2.5465852e-11
D9: 1080 | E9: 11001 | F9: ´³ñÓñ³·áõÛÝ ¹³ï³Ï³Ý ËáñÑñ¹Ç µÝ³Ï³ÝáÝ ·áñÍáõÝ»áõÃÛ³Ý ³å³ÑáíáõÙ ¨ ´³ñÓñ³·áõÛÝ ¹³ï³Ï³Ý ËáñÑñ¹Ç ÏáÕÙÇó ¹³ï³Ï³Ý ÇßË³ÝáõÃÛ³Ý ³ÝÏ³ËáõÃÛ³Ý »ñ³ßË³íáñÙ³ÝÝ áõÕÕí³Í ÙÇçáó³éáõÙÝ»ñÇ Çñ³Ï³Ý³óáõÙ | G9: 19399 | H9: 60612.8 | I9: 101909 | J9: 165365.4
F10: ´³ñÓñ³·áõÛÝ ¹³ï³Ï³Ý ËáñÑáõñ¹ | G10: 19399 | H10: 60612.8 | I10: 101909 | J10: 165365.4
D11: 1080 | E11: 11002 | F11: ÐÐ ì×é³µ»Ï ¹³ï³ñ³ÝÇ µÝ³Ï³ÝáÝ ·áñÍáõÝ»áõÃÛ³Ý ¨ ÐÐ ì×é³µ»Ï ¹³ï³ñ³ÝÇ ÏáÕÙÇó ¹³ï³Ï³Ý å³ßïå³ÝáõÃÛ³Ý Çñ³íáõÝùÇ ³å³ÑáíáõÙ | G11: -1400.2 | H11: -3785.4 | I11: -6170.4 | J11: -9572.1
F12: ´³ñÓñ³·áõÛÝ ¹³ï³Ï³Ý ËáñÑáõñ¹ | G12: -1400.2 | H12: -3785.4 | I12: -6170.4 | J12: -9572.1
D13: 1080 | E13: 11003 | F13: ÐÐ í»ñ³ùÝÝÇã ù³Õ³ù³óÇ³Ï³Ý ¹³ï³ñ³ÝÇ µÝ³Ï³ÝáÝ ·áñÍáõÝ»áõÃÛ³Ý ¨ ÐÐ ì»ñ³ùÝÝÇã ù³Õ³ù³óÇ³Ï³Ý ¹³ï³ñ³ÝÇ ÏÕ¹ÙÇó ¹³ï³Ï³Ý å³ßïå³ÝáõÃÛ³Ý Çñ³íáõÝùÇ ³å³ÑáíáõÙ | G13: -920.9 | H13: -2914.5 | I13: -4907.9 | J13: -8014.1
F14: ´³ñÓñ³·áõÛÝ ¹³ï³Ï³Ý ËáñÑáõñ¹ | G14: -920.9 | H14: -2914.5 | I14: -4907.9 | J14: -8014.1
D15: 1080 | E15: 11004 | F15: ÐÐ í»ñ³ùÝÝÇã ùñ»³Ï³Ý ¹³ï³ñ³ÝÇ µÝ³Ï³ÝáÝ ·áñÍáõÝ»áõÃÛ³Ý ¨ ÐÐ ì»ñ³ùÝÝÇã ùñ»³Ï³Ý ¹³ï³ñ³ÝÇ ÏáÕÙÇó ¹³ï³Ï³Ý å³ßïå³ÝáõÃÛ³Ý Çñ³íáõÝùÇ ³å³ÑáíáõÙ | G15: -1096.8 | H15: -3331.5 | I15: -5566 | J15: -8978.5
F16: ´³ñÓñ³·áõÛÝ ¹³ï³Ï³Ý ËáñÑáõñ¹ | G16: -1096.8 | H16: -3331.5 | I16: -5566 | J16: -8978.5
D17: 1080 | E17: 11005 | F17: ÐÐ í»ñ³ùÝÝÇã í³ñã³Ï³Ý ¹³ï³ñ³ÝÇ µÝ³Ï³ÝáÝ ·áñÍáõÝ»áõÃÛ³Ý ¨ ÐÐ ì»ñ³ùÝÝÇã í³ñã³Ï³Ý ¹³ï³ñ³ÝÇ ÏáÕÙÇó ¹³ï³Ï³Ý å³ßïå³ÝáõÃÛ³Ý Çñ³íáõÝùÇ ³å³ÑáíáõÙ | G17: -578.5 | H17: -1664.6 | I17: -2750.6 | J17: -4384.2
F18: ´³ñÓñ³·áõÛÝ ¹³ï³Ï³Ý ËáñÑáõñ¹ | G18: -578.5 | H18: -1664.6 | I18: -2750.6 | J18: -4384.2
D19: 1080 | E19: 11006 | F19: ÐÐ í³ñã³Ï³Ý ¹³ï³ñ³ÝÇ µÝ³Ï³ÝáÝ ·áñÍáõÝ»áõÃÛ³Ý ¨ ÐÐ ì³ñã³Ï³Ý ¹³ï³ñ³ÝÇ ÏáÕÙÇó ¹³ï³Ï³Ý å³ßïå³ÝáõÃÛ³Ý Çñ³íáõÝùÇ ³å³ÑáíáõÙ | G19: -1415.3 | H19: -4581.3 | I19: -7747.3 | J19: -12703.9
F20: ´³ñÓñ³·áõÛÝ ¹³ï³Ï³Ý ËáñÑáõñ¹ | G20: -1415.3 | H20: -4581.3 | I20: -7747.3 | J20: -12703.9
D21: 1080 | E21: 11007 | F21: ºñ¨³Ý ù³Õ³ùÇ ÁÝ¹Ñ³Ýáõñ Çñ³í³ëáõÃÛ³Ý ¹³ï³ñ³ÝÇ µÝ³Ï³ÝáÝ ·áñÍáõÝ»áõÃÛ³Ý ¨ ºñ¨³Ý ù³Õ³ùÇ ÁÝ¹Ñ³Ýáõñ Çñ³í³ëáõÃÛ³Ý ¹³ï³ñ³ÝÇ ÏáÕÙÇó ¹³ï³Ï³Ý å³ßïå³ÝáõÃÛ³Ý Çñ³íáõÝùÇ ³å³ÑáíáõÙ | G21: -4135.3 | H21: -13851.5 | I21: -23567.7 | J21: -38753.3
F22: ´³ñÓñ³·áõÛÝ ¹³ï³Ï³Ý ËáñÑáõñ¹ | G22: -4135.3 | H22: -13851.5 | I22: -23567.7 | J22: -38753.3
D23: 1080 | E23: 11008 | F23: ÐÐ ²ñ³·³ÍáïÝÇ Ù³ñ½Ç ÁÝ¹Ñ³Ýáõñ Çñ³í³ëáõÃÛ³Ý ¹³ï³ñ³ÝÇ µÝ³Ï³ÝáÝ ·áñÍáõÝ»áõÃÛ³Ý ¨ ÐÐ ²ñ³·³ÍáïÝÇ Ù³ñ½Ç ÁÝ¹Ñ³Ýáõñ Çñ³í³ëáõÃÛ³Ý ¹³ï³ñ³ÝÇ ÏáÕÙÇó ¹³ï³Ï³Ý å³ßïå³ÝáõÃÛ³Ý Çñ³íáõÝùÇ ³å³ÑáíáõÙ | G23: -821.1 | H23: -2435.2 | I23: -4049.1 | J23: -6495.8
F24: ´³ñÓñ³·áõÛÝ ¹³ï³Ï³Ý ËáñÑáõñ¹ | G24: -821.1 | H24: -2435.2 | I24: -4049.1 | J24: -6495.8
D25: 1080 | E25: 11009 | F25: ÐÐ ²ñ³ñ³ïÇ ¨ ì³Ûáó ÓáñÇ Ù³ñ½»ñÇ ÁÝ¹Ñ³Ýáõñ Çñ³í³ëáõÃÛ³Ý ¹³ï³ñ³ÝÇ µÝ³Ï³ÝáÝ ·áñÍáõÝ»áõÃÛ³Ý ¨ ÐÐ ²ñ³ñ³ïÇ ¨ ì³Ûáó ÓáñÇ Ù³ñ½»ñÇ ÁÝ¹Ñ³Ýáõñ Çñ³í³ëáõÃÛ³Ý ¹³ï³ñ³ÝÇ ÏáÕÙÇó ¹³ï³Ï³Ý å³ßïå³ÝáõÃÛ³Ý Çñ³íáõÝùÇ ³å³ÑáíáõÙ | G25: -1193.4 | H25: -3820.1 | I25: -6530.7 | J25: -10666
F26: ´³ñÓñ³·áõÛÝ ¹³ï³Ï³Ý ËáñÑáõñ¹ | G26: -1193.4 | H26: -3820.1 | I26: -6530.7 | J26: -10666
D27: 1080 | E27: 11010 | F27: ÐÐ ²ñÙ³íÇñÇ Ù³ñ½Ç ÁÝ¹Ñ³Ýáõñ Çñ³í³ëáõÃÛ³Ý ¹³ï³ñ³ÝÇ µÝ³Ï³ÝáÝ ·áñÍáõÝ»áõÃÛ³Ý ¨ ÐÐ ²ñÙ³íÇñÇ Ù³ñ½Ç ÁÝ¹Ñ³Ýáõñ Çñ³í³ëáõÃÛ³Ý ¹³ï³ñ³ÝÇ ÏáÕÙÇó ¹³ï³Ï³Ý å³ßïå³ÝáõÃÛ³Ý Çñ³íáõÝùÇ ³å³ÑáíáõÙ | G27: -1007.8 | H27: -3091 | I27: -5174.4 | J27: -8384.4
F28: ´³ñÓñ³·áõÛÝ ¹³ï³Ï³Ý ËáñÑáõñ¹ | G28: -1007.8 | H28: -3091 | I28: -5174.4 | J28: -8384.4
D29: 1080 | E29: 11011 | F29: ÐÐ ¶»Õ³ñùáõÝÇùÇ Ù³ñ½Ç ÁÝ¹Ñ³Ýáõñ Çñ³í³ëáõÃÛ³Ý ¹³ï³ñ³ÝÇ µÝ³Ï³ÝáÝ ·áñÍáõÝ»áõÃÛ³Ý ¨ ÐÐ ¶»Õ³ñùáõÝÇùÇ Ù³ñ½Ç ÁÝ¹Ñ³Ýáõñ Çñ³í³ëáõÃÛ³Ý ¹³ï³ñ³ÝÇ ÏáÕÙÇó ¹³ï³Ï³Ý å³ßïå³ÝáõÃÛ³Ý Çñ³íáõÝùÇ ³å³ÑáíáõÙ | G29: -873.3 | H29: -2596.9 | I29: -4320.2 | J29: -6934.1
F30: ´³ñÓñ³·áõÛÝ ¹³ï³Ï³Ý ËáñÑáõñ¹ | G30: -873.3 | H30: -2596.9 | I30: -4320.2 | J30: -6934.1
D31: 1080 | E31: 11012 | F31: ÐÐ Èáéáõ Ù³ñ½Ç ÁÝ¹Ñ³Ýáõñ Çñ³í³ëáõÃÛ³Ý ¹³ï³ñ³ÝÇ µÝ³Ï³ÝáÝ ·áñÍáõÝ»áõÃÛ³Ý ¨ ÐÐ Èáéáõ Ù³ñ½Ç ÁÝ¹Ñ³Ýáõñ Çñ³í³ëáõÃÛ³Ý ¹³ï³ñ³ÝÇ ÏáÕÙÇó ¹³ï³Ï³Ý å³ßïå³ÝáõÃÛ³Ý Çñ³íáõÝùÇ ³å³ÑáíáõÙ | G31: -1088.9 | H31: -3359.1 | I31: -5629 | J31: -9169.2
F32: ´³ñÓñ³·áõÛÝ ¹³ï³Ï³Ý ËáñÑáõñ¹ | G32: -1088.9 | H32: -3359.1 | I32: -5629 | J32: -9169.2
D33: 1080 | E33: 11013 | F33: ÐÐ Îáï³ÛùÇ Ù³ñ½Ç ÁÝ¹Ñ³Ýáõñ Çñ³í³ëáõÃÛ³Ý ¹³ï³ñ³ÝÇ µÝ³Ï³ÝáÝ ·áñÍáõÝ»áõÃÛ³Ý ¨ ÐÐ Îáï³ÛùÇ Ù³ñ½Ç ÁÝ¹Ñ³Ýáõñ Çñ³í³ëáõÃÛ³Ý ¹³ï³ñ³ÝÇ ÏáÕÙÇó ¹³ï³Ï³Ý å³ßïå³ÝáõÃÛ³Ý Çñ³íáõÝùÇ ³å³ÑáíáõÙ | G33: -892 | H33: -2690.3 | I33: -4488.5 | J33: -7232.9
F34: ´³ñÓñ³·áõÛÝ ¹³ï³Ï³Ý ËáñÑáõñ¹ | G34: -892 | H34: -2690.3 | I34: -4488.5 | J34: -7232.9
D35: 1080 | E35: 11014 | F35: ÐÐ ÞÇñ³ÏÇ Ù³ñ½Ç ÁÝ¹Ñ³Ýáõñ Çñ³í³ëáõÃÛ³Ý ¹³ï³ñ³ÝÇ µÝ³Ï³ÝáÝ ·áñÍáõÝ»áõÃÛ³Ý ¨ ÐÐ ÞÇñ³ÏÇ Ù³ñ½Ç ÁÝ¹Ñ³Ýáõñ Çñ³í³ëáõÃÛ³Ý ¹³ï³ñ³ÝÇ Ïá¹ÙÇó ¹³ï³Ï³Ý å³ßïå³ÝáõÃÛ³Ý Çñ³íáõÝùÇ ³å³ÑáíáõÙ | G35: -1233.9 | H35: -3887.5 | I35: -6541.3 | J35: -10654.1
F36: ´³ñÓñ³·áõÛÝ ¹³ï³Ï³Ý ËáñÑáõñ¹ | G36: -1233.9 | H36: -3887.5 | I36: -6541.3 | J36: -10654.1
D37: 1080 | E37: 11015 | F37: ÐÐ êÛáõÝÇùÇ Ù³ñ½Ç ÁÝ¹Ñ³Ýáõñ Çñ³í³ëáõÃÛ³Ý ¹³ï³ñ³ÝÇ µÝ³Ï³ÝáÝ ·áñÍáõÝ»áõÃÛ³Ý ¨ ÐÐ êÛáõÝÇùÇ Ù³ñ½Ç ÁÝ¹Ñ³Ýáõñ Çñ³í³ëáõÃÛ³Ý ¹³ï³ñ³ÝÇ ÏáÕÙÇó ¹³ï³Ï³Ý å³ßïå³ÝáõÃÛ³Ý Çñ³íáõÝùÇ ³å³ÑáíáõÙ | G37: -902.5 | H37: -2735.8 | I37: -4568.9 | J37: -7226.6
F38: ´³ñÓñ³·áõÛÝ ¹³ï³Ï³Ý ËáñÑáõñ¹ | G38: -902.5 | H38: -2735.8 | I38: -4568.9 | J38: -7226.6
D39: 1080 | E39: 11016 | F39: ÐÐ î³íáõßÇ Ù³ñ½Ç ÁÝ¹Ñ³Ýáõñ Çñ³í³ëáõÃÛ³Ý ¹³ï³ñ³ÝÇ µÝ³Ï³ÝáÝ ·áñÍáõÝ»áõÃÛ³Ý ¨ ÐÐ î³íáõßÇ Ù³ñ½Ç ÁÝ¹Ñ³Ýáõñ Çñ³í³ëáõÃÛ³Ý ¹³ï³ñ³ÝÇ Ïá¹ÙÇó ¹³ï³Ï³Ý å³ßïå³ÝáõÃÛ³Ý Çñ³íáõÝùÇ ³å³ÑáíáõÙ | G39: -913.5 | H39: -2784.7 | I39: -4655.9 | J39: -7524.7
F40: ´³ñÓñ³·áõÛÝ ¹³ï³Ï³Ý ËáñÑáõñ¹ | G40: -913.5 | H40: -2784.7 | I40: -4655.9 | J40: -7524.7
D41: 1080 | E41: 11017 | F41: ÐÐ êÝ³ÝÏáõÃÛ³Ý ¹³ï³ñ³ÝÇ µÝ³Ï³ÝáÝ ·áñÍáõÝ»áõÃÛ³Ý ¨ ÐÐ êÝ³ÝÏáõÃÛ³Ý ¹³ï³ñ³ÝÇ Ïá¹ÙÇó ¹³ï³Ï³Ý å³ßïå³ÝáõÃÛ³Ý Çñ³íáõÝùÇ ³å³ÑáíáõÙ | G41: -925.6 | H41: -3083.4 | I41: -5241.1 | J41: -8671.5
F42: ´³ñÓñ³·áõÛÝ ¹³ï³Ï³Ý ËáñÑáõñ¹ | G42: -925.6 | H42: -3083.4 | I42: -5241.1 | J42: -8671.5

Sheet Հավելված 1(5)
D1: Հավելված N1 ՀՀ կառավարության 2019 թվականի __________-ի ____-ի N _____-Ն որոշման
A3: <<ՀԱՅԱUՏԱՆԻ ՀԱՆՐԱՊԵՏՈՒԹՅԱՆ 2019 ԹՎԱԿԱՆԻ ՊԵՏԱԿԱՆ ԲՅՈՒՋԵԻ ՄԱUԻՆ>> ՀԱՅԱUՏԱՆԻ ՀԱՆՐԱՊԵՏՈՒԹՅԱՆ OՐԵՆՔԻ N 1 ՀԱՎԵԼՎԱԾԻ N 2 ԱՂՅՈՒՍԱԿՈՒՄ ԿԱՏԱՐՎՈՂ ՎԵՐԱԲԱՇԽՈՒՄԸ ԵՎ ՀԱՅԱՍՏԱՆԻ ՀԱՆՐԱՊԵՏՈՒԹՅԱՆ ԿԱՌԱՎԱՐՈՒԹՅԱՆ 2018 ԹՎԱԿԱՆԻ ԴԵԿՏԵՄԲԵՐԻ 27-Ի N 1515-Ն ՈՐՈՇՄԱՆ N5 ՀԱՎԵԼՎԱԾԻ N1 ԱՂՅՈՒՍԱԿՈՒՄ ԿԱՏԱՐՎՈՂ ՓՈՓՈԽՈՒԹՅՈՒՆՆԵՐԸ
A6: Ծրագրային դասիչը | C6: Բյուջետային հատկացումների գլխավոր կարգադրիչների, ծրագրերի և միջոցառումների անվանումները | D6: Ցուցանիշների փոփոխությունը (ավելացումները նշված են դրական նշանով, իսկ նվազեցումները` փակագծերում)
A7: Ծրագիր | B7: Միջոցառում | D7: Տարի
C8: Բարձրագույն դատական խորհուրդ | D8: =+D9 -> 0
A9: 1080 | C9: Ծրագրի անվանումը` | D9: =D16+D22+D28+D34+D40+D46+D52+D58+D64+D70+D76+D82+D88+D94+D100+D106+D112 -> 0
C10: Դատական իշխանության գործունեության ապահովում և իրականացում
C11: Ծրագրի նպատակը`
C12: Դատական իշխանության անկախության երաշխավորում, բնականոն գործունեության և դատական պաշտպանության իրավունքի ապահովում
C13: Վերջնական արդյունքի նկարագրությունը`
C14: Դատական իշխանության գուծունեության և դատական պաշտպանության իրավունքի ապահովման արդյունավետության բարձրացում
A15: Ծրագրի միջոցառումներ
B16: 11001 | C16: Միջոցառման անվանումը` | D16: =+'Հավելված 2(3,4)'!G11 -> 60815
C17: Բարձրագույն դատական խորհրդի բնականոն գործունեության ապահովում և Բարձրագույն դատական խորհրդի կողմից դատական իշխանության անկախության երաշխավորմանն ուղղված միջոցառումների իրականացում
C18: Միջոցառման նկարագրությունը`
C19: Դատական գործերի բաշխման համակարգի արդիականացում, դատարանների բնականոն գործունեության համար նյութատեխնիկական պայմաններով ապահովում, Դատական դեպարտամենտին որակյալ կադրերով ապահովում, ճշգրիտ դատական վիճակագրության վարում և այլն
C20: Միջոցառման տեսակը
C21: Ծառայությունների մատուցում
B22: 11002 | C22: Միջոցառման անվանումը` | D22: =+'Հավելված 2(3,4)'!G24 -> 200
C23: ՀՀ Վճռաբեկ դատարանի բնականոն գործունեության և ՀՀ Վճռաբեկ դատարանի կողմից դատական պաշտպանության իրավունքի ապահովում
C24: Միջոցառման նկարագրությունը`
C25: Դատավարական գործունեության իրականացում, դատական ակտերի կազմում և հրապարակում, արխիվային փաստաթղթերի տրամադրում, դատական ծառայության իրականացում
C26: Միջոցառման տեսակը
C27: Ծառայությունների մատուցում
B28: 11003 | C28: Միջոցառման անվանումը` | D28: =+'Հավելված 2(3,4)'!G33 -> -290
C29: ՀՀ վերաքննիչ քաղաքացիական դատարանի բնականոն գործունեության և ՀՀ Վերաքննիչ քաղաքացիական դատարանի կողմից դատական պաշտպանության իրավունքի ապահովում
C30: Միջոցառման նկարագրությունը`
C31: Դատավարական գործունեության իրականացում, դատական ակտերի կազմում և հրապարակում, արխիվային փաստաթղթերի տրամադրում, դատական ծառայության իրականացում
C32: Միջոցառման տեսակը
C33: Ծառայությունների մատուցում
B34: 11004 | C34: Միջոցառման անվանումը` | D34: =+'Հավելված 2(3,4)'!G44 -> 3150
C35: ՀՀ վերաքննիչ քրեական դատարանի բնականոն գործունեության և ՀՀ Վերաքննիչ քրեական դատարանի կողմից դատական պաշտպանության իրավունքի ապահովում
C36: Միջոցառման նկարագրությունը`
C37: Դատավարական գործունեության իրականացում, դատական ակտերի կազմում և հրապարակում, արխիվային փաստաթղթերի տրամադրում, դատական ծառայության իրականացում
C38: Միջոցառման տեսակը
C39: Ծառայությունների մատուցում
B40: 11005 | C40: Միջոցառման անվանումը` | D40: =+'Հավելված 2(3,4)'!G55 -> 9000
C41: ՀՀ վերաքննիչ վարչական դատարանի բնականոն գործունեության և ՀՀ Վերաքննիչ վարչական դատարանի կողմից դատական պաշտպանության իրավունքի ապահովում
C42: Միջոցառման նկարագրությունը`
C43: Դատավարական գործունեության իրականացում, դատական ակտերի կազմում և հրապարակում, արխիվային փաստաթղթերի տրամադրում, դատական ծառայության իրականացում
...

Sheet Հավելված 2(3,4)
G1: Հավելված N2 ՀՀ կառավարության 2019 թվականի __________-ի ____-ի N _____-Ն որոշման
A3: ՀԱՅԱՍՏԱՆԻ ՀԱՆՐԱՊԵՏՈՒԹՅԱՆ ԿԱՌԱՎԱՐՈՒԹՅԱՆ 2018 ԹՎԱԿԱՆԻ ԴԵԿՏԵՄԲԵՐԻ 27-Ի N1515-Ն ՈՐՈՇՄԱՆ NN 3 և 4 ՀԱՎԵԼՎԱԾՆԵՐՈՒՄ ԿԱՏԱՐՎՈՂ ՓՈՓՈԽՈՒԹՅՈՒՆՆԵՐԸ
A5: Գործառական դասիչը | D5: Ծրագրային դասիչը | F5: Բյուջետային հատկացումների գլխավոր կարգադրիչների, ծրագրերի, միջոցառումների և միջոցառումները կատարող պետական մարմինների անվանումները | G5: Ցուցանիշների փոփոխությունը (ավելացումները նշված են դրական նշանով, իսկ նվազեցումները` փակագծերում)
A6: Բաժին | B6: Խումբ | C6: Դաս | D6: Ծրագիր | E6: Միջոց առում | G6: Տարի
A7: 03 | B7: 03 | C7: 01 | D7: 1080 | F7: Բարձրագույն դատական խորհուրդ | G7: =+G9 -> 0
F8: այդ թվում՝
F9: Դատական իշխանության գործունեության ապահովում և իրականացում | G9: =+G11+G24+G33+G44+G55+G64+G76+G90+G102+G114+G126+G138+G152+G164+G178+G193+G207 -> 0
F10: այդ թվում`
E11: 11001 | F11: Բարձրագույն դատական խորհրդի բնականոն գործունեության ապահովում և Բարձրագույն դատական խորհրդի կողմից դատական իշխանության անկախության երաշխավորմանն ուղղված միջոցառումների իրականացում | G11: =+G15 -> 60815
F12: այդ թվում` ըստ կատարողների
F13: ՀՀ դատական դեպարտամենտ
F14: այդ թվում` բյուջետային ծախսերի տնտեսագիտական դասակարգման հոդվածներ
F15: ԸՆԴԱՄԵՆԸ ԾԱԽՍԵՐ | G15: =+G16 -> 60815
F16: ԸՆԹԱՑԻԿ ԾԱԽՍԵՐ | G16: =+G17+G20 -> 60815
F17: ԱՇԽԱՏԱՆՔԻ ՎԱՐՁԱՏՐՈՒԹՅՈՒՆ | G17: =G18 -> 61900
F18: Դրամով վճարվող աշխատավարձեր և հավելավճարներ | G18: =G19 -> 61900
F19: - Աշխատողների աշխատավարձեր և հավելավճարներ | G19: 61900
F20: ԾԱՌԱՅՈՒԹՅՈՒՆՆԵՐԻ ԵՎ ԱՊՐԱՆՔՆԵՐԻ ՁԵՌՔԲԵՐՈՒՄ | G20: =+G21 -> -1085
F21: Շարունակական ծախսեր | G21: =+G22+G23 -> -1085
F22: - Կոմունալ ծառայություններ | G22: -900
F23: - Կապի ծառայություններ | G23: -185
E24: 11002 | F24: ՀՀ Վճռաբեկ դատարանի բնականոն գործունեության և ՀՀ Վճռաբեկ դատարանի կողմից դատական պաշտպանության իրավունքի ապահովում | G24: =+G28 -> 200
F25: այդ թվում` ըստ կատարողների
F26: ՀՀ դատական դեպարտամենտ
F27: այդ թվում` բյուջետային ծախսերի տնտեսագիտական դասակարգման հոդվածներ
F28: ԸՆԴԱՄԵՆԸ ԾԱԽՍԵՐ | G28: =+G29 -> 200
F29: ԸՆԹԱՑԻԿ ԾԱԽՍԵՐ | G29: =+G30 -> 200
F30: ԾԱՌԱՅՈՒԹՅՈՒՆՆԵՐԻ ԵՎ ԱՊՐԱՆՔՆԵՐԻ ՁԵՌՔԲԵՐՈՒՄ | G30: =+G31 -> 200
F31: Շարունակական ծախսեր | G31: =+G32 -> 200
F32: - Կոմունալ ծառայություններ | G32: 200
E33: 11003 | F33: ՀՀ վերաքննիչ քաղաքացիական դատարանի բնականոն գործունեության և ՀՀ Վերաքննիչ քաղաքացիական դատարանի կողմից դատական պաշտպանության իրավունքի ապահովում | G33: =G37 -> -290
F34: այդ թվում` ըստ կատարողների
F35: ՀՀ դատական դեպարտամենտ
F36: այդ թվում` բյուջետային ծախսերի տնտեսագիտական դասակարգման հոդվածներ
F37: ԸՆԴԱՄԵՆԸ ԾԱԽՍԵՐ | G37: =+G38 -> -290
F38: ԸՆԹԱՑԻԿ ԾԱԽՍԵՐ | G38: =+G39 -> -290
F39: ԾԱՌԱՅՈՒԹՅՈՒՆՆԵՐԻ ԵՎ ԱՊՐԱՆՔՆԵՐԻ ՁԵՌՔԲԵՐՈՒՄ | G39: =+G40+G42 -> -290
F40: Շարունակական ծախսեր | G40: =+G41 -> 260
F41: - Էներգետիկ ծառայություններ | G41: 260
F42: Պայմանագրային այլ ծառայությունների ձեռքբերում | G42: =+G43 -> -550
...

Sheet Հավելված 3(11)
C1: Հավելված N3 ՀՀ կառավարության 2019 թվականի __________-ի ____-ի N _____-Ն որոշման
A2: ՀԱՅԱՍՏԱՆԻ ՀԱՆՐԱՊԵՏՈՒԹՅԱՆ ԿԱՌԱՎԱՐՈՒԹՅԱՆ 2018 ԹՎԱԿԱՆԻ ԴԵԿՏԵՄԲԵՐԻ 27-Ի N1515-Ն ՈՐՈՇՄԱՆ N11 ՀԱՎԵԼՎԱԾԻ N11.5 ԱՂՅՈՒՍԱԿՈՒՄ ԿԱՏԱՐՎՈՂ ՓՈՓՈԽՈՒԹՅՈՒՆՆԵՐԸ
A5: Բարձրագույն դատական խորհուրդ
A7: ՄԱՍ 2. ՊԵՏԱԿԱՆ ՄԱՐՄՆԻ ԳԾՈՎ ԱՐԴՅՈՒՆՔԱՅԻՆ (ԿԱՏԱՐՈՂԱԿԱՆ) ՑՈՒՑԱՆԻՇՆԵՐԸ
A8: Ծրագրի դասիչը | B8: Ծրագրի անվանումը
A9: 1080 | B9: Դատական իշխանության գործունեության ապահովում և իրականացում
A11: Ծրագրի միջոցառումները
A13: Ծրագրի դասիչը՝ | B13: 1080 | C13: Ցուցանիշներ
A14: Միջոցառման դասիչը՝ | B14: 11001 | C14: Ցուցանիշների փոփոխությունը (ավելացումները նշված են դրական նշանով, իսկ նվազեցումները` փակագծերում)
A15: Միջոցառման անվանումը՝ | B15: Բարձրագույն դատական խորհրդի բնականոն գործունեության ապահովում և Բարձրագույն դատական խորհրդի կողմից դատական իշխանության անկախության երաշխավորմանն ուղղված միջոցառումների իրականացում | C15: Տարի
A16: Նկարագրությունը՝ | B16: Դատական գործերի բաշխման համակարգի արդիականացում, դատարանների բնականոն գործունեության համար նյութատեխնիկական պայմաններով ապահովում, Դատական դեպարտամենտին որակյալ կադրերով ապահովում, ճշգրիտ դատական վիճակագրության վարում և այլն
A17: Միջոցառման տեսակը՝ | B17: Ծառայությունների մատուցում
A18: Միջոցառումն իրականացնողի անվանումը` | B18: Դատական դեպարտամենտ
A19: Արդյունքի չափորոշիչներ
A20: Միջոցառման վրա կատարվող ծախսը (հազար դրամ) | C20: =+'Հավելված 2(3,4)'!G11 -> 60815
A22: Ծրագրի դասիչը՝ | B22: 1080 | C22: Ցուցանիշներ
A23: Միջոցառման դասիչը՝ | B23: 11002 | C23: Ցուցանիշների փոփոխությունը (ավելացումները նշված են դրական նշանով, իսկ նվազեցումները` փակագծերում)
A24: Միջոցառման անվանումը՝ | B24: ՀՀ Վճռաբեկ դատարանի բնականոն գործու նեության և ՀՀ Վճռաբեկ դատարանի կողմից դատական պաշտպանության իրավունքի ապահովում | C24: Տարի
A25: Նկարագրությունը՝ | B25: Դատավարական գործունեության իրականացում, դատական ակտերի կազմում և հրապարակում, արխիվային փաստաթղթերի տրամադրում, դատական ծառայության իրականացում
A26: Միջոցառման տեսակը՝ | B26: Ծառայությունների մատուցում
A27: Միջոցառումն իրականացնողի անվանումը` | B27: ՀՀ Վճռաբեկ դատարան
A28: Արդյունքի չափորոշիչներ
A29: Միջոցառման վրա կատարվող ծախսը (հազար դրամ)
A30: Միջոցառման վրա կատարվող ծախսը (հազար դրամ) | C30: =+'Հավելված 2(3,4)'!G24 -> 200
A32: Ծրագրի դասիչը՝ | B32: 1080 | C32: Ցուցանիշներ
A33: Միջոցառման դասիչը՝ | B33: 11003 | C33: Ցուցանիշների փոփոխությունը (ավելացումները նշված են դրական նշանով, իսկ նվազեցումները` փակագծերում)
A34: Միջոցառման անվանումը՝ | B34: ՀՀ վերաքննիչ քաղաքացիական դատարանի բնականոն գործունեության և ՀՀ Վերաքննիչ քաղաքացիական դատարանի կողմից դատական պաշտպանության իրավունքի ապահովում | C34: Տարի
A35: Նկարագրությունը՝ | B35: Դատավարական գործունեության իրականացում, դատական ակտերի կազմում և հրապարակում, արխիվային փաստաթղթերի տրամադրում, դատական ծառայության իրականացում
A36: Միջոցառման տեսակը՝ | B36: Ծառայությունների մատուցում
A37: Միջոցառումն իրականացնողի անվանումը` | B37: ՀՀ Վերաքննիչ քաղաքացիական դատարան
A38: Արդյունքի չափորոշիչներ
A39: Միջոցառման վրա կատարվող ծախսը (հազար դրամ) | C39: =+'Հավելված 2(3,4)'!G33 -> -290
A41: Ծրագրի դասիչը՝ | B41: 1080 | C41: Ցուցանիշներ
A42: Միջոցառման դասիչը՝ | B42: 11004 | C42: Ցուցանիշների փոփոխությունը (ավելացումները նշված են դրական նշանով, իսկ նվազեցումները` փակագծերում)
A43: Միջոցառման անվանումը՝ | B43: ՀՀ վերաքննիչ քրեական դատարանի բնականոն գործունեության և ՀՀ Վերաքննիչ քրեական դատարանի կողմից դատական պաշտպանության իրավունքի ապահովում | C43: Տարի
A44: Նկարագրությունը՝ | B44: Դատավարական գործունեության իրականացում, դատական ակտերի կազմում և հրապարակում, արխիվային փաստաթղթերի տրամադրում, դատական ծառայության իրականացում
A45: Միջոցառման տեսակը՝ | B45: Ծառայությունների մատուցում
A46: Միջոցառումն իրականացնողի անվանումը` | B46: ՀՀ Վերաքննիչ քրեական դատարան
A47: Արդյունքի չափորոշիչներ
A48: Միջոցառման վրա կատարվող ծախսը (հազար դրամ) | C48: =+'Հավելված 2(3,4)'!G44 -> 3150
...

Sheet Հավելված 4(11.1)
C1: Հավելված N4 ՀՀ կառավարության 2019 թվականի __________-ի ____-ի N _____-Ն որոշման
A3: ՀԱՅԱՍՏԱՆԻ ՀԱՆՐԱՊԵՏՈՒԹՅԱՆ ԿԱՌԱՎԱՐՈՒԹՅԱՆ 2018 ԹՎԱԿԱՆԻ ԴԵԿՏԵՄԲԵՐԻ 27-Ի N1515-Ն ՈՐՈՇՄԱՆ N11.1 ՀԱՎԵԼՎԱԾԻ N11.1.5 ԱՂՅՈՒՍԱԿՈՒՄ ԿԱՏԱՐՎՈՂ ՓՈՓՈԽՈՒԹՅՈՒՆՆԵՐԸ
A5: ՀՀ դատական դեպարտամենտ
A8: ՄԱՍ 1. ՊԵՏԱԿԱՆ ՄԱՐՄՆԻ ԳԾՈՎ ԱՐԴՅՈՒՆՔԱՅԻՆ (ԿԱՏԱՐՈՂԱԿԱՆ) ՑՈՒՑԱՆԻՇՆԵՐԸ
A9: Ծրագրի դասիչը | B9: Ծրագրի անվանումը
A10: 1080 | B10: Դատական իշխանության գործունեության ապահովում և իրականացում
A12: Ծրագրի միջոցառումները
A14: Ծրագրի դասիչը՝ | B14: 1080 | C14: Ցուցանիշներ
A15: Միջոցառման դասիչը՝ | B15: 11001 | C15: Ցուցանիշների փոփոխությունը (ավելացումները նշված են դրական նշանով, իսկ նվազեցումները` փակագծերում)
A16: Միջոցառման անվանումը՝ | B16: Բարձրագույն դատական խորհրդի բնականոն գործունեության ապահովում և Բարձրագույն դատական խորհրդի կողմից դատական իշխանության անկախության երաշխավորմանն ուղղված միջոցառումների իրականացում | C16: Տարի
A17: Նկարագրությունը՝ | B17: Դատական գործերի բաշխման համակարգի արդիականացում, դատարանների բնականոն գործունեության համար նյութատեխնիկական պայմաններով ապահովում, Դատական դեպարտամենտին որակյալ կադրերով ապահովում, ճշգրիտ դատական վիճակագրության վարում և այլն
A18: Միջոցառման տեսակը՝ | B18: Ծառայությունների մատուցում
A19: Միջոցառումն իրականացնողի անվանումը՝ | B19: Դատական դեպարտամենտ
A20: Արդյունքի չափորոշիչներ
A21: Միջոցառման վրա կատարվող ծախսը (հազար դրամ) | C21: =+'Հավելված 2(3,4)'!G11 -> 60815
A23: Ծրագրի դասիչը՝ | B23: 1080 | C23: Ցուցանիշներ
A24: Միջոցառման դասիչը՝ | B24: 11002 | C24: Ցուցանիշների փոփոխությունը (ավելացումները նշված են դրական նշանով, իսկ նվազեցումները` փակագծերում)
A25: Միջոցառման անվանումը՝ | B25: ՀՀ Վճռաբեկ դատարանի բնականոն գործունեության և ՀՀ Վճռաբեկ դատարանի կողմից դատական պաշտպանության իրավունքի ապահովում | C25: Տարի
A26: Նկարագրությունը՝ | B26: Դատավարական գործունեության իրականացում, դատական ակտերի կազմում և հրապարակում, արխիվային փաստաթղթերի տրամադրում, դատական ծառայության իրականացում
A27: Միջոցառման տեսակը՝ | B27: Ծառայությունների մատուցում
A28: Միջոցառումն իրականացնողի անվանումը՝ | B28: ՀՀ Վճռաբեկ դատարան
A29: Արդյունքի չափորոշիչներ
A30: Միջոցառման վրա կատարվող ծախսը (հազար դրամ) | C30: =+'Հավելված 2(3,4)'!G24 -> 200
A32: Ծրագրի դասիչը՝ | B32: 1080 | C32: Ցուցանիշներ
A33: Միջոցառման դասիչը՝ | B33: 11003 | C33: Ցուցանիշների փոփոխությունը (ավելացումները նշված են դրական նշանով, իսկ նվազեցումները` փակագծերում)
A34: Միջոցառման անվանումը՝ | B34: ՀՀ վերաքննիչ քաղաքացիական դատարանի բնականոն գործունեության և ՀՀ Վերաքննիչ քաղաքացիական դատարանի կողմից դատական պաշտպանության իրավունքի ապահովում | C34: Տարի
A35: Նկարագրությունը՝ | B35: Դատավարական գործունեության իրականացում, դատական ակտերի կազմում և հրապարակում, արխիվային փաստաթղթերի տրամադրում, դատական ծառայության իրականացում
A36: Միջոցառման տեսակը՝ | B36: Ծառայությունների մատուցում
A37: Միջոցառումն իրականացնողի անվանումը՝ | B37: ՀՀ Վերաքննիչ քաղաքացիական դատարան
A38: Արդյունքի չափորոշիչներ
A39: Միջոցառման վրա կատարվող ծախսը (հազար դրամ) | C39: =+'Հավելված 2(3,4)'!G33 -> -290
A41: Ծրագրի դասիչը՝ | B41: 1080 | C41: Ցուցանիշներ
A42: Միջոցառման դասիչը՝ | B42: 11004 | C42: Ցուցանիշների փոփոխությունը (ավելացումները նշված են դրական նշանով, իսկ նվազեցումները` փակագծերում)
A43: Միջոցառման անվանումը՝ | B43: ՀՀ վերաքննիչ քրեական դատարանի բնականոն գործունեության և ՀՀ Վերաքննիչ քրեական դատարանի կողմից դատական պաշտպանության իրավունքի ապահովում | C43: Տարի
A44: Նկարագրությունը՝ | B44: Դատավարական գործունեության իրականացում, դատական ակտերի կազմում և հրապարակում, արխիվային փաստաթղթերի տրամադրում, դատական ծառայության իրականացում
A45: Միջոցառման տեսակը՝ | B45: Ծառայությունների մատուցում
A46: Միջոցառումն իրականացնողի անվանումը՝ | B46: ՀՀ Վերաքննիչ քրեական դատարան
A47: Արդյունքի չափորոշիչներ
A48: Միջոցառման վրա կատարվող ծախսը (հազար դրամ) | C48: =+'Հավելված 2(3,4)'!G44 -> 3150
A50: Ծրագրի դասիչը՝ | B50: 1080 | C50: Ցուցանիշներ
...

Sheet Հավելված 5(12)
F1: Հավելված N5 ՀՀ կառավարության 2019 թվականի __________-ի ____-ի N _____-Ն որոշման
A3: ՀԱՅԱՍՏԱՆԻ ՀԱՆՐԱՊԵՏՈՒԹՅԱՆ ԿԱՌԱՎԱՐՈՒԹՅԱՆ 2018 ԹՎԱԿԱՆԻ ԴԵԿՏԵՄԲԵՐԻ 27-Ի N1515-Ն ՈՐՈՇՄԱՆ N12 ՀԱՎԵԼՎԱԾՈՒՄ ԿԱՏԱՐՎՈՂ ՓՈՓՈԽՈՒԹՅՈՒՆՆԵՐԸ
A5: Կոդը | B5: Անվանումը | D5: Գնման ձևը | E5: Չափման միավորը | F5: Միավորի գինը | G5: Ցուցանիշների փոփոխությունը (ավելացումները նշված են դրական նշանով, իսկ նվազեցումները` փակագծերում)
G6: Քանակը | H6: Գումարը (հազար դրամով)
A7: Բաժին N 03 | B7: Խումբ N 03 | C7: Դաս N 01 | D7: Դատարաններ | H7: =+H8+H12+H15+H18+H21+H24+H28+H32+H35+H38+H41+H45+H48 -> 0
A8: 1080 11001 | B8: Բարձրագույն դատական խորհրդի բնականոն գործունեության ապահովում և Բարձրագույն դատական խորհրդի կողմից դատական իշխանության անկախության երաշխավորմանն ուղղված միջոցառումների իրականացում | H8: =+H9 -> -1085
B9: ՄԱՍ III. ԾԱՌԱՅՈՒԹՅՈՒՆՆԵՐ | H9: =SUM(H10:H11) -> -1085
A10: 65111100/1 | B10: խմելու ջրի բաշխում | D10: ՄԱ | E10: դրամ | F10: -900000 | G10: 1 | H10: -900
A11: 64211100/1 | B11: հանրային հեռախոսային ծառայություններ | D11: ՄԱ | E11: դրամ | F11: -185000 | G11: 1 | H11: -185
A12: 1080 11002 | B12: ՀՀ Վճռաբեկ դատարանի բնականոն գործունեության և ՀՀ Վճռաբեկ դատարանի կողմից դատական պաշտպանության իրավունքի ապահովում | H12: =+H13 -> 200
B13: ՄԱՍ III. ԾԱՌԱՅՈՒԹՅՈՒՆՆԵՐ | H13: =SUM(H14:H14) -> 200
A14: 65111100/1 | B14: խմելու ջրի բաշխում | D14: ՄԱ | E14: դրամ | F14: 200000 | G14: 1 | H14: 200
A15: 1080 11003 | B15: ՀՀ վերաքննիչ քաղաքացիական դատարանի բնականոն գործունեության և ՀՀ Վերաքննիչ քաղաքացիական դատարանի կողմից դատական պաշտպանության իրավունքի ապահովում | H15: =+H16 -> 260
B16: ՄԱՍ III. ԾԱՌԱՅՈՒԹՅՈՒՆՆԵՐ | H16: =SUM(H17:H17) -> 260
A17: 65311100/1 | B17: էլեկտրականության բաշխում | D17: ՄԱ | E17: դրամ | F17: 260000 | G17: 1 | H17: 260
A18: 1080 11004 | B18: ՀՀ վերաքննիչ քրեական դատարանի բնականոն գործունեության և ՀՀ Վերաքննիչ քրեական դատարանի կողմից դատական պաշտպանության իրավունքի ապահովում | H18: =+H19 -> 1950
B19: ՄԱՍ III. ԾԱՌԱՅՈՒԹՅՈՒՆՆԵՐ | H19: =SUM(H20:H20) -> 1950
A20: 65111100/1 | B20: խմելու ջրի բաշխում | D20: ՄԱ | E20: դրամ | F20: 1950000 | G20: 1 | H20: 1950
A21: 1080 11007 | B21: Երևան քաղաքի ընդհանուր իրավասության դատարանի բնականոն գործունեության և Երևան քաղաքի ընդհանուր իրավասության դատարանի կողմից դատական պաշտպանության իրավու նքի ապահովում | H21: =H22 -> -1100
B22: ՄԱՍ III. ԾԱՌԱՅՈՒԹՅՈՒՆՆԵՐ | H22: =SUM(H23:H23) -> -1100
A23: 65311100/1 | B23: էլեկտրականության բաշխում | D23: ՄԱ | E23: դրամ | F23: -1100000 | G23: 1 | H23: -1100
A24: 1080 11010 | B24: ՀՀ Արմավիրի մարզի ընդհանուր իրավասության դատարանի բնականոն գործունեության և ՀՀ Արմավիրի մարզի ընդհանուր իրավասության դատարանի կողմից դատական պաշտպանության իրավունքի ապահովում | H24: =+H25 -> 1040
B25: ՄԱՍ III. ԾԱՌԱՅՈՒԹՅՈՒՆՆԵՐ | H25: =SUM(H26:H27) -> 1040
A26: 65311100/1 | B26: էլեկտրականության բաշխում | D26: ՄԱ | E26: դրամ | F26: 1240000 | G26: 1 | H26: 1240
A27: 65111100/1 | B27: խմելու ջրի բաշխում | D27: ՄԱ | E27: դրամ | F27: -200000 | G27: 1 | H27: -200
A28: 1080 11011 | B28: ՀՀ Գեղարքունիքի մարզի ընդհանուր իրավասության դատարանի բնականոն գործունեության և ՀՀ Գեղարքունիքի մարզի ընդհանուր իրավասության դատարանի կողմից դատական պաշտպանության իրավունքի ապահովում | H28: =+H29 -> -165
B29: ՄԱՍ III. ԾԱՌԱՅՈՒԹՅՈՒՆՆԵՐ | H29: =SUM(H30:H31) -> -165
A30: 65111100/1 | B30: խմելու ջրի բաշխում | D30: ՄԱ | E30: դրամ | F30: -350000 | G30: 1 | H30: -350
A31: 64211100/1 | B31: հանրային հեռախոսային ծառայություններ | D31: ՄԱ | E31: դրամ | F31: 185000 | G31: 1 | H31: 185
A32: 1080 11012 | B32: ՀՀ Լոռու մարզի ընդհանուր իրավասության դատարանի բնականոն գործունեության և ՀՀ Լոռու մարզի ընդհանուր իրավասության դատարանի կողմից դատական պաշտպանության իրավու նքի ապահովում | H32: =+H33 -> -300
B33: ՄԱՍ III. ԾԱՌԱՅՈՒԹՅՈՒՆՆԵՐ | H33: =SUM(H34:H34) -> -300
A34: 65111100/1 | B34: խմելու ջրի բաշխում | D34: ՄԱ | E34: դրամ | F34: -300000 | G34: 1 | H34: -300
A35: 1080 11014 | B35: ՀՀ Կոտայքի մարզի ընդհանուր իրավասության դատարանի բնականոն գործունեության և ՀՀ Կոտայքի մարզի ընդհանուր իրավասության դատարանի կողմից դատական պաշտպանության իրավունքի ապահովում | H35: =+H36 -> 300
B36: ՄԱՍ III. ԾԱՌԱՅՈՒԹՅՈՒՆՆԵՐ | H36: =+H37 -> 300
A37: 65111100/1 | B37: խմելու ջրի բաշխում | D37: ՄԱ | E37: դրամ | F37: 300000 | G37: 1 | H37: 300
A38: 1080 11014 | B38: ՀՀ Շիրակի մարզի ընդհանուր իրավասության դատարանի բնականոն գործունեության և ՀՀ Շիրակի մարզի ընդհանուր իրավասության դատարանի կողմից դատական պաշտպանության իրավունքի ապահովում | H38: =+H39 -> 250
B39: ՄԱՍ III. ԾԱՌԱՅՈՒԹՅՈՒՆՆԵՐ | H39: =SUM(H40:H40) -> 250
A40: 65111100/1 | B40: խմելու ջրի բաշխում | D40: ՄԱ | E40: դրամ | F40: 250000 | G40: 1 | H40: 250
A41: 1080 11015 | B41: ՀՀ Սյունիքի մարզի ընդհանուր իրավասության դատարանի բնականոն գործունեության և ՀՀ Սյունիքի մարզի ընդհանուր իրավասության դատարանի կողմից դատական պաշտպանության իրավունքի ապահովում | H41: =+H42 -> -800
B42: ՄԱՍ III. ԾԱՌԱՅՈՒԹՅՈՒՆՆԵՐ | H42: =SUM(H43:H44) -> -800
...
