Workbook
Name AgencyCode: #REF!
Name AgencyName: #REF!
Name Functional1: #REF!
Name PANature: #REF!
Name PAType: #REF!
Name Performance2: #REF!
Name PerformanceType: #REF!

Sheet Հավելված 1
E2: Հավելված N 1
D3: ՀՀ կառավարության 2019 թվականի
D4: -ի N որոշման
A6: «ՀԱՅԱUՏԱՆԻ ՀԱՆՐԱՊԵՏՈՒԹՅԱՆ 2019 ԹՎԱԿԱՆԻ ՊԵՏԱԿԱՆ ԲՅՈՒՋԵԻ ՄԱUԻՆ» ՀԱՅԱUՏԱՆԻ ՀԱՆՐԱՊԵՏՈՒԹՅԱՆ OՐԵՆՔԻ N 1 ՀԱՎԵԼՎԱԾԻ N 2 ԱՂՅՈՒՍԱԿՈՒՄ ԿԱՏԱՐՎՈՂ ՎԵՐԱԲԱՇԽՈՒՄԸ ԵՎ ՀԱՅԱՍՏԱՆԻ ՀԱՆՐԱՊԵՏՈՒԹՅԱՆ ԿԱՌԱՎԱՐՈՒԹՅԱՆ 2018 ԹՎԱԿԱՆԻ ԴԵԿՏԵՄԲԵՐԻ 27-Ի N 1515-Ն ՈՐՈՇՄԱՆ N 5 ՀԱՎԵԼՎԱԾԻ N 1 ԱՂՅՈՒՍԱԿՈՒՄ ԿԱՏԱՐՎՈՂ ՓՈՓՈԽՈՒԹՅՈՒՆՆԵՐԸ
E9: (հազ. դրամ)
B10: Ծրագրային դասիչը | D10: Բյուջետային հատկացումների գլխավոր կարգադրիչների, ծրագրերի և միջոցառումների անվանումները | E10: Ցուցանիշների փոփոխությունը (ավելացումները նշված են դրական նշանով, իսկ նվազեցումները՝ փակագծերում)
B11: ծրագիրը | C11: միջոցառումը | E11: Տարի
D12: ԸՆԴԱՄԵՆԸ | E12: =E13+E81 -> 0
D13: ՀՀ կրթության, գիտության, մշակույթի և սպորտի նախարարություն | E13: =E14 -> -1159864.6
B14: 1146 | D14: Ծրագրի անվանումը | E14: =SUM(E21:E80) -> -1159864.6
D15: Հանրակրթության ծրագիր
D16: Ծրագրի նպատակը
D17: Ապահովել անվճար և որակյալ հանրակրթություն
D18: Վերջնական արդյունքի նկարագրությունը
D19: Մտավոր, հոգևոր, ֆիզիկական և սոցիալական ունակությունների համակողմանի ու ներդաշնակ զարգացմամբ, հայրենասիրության, պետականության և մարդասիրության ոգով դաստիարակված, պատշաճ վարքով և վարվելակերպով անձի ձևավորում
D20: Ծրագրի միջոցառումներ
C21: 11001 | D21: Միջոցառման անվանումը | E21: ='Հավելված 3'!E17 -> -58113.2
D22: Տարրական ընդհանուր կրթություն
D23: Միջոցառման նկարագրությունը
D24: Պարտադիր կրթության առաջին մակարդակում սովորողների ընդգրկվածության, գրագիտության և համակողմանի զարգացման բարձր մակարդակի ապահովում
D25: Միջոցառման տեսակը
D26: Ծառայությունների մատուցում
C27: 11002 | D27: Միջոցառման անվանումը | E27: ='Հավելված 3'!E96 -> -628219.9
D28: Հիմնական ընդհանուր կրթություն
D29: Միջոցառման նկարագրությունը
D30: Պարտադիր կրթության երկրորդ մակարդակում սովորողների ընդգրկվածության, գրագիտության և համակողմանի զարգացման բարձր մակարդակի ապահովում
D31: Միջոցառման տեսակը
D32: Ծառայությունների մատուցում
C33: 11003 | D33: Միջոցառման անվանումը | E33: ='Հավելված 3'!E175 -> -454124.6
D34: Միջնակարգ ընդհանուր կրթություն
D35: Միջոցառման նկարագրությունը
D36: Պարտադիր կրթության երրորդ մակարդակում սովորողների ընդգրկվածության, գրագիտության և համակողմանի զարգացման բարձր մակարդակի ապահովում
D37: Միջոցառման տեսակը
D38: Ծառայությունների մատուցում
C39: 11004 | D39: Միջոցառման անվանումը | E39: ='Հավելված 3'!E261 -> 1092.7
D40: Տարրական հատուկ հանրակրթություն
D41: Միջոցառման նկարագրությունը
D42: Պարտադիր կրթության առաջին մակարդակում սովորողների ընդգրկվածության և գրագիտության ապահովում
D43: Միջոցառման տեսակը
D44: Ծառայությունների մատուցում
C45: 11005 | D45: Միջոցառման անվանումը | E45: ='Հավելված 3'!E298 -> -1975.1
D46: Հիմնական հատուկ հանրակրթություն
D47: Միջոցառման նկարագրությունը
D48: Պարտադիր կրթության երկրորդ մակարդակում սովորողների ընդգրկվածության և գրագիտության ապահովում
D49: Միջոցառման տեսակը
D50: Ծառայությունների մատուցում
C51: 11007 | D51: Միջոցառման անվանումը | E51: ='Հավելված 3'!E328 -> 19862.7
D52: Ներառական կրթություն տարրական դպրոցում
D53: Միջոցառման նկարագրությունը
D54: Տարրական դպրոցում կրթության առանձնահատուկ պայմանների կարիք ունեցող երեխաների տարրական կրթության կազմակերպման կրթաօժանդակ ծառայությունների մատուցման միջոցով սովորողների ընդգրկվածության և գրագիտության ապահովում
D55: Միջոցառման տեսակը
D56: Ծառայությունների մատուցում
C57: 11008 | D57: Միջոցառման անվանումը | E57: ='Հավելված 3'!E365 -> -24389.1
D58: Ներառական կրթություն միջին դպրոցում
D59: Միջոցառման նկարագրությունը
D60: Միջին դպրոցում կրթության առանձնահատուկ պայմանների կարիք ունեցող երեխաների տարրական կրթության կազմակերպման կրթաօժանդակ ծառայությունների մատուցման միջոցով սովորողների ընդգրկվածության և գրագիտության ապահովում
D61: Միջոցառման տեսակը
D62: Ծառայությունների մատուցում
C63: 11009 | D63: Միջոցառման անվանումը | E63: ='Հավելված 3'!E395 -> -7422.2
D64: Ներառական կրթություն ավագ դպրոցում
D65: Միջոցառման նկարագրությունը
D66: Ավագ դպրոցում կրթության առանձնահատուկ պայմանների կարիք ունեցող երեխաների տարրական կրթության կազմակերպման կրթաօժանդակ ծառայությունների մատուցման միջոցով սովորողների ընդգրկվածության, համակողմանի զարգացման և գրագիտության ապահովում
D67: Միջոցառման տեսակը
D68: Ծառայությունների մատուցում
C69: 11013 | D69: Միջոցառման անվանումը | E69: ='Հավելված 3'!E418 -> -12516.9
D70: Նախադպրոցական կրթություն
D71: Միջոցառման նկարագրությունը
D72: Նախադպրոցական կրթություն մակարդակում սաների ընդգրկվածության, զարգացման բարձր մակարդակի ապահովում, 5-6 տարեկան երեխաների նախապատրաստում տարրական դպրոցին
D73: Միջոցառման տեսակը
D74: Ծառայությունների մատուցում
C75: 12004 | D75: Միջոցառման անվանումը | E75: ='Հավելված 3'!E497 -> 5941
D76: Ատեստավորման միջոցով որակավորում ստացած ուսուցիչներին հավելավճարների տրամադրում
D77: Միջոցառման նկարագրությունը
D78: Ատեստավորման միջոցով տարակարգի որակավորում ստացած ուսուցիչներին համաապատասխան հավելավճարի տրամադրման ապահովում
D79: Միջոցառման տեսակը
D80: Տրանսֆերտների տրամադրում
D81: ՀՀ կառավարություն | E81: =E82 -> 1159864.6
B82: 1139 | D82: Ծրագրի անվանումը | E82: =E89 -> 1159864.6
D83: ՀՀ կառավարության պահուստային ֆոնդ | E83: 1665675
D84: Ծրագրի նպատակը
D85: Պետական բյուջեում չկանխատեսված՝ ինչպես նաեւ բյուջետային երաշխիքների ապահովման ծախսերի ֆինանսավորման ապահովում
D86: Վերջնական արդյունքի նկարագրությունը
D87: Պահուստային ֆոնդի կառավարման արդյունավետության և թափանցիկության
D88: Ծրագրի միջոցառումներ
C89: 11001 | D89: Միջոցառման անվանումը | E89: ='Հավելված 3'!E573 -> 1159864.6
D90: ՀՀ կառավարության պահուստային ֆոնդ | E90: 488182.2
D91: Միջոցառման նկարագրությունը
D92: ՀՀ պետական բյուջեում նախատեսված ելքերի լրացուցիչ ֆինանսավորման՝ պետական բյուջեում չկանխատեսված ելքերի՝ ինչպես նաև բյուջետային երաշխիքների ապահովման ելքերի ֆինանսավորման ապահովում
D93: Միջոցառման տեսակը
D94: Ծառայությունների մատուցում

Sheet Հավելված 2
G1: Հավելված N 2
G2: ՀՀ կառավարության 2019 թվականի
G3: -ի N որոշման
B5: ՀԱՅԱՍՏԱՆԻ ՀԱՆՐԱՊԵՏՈՒԹՅԱՆ ԿԱՌԱՎԱՐՈՒԹՅԱՆ 2018 ԹՎԱԿԱՆԻ ԴԵԿՏԵՄԲԵՐԻ 27-Ի N 1515-Ն ՈՐՈՇՄԱՆ N 3 ՀԱՎԵԼՎԱԾՈՒՄ ԿԱՏԱՐՎՈՂ ՓՈՓՈԽՈՒԹՅՈՒՆՆԵՐԸ
H8: (հազ. դրամ)
B9: Գործառական դասիչը | E9: Ծրագրային դասիչը | G9: Բյուջետային ծախսերի գործառական դասակարգման բաժինների, խմբերի և դասերի, բյուջետային ծրագրերի միջոցառումների, բյուջետային հատկացումների գլխավոր կարգադրիչների անվանումները | H9: Ցուցանիշների փոփոխությունը (ավելացումները նշված են դրական նշանով, իսկ նվազեցումները՝ փակագծերում)
B10: Բաժին | C10: Խումբ | D10: Դաս | E10: Ծրագիր | F10: Միջոցա ռում | H10: Տարի
G11: ԸՆԴԱՄԵՆԸ ԾԱԽՍԵՐ | H11: =H12+H50 -> 0
B12: 09 | G12: ԿՐԹՈՒԹՅՈՒՆ | H12: =H14+H28+H44 -> -1159864.6
G13: այդ թվում`
C14: 01 | G14: Նախադպրոցական և տարրական ընդհանուր կրթություն | H14: =H16+H20 -> -49674.7
G15: այդ թվում`
D16: 01 | G16: Նախադպրոցական կրթություն | H16: =H18 -> -12516.9
G17: այդ թվում`
E18: 1146 | F18: 11013 | G18: Նախադպրոցական կրթություն | H18: =H19 -> -12516.9
G19: ՀՀ կրթության, գիտության, մշակույթի և սպորտի նախարարություն | H19: ='Հավելված 3'!E418 -> -12516.9
D20: 02 | G20: Տարրական ընդհանուր կրթություն | H20: =H22+H24+H26 -> -37157.8
G21: այդ թվում`
E22: 1146 | F22: 11001 | G22: Տարրական ընդհանուր հանրակրթություն | H22: =H23 -> -58113.2
G23: ՀՀ կրթության, գիտության, մշակույթի և սպորտի նախարարություն | H23: ='Հավելված 3'!E17 -> -58113.2
E24: 1146 | F24: 11004 | G24: Տարրական հատուկ հանրակրթություն | H24: =H25 -> 1092.7
G25: ՀՀ կրթության, գիտության, մշակույթի և սպորտի նախարարություն | H25: ='Հավելված 3'!E261 -> 1092.7
E26: 1146 | F26: 11007 | G26: Ներառական կրթություն տարրական դպրոցում | H26: =H27 -> 19862.7
G27: ՀՀ կրթության, գիտության, մշակույթի և սպորտի նախարարություն | H27: ='Հավելված 3'!E328 -> 19862.7
C28: 02 | G28: Միջնակարգ ընդհանուր կրթություն | H28: =H30+H38 -> -1116130.9
G29: այդ թվում`
D30: 01 | G30: Հիմնական ընդհանուր կրթություն | H30: =H32+H34+H36 -> -654584.1
G31: այդ թվում`
E32: 1146 | F32: 11002 | G32: Հիմնական ընդհանուր հանրակրթություն | H32: =H33 -> -628219.9
G33: ՀՀ կրթության, գիտության, մշակույթի և սպորտի նախարարություն | H33: ='Հավելված 3'!E96 -> -628219.9
E34: 1146 | F34: 11005 | G34: Հիմնական հատուկ հանրակրթություն | H34: =H35 -> -1975.1
G35: ՀՀ կրթության, գիտության, մշակույթի և սպորտի նախարարություն | H35: ='Հավելված 3'!E298 -> -1975.1
E36: 1146 | F36: 11008 | G36: Ներառական կրթություն միջին դպրոցում | H36: =H37 -> -24389.1
G37: ՀՀ կրթության, գիտության, մշակույթի և սպորտի նախարարություն | H37: ='Հավելված 3'!E365 -> -24389.1
D38: 02 | G38: Միջնակարգ (լրիվ) ընդհանուր կրթություն | H38: =H40+H42 -> -461546.8
G39: այդ թվում`
E40: 1146 | F40: 11003 | G40: Միջնակարգ ընդհանուր հանրակրթություն | H40: =H41 -> -454124.6
G41: ՀՀ կրթության, գիտության, մշակույթի և սպորտի նախարարություն | H41: ='Հավելված 3'!E175 -> -454124.6
E42: 1146 | F42: 11009 | G42: Ներառական կրթություն ավագ դպրոցում | H42: =H43 -> -7422.2
G43: ՀՀ կրթության, գիտության, մշակույթի և սպորտի նախարարություն | H43: ='Հավելված 3'!E395 -> -7422.2
C44: 06 | G44: Կրթությանը տրամադրվող օժանդակ ծառայություններ | H44: =H46 -> 5941
G45: այդ թվում`
D46: 01 | G46: Կրթությանը տրամադրվող օժանդակ ծառայություններ | H46: =H48 -> 5941
G47: այդ թվում`
E48: 1146 | F48: 12004 | G48: Ատեստավորման միջոցով որակավորում ստացած ուսուցիչներին հավելավճարների տրամադրում | H48: =H49 -> 5941
G49: ՀՀ կրթության, գիտության, մշակույթի և սպորտի նախարարություն | H49: ='Հավելված 3'!E497 -> 5941
B50: 11 | G50: ՀԻՄՆԱԿԱՆ ԲԱԺԻՆՆԵՐԻՆ ՉԴԱՍՎՈՂ ՊԱՀՈՒՍՏԱՅԻՆ ՖՈՆԴԵՐ | H50: =H52 -> 1159864.6
G51: այդ թվում`
C52: 01 | G52: ՀՀ կառավարության և համայնքների պահուստային ֆոնդ | H52: =H54 -> 1159864.6
G53: այդ թվում`
D54: 01 | G54: ՀՀ կառավարության պահուստային ֆոնդ | H54: =H56 -> 1159864.6
G55: այդ թվում`
E56: 1139 | F56: 11001 | G56: ՀՀ կառավարության պահուստային ֆոնդ | H56: =H57 -> 1159864.6
G57: ՀՀ կառավարություն | H57: ='Հավելված 3'!E573 -> 1159864.6

Sheet Հավելված 3
B2: Հավելված N 3
D3: ՀՀ կառավարության 2019 թվականի
D4: -ի N որոշման
B6: ՀԱՅԱՍՏԱՆԻ ՀԱՆՐԱՊԵՏՈՒԹՅԱՆ ԿԱՌԱՎԱՐՈՒԹՅԱՆ 2018 ԹՎԱԿԱՆԻ ԴԵԿՏԵՄԲԵՐԻ 27-Ի N 1515-Ն ՈՐՈՇՄԱՆ N 4 ՀԱՎԵԼՎԱԾՈՒՄ ԿԱՏԱՐՎՈՂ ՓՈՓՈԽՈՒԹՅՈՒՆՆԵՐԸ
E9: (հազ. դրամ)
B10: Ծրագրային դասիչը | D10: Բյուջետային հատկացումների գլխավոր կարգադրիչների, ծրագրերի, միջոցառումների և միջոցառումները կատարող պետական մարմինների անվանումները | E10: Ցուցանիշների փոփոխությունը (ավելացումները նշված են դրական նշանով, իսկ նվազեցումները՝ փակագծերում)
B11: Ծրագիր | C11: Միջոցառում | E11: Տարի
D12: ԸՆԴԱՄԵՆԸ | E12: =E13+E569 -> 0
D13: ՀՀ կրթության, գիտության, մշակույթի և սպորտի նախարարություն | E13: =E15 -> -1159864.6
D14: այդ թվում`
B15: 1146 | D15: Հանրակրթության ծրագիր | E15: =E17+E96+E175+E261+E298+E328+E365+E395+E418+E497 -> -1159864.6
D16: այդ թվում`
C17: 11001 | D17: Տարրական ընդհանուր հանրակրթություն | E17: =E19+E26+E33+E40+E47+E54+E61+E68+E75+E82+E89 -> -58113.2
D18: այդ թվում` ըստ կատարողների
D19: ՀՀ տարածքային կառավարման և ենթակառուցվածքների նախարարություն | E19: =E21 -> 47602.5
D20: այդ թվում` բյուջետային ծախսերի տնտեսագիտական դասակարգման հոդվածներ
D21: ԸՆԴԱՄԵՆԸ ԾԱԽՍԵՐ | E21: =E22 -> 47602.5
D22: ԸՆԹԱՑԻԿ ԾԱԽՍԵՐ | E22: =E23 -> 47602.5
D23: ՍՈՒԲՍԻԴԻԱՆԵՐ | E23: =E24 -> 47602.5
D24: Սուբսիդիաներ պետական կազմակերպություններին | E24: =E25 -> 47602.5
D25: - Սուբսիդիաներ ոչ ֆինանսական պետական կազմակերպություններին | E25: 47602.5
D26: ՀՀ Արագածոտնի մարզպետարան | E26: =E28 -> -10238.7
D27: այդ թվում` բյուջետային ծախսերի տնտեսագիտական դասակարգման հոդվածներ
D28: ԸՆԴԱՄԵՆԸ ԾԱԽՍԵՐ | E28: =E29 -> -10238.7
D29: ԸՆԹԱՑԻԿ ԾԱԽՍԵՐ | E29: =E30 -> -10238.7
D30: ՍՈՒԲՍԻԴԻԱՆԵՐ | E30: =E31 -> -10238.7
D31: Սուբսիդիաներ պետական կազմակերպություններին | E31: =E32 -> -10238.7
D32: - Սուբսիդիաներ ոչ ֆինանսական պետական կազմակերպություններին | E32: -10238.7
D33: ՀՀ Արարատի մարզպետարան | E33: =E35 -> -226
D34: այդ թվում` բյուջետային ծախսերի տնտեսագիտական դասակարգման հոդվածներ
D35: ԸՆԴԱՄԵՆԸ ԾԱԽՍԵՐ | E35: =E36 -> -226
D36: ԸՆԹԱՑԻԿ ԾԱԽՍԵՐ | E36: =E37 -> -226
D37: ՍՈՒԲՍԻԴԻԱՆԵՐ | E37: =E38 -> -226
D38: Սուբսիդիաներ պետական կազմակերպություններին | E38: =E39 -> -226
D39: - Սուբսիդիաներ ոչ ֆինանսական պետական կազմակերպություններին | E39: =-226 -> -226
D40: ՀՀ Արմավիրի մարզպետարան | E40: =E42 -> 4961.6
D41: այդ թվում` բյուջետային ծախսերի տնտեսագիտական դասակարգման հոդվածներ
D42: ԸՆԴԱՄԵՆԸ ԾԱԽՍԵՐ | E42: =E43 -> 4961.6
D43: ԸՆԹԱՑԻԿ ԾԱԽՍԵՐ | E43: =E44 -> 4961.6
D44: ՍՈՒԲՍԻԴԻԱՆԵՐ | E44: =E45 -> 4961.6
D45: Սուբսիդիաներ պետական կազմակերպություններին | E45: =E46 -> 4961.6
D46: - Սուբսիդիաներ ոչ ֆինանսական պետական կազմակերպություններին | E46: 4961.6
D47: ՀՀ Գեղարքունիքի մարզպետարան | E47: =E49 -> -18246.4
D48: այդ թվում` բյուջետային ծախսերի տնտեսագիտական դասակարգման հոդվածներ
D49: ԸՆԴԱՄԵՆԸ ԾԱԽՍԵՐ | E49: =E50 -> -18246.4
D50: ԸՆԹԱՑԻԿ ԾԱԽՍԵՐ | E50: =E51 -> -18246.4
D51: ՍՈՒԲՍԻԴԻԱՆԵՐ | E51: =E52 -> -18246.4
D52: Սուբսիդիաներ պետական կազմակերպություններին | E52: =E53 -> -18246.4
D53: - Սուբսիդիաներ ոչ ֆինանսական պետական կազմակերպություններին | E53: -18246.4
D54: ՀՀ Լոռու մարզպետարան | E54: =E56 -> 4554.3
D55: այդ թվում` բյուջետային ծախսերի տնտեսագիտական դասակարգման հոդվածներ
D56: ԸՆԴԱՄԵՆԸ ԾԱԽՍԵՐ | E56: =E57 -> 4554.3
D57: ԸՆԹԱՑԻԿ ԾԱԽՍԵՐ | E57: =E58 -> 4554.3
D58: ՍՈՒԲՍԻԴԻԱՆԵՐ | E58: =E59 -> 4554.3
D59: Սուբսիդիաներ պետական կազմակերպություններին | E59: =E60 -> 4554.3
D60: - Սուբսիդիաներ ոչ ֆինանսական պետական կազմակերպություններին | E60: 4554.3
D61: ՀՀ Կոտայքի մարզպետարան | E61: =E63 -> -8919.5
D62: այդ թվում` բյուջետային ծախսերի տնտեսագիտական դասակարգման հոդվածներ
D63: ԸՆԴԱՄԵՆԸ ԾԱԽՍԵՐ | E63: =E64 -> -8919.5
D64: ԸՆԹԱՑԻԿ ԾԱԽՍԵՐ | E64: =E65 -> -8919.5
D65: ՍՈՒԲՍԻԴԻԱՆԵՐ | E65: =E66 -> -8919.5
D66: Սուբսիդիաներ պետական կազմակերպություններին | E66: =E67 -> -8919.5
D67: - Սուբսիդիաներ ոչ ֆինանսական պետական կազմակերպություններին | E67: -8919.5
D68: ՀՀ Շիրակի մարզպետարան | E68: =E70 -> -34636
D69: այդ թվում` բյուջետային ծախսերի տնտեսագիտական դասակարգման հոդվածներ
D70: ԸՆԴԱՄԵՆԸ ԾԱԽՍԵՐ | E70: =E71 -> -34636
D71: ԸՆԹԱՑԻԿ ԾԱԽՍԵՐ | E71: =E72 -> -34636
D72: ՍՈՒԲՍԻԴԻԱՆԵՐ | E72: =E73 -> -34636
D73: Սուբսիդիաներ պետական կազմակերպություններին | E73: =E74 -> -34636
D74: - Սուբսիդիաներ ոչ ֆինանսական պետական կազմակերպություններին | E74: -34636
D75: ՀՀ Սյունիքի մարզպետարան | E75: =E77 -> -11161.9
D76: այդ թվում` բյուջետային ծախսերի տնտեսագիտական դասակարգման հոդվածներ
D77: ԸՆԴԱՄԵՆԸ ԾԱԽՍԵՐ | E77: =E78 -> -11161.9
D78: ԸՆԹԱՑԻԿ ԾԱԽՍԵՐ | E78: =E79 -> -11161.9
D79: ՍՈՒԲՍԻԴԻԱՆԵՐ | E79: =E80 -> -11161.9
D80: Սուբսիդիաներ պետական կազմակերպություններին | E80: =E81 -> -11161.9
D81: - Սուբսիդիաներ ոչ ֆինանսական պետական կազմակերպություններին | E81: -11161.9
D82: ՀՀ Վայոց ձորի մարզպետարան | E82: =E84 -> -22329.7
D83: այդ թվում` բյուջետային ծախսերի տնտեսագիտական դասակարգման հոդվածներ
D84: ԸՆԴԱՄԵՆԸ ԾԱԽՍԵՐ | E84: =E85 -> -22329.7
D85: ԸՆԹԱՑԻԿ ԾԱԽՍԵՐ | E85: =E86 -> -22329.7
D86: ՍՈՒԲՍԻԴԻԱՆԵՐ | E86: =E87 -> -22329.7
D87: Սուբսիդիաներ պետական կազմակերպություններին | E87: =E88 -> -22329.7
D88: - Սուբսիդիաներ ոչ ֆինանսական պետական կազմակերպություններին | E88: -22329.7
D89: ՀՀ Տավուշի մարզպետարան | E89: =E91 -> -9473.4
D90: այդ թվում` բյուջետային ծախսերի տնտեսագիտական դասակարգման հոդվածներ
D91: ԸՆԴԱՄԵՆԸ ԾԱԽՍԵՐ | E91: =E92 -> -9473.4
D92: ԸՆԹԱՑԻԿ ԾԱԽՍԵՐ | E92: =E93 -> -9473.4
D93: ՍՈՒԲՍԻԴԻԱՆԵՐ | E93: =E94 -> -9473.4
D94: Սուբսիդիաներ պետական կազմակերպություններին | E94: =E95 -> -9473.4
D95: - Սուբսիդիաներ ոչ ֆինանսական պետական կազմակերպություններին | E95: -9473.4
C96: 11002 | D96: Հիմնական ընդհանուր հանրակրթություն | E96: =E98+E105+E112+E119+E126+E133+E140+E147+E154+E161+E168 -> -628219.9
D97: այդ թվում` ըստ կատարողների
D98: ՀՀ տարածքային կառավարման և ենթակառուցվածքների նախարարություն | E98: =E100 -> -672710.7
D99: այդ թվում` բյուջետային ծախսերի տնտեսագիտական դասակարգման հոդվածներ
D100: ԸՆԴԱՄԵՆԸ ԾԱԽՍԵՐ | E100: =E101 -> -672710.7
D101: ԸՆԹԱՑԻԿ ԾԱԽՍԵՐ | E101: =E102 -> -672710.7
D102: ՍՈՒԲՍԻԴԻԱՆԵՐ | E102: =E103 -> -672710.7
D103: Սուբսիդիաներ պետական կազմակերպություններին | E103: =E104 -> -672710.7
D104: - Սուբսիդիաներ ոչ ֆինանսական պետական կազմակերպություններին | E104: =-680330.4+2023.2+5596.5 -> -672710.7
...

Sheet Հավելված 4
B2: Հավելված N 4
D3: ՀՀ կառավարության 2019 թվականի
C4: -ի N որոշման
A6: ՀԱՅԱՍՏԱՆԻ ՀԱՆՐԱՊԵՏՈՒԹՅԱՆ ԿԱՌԱՎԱՐՈՒԹՅԱՆ 2018 ԹՎԱԿԱՆԻ ԴԵԿՏԵՄԲԵՐԻ 27-Ի N 1515-Ն ՈՐՈՇՄԱՆ N 11 ՀԱՎԵԼՎԱԾԻ N 11.16 և 11.52 ԱՂՅՈՒՍԱԿՆԵՐՈՒՄ ԿԱՏԱՐՎՈՂ ՓՈՓՈԽՈՒԹՅՈՒՆՆԵՐԸ
B9: ՀՀ կրթության, գիտության, մշակույթի և սպորտի նախարարություն
B12: ՄԱՍ 2. ՊԵՏԱԿԱՆ ՄԱՐՄՆԻ ԳԾՈՎ ԱՐԴՅՈՒՆՔԱՅԻՆ (ԿԱՏԱՐՈՂԱԿԱՆ) ՑՈՒՑԱՆԻՇՆԵՐԸ
B13: Ծրագրի դասիչը | C13: Ծրագրի անվանումը
B14: 1146 | C14: Հանրակրթության ծրագիր
B16: Ծրագրի միջոցառումները
B18: Ծրագրի դասիչը | C18: 1146 | D18: Ցուցանիշների փոփոխությունը (նվազեցումները նշված են փակագծերում)
B19: Միջոցառման դասիչը | C19: 11001 | D19: Տարի
B20: Միջոցառման անվանումը | C20: Տարրական ընդհանուր հանրակրթություն
B21: Նկարագրությունը | C21: Պարտադիր կրթության առաջին մակարդակում սովորողների ընդգրկվածության՝ գրագիտության և համակողմանի զարգացման բարձր մակարդակի ապահովում
B22: Միջոցառման տեսակը | C22: Ծառայությունների մատուցում
B23: Միջոցառումն իրականացնողի անվանումը | C23: ՀՀ կրթության, գիտության, մշակույթի և սպորտի նախարարության, ՀՀ մարզպետարանների, Երևանի քաղաքապետարանի ենթակայության ուսումնական հաստատություններ
C24: Արդյունքի չափորոշիչներ
B25: Տարրական ընդհանուր կրթության դասարանների սովորողների թիվը, մարդ | D25: ='Հավելված 5'!E23+'Հավելված 5'!E126+'Հավելված 5'!E209+'Հավելված 5'!E303+'Հավելված 5'!E364+'Հավելված 5'!E448+'Հավելված 5'!E509+'Հավելված 5'!E625+'Հավելված 5'!E741+'Հավելված 5'!E802+'Հավելված 5'!E874 -> -1030
B26: Տարրական ընդհանուր կրթություն ապահովող հաստատությունների թիվ, հատ, այդ թվում՝
B27: Տարրական դպրոցների թիվ, հատ
B28: Գիտելիքների ստուգման արդյունքում սովորողների միջին գնահատականը
B29: Միջոցառման վրա կատարվող ծախսը (հազար դրամ) | D29: ='Հավելված 3'!E17 -> -58113.2
B31: Ծրագրի դասիչը | C31: 1146 | D31: Ցուցանիշների փոփոխությունը (նվազեցումները նշված են փակագծերում)
B32: Միջոցառման դասիչը | C32: 11002 | D32: Տարի
B33: Միջոցառման անվանումը | C33: Հիմնական ընդհանուր հանրակրթություն
B34: Նկարագրությունը | C34: Պարտադիր կրթության երկրորդ մակարդակում սովորողների ընդգրկվածության՝ գրագիտության և համակողմանի զարգացման բարձր մակարդակի ապահովում
B35: Միջոցառման տեսակը | C35: Ծառայությունների մատուցում
B36: Միջոցառումն իրականացնողի անվանումը | C36: ՀՀ կրթության, գիտության, մշակույթի և սպորտի նախարարության, ՀՀ մարզպետարանների, Երևանի քաղաքապետարանի ենթակայության ուսումնական հաստատություններ
C37: Արդյունքի չափորոշիչներ
B38: Հիմնական ընդհանուր կրթության դասարանների սովորողների թիվը, մարդ | D38: ='Հավելված 5'!E34+'Հավելված 5'!E137+'Հավելված 5'!E220+'Հավելված 5'!E314+'Հավելված 5'!E375+'Հավելված 5'!E459+'Հավելված 5'!E520+'Հավելված 5'!E636+'Հավելված 5'!E752+'Հավելված 5'!E813+'Հավելված 5'!E885 -> -945
B39: Գիտելիքների ստուգման արդյունքում սովորողների միջին գնահատականը
B40: Միջոցառման վրա կատարվող ծախսը (հազար դրամ) | D40: ='Հավելված 3'!E96 -> -628219.9
B42: Ծրագրի դասիչը | C42: 1146 | D42: Ցուցանիշների փոփոխությունը (նվազեցումները նշված են փակագծերում)
B43: Միջոցառման դասիչը | C43: 11003 | D43: Տարի
B44: Միջոցառման անվանումը | C44: Միջնակարգ ընդհանուր հանրակրթություն
B45: Նկարագրությունը | C45: Պարտադիր կրթության երրորդ մակարդակում սովորողների ընդգրկվածության՝ գրագիտության և համակողմանի զարգացման բարձր մակարդակի ապահովում
B46: Միջոցառման տեսակը | C46: Ծառայությունների մատուցում
B47: Միջոցառումն իրականացնողի անվանումը | C47: ՀՀ կրթության, գիտության, մշակույթի և սպորտի նախարարության, ՀՀ մարզպետարանների, Երևանի քաղաքապետարանի ենթակայության ուսումնական հաստատություններ
C48: Արդյունքի չափորոշիչներ
B49: Միջնակարգ ընդհանուր կրթության դասարանների սովորողների թիվը, մարդ | D49: ='Հավելված 5'!E45+'Հավելված 5'!E106+'Հավելված 5'!E148+'Հավելված 5'!E231+'Հավելված 5'!E325+'Հավելված 5'!E386+'Հավելված 5'!E470+'Հավելված 5'!E531+'Հավելված 5'!E647+'Հավելված 5'!E763+'Հավելված 5'!E824+'Հավելված 5'!E896 -> -2082
B50: Գիտելիքների ստուգման արդյունքում սովորողների միջին գնահատականը
B51: Միջոցառման վրա կատարվող ծախսը (հազար դրամ) | D51: ='Հավելված 3'!E175 -> -454124.6
B53: Ծրագրի դասիչը | C53: 1146 | D53: Ցուցանիշների փոփոխությունը (ավելացումները նշված են դրական նշանով)
B54: Միջոցառման դասիչը | C54: 11004 | D54: Տարի
B55: Միջոցառման անվանումը | C55: Տարրական հատուկ հանրակրթություն
B56: Նկարագրությունը | C56: Պարտադիր կրթության առաջին մակարդակում սովորողների ընդգրկվածության և գրագիտության ապահովում
B57: Միջոցառման տեսակը | C57: Ծառայությունների մատուցում
B58: Միջոցառումն իրականացնողի անվանումը | C58: ՀՀ կրթության, գիտության, մշակույթի և սպորտի նախարարության, ՀՀ մարզպետարանների, Երևանի քաղաքապետարանի ենթակայության հատուկ ուսումնական հաստատություններ
C59: Արդյունքի չափորոշիչներ
B60: Սովորողների թիվը, մարդ | D60: ='Հավելված 5'!E56+'Հավելված 5'!E159+'Հավելված 5'!E397+'Հավելված 5'!E542+'Հավելված 5'!E658 -> 26
B61: Գիտելիքների ստուգման արդյունքում սովորողների միջին գնահատականը
B62: Միջոցառման վրա կատարվող ծախսը (հազար դրամ) | D62: ='Հավելված 3'!E261 -> 1092.7
B64: Ծրագրի դասիչը | C64: 1146 | D64: Ցուցանիշների փոփոխությունը (ավելացումները նշված են դրական նշանով, իսկ նվազեցումները՝ փակագծերում)
B65: Միջոցառման դասիչը | C65: 11005 | D65: Տարի
B66: Միջոցառման անվանումը | C66: Հիմնական հատուկ հանրակրթություն
B67: Նկարագրությունը | C67: Պարտադիր կրթության երկրորդ մակարդակում սովորողների ընդգրկվածության և գրագիտության ապահովում
B68: Միջոցառման տեսակը | C68: Ծառայությունների մատուցում
B69: Միջոցառումն իրականացնողի անվանումը | C69: ՀՀ կրթության, գիտության, մշակույթի և սպորտի նախարարության, ՀՀ մարզպետարանների, Երևանի քաղաքապետարանի ենթակայության հատուկ ուսումնական հաստատություններ
C70: Արդյունքի չափորոշիչներ
B71: Սովորողների թիվը, մարդ | D71: ='Հավելված 5'!E170+'Հավելված 5'!E553+'Հավելված 5'!E669 -> 3
B72: Գիտելիքների ստուգման արդյունքում սովորողների միջին գնահատականը
B73: Միջոցառման վրա կատարվող ծախսը (հազար դրամ) | D73: ='Հավելված 3'!E298 -> -1975.1
B76: Ծրագրի դասիչը | C76: 1146 | D76: Ցուցանիշների փոփոխությունը (ավելացումները նշված են դրական նշանով)
B77: Միջոցառման դասիչը | C77: 11007 | D77: Տարի
B78: Միջոցառման անվանումը | C78: Ներառական կրթություն տարրական դպրոցում
B79: Նկարագրությունը | C79: Տարրական դպրոցում կրթության առանձնահատուկ պայմանների կարիք ունեցող երեխաների տարրական կրթության կազմակերպման կրթաօժանդակ ծառայությունների մատուցման միջոցով սովորողների ընդգրկվածության և գրագիտության ապահովում
B80: Միջոցառման տեսակը | C80: Ծառայությունների մատուցում
B81: Միջոցառումն իրականացնողի անվանումը | C81: ՀՀ կրթության, գիտության, մշակույթի և սպորտի նախարարության, ՀՀ մարզպետարանների, Երևանի քաղաքապետարանի ենթակայության հանրակրթական ուսումնական հաստատություններ
C82: Արդյունքի չափորոշիչներ
B83: Սովորողների թիվը, մարդ | D83: ='Հավելված 5'!E242+'Հավելված 5'!E408+'Հավելված 5'!E564+'Հավելված 5'!E680+'Հավելված 5'!E835 -> 77
B84: Գիտելիքների ստուգման արդյունքում սովորողների միջին գնահատականը
B85: Միջոցառման վրա կատարվող ծախսը (հազար դրամ) | D85: ='Հավելված 3'!E328 -> 19862.7
B87: Ծրագրի դասիչը | C87: 1146 | D87: Ցուցանիշների փոփոխությունը (նվազեցումները նշված են փակագծերում)
B88: Միջոցառման դասիչը | C88: 11008 | D88: Տարի
B89: Միջոցառման անվանումը | C89: Ներառական կրթություն միջին դպրոցում
B90: Նկարագրությունը | C90: Միջին դպրոցում կրթության առանձնահատուկ պայմանների կարիք ունեցող երեխաների կրթության կազմակերպման կրթաօժանդակ ծառայությունների մատուցման միջոցով սովորողների ընդգրկվածության և գրագիտության ապահովում
B91: Միջոցառման տեսակը | C91: Ծառայությունների մատուցում
B92: Միջոցառումն իրականացնողի անվանումը | C92: ՀՀ կրթության, գիտության, մշակույթի և սպորտի նախարարության, ՀՀ մարզպետարանների, Երևանի քաղաքապետարանի ենթակայության ներառական կրթություն իրականացնող ուսումնական հաստատություններ
C93: Արդյունքի չափորոշիչներ
B94: Սովորողների թիվը, մարդ | D94: ='Հավելված 5'!E253+'Հավելված 5'!E419+'Հավելված 5'!E575+'Հավելված 5'!E691 -> -4
B95: Գիտելիքների ստուգման արդյունքում սովորողների միջին գնահատականը
B96: Միջոցառման վրա կատարվող ծախսը (հազար դրամ) | D96: ='Հավելված 3'!E365 -> -24389.1
B98: Ծրագրի դասիչը | C98: 1146 | D98: Ցուցանիշների փոփոխությունը (նվազեցումները նշված են փակագծերում)
B99: Միջոցառման դասիչը | C99: 11009 | D99: Տարի
B100: Միջոցառման անվանումը | C100: Ներառական կրթություն ավագ դպրոցում
B101: Նկարագրությունը | C101: Ավագ դպրոցում կրթության առանձնահատուկ պայմանների կարիք ունեցող երեխաների կրթության կազմակերպման կրթաօժանդակ ծառայությունների մատուցման միջոցով սովորողների ընդգրկվածության՝ համակողմանի զարգացման և գրագիտության ապահովում
B102: Միջոցառման տեսակը | C102: Ծառայությունների մատուցում
B103: Միջոցառումն իրականացնողի անվանումը | C103: ՀՀ կրթության, գիտության, մշակույթի և սպորտի նախարարության, ՀՀ մարզպետարանների, Երևանի քաղաքապետարանի ենթակայության ներառական կրթություն իրականացնող ուսումնական հաստատություններ
C104: Արդյունքի չափորոշիչներ
B105: Սովորողների թիվը, մարդ | D105: ='Հավելված 5'!E264+'Հավելված 5'!E586+'Հավելված 5'!E702 -> -8
B106: Գիտելիքների ստուգման արդյունքում սովորողների միջին գնահատականը
B107: Միջոցառման վրա կատարվող ծախսը (հազար դրամ) | D107: ='Հավելված 3'!E395 -> -7422.2
B112: Ծրագրի դասիչը | C112: 1146 | D112: Ցուցանիշների փոփոխությունը (նվազեցումները նշված են փակագծերում)
B113: Միջոցառման դասիչը | C113: 11013 | D113: Տարի
B114: Միջոցառման անվանումը | C114: Նախադպրոցական կրթություն
B115: Նկարագրությունը | C115: Նախադպրոցական կրթություն մակարդակում սաների ընդգրկվածության՝ զարգացման բարձր մակարդակի ապահովում՝ 5-6 տարեկան երեխաների նախապատրաստում տարրական դպրոցին
B116: Միջոցառման տեսակը | C116: Ծառայությունների մատուցում
B117: Միջոցառումն իրականացնողի անվանումը | C117: ՀՀ կրթության, գիտության, մշակույթի և սպորտի նախարարության, Երևանի քաղաքապետարանի, ՀՀ մարզպետարանների ենթակայության նախադպրոցական կրթություն իրականացնող ուսումնական հաստատություններ
C118: Արդյունքի չափորոշիչներ
B119: Ծառայությունը ստացող երեխաների թվաքանակը, մարդ | D119: ='Հավելված 5'!E78+'Հավելված 5'!E181+'Հավելված 5'!E275+'Հավելված 5'!E336+'Հավելված 5'!E430+'Հավելված 5'!E481+'Հավելված 5'!E597+'Հավելված 5'!E713+'Հավելված 5'!E774+'Հավելված 5'!E846+'Հավելված 5'!E907 -> -118
B120: Միջոցառման վրա կատարվող ծախսը (հազար դրամ) | D120: ='Հավելված 3'!E418 -> -12516.9
...

Sheet Հավելված 5
A2: Հավելված N 5
A3: ՀՀ կառավարության 2019 թվականի
D4: -ի N որոշման
B7: ՀԱՅԱՍՏԱՆԻ ՀԱՆՐԱՊԵՏՈՒԹՅԱՆ ԿԱՌԱՎԱՐՈՒԹՅԱՆ 2018 ԹՎԱԿԱՆԻ ԴԵԿՏԵՄԲԵՐԻ 27-Ի N 1515-Ն ՈՐՈՇՄԱՆ N 11.1 ՀԱՎԵԼՎԱԾԻ NN 11.1.8, 11.1.16, 11.1.56, 11.1.57, 11.1.58, 11.1.59, 11.1.60, 11.1.61, 11.1.62, 11.1.63, 11.1.64, 11.1.65, 11.1.66 ԱՂՅՈՒՍԱԿՆԵՐՈՒՄ ԿԱՏԱՐՎՈՂ ՓՈՓՈԽՈՒԹՅՈՒՆՆԵՐԸ
B8: ՀՀ տարածքային կառավարման և ենթակառուցվածքների նախարարություն
A10: ՄԱՍ 1. ՊԵՏԱԿԱՆ ՄԱՐՄՆԻ ԳԾՈՎ ԱՐԴՅՈՒՆՔԱՅԻՆ (ԿԱՏԱՐՈՂԱԿԱՆ) ՑՈՒՑԱՆԻՇՆԵՐԸ
B11: Ծրագրի դասիչը | D11: Ծրագրի անվանումը
B12: 1146 | D12: Հանրակրթության ծրագիր
B14: Ծրագրի միջոցառումները
B16: Ծրագրի դասիչը | D16: 1146 | E16: Ցուցանիշների փոփոխությունը (ավելացումները նշված են դրական նշանով, իսկ նվազեցումները՝ փակագծերում)
B17: Միջոցառման դասիչը | D17: 11001 | E17: տարի
B18: Միջոցառման անվանումը | D18: Տարրական ընդհանուր հանրակրթություն
B19: Նկարագրությունը | D19: Պարտադիր կրթության առաջին մակարդակում սովորողների ընդգրկվածության՝ գրագիտության և համակողմանի զարգացման բարձր մակարդակի ապահովում
B20: Միջոցառման տեսակը | D20: Ծառայությունների մատուցում
B21: Միջոցառումն իրականացնողի անվանումը | D21: Երևանի քաղաքապետարանի ենթակայության հանրակրթական դպրոցներ
D22: Արդյունքի չափորոշիչներ
B23: Տարրական ընդհանուր կրթության դասարանների սովորողների թիվը, մարդ | E23: -54
B24: Գիտելիքների ստուգման արդյունքում սովորողների միջին գնահատականը
B25: Միջոցառման վրա կատարվող ծախսը (հազար դրամ) | E25: ='Հավելված 3'!E25 -> 47602.5
B27: Ծրագրի դասիչը | D27: 1146 | E27: Ցուցանիշների փոփոխությունը (նվազեցումները նշված են փակագծերում)
B28: Միջոցառման դասիչը | D28: 11002 | E28: տարի
B29: Միջոցառման անվանումը | D29: Հիմնական ընդհանուր հանրակրթություն
B30: Նկարագրությունը | D30: Պարտադիր կրթության երկրորդ մակարդակում սովորողների ընդգրկվածության՝ գրագիտության և համակողմանի զարգացման բարձր մակարդակի ապահովում
B31: Միջոցառման տեսակը | D31: Ծառայությունների մատուցում
B32: Միջոցառումն իրականացնողի անվանումը | D32: Երևանի քաղաքապետարանի ենթակայության հանրակրթական ուսումնական հաստատություններ
D33: Արդյունքի չափորոշիչներ
B34: Հիմնական ընդհանուր կրթության դասարանների սովորողների թիվը, մարդ | E34: -135
B35: Գիտելիքների ստուգման արդյունքում սովորողների միջին գնահատականը
B36: Միջոցառման վրա կատարվող ծախսը (հազար դրամ) | E36: ='Հավելված 3'!E98 -> -672710.7
B38: Ծրագրի դասիչը | D38: 1146 | E38: Ցուցանիշների փոփոխությունը (նվազեցումները նշված են փակագծերում)
B39: Միջոցառման դասիչը | D39: 11003 | E39: տարի
B40: Միջոցառման անվանումը | D40: Միջնակարգ ընդհանուր հանրակրթություն
B41: Նկարագրությունը | D41: Պարտադիր կրթության երրորդ մակարդակում սովորողների ընդգրկվածության՝ գրագիտության և համակողմանի զարգացման բարձր մակարդակի ապահովում
B42: Միջոցառման տեսակը | D42: Ծառայությունների մատուցում
B43: Միջոցառումն իրականացնողի անվանումը | D43: Երևանի քաղաքապետարանի ենթակայության հանրակրթական ուսումնական հաստատություններ
D44: Արդյունքի չափորոշիչներ
B45: Միջնակարգ ընդհանուր կրթության դասարանների սովորողների թիվը, մարդ | E45: -163
B46: Գիտելիքների ստուգման արդյունքում սովորողների միջին գնահատականը
B47: Միջոցառման վրա կատարվող ծախսը (հազար դրամ) | E47: ='Հավելված 3'!E183 -> -21767
B49: Ծրագրի դասիչը | D49: 1146 | E49: Ցուցանիշների փոփոխությունը (ավելացումները նշված են դրական նշանով, իսկ նվազեցումները՝ փակագծերում)
B50: Միջոցառման դասիչը | D50: 11004 | E50: տարի
B51: Միջոցառման անվանումը | D51: Տարրական հատուկ հանրակրթություն
B52: Նկարագրությունը | D52: Պարտադիր կրթության առաջին մակարդակում սովորողների ընդգրկվածության և գրագիտության ապահովում
B53: Միջոցառման տեսակը | D53: Ծառայությունների մատուցում
B54: Միջոցառումն իրականացնողի անվանումը | D54: Երևանի քաղաքապետարանի ենթակայության հատուկ կրթություն իրականացնող ուսումնական հաստատություններ
D55: Արդյունքի չափորոշիչներ
B56: Սովորողների թիվը, մարդ | E56: 21
B57: Գիտելիքների ստուգման արդյունքում սովորողների միջին գնահատականը
B58: Միջոցառման վրա կատարվող ծախսը (հազար դրամ) | E58: ='Հավելված 3'!E269 -> -2059.9
B60: Ծրագրի դասիչը | D60: 1146 | E60: Ցուցանիշների փոփոխությունը (ավելացումները նշված են դրական նշանով, իսկ նվազեցումները՝ փակագծերում)
B61: Միջոցառման դասիչը | D61: 11005 | E61: տարի
B62: Միջոցառման անվանումը | D62: Հիմնական հատուկ հանրակրթություն
B63: Նկարագրությունը | D63: Պարտադիր կրթության երկրորդ մակարդակում սովորողների ընդգրկվածության և գրագիտության ապահովում
B64: Միջոցառման տեսակը | D64: Ծառայությունների մատուցում
B65: Միջոցառումն իրականացնողի անվանումը | D65: Երևանի քաղաքապետարանի ենթակայության հատուկ կրթություն իրականացնող ուսումնական հաստատություններ
D66: Արդյունքի չափորոշիչներ
B67: Սովորողների թիվը, մարդ | E67: 38
B68: Գիտելիքների ստուգման արդյունքում սովորողների միջին գնահատականը
B69: Միջոցառման վրա կատարվող ծախսը (հազար դրամ) | E69: ='Հավելված 3'!E306 -> -2660.3
B71: Ծրագրի դասիչը | D71: 1146 | E71: Ցուցանիշների փոփոխությունը (ավելացումները նշված են դրական նշանով)
B72: Միջոցառման դասիչը | D72: 11013 | E72: տարի
B73: Միջոցառման անվանումը | D73: Նախադպրոցական կրթություն
B74: Նկարագրությունը | D74: Նախադպրոցական կրթություն մակարդակում սաների ընդգրկվածության՝ զարգացման բարձր մակարդակի ապահովում՝ 5-6 տարեկան երեխաների նախապատրաստում տարրական դպրոցին
B75: Միջոցառման տեսակը | D75: Ծառայությունների մատուցում
B76: Միջոցառումն իրականացնողի անվանումը | D76: Երևանի քաղաքապետարանի ենթակայության նախադպրոցական կրթություն իրականացնող ուսումնական հաստատություններ
D77: Արդյունքի չափորոշիչներ
B78: Ծառայությունը ստացող երեխաների թվաքանակը, մարդ | E78: 13
B79: Միջոցառման վրա կատարվող ծախսը (հազար դրամ) | E79: ='Հավելված 3'!E426 -> 1497.4
B81: Ծրագրի դասիչը | D81: 1146 | E81: Ցուցանիշների փոփոխությունը (ավելացումները նշված են դրական նշանով)
B82: Միջոցառման դասիչը | D82: 12004 | E82: տարի
B83: Միջոցառման անվանումը | D83: Ատեստավորման միջոցով որակավորում ստացած ուսուցիչներին հավելավճարների տրամադրում
B84: Նկարագրությունը | D84: Ատեստավորման միջոցով տարակարգի որակավորում ստացած ուսուցիչներին համաապատասխան հավելավճարի տրամադրման ապահովում
B85: Միջոցառման տեսակը | D85: Տրանսֆերտների տրամադրում
B86: Շահառուների ընտրության չափորոշիչները | D86: Ատեստավորման արդյունքում որակավորում ստացած ուսուցիչներ
D87: Արդյունքի չափորոշիչներ
B88: Որակավորման տարակարգ ստացած ուսուցիչների թիվը, մարդ | E88: 46
B89: Միջոցառման վրա կատարվող ծախսը (հազար դրամ) | E89: ='Հավելված 3'!E505 -> 7611.2
B91: ՀՀ կրթության, գիտության, մշակույթի և սպորտի նախարարություն
A92: ՄԱՍ 1. ՊԵՏԱԿԱՆ ՄԱՐՄՆԻ ԳԾՈՎ ԱՐԴՅՈՒՆՔԱՅԻՆ (ԿԱՏԱՐՈՂԱԿԱՆ) ՑՈՒՑԱՆԻՇՆԵՐԸ
B94: Ծրագրի դասիչը | D94: Ծրագրի անվանումը
B95: 1146 | D95: Հանրակրթության ծրագիր
B97: Ծրագրի միջոցառումները
B99: Ծրագրի դասիչը | D99: 1146 | E99: Ցուցանիշների փոփոխությունը (ավելացումները նշված են դրական նշանով, իսկ նվազեցումները՝ փակագծերում)
B100: Միջոցառման դասիչը | D100: 11003 | E100: տարի
B101: Միջոցառման անվանումը | D101: Միջնակարգ ընդհանուր հանրակրթություն
B102: Նկարագրությունը | D102: Պարտադիր կրթության երրորդ մակարդակում սովորողների ընդգրկվածության՝ գրագիտության և համակողմանի զարգացման բարձր մակարդակի ապահովում
B103: Միջոցառման տեսակը | D103: Ծառայությունների մատուցում
B104: Միջոցառումն իրականացնողի անվանումը | D104: ՀՀ ԿԳՄՍՆ ենթակայության հանրակրթական ուսումնական հաստատություններ
D105: Արդյունքի չափորոշիչներ
B106: Միջնակարգ ընդհանուր կրթության դասարանների սովորողների թիվը, մարդ | E106: 152
B107: Գիտելիքների ստուգման արդյունքում սովորողների միջին գնահատականը
B108: Միջոցառման վրա կատարվող ծախսը (հազար դրամ) | E108: ='Հավելված 3'!E190 -> -20741.6
B111: ՀՀ Արագածոտնի մարզպետարան
A112: ՄԱՍ 1. ՊԵՏԱԿԱՆ ՄԱՐՄՆԻ ԳԾՈՎ ԱՐԴՅՈՒՆՔԱՅԻՆ (ԿԱՏԱՐՈՂԱԿԱՆ) ՑՈՒՑԱՆԻՇՆԵՐԸ
B114: Ծրագրի դասիչը | D114: Ծրագրի անվանումը
B115: 1146 | D115: Հանրակրթության ծրագիր
B117: Ծրագրի միջոցառումները
B119: Ծրագրի դասիչը | D119: 1146 | E119: Ցուցանիշների փոփոխությունը (նվազեցումները նշված են փակագծերում)
B120: Միջոցառման դասիչը | D120: 11001 | E120: տարի
B121: Միջոցառման անվանումը | D121: Տարրական ընդհանուր հանրակրթություն
...
