Workbook
Name AgencyCode: #REF!
Name AgencyName: #REF!
Name Functional1: #REF!
Name PANature: #REF!
Name PAType: #REF!
Name Performance2: #REF!
Name PerformanceType: #REF!

Sheet Հավելված 1
E2: Հավելված N 1
D3: ՀՀ կառավարության 2019 թվականի
D4: -ի N որոշման
A6: «ՀԱՅԱUՏԱՆԻ ՀԱՆՐԱՊԵՏՈՒԹՅԱՆ 2019 ԹՎԱԿԱՆԻ ՊԵՏԱԿԱՆ ԲՅՈՒՋԵԻ ՄԱUԻՆ» ՀԱՅԱUՏԱՆԻ ՀԱՆՐԱՊԵՏՈՒԹՅԱՆ OՐԵՆՔԻ N 1 ՀԱՎԵԼՎԱԾԻ N 2 ԱՂՅՈՒՍԱԿՈՒՄ ԿԱՏԱՐՎՈՂ ՎԵՐԱԲԱՇԽՈՒՄԸ ԵՎ ՀԱՅԱՍՏԱՆԻ ՀԱՆՐԱՊԵՏՈՒԹՅԱՆ ԿԱՌԱՎԱՐՈՒԹՅԱՆ 2018 ԹՎԱԿԱՆԻ ԴԵԿՏԵՄԲԵՐԻ 27-Ի N 1515-Ն ՈՐՈՇՄԱՆ N 5 ՀԱՎԵԼՎԱԾԻ N 1 ԱՂՅՈՒՍԱԿՈՒՄ ԿԱՏԱՐՎՈՂ ՓՈՓՈԽՈՒԹՅՈՒՆՆԵՐԸ
E9: (հազ. դրամ)
B10: Ծրագրային դասիչը | D10: Բյուջետային հատկացումների գլխավոր կարգադրիչների, ծրագրերի և միջոցառումների անվանումները | E10: Ցուցանիշների փոփոխությունը (ավելացումները նշված են դրական նշանով, իսկ նվազեցումները՝ փակագծերում)
B11: ծրագիրը | C11: միջոցառումը | E11: Տարի
D12: ԸՆԴԱՄԵՆԸ | E12: =E13+E81 -> 0
D13: ՀՀ կրթության, գիտության, մշակույթի և սպորտի նախարարություն | E13: =E14 -> -1159864.6
B14: 1146 | D14: Ծրագրի անվանումը | E14: =SUM(E21:E80) -> -1159864.6
D15: Հանրակրթության ծրագիր
D16: Ծրագրի նպատակը
D17: Ապահովել անվճար և որակյալ հանրակրթություն
D18: Վերջնական արդյունքի նկարագրությունը
D19: Մտավոր, հոգևոր, ֆիզիկական և սոցիալական ունակությունների համակողմանի ու ներդաշնակ զարգացմամբ, հայրենասիրության, պետականության և մարդասիրության ոգով դաստիարակված, պատշաճ վարքով և վարվելակերպով անձի ձևավորում
D20: Ծրագրի միջոցառումներ
C21: 11001 | D21: Միջոցառման անվանումը | E21: ='Հավելված 3'!E17 -> -58113.2
D22: Տարրական ընդհանուր կրթություն
D23: Միջոցառման նկարագրությունը
D24: Պարտադիր կրթության առաջին մակարդակում սովորողների ընդգրկվածության, գրագիտության և համակողմանի զարգացման բարձր մակարդակի ապահովում
D25: Միջոցառման տեսակը
D26: Ծառայությունների մատուցում
C27: 11002 | D27: Միջոցառման անվանումը | E27: ='Հավելված 3'!E96 -> -628219.9
D28: Հիմնական ընդհանուր կրթություն
D29: Միջոցառման նկարագրությունը
D30: Պարտադիր կրթության երկրորդ մակարդակում սովորողների ընդգրկվածության, գրագիտության և համակողմանի զարգացման բարձր մակարդակի ապահովում
D31: Միջոցառման տեսակը
D32: Ծառայությունների մատուցում
C33: 11003 | D33: Միջոցառման անվանումը | E33: ='Հավելված 3'!E175 -> -454124.6
D34: Միջնակարգ ընդհանուր կրթություն
D35: Միջոցառման նկարագրությունը
D36: Պարտադիր կրթության երրորդ մակարդակում սովորողների ընդգրկվածության, գրագիտության և համակողմանի զարգացման բարձր մակարդակի ապահովում
D37: Միջոցառման տեսակը
D38: Ծառայությունների մատուցում
C39: 11004 | D39: Միջոցառման անվանումը | E39: ='Հավելված 3'!E261 -> 1092.7
D40: Տարրական հատուկ հանրակրթություն
D41: Միջոցառման նկարագրությունը
D42: Պարտադիր կրթության առաջին մակարդակում սովորողների ընդգրկվածության և գրագիտության ապահովում
D43: Միջոցառման տեսակը
D44: Ծառայությունների մատուցում
...

Sheet Հավելված 2
G1: Հավելված N 2
G2: ՀՀ կառավարության 2019 թվականի
G3: -ի N որոշման
B5: ՀԱՅԱՍՏԱՆԻ ՀԱՆՐԱՊԵՏՈՒԹՅԱՆ ԿԱՌԱՎԱՐՈՒԹՅԱՆ 2018 ԹՎԱԿԱՆԻ ԴԵԿՏԵՄԲԵՐԻ 27-Ի N 1515-Ն ՈՐՈՇՄԱՆ N 3 ՀԱՎԵԼՎԱԾՈՒՄ ԿԱՏԱՐՎՈՂ ՓՈՓՈԽՈՒԹՅՈՒՆՆԵՐԸ
H8: (հազ. դրամ)
B9: Գործառական դասիչը | E9: Ծրագրային դասիչը | G9: Բյուջետային ծախսերի գործառական դասակարգման բաժինների, խմբերի և դասերի, բյուջետային ծրագրերի միջոցառումների, բյուջետային հատկացումների գլխավոր կարգադրիչների անվանումները | H9: Ցուցանիշների փոփոխությունը (ավելացումները նշված են դրական նշանով, իսկ նվազեցումները՝ փակագծերում)
B10: Բաժին | C10: Խումբ | D10: Դաս | E10: Ծրագիր | F10: Միջոցա ռում | H10: Տարի
G11: ԸՆԴԱՄԵՆԸ ԾԱԽՍԵՐ | H11: =H12+H50 -> 0
B12: 09 | G12: ԿՐԹՈՒԹՅՈՒՆ | H12: =H14+H28+H44 -> -1159864.6
G13: այդ թվում`
C14: 01 | G14: Նախադպրոցական և տարրական ընդհանուր կրթություն | H14: =H16+H20 -> -49674.7
G15: այդ թվում`
D16: 01 | G16: Նախադպրոցական կրթություն | H16: =H18 -> -12516.9
G17: այդ թվում`
E18: 1146 | F18: 11013 | G18: Նախադպրոցական կրթություն | H18: =H19 -> -12516.9
G19: ՀՀ կրթության, գիտության, մշակույթի և սպորտի նախարարություն | H19: ='Հավելված 3'!E418 -> -12516.9
D20: 02 | G20: Տարրական ընդհանուր կրթություն | H20: =H22+H24+H26 -> -37157.8
G21: այդ թվում`
E22: 1146 | F22: 11001 | G22: Տարրական ընդհանուր հանրակրթություն | H22: =H23 -> -58113.2
G23: ՀՀ կրթության, գիտության, մշակույթի և սպորտի նախարարություն | H23: ='Հավելված 3'!E17 -> -58113.2
E24: 1146 | F24: 11004 | G24: Տարրական հատուկ հանրակրթություն | H24: =H25 -> 1092.7
G25: ՀՀ կրթության, գիտության, մշակույթի և սպորտի նախարարություն | H25: ='Հավելված 3'!E261 -> 1092.7
E26: 1146 | F26: 11007 | G26: Ներառական կրթություն տարրական դպրոցում | H26: =H27 -> 19862.7
G27: ՀՀ կրթության, գիտության, մշակույթի և սպորտի նախարարություն | H27: ='Հավելված 3'!E328 -> 19862.7
C28: 02 | G28: Միջնակարգ ընդհանուր կրթություն | H28: =H30+H38 -> -1116130.9
G29: այդ թվում`
D30: 01 | G30: Հիմնական ընդհանուր կրթություն | H30: =H32+H34+H36 -> -654584.1
G31: այդ թվում`
E32: 1146 | F32: 11002 | G32: Հիմնական ընդհանուր հանրակրթություն | H32: =H33 -> -628219.9
G33: ՀՀ կրթության, գիտության, մշակույթի և սպորտի նախարարություն | H33: ='Հավելված 3'!E96 -> -628219.9
E34: 1146 | F34: 11005 | G34: Հիմնական հատուկ հանրակրթություն | H34: =H35 -> -1975.1
G35: ՀՀ կրթության, գիտության, մշակույթի և սպորտի նախարարություն | H35: ='Հավելված 3'!E298 -> -1975.1
E36: 1146 | F36: 11008 | G36: Ներառական կրթություն միջին դպրոցում | H36: =H37 -> -24389.1
G37: ՀՀ կրթության, գիտության, մշակույթի և սպորտի նախարարություն | H37: ='Հավելված 3'!E365 -> -24389.1
D38: 02 | G38: Միջնակարգ (լրիվ) ընդհանուր կրթություն | H38: =H40+H42 -> -461546.8
G39: այդ թվում`
E40: 1146 | F40: 11003 | G40: Միջնակարգ ընդհանուր հանրակրթություն | H40: =H41 -> -454124.6
G41: ՀՀ կրթության, գիտության, մշակույթի և սպորտի նախարարություն | H41: ='Հավելված 3'!E175 -> -454124.6
E42: 1146 | F42: 11009 | G42: Ներառական կրթություն ավագ դպրոցում | H42: =H43 -> -7422.2
G43: ՀՀ կրթության, գիտության, մշակույթի և սպորտի նախարարություն | H43: ='Հավելված 3'!E395 -> -7422.2
...

Sheet Հավելված 3
B2: Հավելված N 3
D3: ՀՀ կառավարության 2019 թվականի
D4: -ի N որոշման
B6: ՀԱՅԱՍՏԱՆԻ ՀԱՆՐԱՊԵՏՈՒԹՅԱՆ ԿԱՌԱՎԱՐՈՒԹՅԱՆ 2018 ԹՎԱԿԱՆԻ ԴԵԿՏԵՄԲԵՐԻ 27-Ի N 1515-Ն ՈՐՈՇՄԱՆ N 4 ՀԱՎԵԼՎԱԾՈՒՄ ԿԱՏԱՐՎՈՂ ՓՈՓՈԽՈՒԹՅՈՒՆՆԵՐԸ
E9: (հազ. դրամ)
B10: Ծրագրային դասիչը | D10: Բյուջետային հատկացումների գլխավոր կարգադրիչների, ծրագրերի, միջոցառումների և միջոցառումները կատարող պետական մարմինների անվանումները | E10: Ցուցանիշների փոփոխությունը (ավելացումները նշված են դրական նշանով, իսկ նվազեցումները՝ փակագծերում)
B11: Ծրագիր | C11: Միջոցառում | E11: Տարի
D12: ԸՆԴԱՄԵՆԸ | E12: =E13+E569 -> 0
D13: ՀՀ կրթության, գիտության, մշակույթի և սպորտի նախարարություն | E13: =E15 -> -1159864.6
D14: այդ թվում`
B15: 1146 | D15: Հանրակրթության ծրագիր | E15: =E17+E96+E175+E261+E298+E328+E365+E395+E418+E497 -> -1159864.6
D16: այդ թվում`
C17: 11001 | D17: Տարրական ընդհանուր հանրակրթություն | E17: =E19+E26+E33+E40+E47+E54+E61+E68+E75+E82+E89 -> -58113.2
D18: այդ թվում` ըստ կատարողների
D19: ՀՀ տարածքային կառավարման և ենթակառուցվածքների նախարարություն | E19: =E21 -> 47602.5
D20: այդ թվում` բյուջետային ծախսերի տնտեսագիտական դասակարգման հոդվածներ
D21: ԸՆԴԱՄԵՆԸ ԾԱԽՍԵՐ | E21: =E22 -> 47602.5
D22: ԸՆԹԱՑԻԿ ԾԱԽՍԵՐ | E22: =E23 -> 47602.5
D23: ՍՈՒԲՍԻԴԻԱՆԵՐ | E23: =E24 -> 47602.5
D24: Սուբսիդիաներ պետական կազմակերպություններին | E24: =E25 -> 47602.5
D25: - Սուբսիդիաներ ոչ ֆինանսական պետական կազմակերպություններին | E25: 47602.5
D26: ՀՀ Արագածոտնի մարզպետարան | E26: =E28 -> -10238.7
D27: այդ թվում` բյուջետային ծախսերի տնտեսագիտական դասակարգման հոդվածներ
D28: ԸՆԴԱՄԵՆԸ ԾԱԽՍԵՐ | E28: =E29 -> -10238.7
D29: ԸՆԹԱՑԻԿ ԾԱԽՍԵՐ | E29: =E30 -> -10238.7
D30: ՍՈՒԲՍԻԴԻԱՆԵՐ | E30: =E31 -> -10238.7
D31: Սուբսիդիաներ պետական կազմակերպություններին | E31: =E32 -> -10238.7
D32: - Սուբսիդիաներ ոչ ֆինանսական պետական կազմակերպություններին | E32: -10238.7
D33: ՀՀ Արարատի մարզպետարան | E33: =E35 -> -226
D34: այդ թվում` բյուջետային ծախսերի տնտեսագիտական դասակարգման հոդվածներ
D35: ԸՆԴԱՄԵՆԸ ԾԱԽՍԵՐ | E35: =E36 -> -226
D36: ԸՆԹԱՑԻԿ ԾԱԽՍԵՐ | E36: =E37 -> -226
D37: ՍՈՒԲՍԻԴԻԱՆԵՐ | E37: =E38 -> -226
D38: Սուբսիդիաներ պետական կազմակերպություններին | E38: =E39 -> -226
D39: - Սուբսիդիաներ ոչ ֆինանսական պետական կազմակերպություններին | E39: =-226 -> -226
D40: ՀՀ Արմավիրի մարզպետարան | E40: =E42 -> 4961.6
D41: այդ թվում` բյուջետային ծախսերի տնտեսագիտական դասակարգման հոդվածներ
D42: ԸՆԴԱՄԵՆԸ ԾԱԽՍԵՐ | E42: =E43 -> 4961.6
D43: ԸՆԹԱՑԻԿ ԾԱԽՍԵՐ | E43: =E44 -> 4961.6
D44: ՍՈՒԲՍԻԴԻԱՆԵՐ | E44: =E45 -> 4961.6
...

Sheet Հավելված 4
B2: Հավելված N 4
D3: ՀՀ կառավարության 2019 թվականի
C4: -ի N որոշման
A6: ՀԱՅԱՍՏԱՆԻ ՀԱՆՐԱՊԵՏՈՒԹՅԱՆ ԿԱՌԱՎԱՐՈՒԹՅԱՆ 2018 ԹՎԱԿԱՆԻ ԴԵԿՏԵՄԲԵՐԻ 27-Ի N 1515-Ն ՈՐՈՇՄԱՆ N 11 ՀԱՎԵԼՎԱԾԻ N 11.16 և 11.52 ԱՂՅՈՒՍԱԿՆԵՐՈՒՄ ԿԱՏԱՐՎՈՂ ՓՈՓՈԽՈՒԹՅՈՒՆՆԵՐԸ
B9: ՀՀ կրթության, գիտության, մշակույթի և սպորտի նախարարություն
B12: ՄԱՍ 2. ՊԵՏԱԿԱՆ ՄԱՐՄՆԻ ԳԾՈՎ ԱՐԴՅՈՒՆՔԱՅԻՆ (ԿԱՏԱՐՈՂԱԿԱՆ) ՑՈՒՑԱՆԻՇՆԵՐԸ
B13: Ծրագրի դասիչը | C13: Ծրագրի անվանումը
B14: 1146 | C14: Հանրակրթության ծրագիր
B16: Ծրագրի միջոցառումները
B18: Ծրագրի դասիչը | C18: 1146 | D18: Ցուցանիշների փոփոխությունը (նվազեցումները նշված են փակագծերում)
B19: Միջոցառման դասիչը | C19: 11001 | D19: Տարի
B20: Միջոցառման անվանումը | C20: Տարրական ընդհանուր հանրակրթություն
B21: Նկարագրությունը | C21: Պարտադիր կրթության առաջին մակարդակում սովորողների ընդգրկվածության՝ գրագիտության և համակողմանի զարգացման բարձր մակարդակի ապահովում
B22: Միջոցառման տեսակը | C22: Ծառայությունների մատուցում
B23: Միջոցառումն իրականացնողի անվանումը | C23: ՀՀ կրթության, գիտության, մշակույթի և սպորտի նախարարության, ՀՀ մարզպետարանների, Երևանի քաղաքապետարանի ենթակայության ուսումնական հաստատություններ
C24: Արդյունքի չափորոշիչներ
B25: Տարրական ընդհանուր կրթության դասարանների սովորողների թիվը, մարդ | D25: ='Հավելված 5'!E23+'Հավելված 5'!E126+'Հավելված 5'!E209+'Հավելված 5'!E303+'Հավելված 5'!E364+'Հավելված 5'!E448+'Հավելված 5'!E509+'Հավելված 5'!E625+'Հավելված 5'!E741+'Հավելված 5'!E802+'Հավելված 5'!E874 -> -1030
B26: Տարրական ընդհանուր կրթություն ապահովող հաստատությունների թիվ, հատ, այդ թվում՝
B27: Տարրական դպրոցների թիվ, հատ
B28: Գիտելիքների ստուգման արդյունքում սովորողների միջին գնահատականը
B29: Միջոցառման վրա կատարվող ծախսը (հազար դրամ) | D29: ='Հավելված 3'!E17 -> -58113.2
B31: Ծրագրի դասիչը | C31: 1146 | D31: Ցուցանիշների փոփոխությունը (նվազեցումները նշված են փակագծերում)
B32: Միջոցառման դասիչը | C32: 11002 | D32: Տարի
B33: Միջոցառման անվանումը | C33: Հիմնական ընդհանուր հանրակրթություն
B34: Նկարագրությունը | C34: Պարտադիր կրթության երկրորդ մակարդակում սովորողների ընդգրկվածության՝ գրագիտության և համակողմանի զարգացման բարձր մակարդակի ապահովում
B35: Միջոցառման տեսակը | C35: Ծառայությունների մատուցում
B36: Միջոցառումն իրականացնողի անվանումը | C36: ՀՀ կրթության, գիտության, մշակույթի և սպորտի նախարարության, ՀՀ մարզպետարանների, Երևանի քաղաքապետարանի ենթակայության ուսումնական հաստատություններ
C37: Արդյունքի չափորոշիչներ
B38: Հիմնական ընդհանուր կրթության դասարանների սովորողների թիվը, մարդ | D38: ='Հավելված 5'!E34+'Հավելված 5'!E137+'Հավելված 5'!E220+'Հավելված 5'!E314+'Հավելված 5'!E375+'Հավելված 5'!E459+'Հավելված 5'!E520+'Հավելված 5'!E636+'Հավելված 5'!E752+'Հավելված 5'!E813+'Հավելված 5'!E885 -> -945
B39: Գիտելիքների ստուգման արդյունքում սովորողների միջին գնահատականը
B40: Միջոցառման վրա կատարվող ծախսը (հազար դրամ) | D40: ='Հավելված 3'!E96 -> -628219.9
B42: Ծրագրի դասիչը | C42: 1146 | D42: Ցուցանիշների փոփոխությունը (նվազեցումները նշված են փակագծերում)
B43: Միջոցառման դասիչը | C43: 11003 | D43: Տարի
B44: Միջոցառման անվանումը | C44: Միջնակարգ ընդհանուր հանրակրթություն
B45: Նկարագրությունը | C45: Պարտադիր կրթության երրորդ մակարդակում սովորողների ընդգրկվածության՝ գրագիտության և համակողմանի զարգացման բարձր մակարդակի ապահովում
B46: Միջոցառման տեսակը | C46: Ծառայությունների մատուցում
B47: Միջոցառումն իրականացնողի անվանումը | C47: ՀՀ կրթության, գիտության, մշակույթի և սպորտի նախարարության, ՀՀ մարզպետարանների, Երևանի քաղաքապետարանի ենթակայության ուսումնական հաստատություններ
C48: Արդյունքի չափորոշիչներ
B49: Միջնակարգ ընդհանուր կրթության դասարանների սովորողների թիվը, մարդ | D49: ='Հավելված 5'!E45+'Հավելված 5'!E106+'Հավելված 5'!E148+'Հավելված 5'!E231+'Հավելված 5'!E325+'Հավելված 5'!E386+'Հավելված 5'!E470+'Հավելված 5'!E531+'Հավելված 5'!E647+'Հավելված 5'!E763+'Հավելված 5'!E824+'Հավելված 5'!E896 -> -2082
B50: Գիտելիքների ստուգման արդյունքում սովորողների միջին գնահատականը
...

Sheet Հավելված 5
A2: Հավելված N 5
A3: ՀՀ կառավարության 2019 թվականի
D4: -ի N որոշման
B7: ՀԱՅԱՍՏԱՆԻ ՀԱՆՐԱՊԵՏՈՒԹՅԱՆ ԿԱՌԱՎԱՐՈՒԹՅԱՆ 2018 ԹՎԱԿԱՆԻ ԴԵԿՏԵՄԲԵՐԻ 27-Ի N 1515-Ն ՈՐՈՇՄԱՆ N 11.1 ՀԱՎԵԼՎԱԾԻ NN 11.1.8, 11.1.16, 11.1.56, 11.1.57, 11.1.58, 11.1.59, 11.1.60, 11.1.61, 11.1.62, 11.1.63, 11.1.64, 11.1.65, 11.1.66 ԱՂՅՈՒՍԱԿՆԵՐՈՒՄ ԿԱՏԱՐՎՈՂ ՓՈՓՈԽՈՒԹՅՈՒՆՆԵՐԸ
B8: ՀՀ տարածքային կառավարման և ենթակառուցվածքների նախարարություն
A10: ՄԱՍ 1. ՊԵՏԱԿԱՆ ՄԱՐՄՆԻ ԳԾՈՎ ԱՐԴՅՈՒՆՔԱՅԻՆ (ԿԱՏԱՐՈՂԱԿԱՆ) ՑՈՒՑԱՆԻՇՆԵՐԸ
B11: Ծրագրի դասիչը | D11: Ծրագրի անվանումը
B12: 1146 | D12: Հանրակրթության ծրագիր
B14: Ծրագրի միջոցառումները
B16: Ծրագրի դասիչը | D16: 1146 | E16: Ցուցանիշների փոփոխությունը (ավելացումները նշված են դրական նշանով, իսկ նվազեցումները՝ փակագծերում)
B17: Միջոցառման դասիչը | D17: 11001 | E17: տարի
B18: Միջոցառման անվանումը | D18: Տարրական ընդհանուր հանրակրթություն
B19: Նկարագրությունը | D19: Պարտադիր կրթության առաջին մակարդակում սովորողների ընդգրկվածության՝ գրագիտության և համակողմանի զարգացման բարձր մակարդակի ապահովում
B20: Միջոցառման տեսակը | D20: Ծառայությունների մատուցում
B21: Միջոցառումն իրականացնողի անվանումը | D21: Երևանի քաղաքապետարանի ենթակայության հանրակրթական դպրոցներ
D22: Արդյունքի չափորոշիչներ
B23: Տարրական ընդհանուր կրթության դասարանների սովորողների թիվը, մարդ | E23: -54
B24: Գիտելիքների ստուգման արդյունքում սովորողների միջին գնահատականը
B25: Միջոցառման վրա կատարվող ծախսը (հազար դրամ) | E25: ='Հավելված 3'!E25 -> 47602.5
B27: Ծրագրի դասիչը | D27: 1146 | E27: Ցուցանիշների փոփոխությունը (նվազեցումները նշված են փակագծերում)
B28: Միջոցառման դասիչը | D28: 11002 | E28: տարի
B29: Միջոցառման անվանումը | D29: Հիմնական ընդհանուր հանրակրթություն
B30: Նկարագրությունը | D30: Պարտադիր կրթության երկրորդ մակարդակում սովորողների ընդգրկվածության՝ գրագիտության և համակողմանի զարգացման բարձր մակարդակի ապահովում
B31: Միջոցառման տեսակը | D31: Ծառայությունների մատուցում
B32: Միջոցառումն իրականացնողի անվանումը | D32: Երևանի քաղաքապետարանի ենթակայության հանրակրթական ուսումնական հաստատություններ
D33: Արդյունքի չափորոշիչներ
B34: Հիմնական ընդհանուր կրթության դասարանների սովորողների թիվը, մարդ | E34: -135
B35: Գիտելիքների ստուգման արդյունքում սովորողների միջին գնահատականը
B36: Միջոցառման վրա կատարվող ծախսը (հազար դրամ) | E36: ='Հավելված 3'!E98 -> -672710.7
B38: Ծրագրի դասիչը | D38: 1146 | E38: Ցուցանիշների փոփոխությունը (նվազեցումները նշված են փակագծերում)
B39: Միջոցառման դասիչը | D39: 11003 | E39: տարի
B40: Միջոցառման անվանումը | D40: Միջնակարգ ընդհանուր հանրակրթություն
B41: Նկարագրությունը | D41: Պարտադիր կրթության երրորդ մակարդակում սովորողների ընդգրկվածության՝ գրագիտության և համակողմանի զարգացման բարձր մակարդակի ապահովում
B42: Միջոցառման տեսակը | D42: Ծառայությունների մատուցում
B43: Միջոցառումն իրականացնողի անվանումը | D43: Երևանի քաղաքապետարանի ենթակայության հանրակրթական ուսումնական հաստատություններ
D44: Արդյունքի չափորոշիչներ
B45: Միջնակարգ ընդհանուր կրթության դասարանների սովորողների թիվը, մարդ | E45: -163
B46: Գիտելիքների ստուգման արդյունքում սովորողների միջին գնահատականը
B47: Միջոցառման վրա կատարվող ծախսը (հազար դրամ) | E47: ='Հավելված 3'!E183 -> -21767
B49: Ծրագրի դասիչը | D49: 1146 | E49: Ցուցանիշների փոփոխությունը (ավելացումները նշված են դրական նշանով, իսկ նվազեցումները՝ փակագծերում)
...
