Workbook

Sheet 2
C1: Հավելված N2
A3: ՀՀ կառավարության 2019 թվականի
A4: -ի N -Ն որոշման
A6: «ՀԱՅԱՍՏԱՆԻ ՀԱՆՐԱՊԵՏՈՒԹՅԱՆ 2019 ԹՎԱԿԱՆԻ ՊԵՏԱԿԱՆ ԲՅՈՒՋԵԻ ՄԱՍԻՆ» ՀՀ ՕՐԵՆՔԻ N 1 ՀԱՎԵԼՎԱԾԻ N 2 ԱՂՅՈՒՍԱԿՈՒՄ ԿԱՏԱՐՎՈՂ ՎԵՐԱԲԱՇԽՈՒՄԸ ԵՎ ՀԱՅԱՍՏԱՆԻ ՀԱՆՐԱՊԵՏՈՒԹՅԱՆ ԿԱՌԱՎԱՐՈՒԹՅԱՆ 2018 ԹՎԱԿԱՆԻ ԴԵԿՏԵՄԲԵՐԻ 27-Ի N 1515-Ն ՈՐՈՇՄԱՆ N 5 ՀԱՎԵԼՎԱԾԻ N 1 ԱՂՅՈՒՍԱԿՈՒՄ ԿԱՏԱՐՎՈՂ ՓՈՓՈԽՈՒԹՅՈՒՆՆԵՐԸ ԵՎ ԼՐԱՑՈՒՄՆԵՐԸ
D7: հազ.դրամ
A8: Ծրագրային դասիչը | C8: Բյուջետային գլխավոր կարգադրիչների, ծրագրերի և միջոցառումների անվանումները | D8: Ցուցանիշների փոփոխությունը (ավելացումները նշված են դրական նշանով, իսկ նվազեցումները` փակագծերում)
C10: ԸՆԴԱՄԵՆԸ | D10: =SUM(D11+D25+D45) -> 0
C11: ՀՀ տարածքային կառավարման և ենթակառուցվածքների նախարարություն | D11: =SUM(D12) -> -27750
A12: 1167 | C12: Ծրագրի անվանումը` | D12: =+D19 -> -27750
C13: Էլեկտրաէներգետիկ համակարգի զարգացման ծրագիր
C14: Ծրագրի նպատակը`
C15: Նպաստել էլեկտրաէներգետիկ համակարգի հուսալիության բարձրացմանը և էլեկտրաէներգիայի անխափան մատակարարման ապահովմանը
C16: Վերջնական արդյունքի նկարագրությունը`
C17: Հուսալի և անվտանգ էլեկտրամատակարարման ապահովում
A18: Ծրագրի միջոցառումներ
B19: 32002 | C19: Միջոցառման անվանումը | D19: =SUM(D33) -> -27750
C20: Վերակառուցման և զարգացման միջազգային բանկի աջակցությամբ իրականացվող Ներդրումներ «Երևանի ջերմաէլեկտրակենտրոն» ՓԲԸ-ում Երևանի ՋԷԿ-ի ենթակայանի կառուցման նպատակով
C21: Միջոցառման նկարագրությունը
C22: Էլեկտրահաղորդման ցանցի բարելավման ծրագրի շրջանակներում նախատեսվում է վերակառուցել 30 և ավելի տարիներ շահագործման մեջ գտնվող Երևանի ՋԷԿ-ի ենթակայանը
C23: Միջոցառման տեսակը
C24: Այլ պետական կազմակերպությունների կողմից օգտագործվող ոչ ֆինանսական ակտիվների հետ գործառնություններ
C25: ՀՀ կառավարություն | D25: =D26 -> 0
A26: 1139 | C26: Ծրագրի անվանումը` | D26: =SUM(D33+D39) -> 0
C27: ՀՀ կառավարության պահուստային ֆոնդ
C28: Ծրագրի նպատակը`
C29: Պետական բյուջեում չկանխատեսված՝ ինչպես նաեւ բյուջետային երաշխիքների ապահովման ծախսերի ֆինանսավորման ապահովում
C30: Վերջնական արդյունքի նկարագրությունը`
C31: Պահուստային ֆոնդի կառավարման արդյունավետության և թափանցիկության
A32: Ծրագրի միջոցառումներ
B33: 11001 | C33: Միջոցառման անվանումը` | D33: =SUM('5'!C41) -> -27750
C34: ՀՀ կառավարության պահուստային ֆոնդ
C35: Միջոցառման նկարագրությունը`
C36: ՀՀ պետական բյուջեում նախատեսված ելքերի լրացուցիչ ֆինանսավորման՝ պետական բյուջեում չկանխատեսված ելքերի՝ ինչպես նաև բյուջետային երաշխիքների ապահովման ելքերի ֆինանսավորման ապահովում
C37: Միջոցառման տեսակը
C38: Ծառայությունների մատուցում
B39: 11001 | C39: Միջոցառման անվանումը` | D39: =SUM(D46) -> 27750
C40: ՀՀ կառավարության պահուստային ֆոնդ
C41: Միջոցառման նկարագրությունը`
C42: ՀՀ պետական բյուջեում նախատեսված ելքերի լրացուցիչ ֆինանսավորման՝ պետական բյուջեում չկանխատեսված ելքերի՝ ինչպես նաև բյուջետային երաշխիքների ապահովման ելքերի ֆինանսավորման ապահովում
C43: Միջոցառման տեսակը
...

Sheet 3
G1: Հավելված N 3
A3: ՀՀ կառավարության 2019 թվականի
A4: -ի N -Ն որոշման
A5: ՀԱՅԱՍՏԱՆԻ ՀԱՆՐԱՊԵՏՈՒԹՅԱՆ ԿԱՌԱՎԱՐՈՒԹՅԱՆ 2018 ԹՎԱԿԱՆԻ ԴԵԿՏԵՄԲԵՐԻ 27-Ի N 1515-Ն ՈՐՈՇՄԱՆ N 3 և N 4 ՀԱՎԵԼՎԱԾՆԵՐՈՒՄ ԿԱՏԱՐՎՈՂ ՓՈՓՈԽՈՒԹՅՈՒՆՆԵՐԸ ԵՎ ԼՐԱՑՈՒՄՆԵՐԸ
G7: հազար դրամներով
A8: Գործառական դասիչը | D8: Ծրագրային դասիչը | F8: Բյուջետային ծախսերի գործառական դասակարգման բաժինների, խմբերի և դասերի, բյուջետային ծրագրերի միջոցառումների, բյուջետային հատկացումների գլխավոր կարգադրիչների անվանումները | G8: Ցուցանիշների փոփոխությունը (ավելացումները նշված են դրական նշանով, իսկ նվազեցումները՝ փակագծերում)
G9: Տարի
A10: Բաժին | B10: Խումբ | C10: Դաս | D10: Ծրագիր | E10: Միջոցա ռում
F11: ԸՆԴԱՄԵՆԸ ԾԱԽՍԵՐ | G11: =SUM(G12+G27+G53) -> 0
A12: 04 | F12: ՏՆՏԵՍԱԿԱՆ ՀԱՐԱԲԵՐՈՒԹՅՈՒՆՆԵՐ | G12: =G14 -> -27750
F13: այդ թվում`
B14: 03 | F14: Վառելիք և էներգետիկա | G14: =+G16 -> -27750
F15: այդ թվում`
C16: 05 | F16: Էլեկտրաէներգիա | G16: =+G18 -> -27750
F17: այդ թվում`
D18: 1167 | F18: Էլեկտրաէներգետիկ համակարգի զարգացման ծրագիր | G18: =+G20 -> -27750
F19: այդ թվում`
E20: 32002 | F20: Վերակառուցման և զարգացման միջազգային բանկի աջակցությամբ իրականացվող Ներդրումներ «Երևանի ջերմաէլեկտրակենտրոն» ՓԲԸ-ում Երևանի ՋԷԿ-ի ենթակայանի կառուցման նպատակով | G20: =+G21 -> -27750
F21: ՀՀ տարածքային կառավարման և ենթակառուցվածքների նախարարություն | G21: =+G26 -> -27750
F22: ԸՆԴԱՄԵՆԸ ԾԱԽՍԵՐ | G22: =SUM(G21) -> -27750
F23: ՈՉ ՖԻՆԱՆՍԱԿԱՆ ԱԿՏԻՎՆԵՐԻ ԳԾՈՎ ԾԱԽՍԵՐ | G23: =SUM(G22) -> -27750
F24: ՀԻՄՆԱԿԱՆ ՄԻՋՈՑՆԵՐ | G24: =SUM(G23) -> -27750
F25: ՇԵՆՔԵՐ ԵՎ ՇԻՆՈՒԹՅՈՒՆՆԵՐ | G25: =SUM(G24) -> -27750
F26: - Շենքերի և շինությունների կապիտալ վերանորոգում | G26: =SUM(G37) -> -27750
A27: 11 | F27: ՀԻՄՆԱԿԱՆ ԲԱԺԻՆՆԵՐԻՆ ՉԴԱՍՎՈՂ ՊԱՀՈՒՍՏԱՅԻՆ ՖՈՆԴԵՐ | G27: =G29 -> 0
F28: այդ թվում`
B29: 01 | F29: ՀՀ կառավարության և համայնքների պահուստային ֆոնդ | G29: =G31 -> 0
F30: այդ թվում`
C31: 01 | F31: ՀՀ կառավարության պահուստային ֆոնդ | G31: =G33 -> 0
F32: այդ թվում`
F33: ՀՀ կառավարություն | G33: =G35 -> 0
F34: այդ թվում`
D35: 1139 | F35: ՀՀ կառավարության պահուստային ֆոնդ | G35: =SUM(G37+G45) -> 0
F36: այդ թվում`
E37: 11001 | F37: ՀՀ կառավարության պահուստային ֆոնդ | G37: =SUM(G39) -> -27750
F38: այդ թվում` ըստ կատարողների
F39: ՀՀ կառավարություն | G39: =G41 -> -27750
F40: այդ թվում` բյուջետային ծախսերի տնտեսագիտական դասակարգման հոդվածների
F41: ԸՆԴԱՄԵՆԸ ԾԱԽՍԵՐ | G41: =SUM('2'!D33) -> -27750
F42: ԸՆԹԱՑԻԿ ԾԱԽՍԵՐ | G42: =SUM(G41) -> -27750
...

Sheet 4
F1: Հավելված 4
F2: ՀՀ կառավարության 2019 թվականի
F3: ______________ ի ___Ն որոշման
A5: «ՀԱՅԱՍՏԱՆԻ ՀԱՆՐԱՊԵՏՈՒԹՅԱՆ 2019 ԹՎԱԿԱՆԻ ՊԵՏԱԿԱՆ ԲՅՈՒՋԵԻ ՄԱՍԻՆ» ՀԱՅԱՍՏԱՆԻ ՀԱՆՐԱՊԵՏՈՒԹՅԱՆ ՕՐԵՆՔԻ N 1 ՀԱՎԵԼՎԱԾԻ N 4 ԱՂՅՈՒՍԱԿՈՒՄ ԵՎ ՀԱՅԱՍՏԱՆԻ ՀԱՆՐԱՊԵՏՈՒԹՅԱՆ ԿԱՌԱՎԱՐՈՒԹՅԱՆ 2018 ԹՎԱԿԱՆԻ ԴԵԿՏԵՄԲԵՐԻ 27-Ի N 1515-Ն ՈՐՈՇՄԱՆ N5 ՀԱՎԵԼՎԱԾԻ N 3 ԱՂՅՈՒՍԱԿՈՒՄ ԿԱՏԱՐՎՈՂ ՓՈՓՈԽՈՒԹՅՈՒՆՆԵՐԸ
F7: (հազ. դրամ)
A8: Ծրագրային դասիչը | C8: Բյուջետային հատկացումների գլխավոր կարգադրիչների, ծրագրերի, միջոցառումների և միջոցառումները կատարող պետական մարմինների անվանումները
D10: տարի
A11: ծրագիրը | B11: միջոցառումը | D11: ընդամենը | E11: այդ թվում՝
E12: վարկային միջոցներ | F12: համաֆինան_x000D_ սավորում
C13: ԸՆԴԱՄԵՆԸ ԾՐԱԳՐԵՐՈՎ, այդ թվում` | D13: =SUM(D19) -> -27750 | E13: =E14+E15 -> 0 | F13: =SUM(F15) -> -27750
C14: - ԸՆԹԱՑԻԿ ԾԱԽՍԵՐ | D14: =+E14+F14 -> 0 | E14: 0 | F14: 0
C15: - ՈՉ ՖԻՆԱՆՍԱԿԱՆ ԱԿՏԻՎՆԵՐԻ ԳԾՈՎ ԾԱԽՍԵՐ | D15: =SUM(D19) -> -27750 | E15: =+E23 -> 0 | F15: =SUM(F17) -> -27750
C16: ՀՀ ՏԱՐԱԾՔԱՅԻՆ ԿԱՌԱՎԱՐՄԱՆ ԵՎ ԵՆԹԱԿԱՌՈՒՑՎԱԾՔՆԵՐԻ ՆԱԽԱՐԱՐՈՒԹՅՈՒՆ այդ թվում՝ | D16: =+D17 -> -27750 | E16: =+E17 -> 0 | F16: =SUM(F17) -> -27750
A17: 1167 | C17: Էլեկտրաէներգետիկ համակարգի զարգացման ծրագիր | D17: =D19 -> -27750 | E17: =+E19 -> 0 | F17: =SUM(F19) -> -27750
C18: այդ թվում՝
B19: 32002 | C19: Վերակառուցման և զարգացման միջազգային բանկի աջակցությամբ իրականացվող Ներդրումներ_x000D_ «Երևանի ջերմաէլեկտրակենտրոն» ՓԲԸ-ում Երևանի ՋԷԿ-ի ենթակայանի կառուցման նպատակով | D19: =SUM(D21) -> -27750 | E19: =+E23 -> 0 | F19: -27750
C20: այդ թվում` ըստ կատարողների
C21: ՀՀ տարածքային կառավարման և ենթակառուցվածքների նախարարություն | D21: =SUM(D24) -> -27750 | E21: =E19 -> 0 | F21: =SUM(F19) -> -27750
C22: այդ թվում` բյուջետային ծախսերի տնտեսագիտական դասակարգման հոդվածներ
C23: ՈՉ ՖԻՆԱՆՍԱԿԱՆ ԱԿՏԻՎՆԵՐԻ ԳԾՈՎ ԾԱԽՍԵՐ | D23: =SUM(D24) -> -27750 | E23: =+E24 -> 0 | F23: =SUM(F19) -> -27750 | G23: 84981.8 | H23: 67985.4 | I23: 16996.4
C24: - Շենքերի և շինությունների կապիտալ վերանորոգում | D24: =SUM(F23) -> -27750 | E24: 0 | F24: =SUM(F23) -> -27750 | G24: =+#REF! -> #REF! | H24: =+#REF! -> #REF! | I24: =+#REF! -> #REF! | J24: =+D24+G24 -> #REF! | K24: =+E24+H24 -> #REF! | L24: =+F24+I24 -> #REF!
F25: 0
D26: =+#REF!+#REF!+#REF!+#REF!+#REF!+#REF!+#REF!+#REF!+#REF!+D19+#REF!+#REF! -> #REF! | E26: =+#REF!+#REF!+#REF!+#REF!+#REF!+#REF!+#REF!+#REF!+#REF!+E19+#REF!+#REF! -> #REF! | F26: =+#REF!+#REF!+#REF!+#REF!+#REF!+#REF!+#REF!+#REF!+#REF!+F19+#REF!+#REF! -> #REF!
D27: =+D13-D26 -> #REF! | E27: =+E13-E26 -> #REF! | F27: =+F13-F26 -> #REF!

Sheet 5
A1: Հավելված N 5
A2: ՀՀ կառավարության 2019 թվականի
A3: -ի N -Ն որոշման
A4: ՀԱՅԱՍՏԱՆԻ ՀԱՆՐԱՊԵՏՈՒԹՅԱՆ ԿԱՌԱՎԱՐՈՒԹՅԱՆ 2018 ԹՎԱԿԱՆԻ ԴԵԿՏԵՄԲԵՐԻ 27-Ի N 1515-Ն ՈՐՈՇՄԱՆ N 11 ՀԱՎԵԼՎԱԾԻ N 11.15 ԱՂՅՈՒՍԱԿՈՒՄ ԿԱՏԱՐՎՈՂ ՓՈՓՈԽՈՒԹՅՈՒՆՆԵՐԸ ԵՎ ԼՐԱՑՈՒՄՆԵՐԸ
A7: ՀՀ տարածքային կառավարման և ենթակառուցվածքների նախարարություն
A8: ՄԱՍ 2. ՊԵՏԱԿԱՆ ՄԱՐՄՆԻ ԳԾՈՎ ԱՐԴՅՈՒՆՔԱՅԻՆ (ԿԱՏԱՐՈՂԱԿԱՆ) ՑՈՒՑԱՆԻՇՆԵՐԸ
A10: Ծրագրի դասիչը | B10: Ծրագրի անվանումը
A11: 1167 | B11: Էլեկտրաէներգետիկ համակարգի զարգացման ծրագիր
A12: Ծրագրի դասիչը` | B12: 1167 | C12: Ցուցանիշների փոփոխությունը (նվազեցումները նշված են փակագծերում)
A13: Միջոցառման դասիչը` | B13: 32002
A14: Միջոցառման անվանումը` | B14: Վերակառուցման և զարգացման միջազգային բանկի աջակցությամբ իրականացվող Ներդրումներ «Երևանի ջերմաէլեկտրակենտրոն» ՓԲԸ-ում Երևանի ՋԷԿ-ի ենթակայանի կառուցման նպատակով
A15: Նկարագրությունը` | B15: Էլեկտրահաղորդման ցանցի բարելավման ծրագրի շրջանակներում նախատեսվում է վերակառուցել 30 և ավելի տարիներ շահագործման մեջ գտնվող Երևանի ՋԷԿ-ի ենթակայանը
A16: Միջոցառման տեսակը` | B16: Այլ պետական կազմակերպությունների կողմից օգտագործվող ոչ ֆինանսական ակտիվների հետ գործառույթներ
A17: Ակտիվն օգտագործող կազմակերպության(ների) անվանում(ներ)ը | B17: Մասնագիտացված միավոր
A18: Արդյունքի չափորոշիչներ
A19: Կառուցվող ենթակայանի քանակ, հատ
A20: Ենթակայանի սարքավորումների խափանումների տարեկան քանակ, հատ
A21: Ենթակայանի թողունակություն, ՄՎտ
A22: Միջոցառման վրա կատարվող ծախսը (հազար դրամ) | C22: =SUM(C41) -> -27750
A25: ՀԱՅԱՍՏԱՆԻ ՀԱՆՐԱՊԵՏՈՒԹՅԱՆ ԿԱՌԱՎԱՐՈՒԹՅԱՆ 2018 ԹՎԱԿԱՆԻ ԴԵԿՏԵՄԲԵՐԻ 27Ի N 1515-Ն ՈՐՈՇՄԱՆ N 11 ՀԱՎԵԼՎԱԾԻ N 11.52 ԱՂՅՈՒՍԱԿՈՒՄ ԿԱՏԱՐՎՈՂ ՓՈՓՈԽՈՒԹՅՈՒՆԸ
A27: ՀՀ կառավարություն
A28: ՄԱՍ 2. ՊԵՏԱԿԱՆ ՄԱՐՄՆԻ ԳԾՈՎ ԱՐԴՅՈՒՆՔԱՅԻՆ (ԿԱՏԱՐՈՂԱԿԱՆ) ՑՈՒՑԱՆԻՇՆԵՐԸ
A31: Ծրագրի դասիչը | B31: Ծրագրի անվանումը | C31: Ցուցանիշների փոփոխությունը (ավելացումները նշված են դրական նշանով, իսկ նվազեցումները նշված են փակագծերում)
A32: 1139 | B32: ՀՀ կառավարության պահուստային ֆոնդ
A33: Ծրագրի միջոցառումները
A34: Ծրագրի դասիչը՝ | B34: 1139
A35: Միջոցառման դասիչը՝ | B35: 11001 | C35: Տարի
A36: Միջոցառման անվանումը՝ | B36: ՀՀ կառավարության պահուստային ֆոնդ
A37: Նկարագրությունը՝ | B37: ՀՀ պետական բյուջեում նախատեսված ելքերի լրացուցիչ ֆինանսավորման՝ պետական բյուջեում չկանխատեսված ելքերի, ինչպես նաև բյուջետային երաշխիքների ապահովման ելքերի ֆինանսավորման ապահովում
A38: Միջոցառման տեսակը՝ | B38: Ծառայությունների մատուցում
A39: Միջոցառումն իրականացնողի անվանումը | B39: ՀՀ կառավարություն
B40: Արդյունքի չափորոշիչներ
A41: Միջոցառման վրա կատարվող ծախսը (հազար դրամ) | C41: =SUM(C49-C49-C49) -> -27750
A42: Ծրագրի դասիչը՝ | B42: 1139
A43: Միջոցառման դասիչը՝ | B43: 11001 | C43: Տարի
A44: Միջոցառման անվանումը՝ | B44: ՀՀ կառավարության պահուստային ֆոնդ
A45: Նկարագրությունը՝ | B45: ՀՀ պետական բյուջեում նախատեսված ելքերի լրացուցիչ ֆինանսավորման՝ պետական բյուջեում չկանխատեսված ելքերի, ինչպես նաև բյուջետային երաշխիքների ապահովման ելքերի ֆինանսավորման ապահովում
A46: Միջոցառման տեսակը՝ | B46: Ծառայությունների մատուցում
A47: Միջոցառումն իրականացնողի անվանումը | B47: ՀՀ կառավարություն
B48: Արդյունքի չափորոշիչներ
...

Sheet 6
A1: Հավելված N 6
A2: ՀՀ կառավարության 2019 թվականի
A3: -ի N -Ն որոշման
A4: ՀԱՅԱՍՏԱՆԻ ՀԱՆՐԱՊԵՏՈՒԹՅԱՆ ԿԱՌԱՎԱՐՈՒԹՅԱՆ 2018ԹՎԱԿԱՆԻ ԴԵԿՏԵՄԲԵՐԻ 27-Ի N 1515-Ն ՈՐՈՇՄԱՆ N 11.1 ՀԱՎԵԼՎԱԾԻ N 11.1.15 ԱՂՅՈՒՍԱԿՈՒՄ ԿԱՏԱՐՎՈՂ ԼՐԱՑՈՒՄՆԵՐ
A6: ՀՀ տարածքային կառավարման և ենթակառուցվածքների նախարարություն
A7: ՄԱՍ 2. ՊԵՏԱԿԱՆ ՄԱՐՄՆԻ ԳԾՈՎ ԱՐԴՅՈՒՆՔԱՅԻՆ (ԿԱՏԱՐՈՂԱԿԱՆ) ՑՈՒՑԱՆԻՇՆԵՐԸ
A8: Ծրագրի դասիչը | B8: Ծրագրի անվանումը
A9: 1167 | B9: Էլեկտրաէներգետիկ համակարգի զարգացման ծրագիր
A11: Ծրագրի դասիչը` | B11: 1167 | C11: Ցուցանիշների փոփոխությունը (նվազեցումները նշված են փակագծերում)
A12: Միջոցառման դասիչը` | B12: 32002
A13: Միջոցառման անվանումը` | B13: Վերակառուցման և զարգացման միջազգային բանկի աջակցությամբ իրականացվող Ներդրումներ «Երևանի ջերմաէլեկտրակենտրոն» ՓԲԸ-ում Երևանի ՋԷԿ-ի ենթակայանի կառուցման նպատակով
A14: Նկարագրությունը` | B14: Էլեկտրահաղորդման ցանցի բարելավման ծրագրի շրջանակներում նախատեսվում է վերակառուցել 30 և ավելի տարիներ շահագործման մեջ գտնվող Երևանի ՋԷԿ-ի ենթակայանը
A15: Միջոցառման տեսակը` | B15: Այլ պետական կազմակերպությունների կողմից օգտագործվող ոչ ֆինանսական ակտիվների հետ գործառույթներ
A16: Ակտիվն օգտագործող կազմակերպության(ների) անվանում(ներ)ը | B16: Մասնագիտացված միավոր
A17: Արդյունքի չափորոշիչներ
A18: Կառուցվող ենթակայանի քանակ, հատ
A19: Ենթակայանի սարքավորումների խափանումների տարեկան քանակ, հատ
A20: Ենթակայանի թողունակություն, ՄՎտ
A21: Միջոցառման վրա կատարվող ծախսը (հազար դրամ) | C21: =SUM('5'!C41) -> -27750
A24: ՀԱՅԱՍՏԱՆԻ ՀԱՆՐԱՊԵՏՈՒԹՅԱՆ ԿԱՌԱՎԱՐՈՒԹՅԱՆ 2018ԹՎԱԿԱՆԻ ԴԵԿՏԵՄԲԵՐԻ 27-Ի N 1515-Ն ՈՐՈՇՄԱՆ N 11.1 ՀԱՎԵԼՎԱԾԻ N 11.1.66 ԱՂՅՈՒՍԱԿՈՒՄ ԿԱՏԱՐՎՈՂ ԼՐԱՑՈՒՄՆԵՐ
A26: ՀՀ կառավարություն
A27: ՄԱՍ 2. ՊԵՏԱԿԱՆ ՄԱՐՄՆԻ ԳԾՈՎ ԱՐԴՅՈՒՆՔԱՅԻՆ (ԿԱՏԱՐՈՂԱԿԱՆ) ՑՈՒՑԱՆԻՇՆԵՐԸ
A29: Ծրագրի դասիչը | B29: Ծրագրի անվանումը
A30: 1139 | B30: ՀՀ կառավարության պահուստային ֆոնդ
A31: Ծրագրի միջոցառումները
A32: Ծրագրի դասիչը՝ | B32: 1139 | C32: Ցուցանիշների փոփոխությունը (ավելացումները նշված են դրական նշանով, իսկ նվազեցումները նշված են փակագծերում)
A33: Միջոցառման դասիչը՝ | B33: 11001 | C33: Տարի
A34: Միջոցառման անվանումը՝ | B34: ՀՀ կառավարության պահուստային ֆոնդ
A35: Նկարագրությունը՝ | B35: ՀՀ պետական բյուջեում նախատեսված ելքերի լրացուցիչ ֆինանսավորման՝ պետական բյուջեում չկանխատեսված ելքերի, ինչպես նաև բյուջետային երաշխիքների ապահովման ելքերի ֆինանսավորման ապահովում
A36: Միջոցառման տեսակը՝ | B36: Ծառայությունների մատուցում
A37: Միջոցառումն իրականացնողի անվանումը | B37: ՀՀ կառավարություն
B38: Արդյունքի չափորոշիչներ
A39: Միջոցառման վրա կատարվող ծախսը (հազար դրամ) | C39: =SUM('5'!C41) -> -27750
A40: Ծրագրի դասիչը՝ | B40: 1139
A41: Միջոցառման դասիչը՝ | B41: 11001 | C41: Տարի
A42: Միջոցառման անվանումը՝ | B42: ՀՀ կառավարության պահուստային ֆոնդ
A43: Նկարագրությունը՝ | B43: ՀՀ պետական բյուջեում նախատեսված ելքերի լրացուցիչ ֆինանսավորման՝ պետական բյուջեում չկանխատեսված ելքերի, ինչպես նաև բյուջետային երաշխիքների ապահովման ելքերի ֆինանսավորման ապահովում
A44: Միջոցառման տեսակը՝ | B44: Ծառայությունների մատուցում
A45: Միջոցառումն իրականացնողի անվանումը | B45: ՀՀ կառավարություն
B46: Արդյունքի չափորոշիչներ
...
