Workbook

Sheet 1
C1: Հավելված N1
A2: ՀՀ կառավարության 2019 թվականի
A3: -ի N -Ն որոշման
A5: «ՀԱՅԱՍՏԱՆԻ ՀԱՆՐԱՊԵՏՈՒԹՅԱՆ 2019 ԹՎԱԿԱՆԻ ՊԵՏԱԿԱՆ ԲՅՈՒՋԵԻ ՄԱՍԻՆ» ՀՀ ՕՐԵՆՔԻ N 1 ՀԱՎԵԼՎԱԾԻ N 2 ԱՂՅՈՒՍԱԿՈՒՄ ԿԱՏԱՐՎՈՂ ՎԵՐԱԲԱՇԽՈՒՄԸ ԵՎ ՀԱՅԱՍՏԱՆԻ ՀԱՆՐԱՊԵՏՈՒԹՅԱՆ ԿԱՌԱՎԱՐՈՒԹՅԱՆ 2018 ԹՎԱԿԱՆԻ ԴԵԿՏԵՄԲԵՐԻ 27-Ի N 1515-Ն ՈՐՈՇՄԱՆ N 5 ՀԱՎԵԼՎԱԾԻ N 1 ԱՂՅՈՒՍԱԿՈՒՄ ԿԱՏԱՐՎՈՂ ՓՈՓՈԽՈՒԹՅՈՒՆՆԵՐԸ ԵՎ ԼՐԱՑՈՒՄՆԵՐԸ
D6: հազ.դրամ
A7: Ծրագրային դասիչը | C7: Բյուջետային գլխավոր կարգադրիչների, ծրագրերի և միջոցառումների անվանումները | D7: Ցուցանիշների փոփոխությունը (ավելացումները նշված են դրական նշանով, իսկ նվազեցումները` փակագծերում)
C9: ԸՆԴԱՄԵՆԸ | D9: =SUM(D10+D24+D44) -> 0
C10: ՀՀ տարածքային կառավարման և ենթակառուցվածքների նախարարություն | D10: =SUM(D11) -> -1000
A11: 1167 | C11: Ծրագրի անվանումը` | D11: =+D18 -> -1000
C12: Էլեկտրաէներգետիկ համակարգի զարգացման ծրագիր
C13: Ծրագրի նպատակը`
C14: Նպաստել էլեկտրաէներգետիկ համակարգի հուսալիության բարձրացմանը և էլեկտրաէներգիայի անխափան մատակարարման ապահովմանը
C15: Վերջնական արդյունքի նկարագրությունը`
C16: Հուսալի և անվտանգ էլեկտրամատակարարման ապահովում
A17: Ծրագրի միջոցառումներ
B18: 32002 | C18: Միջոցառման անվանումը | D18: =SUM(D32) -> -1000
C19: Վերակառուցման և զարգացման միջազգային բանկի աջակցությամբ իրականացվող Ներդրումներ «Երևանի ջերմաէլեկտրակենտրոն» ՓԲԸ-ում Երևանի ՋԷԿ-ի ենթակայանի կառուցման նպատակով
C20: Միջոցառման նկարագրությունը
C21: Էլեկտրահաղորդման ցանցի բարելավման ծրագրի շրջանակներում նախատեսվում է վերակառուցել 30 և ավելի տարիներ շահագործման մեջ գտնվող Երևանի ՋԷԿ-ի ենթակայանը
C22: Միջոցառման տեսակը
C23: Այլ պետական կազմակերպությունների կողմից օգտագործվող ոչ ֆինանսական ակտիվների հետ գործառնություններ
C24: ՀՀ կառավարություն | D24: =D25 -> 0
A25: 1139 | C25: Ծրագրի անվանումը` | D25: =SUM(D32+D38) -> 0
C26: ՀՀ կառավարության պահուստային ֆոնդ
C27: Ծրագրի նպատակը`
C28: Պետական բյուջեում չկանխատեսված՝ ինչպես նաեւ բյուջետային երաշխիքների ապահովման ծախսերի ֆինանսավորման ապահովում
C29: Վերջնական արդյունքի նկարագրությունը`
C30: Պահուստային ֆոնդի կառավարման արդյունավետության և թափանցիկության
A31: Ծրագրի միջոցառումներ
B32: 11001 | C32: Միջոցառման անվանումը` | D32: =SUM('2'!G41) -> -1000
C33: ՀՀ կառավարության պահուստային ֆոնդ
C34: Միջոցառման նկարագրությունը`
C35: ՀՀ պետական բյուջեում նախատեսված ելքերի լրացուցիչ ֆինանսավորման՝ պետական բյուջեում չկանխատեսված ելքերի՝ ինչպես նաև բյուջետային երաշխիքների ապահովման ելքերի ֆինանսավորման ապահովում
C36: Միջոցառման տեսակը
C37: Ծառայությունների մատուցում
B38: 11001 | C38: Միջոցառման անվանումը` | D38: =SUM(D45) -> 1000
C39: ՀՀ կառավարության պահուստային ֆոնդ
C40: Միջոցառման նկարագրությունը`
C41: ՀՀ պետական բյուջեում նախատեսված ելքերի լրացուցիչ ֆինանսավորման՝ պետական բյուջեում չկանխատեսված ելքերի՝ ինչպես նաև բյուջետային երաշխիքների ապահովման ելքերի ֆինանսավորման ապահովում
C42: Միջոցառման տեսակը
...

Sheet 2
G1: Հավելված N 2
A2: ՀՀ կառավարության 2019 թվականի
A3: -ի N -Ն որոշման
A5: ՀԱՅԱՍՏԱՆԻ ՀԱՆՐԱՊԵՏՈՒԹՅԱՆ ԿԱՌԱՎԱՐՈՒԹՅԱՆ 2018 ԹՎԱԿԱՆԻ ԴԵԿՏԵՄԲԵՐԻ 27-Ի N 1515-Ն ՈՐՈՇՄԱՆ N 3 և N 4 ՀԱՎԵԼՎԱԾՆԵՐՈՒՄ ԿԱՏԱՐՎՈՂ ՓՈՓՈԽՈՒԹՅՈՒՆՆԵՐԸ ԵՎ ԼՐԱՑՈՒՄՆԵՐԸ
G7: հազար դրամներով
A8: Գործառական դասիչը | D8: Ծրագրային դասիչը | F8: Բյուջետային ծախսերի գործառական դասակարգման բաժինների, խմբերի և դասերի, բյուջետային ծրագրերի միջոցառումների, բյուջետային հատկացումների գլխավոր կարգադրիչների անվանումները | G8: Ցուցանիշների փոփոխությունը (ավելացումները նշված են դրական նշանով, իսկ նվազեցումները՝ փակագծերում)
G9: Տարի
A10: Բաժին | B10: Խումբ | C10: Դաս | D10: Ծրագիր | E10: Միջոցա ռում
F11: ԸՆԴԱՄԵՆԸ ԾԱԽՍԵՐ | G11: =SUM(G12,G53,G27) -> 0
A12: 04 | F12: ՏՆՏԵՍԱԿԱՆ ՀԱՐԱԲԵՐՈՒԹՅՈՒՆՆԵՐ | G12: =G14 -> -1000
F13: այդ թվում`
B14: 03 | F14: Վառելիք և էներգետիկա | G14: =+G16 -> -1000
F15: այդ թվում`
C16: 05 | F16: Էլեկտրաէներգիա | G16: =+G18 -> -1000
F17: այդ թվում`
D18: 1167 | F18: Էլեկտրաէներգետիկ համակարգի զարգացման ծրագիր | G18: =+G20 -> -1000
F19: այդ թվում`
E20: 32002 | F20: Վերակառուցման և զարգացման միջազգային բանկի աջակցությամբ իրականացվող Ներդրումներ «Երևանի ջերմաէլեկտրակենտրոն» ՓԲԸ-ում Երևանի ՋԷԿ-ի ենթակայանի կառուցման նպատակով | G20: =+G21 -> -1000
F21: ՀՀ տարածքային կառավարման և ենթակառուցվածքների նախարարություն | G21: =+G26 -> -1000
F22: ԸՆԴԱՄԵՆԸ ԾԱԽՍԵՐ | G22: =SUM(G21) -> -1000
F23: ՈՉ ՖԻՆԱՆՍԱԿԱՆ ԱԿՏԻՎՆԵՐԻ ԳԾՈՎ ԾԱԽՍԵՐ | G23: =SUM(G22) -> -1000
F24: ՀԻՄՆԱԿԱՆ ՄԻՋՈՑՆԵՐ | G24: =SUM(G23) -> -1000
F25: ՄԵՔԵՆԱՆԵՐ ԵՎ ՍԱՐՔԱՎՈՐՈՒՄՆԵՐ | G25: =SUM(G24) -> -1000
F26: - Այլ մեքենաներ և սարքավորումներ | G26: -1000
A27: 11 | F27: ՀԻՄՆԱԿԱՆ ԲԱԺԻՆՆԵՐԻՆ ՉԴԱՍՎՈՂ ՊԱՀՈՒՍՏԱՅԻՆ ՖՈՆԴԵՐ | G27: =SUM(G31) -> 0
F28: այդ թվում`
B29: 01 | F29: ՀՀ կառավարության և համայնքների պահուստային ֆոնդ | G29: =SUM(G35) -> 0
F30: այդ թվում`
C31: 01 | F31: ՀՀ կառավարության պահուստային ֆոնդ | G31: =SUM(G35) -> 0
F32: այդ թվում`
F33: ՀՀ կառավարություն | G33: =SUM(G35) -> 0
F34: այդ թվում`
D35: 1139 | F35: ՀՀ կառավարության պահուստային ֆոնդ | G35: =SUM(G37+G49) -> 0
F36: այդ թվում`
E37: 11001 | F37: ՀՀ կառավարության պահուստային ֆոնդ | G37: =SUM(G26) -> -1000
F38: այդ թվում` ըստ կատարողների
F39: ՀՀ կառավարություն | G39: =SUM(G37) -> -1000
F40: այդ թվում` բյուջետային ծախսերի տնտեսագիտական դասակարգման հոդվածների
F41: ԸՆԴԱՄԵՆԸ ԾԱԽՍԵՐ | G41: =SUM(G39) -> -1000
F42: ԸՆԹԱՑԻԿ ԾԱԽՍԵՐ | G42: =SUM(G41) -> -1000
...

Sheet 3
F1: Հավելված 3
F2: ՀՀ կառավարության 2019 թվականի
F3: ______________ ի ___Ն որոշման
A5: «ՀԱՅԱՍՏԱՆԻ ՀԱՆՐԱՊԵՏՈՒԹՅԱՆ 2019 ԹՎԱԿԱՆԻ ՊԵՏԱԿԱՆ ԲՅՈՒՋԵԻ ՄԱՍԻՆ» ՀԱՅԱՍՏԱՆԻ ՀԱՆՐԱՊԵՏՈՒԹՅԱՆ ՕՐԵՆՔԻ N 1 ՀԱՎԵԼՎԱԾԻ N 4 ԱՂՅՈՒՍԱԿՈՒՄ ԵՎ ՀԱՅԱՍՏԱՆԻ ՀԱՆՐԱՊԵՏՈՒԹՅԱՆ ԿԱՌԱՎԱՐՈՒԹՅԱՆ 2018 ԹՎԱԿԱՆԻ ԴԵԿՏԵՄԲԵՐԻ 27-Ի N 1515-Ն ՈՐՈՇՄԱՆ N5 ՀԱՎԵԼՎԱԾԻ N 3 ԱՂՅՈՒՍԱԿՈՒՄ ԿԱՏԱՐՎՈՂ ՓՈՓՈԽՈՒԹՅՈՒՆՆԵՐԸ
F7: (հազ. դրամ)
A8: Ծրագրային դասիչը | C8: Բյուջետային հատկացումների գլխավոր կարգադրիչների, ծրագրերի, միջոցառումների և միջոցառումները կատարող պետական մարմինների անվանումները | D8: Ցուցանիշների փոփոխությունը (նվազեցումները նշված են փակագծերում)
D10: տարի
A11: ծրագիրը | B11: միջոցառումը | D11: ընդամենը | E11: այդ թվում՝
E12: վարկային միջոցներ | F12: համաֆինան_x000D_ սավորում
C13: ԸՆԴԱՄԵՆԸ ԾՐԱԳՐԵՐՈՎ, այդ թվում` | D13: =SUM(D19) -> -1000 | E13: =E14+E15 -> 0 | F13: =SUM(F15) -> -1000
C14: - ԸՆԹԱՑԻԿ ԾԱԽՍԵՐ | D14: =+E14+F14 -> 0 | E14: 0 | F14: 0
C15: - ՈՉ ՖԻՆԱՆՍԱԿԱՆ ԱԿՏԻՎՆԵՐԻ ԳԾՈՎ ԾԱԽՍԵՐ | D15: =SUM(D19) -> -1000 | E15: =+E23 -> 0 | F15: =SUM(F17) -> -1000
C16: ՀՀ ՏԱՐԱԾՔԱՅԻՆ ԿԱՌԱՎԱՐՄԱՆ ԵՎ ԵՆԹԱԿԱՌՈՒՑՎԱԾՔՆԵՐԻ ՆԱԽԱՐԱՐՈՒԹՅՈՒՆ այդ թվում՝ | D16: =+D17 -> -1000 | E16: =+E17 -> 0 | F16: =SUM(F17) -> -1000
A17: 1167 | C17: Էլեկտրաէներգետիկ համակարգի զարգացման ծրագիր | D17: =D19 -> -1000 | E17: =+E19 -> 0 | F17: =SUM(D17) -> -1000
C18: այդ թվում՝
B19: 32002 | C19: Վերակառուցման և զարգացման միջազգային բանկի աջակցությամբ իրականացվող Ներդրումներ_x000D_ «Երևանի ջերմաէլեկտրակենտրոն» ՓԲԸ-ում Երևանի ՋԷԿ-ի ենթակայանի կառուցման նպատակով | D19: =SUM(D21) -> -1000 | E19: =+E23 -> 0 | F19: =SUM(D19) -> -1000
C20: այդ թվում` ըստ կատարողների
C21: ՀՀ տարածքային կառավարման և ենթակառուցվածքների նախարարություն | D21: =SUM(D24) -> -1000 | E21: =E19 -> 0 | F21: =SUM(D21) -> -1000
C22: այդ թվում` բյուջետային ծախսերի տնտեսագիտական դասակարգման հոդվածներ
C23: ՈՉ ՖԻՆԱՆՍԱԿԱՆ ԱԿՏԻՎՆԵՐԻ ԳԾՈՎ ԾԱԽՍԵՐ | D23: =SUM(D24) -> -1000 | E23: =+E24 -> 0 | F23: =SUM(D23) -> -1000 | G23: 84981.8 | H23: 67985.4 | I23: 16996.4
C24: - այլ մեքենաներ և սարքավորումներ | D24: =SUM('2'!G20) -> -1000 | E24: 0 | F24: =SUM(D24) -> -1000 | G24: =+#REF! -> #REF! | H24: =+#REF! -> #REF! | I24: =+#REF! -> #REF! | J24: =+D24+G24 -> #REF! | K24: =+E24+H24 -> #REF! | L24: =+F24+I24 -> #REF!
F25: 0
D26: =+#REF!+#REF!+#REF!+#REF!+#REF!+#REF!+#REF!+#REF!+#REF!+D19+#REF!+#REF! -> #REF! | E26: =+#REF!+#REF!+#REF!+#REF!+#REF!+#REF!+#REF!+#REF!+#REF!+E19+#REF!+#REF! -> #REF! | F26: =+#REF!+#REF!+#REF!+#REF!+#REF!+#REF!+#REF!+#REF!+#REF!+F19+#REF!+#REF! -> #REF!
D27: =+D13-D26 -> #REF! | E27: =+E13-E26 -> #REF! | F27: =+F13-F26 -> #REF!

Sheet 4
A1: Հավելված N 4
A2: ՀՀ կառավարության 2019 թվականի
A3: -ի N -Ն որոշման
A5: ՀԱՅԱՍՏԱՆԻ ՀԱՆՐԱՊԵՏՈՒԹՅԱՆ ԿԱՌԱՎԱՐՈՒԹՅԱՆ 2018 ԹՎԱԿԱՆԻ ԴԵԿՏԵՄԲԵՐԻ 27-Ի N 1515-Ն ՈՐՈՇՄԱՆ N 11 ՀԱՎԵԼՎԱԾԻ NN 11.15 ԵՎ 11.52 ԱՂՅՈՒՍԱԿՆԵՐՈՒՄ ԿԱՏԱՐՎՈՂ ՓՈՓՈԽՈՒԹՅՈՒՆՆԵՐԸ ԵՎ ԼՐԱՑՈՒՄՆԵՐԸ
A8: ՀՀ տարածքային կառավարման և ենթակառուցվածքների նախարարություն
A9: ՄԱՍ 2. ՊԵՏԱԿԱՆ ՄԱՐՄՆԻ ԳԾՈՎ ԱՐԴՅՈՒՆՔԱՅԻՆ (ԿԱՏԱՐՈՂԱԿԱՆ) ՑՈՒՑԱՆԻՇՆԵՐԸ
A11: Ծրագրի դասիչը | B11: Ծրագրի անվանումը
A12: 1167 | B12: Էլեկտրաէներգետիկ համակարգի զարգացման ծրագիր
A13: Ծրագրի դասիչը` | B13: 1167 | C13: Ցուցանիշների փոփոխությունը (նվազեցումները նշված են փակագծերում)
A14: Միջոցառման դասիչը` | B14: 32002
A15: Միջոցառման անվանումը` | B15: Վերակառուցման և զարգացման միջազգային բանկի աջակցությամբ իրականացվող Ներդրումներ «Երևանի ջերմաէլեկտրակենտրոն» ՓԲԸ-ում Երևանի ՋԷԿ-ի ենթակայանի կառուցման նպատակով
A16: Նկարագրությունը` | B16: Էլեկտրահաղորդման ցանցի բարելավման ծրագրի շրջանակներում նախատեսվում է վերակառուցել 30 և ավելի տարիներ շահագործման մեջ գտնվող Երևանի ՋԷԿ-ի ենթակայանը
A17: Միջոցառման տեսակը` | B17: Այլ պետական կազմակերպությունների կողմից օգտագործվող ոչ ֆինանսական ակտիվների հետ գործառույթներ
A18: Ակտիվն օգտագործող կազմակերպության(ների) անվանում(ներ)ը | B18: Մասնագիտացված միավոր
A19: Արդյունքի չափորոշիչներ
A20: Կառուցվող ենթակայանի քանակ, հատ
A21: Ենթակայանի սարքավորումների խափանումների տարեկան քանակ, հատ
A22: Ենթակայանի թողունակություն, ՄՎտ
A23: Միջոցառման վրա կատարվող ծախսը (հազար դրամ) | C23: =SUM('3'!D21) -> -1000
A27: ՀՀ կառավարություն
A28: ՄԱՍ 2. ՊԵՏԱԿԱՆ ՄԱՐՄՆԻ ԳԾՈՎ ԱՐԴՅՈՒՆՔԱՅԻՆ (ԿԱՏԱՐՈՂԱԿԱՆ) ՑՈՒՑԱՆԻՇՆԵՐԸ
A31: Ծրագրի դասիչը | B31: Ծրագրի անվանումը | C31: Ցուցանիշների փոփոխությունը (ավելացումները նշված են դրական նշանով, իսկ նվազեցումները նշված են փակագծերում)
A32: 1139 | B32: ՀՀ կառավարության պահուստային ֆոնդ
A33: Ծրագրի միջոցառումները
A34: Ծրագրի դասիչը՝ | B34: 1139
A35: Միջոցառման դասիչը՝ | B35: 11001 | C35: Տարի
A36: Միջոցառման անվանումը՝ | B36: ՀՀ կառավարության պահուստային ֆոնդ
A37: Նկարագրությունը՝ | B37: ՀՀ պետական բյուջեում նախատեսված ելքերի լրացուցիչ ֆինանսավորման՝ պետական բյուջեում չկանխատեսված ելքերի, ինչպես նաև բյուջետային երաշխիքների ապահովման ելքերի ֆինանսավորման ապահովում
A38: Միջոցառման տեսակը՝ | B38: Ծառայությունների մատուցում
A39: Միջոցառումն իրականացնողի անվանումը | B39: ՀՀ կառավարություն
B40: Արդյունքի չափորոշիչներ
A41: Միջոցառման վրա կատարվող ծախսը (հազար դրամ) | C41: =SUM('2'!G39) -> -1000
A42: Ծրագրի դասիչը՝ | B42: 1139
A43: Միջոցառման դասիչը՝ | B43: 11001 | C43: Տարի
A44: Միջոցառման անվանումը՝ | B44: ՀՀ կառավարության պահուստային ֆոնդ
A45: Նկարագրությունը՝ | B45: ՀՀ պետական բյուջեում նախատեսված ելքերի լրացուցիչ ֆինանսավորման՝ պետական բյուջեում չկանխատեսված ելքերի, ինչպես նաև բյուջետային երաշխիքների ապահովման ելքերի ֆինանսավորման ապահովում
A46: Միջոցառման տեսակը՝ | B46: Ծառայությունների մատուցում
A47: Միջոցառումն իրականացնողի անվանումը | B47: ՀՀ կառավարություն
B48: Արդյունքի չափորոշիչներ
A49: Միջոցառման վրա կատարվող ծախսը (հազար դրամ) | C49: =SUM('2'!G47) -> 1000
...

Sheet 5
A1: Հավելված N 5
A2: ՀՀ կառավարության 2019 թվականի
A3: -ի N -Ն որոշման
A5: ՀԱՅԱՍՏԱՆԻ ՀԱՆՐԱՊԵՏՈՒԹՅԱՆ ԿԱՌԱՎԱՐՈՒԹՅԱՆ 2018ԹՎԱԿԱՆԻ ԴԵԿՏԵՄԲԵՐԻ 27-Ի N 1515-Ն ՈՐՈՇՄԱՆ N 11.1 ՀԱՎԵԼՎԱԾԻ NN 11.1.15, 11.1.66 ԵՎ 11.1.62 ԱՂՅՈՒՍԱԿՆԵՐՈՒՄ ԿԱՏԱՐՎՈՂ ԼՐԱՑՈՒՄՆԵՐ
A7: ՀՀ տարածքային կառավարման և ենթակառուցվածքների նախարարություն
A8: ՄԱՍ 2. ՊԵՏԱԿԱՆ ՄԱՐՄՆԻ ԳԾՈՎ ԱՐԴՅՈՒՆՔԱՅԻՆ (ԿԱՏԱՐՈՂԱԿԱՆ) ՑՈՒՑԱՆԻՇՆԵՐԸ
A9: Ծրագրի դասիչը | B9: Ծրագրի անվանումը
A10: 1167 | B10: Էլեկտրաէներգետիկ համակարգի զարգացման ծրագիր
A12: Ծրագրի դասիչը` | B12: 1167 | C12: Ցուցանիշների փոփոխությունը (նվազեցումները նշված են փակագծերում)
A13: Միջոցառման դասիչը` | B13: 32002
A14: Միջոցառման անվանումը` | B14: Վերակառուցման և զարգացման միջազգային բանկի աջակցությամբ իրականացվող Ներդրումներ «Երևանի ջերմաէլեկտրակենտրոն» ՓԲԸ-ում Երևանի ՋԷԿ-ի ենթակայանի կառուցման նպատակով
A15: Նկարագրությունը` | B15: Էլեկտրահաղորդման ցանցի բարելավման ծրագրի շրջանակներում նախատեսվում է վերակառուցել 30 և ավելի տարիներ շահագործման մեջ գտնվող Երևանի ՋԷԿ-ի ենթակայանը
A16: Միջոցառման տեսակը` | B16: Այլ պետական կազմակերպությունների կողմից օգտագործվող ոչ ֆինանսական ակտիվների հետ գործառույթներ
A17: Ակտիվն օգտագործող կազմակերպության(ների) անվանում(ներ)ը | B17: Մասնագիտացված միավոր
A18: Արդյունքի չափորոշիչներ
A19: Կառուցվող ենթակայանի քանակ, հատ
A20: Ենթակայանի սարքավորումների խափանումների տարեկան քանակ, հատ
A21: Ենթակայանի թողունակություն, ՄՎտ
A22: Միջոցառման վրա կատարվող ծախսը (հազար դրամ) | C22: =SUM('4'!C41) -> -1000
A27: ՀՀ կառավարություն
A28: ՄԱՍ 2. ՊԵՏԱԿԱՆ ՄԱՐՄՆԻ ԳԾՈՎ ԱՐԴՅՈՒՆՔԱՅԻՆ (ԿԱՏԱՐՈՂԱԿԱՆ) ՑՈՒՑԱՆԻՇՆԵՐԸ
A30: Ծրագրի դասիչը | B30: Ծրագրի անվանումը
A31: 1139 | B31: ՀՀ կառավարության պահուստային ֆոնդ
A32: Ծրագրի միջոցառումները
A33: Ծրագրի դասիչը՝ | B33: 1139 | C33: Ցուցանիշների փոփոխությունը (ավելացումները նշված են դրական նշանով, իսկ նվազեցումները նշված են փակագծերում)
A34: Միջոցառման դասիչը՝ | B34: 11001 | C34: Տարի
A35: Միջոցառման անվանումը՝ | B35: ՀՀ կառավարության պահուստային ֆոնդ
A36: Նկարագրությունը՝ | B36: ՀՀ պետական բյուջեում նախատեսված ելքերի լրացուցիչ ֆինանսավորման՝ պետական բյուջեում չկանխատեսված ելքերի, ինչպես նաև բյուջետային երաշխիքների ապահովման ելքերի ֆինանսավորման ապահովում
A37: Միջոցառման տեսակը՝ | B37: Ծառայությունների մատուցում
A38: Միջոցառումն իրականացնողի անվանումը | B38: ՀՀ կառավարություն
B39: Արդյունքի չափորոշիչներ
A40: Միջոցառման վրա կատարվող ծախսը (հազար դրամ) | C40: =SUM('4'!C41) -> -1000
A41: Ծրագրի դասիչը՝ | B41: 1139
A42: Միջոցառման դասիչը՝ | B42: 11001 | C42: Տարի
A43: Միջոցառման անվանումը՝ | B43: ՀՀ կառավարության պահուստային ֆոնդ
A44: Նկարագրությունը՝ | B44: ՀՀ պետական բյուջեում նախատեսված ելքերի լրացուցիչ ֆինանսավորման՝ պետական բյուջեում չկանխատեսված ելքերի, ինչպես նաև բյուջետային երաշխիքների ապահովման ելքերի ֆինանսավորման ապահովում
A45: Միջոցառման տեսակը՝ | B45: Ծառայությունների մատուցում
A46: Միջոցառումն իրականացնողի անվանումը | B46: ՀՀ կառավարություն
B47: Արդյունքի չափորոշիչներ
A48: Միջոցառման վրա կատարվող ծախսը (հազար դրամ) | C48: =SUM('4'!C49) -> 1000
...

Sheet 6
D1: Հավելված N 6
C2: ՀՀ կառավարության 2019 թվականի
C3: -ի N -Ն որոշման
A5: ՀԱՅԱՍՏԱՆԻ ՀԱՆՐԱՊԵՏՈՒԹՅԱՆ ԿԱՌԱՎԱՐՈՒԹՅԱՆ 2018 ԹՎԱԿԱՆԻ ԴԵԿՏԵՄԲԵՐԻ 27-Ի N1515-Ն ՈՐՈՇՄԱՆ N 5 ՀԱՎԵԼՎԱԾԻ N 6 ԱՂՅՈՒՍԱԿՈՒՄ ԿԱՏԱՐՎՈՂ ԼՐԱՑՈՒՄՆԵՐԸ
D7: հազար դրամներով
A8: Ծրագրային դասիչը | C8: Հատկացումների տրամադրման նպատակները և բյուջետային գլխավոր կարգադրիչների, ծրագրերի, միջոցառումների և կատարող պետական մարմնի անվանումները | D8: Ցուցանիշների փոփոխությունը (ավելացումները նշված են դրական նշանով)
D9: Տարի
A10: Ծրագիր | B10: Միջոցառում
C11: Ընդամենը | D11: =SUM(D13) -> 1000
A12: 1212 | B12: Տարածքային զարգացում | D12: =D13 -> 1000
B13: 12010 | C13: Համայնքների բազմաբնակարան շենքերի տեխնիկական վիճակի հետազննության աշխատանքներին աջակցության տրամադրում | D13: =SUM(D15) -> 1000
A14: այդ թվում`
A15: ՀՀ տարածքային կառավարման և զարգացման նախարարություն | D15: =SUM(D17) -> 1000
A16: այդ թվում`
A17: ՀՀ Շիրակի մարզպետարան | D17: =SUM('5'!C69) -> 1000

Sheet 7
D1: Հավելված N 7
C2: ՀՀ կառավարության 2019 թվականի
C3: -ի N -Ն որոշման
A5: «ՀԱՅԱՍՏԱՆԻ ՀԱՆՐԱՊԵՏՈՒԹՅԱՆ 2019 ԹՎԱԿԱՆԻ ՊԵՏԱԿԱՆ ԲՅՈՒՋԵԻ ՄԱՍԻՆ» ՀՀ ՕՐԵՆՔԻ N 1 ՀԱՎԵԼՎԱԾԻ N 7 ԱՂՅՈՒՍԱԿՈՒՄ ԿԱՏԱՐՎՈՂ ԼՐԱՑՈՒՄՆԵՐԸ
D7: հազար դրամներով
A8: Ծրագրային դասիչը | C8: Հատկացումների տրամադրման նպատակները և բյուջետային գլխավոր կարգադրիչների, ծրագրերի, միջոցառումների և կատարող պետական մարմնի անվանումները | D8: Ցուցանիշների փոփոխությունը (ավելացումները նշված են դրական նշանով)
D9: Տարի
A10: Ծրագիր | B10: Միջոցառում
C11: Ընդամենը | D11: =SUM(D16) -> 1000
A12: ՀՀ տարածքային կառավարման և զարգացման նախարարություն | D12: =SUM(D14) -> 1000
A13: 1212 | B13: Տարածքային զարգացում | D13: =D14 -> 1000
B14: 12010 | C14: Համայնքների բազմաբնակարան շենքերի տեխնիկական վիճակի հետազննության աշխատանքներին աջակցության տրամադրում | D14: =SUM(D16) -> 1000
A15: այդ թվում`
A16: ՀՀ Շիրակի մարզպետարան | D16: =SUM('6'!D17) -> 1000
