Workbook
Name AgencyCode: #REF!
Name AgencyCode: #REF!
Name AgencyName: #REF!
Name AgencyName: #REF!
Name Functional1: #REF!
Name Functional1: #REF!
Name PANature: #REF!
Name PANature: #REF!
Name PAType: #REF!
Name PAType: #REF!
Name Performance2: #REF!
Name Performance2: #REF!
Name PerformanceType: #REF!
Name PerformanceType: #REF!

Sheet 1
A1: Հավելված 1
A2: ՀՀ կառավարության 2019 թվականի
A3: ______________ ի ___Ն որոշման
A4: «ՀԱՅԱՍՏԱՆԻ ՀԱՆՐԱՊԵՏՈՒԹՅԱՆ 2019 ԹՎԱԿԱՆԻ ՊԵՏԱԿԱՆ ԲՅՈՒՋԵԻ ՄԱՍԻՆ» ՀԱՅԱՍՏԱՆԻ ՀԱՆՐԱՊԵՏՈՒԹՅԱՆ ՕՐԵՆՔԻ N 1 ՀԱՎԵԼՎԱԾԻ N 3 ԱՂՅՈՒՍԱԿՈՒՄ ԿԱՏԱՐՎՈՂ ՓՈՓՈԽՈՒԹՅՈՒՆԸ
G5: հազար դրամներով
A6: Ծրագրային դասիչ | C6: Բյուջետային գլխավոր կարգադրիչների, ծրագրերի, միջոցառումների և ուղղությունների անվանումները | D6: Ցուցանիշների փոփոխությունը (ավելացումները նշված են դրական նշանով, իսկ նվազեցումները` փակագծերում)
D7: Ընդամենը, | E7: այդ թվում՝
A8: Ծրագիր | B8: Միջոցառում | E8: Կառուցման աշխատանքներ | F8: Վերակառուցման, վերանորոգման և վերականգնման աշխատանքներ | G8: Նախագծահե- տազոտական, գեոդեզիա- քարտեզագրա- կան աշխա- տանքներ | H8: Ոչ ֆինանսական այլ ակտիվների ձեռքբերում
C9: ԸՆԴԱՄԵՆԸ | D9: =SUM(E9:H9) -> 146969.3 | E9: =E11 -> 0 | F9: =F11 -> 146969.3 | G9: =G11 -> 0 | H9: =H11 -> 0
C10: այդ թվում՝
C11: ՀՀ ՏԱՐԱԾՔԱՅԻՆ ԿԱՌԱՎԱՐՄԱՆ ԵՎ ԵՆԹԱԿԱՌՈՒՑՎԱԾՔՆԵՐԻ ՆԱԽԱՐԱՐՈՒԹՅՈՒՆ | D11: =SUM(E11:H11) -> 146969.3 | E11: =E13 -> 0 | F11: =F13+F44 -> 146969.3 | G11: =G13 -> 0 | H11: =H13 -> 0
C12: այդ թվում`
A13: 1049 | B13: 21001 | C13: Պետական նշանակության ավտոճանապարհների հիմնանորոգում | D13: =SUM(E13:H13) -> 153264.3 | E13: =+E15+E33+E37 -> 0 | F13: =+F15+F33+F37 -> 153264.3 | G13: =+G15+G33+G37 -> 0 | H13: =+H15+H33+H37 -> 0
C14: այդ թվում`
C15: 1.1 Միջպետական նշանակության ավտոճանապարհներ, այդ թվում | D15: =SUM(E15:H15) -> 250577.5 | E15: =SUM(E16:E32) -> 0 | F15: =SUM(F16:F32) -> 250577.5 | G15: =SUM(G16:G32) -> 0 | H15: =SUM(H16:H32) -> 0
C16: Մ-2, Երևան-Երասխ-Գորիս-Մեղրի-Իրանի սահման կմ65+350-կմ77+350 հատվածի հիմնանորոգում | D16: =SUM(E16:H16) -> -10420 | F16: =-10420 -> -10420
C17: Մ-2, Երևան-Երասխ-Գորիս-Մեղրի-Իրանի սահման կմ65+350-կմ77+350 հատվածի հիմնանորոգում | D17: =SUM(E17:H17) -> 257579.6 | F17: =257579.6 -> 257579.6
C18: Մ-2, Երևան-Երասխ-Գորիս-Մեղրի-Իրանի սահման կմ101+400-կմ108+400 հատվածի հիմնանորոգում | D18: =SUM(E18:H18) -> -7738 | F18: -7738
C19: Մ-2, Երևան-Երասխ-Գորիս-Մեղրի-Իրանի սահման կմ126+100-կմ131+500 հատվածի հիմնանորոգում | D19: =SUM(E19:H19) -> -7086 | F19: -7086
C20: Մ-2, Երևան-Երասխ-Գորիս-Մեղրի-Իրանի սահման կմ139+000-142+000 հատվածի հիմնանորոգում | D20: =SUM(E20:H20) -> -3411.4 | F20: -3411.4
C21: Մ-2, Երևան-Երասխ-Գորիս-Մեղրի-Իրանի սահման կմ354+520-կմ364+000 հատվածի հիմնանորոգում | D21: =SUM(E21:H21) -> -9380 | F21: -9380
C22: Մ-2, Երևան-Երասխ-Գորիս-Մեղրի-Իրանի սահման կմ354+520-կմ364+000 հատվածի հիմնանորոգում | D22: =SUM(E22:H22) -> 50366 | F22: =49984+382 -> 50366
C23: Մ- 3, Թուրքիայի սահման-Մարգարա-Վանաձոր-Տաշիր-Վրաստանի սահման կմ75+500-կմ79+000 հատվածի հիմնանորոգում | D23: =SUM(E23:H23) -> -2734 | F23: -2734
C24: Մ- 3, Թուրքիայի սահման-Մարգարա-Վանաձոր-Տաշիր-Վրաստանի սահման կմ107+900-կմ109+000 հատվածի հիմնանորոգում | D24: =SUM(E24:H24) -> -1507 | F24: -1507
C25: Մ- 3, Թուրքիայի սահման-Մարգարա-Վանաձոր-Տաշիր-Վրաստանի սահման կմ112+900-կմ116+900 հատվածի հիմնանորոգում | D25: =SUM(E25:H25) -> -968 | F25: -968
C26: Մ-16, Մ-4-Ոսկեպար-Նոյեմբերյան-Մ-6 կմ12+560-կմ13+900 հատվածի հիմնանորոգում | D26: =SUM(E26:H26) -> -1183 | F26: -1183
C27: Մ-16, Մ-4-Ոսկեպար-Նոյեմբերյան-Մ-6 կմ21+940-կմ24+700 հատվածի հիմնանորոգում | D27: =SUM(E27:H27) -> -1760 | F27: -1760
C28: Մ-16, Մ-4-Ոսկեպար-Նոյեմբերյան-Մ-6 կմ29+000-կմ35+800 հատվածի հիմնանորոգում | D28: =SUM(E28:H28) -> -5971.5 | F28: -5971.5
C29: Մ-16, Մ-4-Ոսկեպար-Նոյեմբերյան-Մ-6 կմ41+900-կմ46+400 հատվածի հիմնանորոգում | D29: =SUM(E29:H29) -> -1350 | F29: -1350
C30: Մ-16, Մ-4-Ոսկեպար-Նոյեմբերյան-Մ-6 կմ7+000-կմ8+400 հատվածի հիմնանորոգում | D30: =SUM(E30:H30) -> 257 | F30: =142+115 -> 257
C31: ՀՀ Տավուշի մարզի Ոսկեպար գյուղի սկզբից մինչև Բաղանիս գյուղ նոր շրջանցիկ ճանապարհի կառուցում (հատված կմ0+000-կմ0+813, կմ0+000-կմ0+118) | D31: =SUM(E31:H31) -> -3411 | F31: -3411
C32: Մ-17, Մ-2-Կապան-Ծավ-Մ-2 27-րդ և 28-րդ կմ-ում սողանքային հատվածի վերականգնում | D32: =SUM(E32:H32) -> -705.2 | F32: -705.2
C33: 1.2 Հանրապետական նշանակության ավտոճանապարհներ, այդ թվում` | D33: =SUM(E33:H33) -> -118979.5 | E33: =SUM(E34:E36) -> 0 | F33: =SUM(F34:F36) -> -118979.5 | G33: =SUM(G34:G36) -> 0 | H33: =SUM(H34:H36) -> 0
C34: Հ-26, Մոտեցում Մակարավանքի հուշարձան հանրապետական նշանակության ավտոճանապարհի կմ7+800-կմ10+800 հատվածի հիմնանորոգում | D34: =SUM(E34:H34) -> -1887 | F34: -1887
C35: Հ-26, Մոտեցում Մակարավանքի հուշարձան հանրապետական նշանակության ավտոճանապարհի կմ7+800-կմ10+800 հատվածի հիմնանորոգում | D35: =SUM(E35:H35) -> -118500 | F35: -118500
C36: Մոտեցում Մեծամորի թանգարան 4.1 կմ (3.6+0.5) ավտոճանապարհի հիմնանորոգում | D36: =SUM(E36:H36) -> 1407.5 | F36: 1407.5
C37: 1.3 Մարզային նշանակության ավտոճանապարհներ, այդ թվում` | D37: =SUM(E37:H37) -> 21666.3 | E37: =+E38+E39+E41 -> 0 | F37: =+F38+F39+F40+F41+F42 -> 21666.3 | G37: =+G38+G39+G42 -> 0 | H37: =+H38+H39+H42 -> 0
C38: ՀՀ Կոտայքի մարզի Կամարիս համայնքի 1,0 կմ երկարությամբ հատվածի հիմնանորոգում | D38: =SUM(E38:H38) -> -812.7 | F38: -812.7
C39: Տ-2-10, Հ-12-Սիս մարզային նշանակության ավտոճանապարհի հիմնանորոգում | D39: =SUM(E39:H39) -> -1958 | F39: -1958
C40: ՀՀ Գեղարքունիքի մարզի Գանձակ համայնքի 2,0 կմ երկարությամբ հատվածի հիմնանորոգում | D40: =SUM(E40:H40) -> -401 | F40: -401
...

Sheet 2
F1: Հավելված N 2
D2: ՀՀ կառավարության 2019 թվականի N -Ն որոշման
A3: «ՀԱՅԱՍՏԱՆԻ ՀԱՆՐԱՊԵՏՈՒԹՅԱՆ 2019 ԹՎԱԿԱՆԻ ՊԵՏԱԿԱՆ ԲՅՈՒՋԵԻ ՄԱՍԻՆ» ՀԱՅԱՍՏԱՆԻ ՀԱՆՐԱՊԵՏՈՒԹՅԱՆ ՕՐԵՆՔԻ N 1 ՀԱՎԵԼՎԱԾԻ N2 ԱՂՅՈՒՍԱԿՈՒՄ ԿԱՏԱՐՎՈՂ ՎԵՐԱԲԱՇԽՈՒՄԸ ԵՎ ՀԱՅԱՍՏԱՆԻ ՀԱՆՐԱՊԵՏՈՒԹՅԱՆ ԿԱՌԱՎԱՐՈՒԹՅԱՆ 2018 ԹՎԱԿԱՆԻ ԴԵԿՏԵՄԲԵՐԻ 27-Ի N 1515-Ն ՈՐՈՇՄԱՆ N 5 ՀԱՎԵԼՎԱԾԻ N1 ԱՂՅՈՒՍԱԿՈՒՄ ԿԱՏԱՐՎՈՂ ՓՈՓՈԽՈՒԹՅՈՒՆՆԵՐԸ ԵՎ ԼՐԱՑՈՒՄՆԵՐԸ
E4: հազար դրամներով
A5: Ծրագրային դասիչը | C5: Բյուջետային գլխավոր կարգադրիչների, ծրագրերի և միջոցառումների անվանումները | D5: Ցուցանիշների փոփոխությունը (ավելացումները նշված են դրական նշանով, իսկ նվազեցումները` փակագծերում)
A6: Ծրագիր | B6: Միջոցառում | D6: Առաջին կիսամյակ | E6: Ինն ամիս | F6: Տարի
A7: 1049 | C7: ԸՆԴԱՄԵՆԸ ` | F7: =SUM(F21+F15+F27+F33) -> 0
C8: Ծրագրի անվանումը` | D8: =SUM(D21+#REF!+#REF!+D15) -> #REF! | E8: =SUM(E21+E15) -> 0
C9: Ճանապարհային ցանցի բարելավում
C10: Ծրագրի նպատակը`
C11: Ճանապարհային ցանցի բարելավում և անվտանգ երթևեկության ապահովում
C12: Վերջնական արդյունքի նկարագրությունը`
C13: Ճանապարհների ծածկի որակի և փոխադրումների արդյունավետության բարելավում՝ ճանապարհների վիճակով պայմանավորված պատահարների նվազում
A14: Ծրագրի միջոցառումներ
B15: 11013 | C15: Միջոցառման անվանումը` | D15: 0 | E15: -180000 | F15: -106264.8
C16: Եվրոպական ներդրումային բանկի աջակցությամբ իրականացվող Հյուսիս-հարավ միջանցքի զարգացման դրամաշնորհային ծրագրի համակարգում և կառավարում
C17: Միջոցառման նկարագրությունը`
C18: Եվրոպական ներդրումային բանկի աջակցությամբ իրականացվող Հյուսիս-հարավ միջանցքի զարգացման դրամաշնորհային ծրագրի իրականացման նպատակով ճանապարհային երթևեկության անվտանգության բարելավմանն ուղղված միջոցառումներ: 3-րդ Տրանշ
C19: Միջոցառման տեսակը
C20: Ծառայությունների մատուցում
B21: 21007 | C21: Միջոցառման անվանումը` | E21: 180000 | F21: -40704.5
C22: Եվրոպական ներդրումային բանկի աջակցությամբ իրականացվող Հյուսիս-հարավ միջանցքի զարգացման դրամաշնորհային ծրագիր, Տրանշ 3
C23: Միջոցառման նկարագրությունը`
C24: Եվրոպական ներդրումային բանկի աջակցությամբ իրականացվող Հյուսիս-հարավ միջանցքի զարգացման դրամաշնորհային ծրագրի իրականացման նպատակով ճանապարհային երթևեկության անվտանգության բարելավմանն ուղղված միջոցառումներ: 3-րդ Տրանշ
C25: Միջոցառման տեսակը
C26: Հանրության կողմից անմիջականորեն օգտագործվող ակտիվների հետ կապված միջոցառումներ
B27: 21001 | C27: Միջոցառման անվանումը` | E27: 180000 | F27: 153264.3
C28: Պետական նշանակության ավտոճանապարհների հիմնանորոգում
C29: Միջոցառման նկարագրությունը`
C30: Միջպետական՝ հանրապետական և մարզային նշանակության ավտոճոնապարհների քայքայված ծածկի վերանորոգում՝ մաշված ծածկի փոխարինում
C31: Միջոցառման տեսակը
C32: Հանրության կողմից անմիջականորեն օգտագործվող ակտիվների հետ կապված միջոցառումներ
B33: 21002 | C33: Միջոցառման անվանումը` | E33: 180000 | F33: -6295
C34: Տրանսպորտային օբյեկտների հիմնանորոգում
C35: Միջոցառման նկարագրությունը`
C36: Ավտոմոբիլային ճանապարհների վրա գտնվող կամուրջների հիմնանորոգում
C37: Միջոցառման տեսակը
C38: Հանրության կողմից անմիջականորեն օգտագործվող ակտիվների հետ կապված միջոցառումներ

Sheet 3
A1: Հավելված 3
A2: ՀՀ կառավարության 2019 թվականի
A3: ______________ ի ___Ն որոշման
A5: ՀԱՅԱՍՏԱՆԻ ՀԱՆՐԱՊԵՏՈՒԹՅԱՆ ԿԱՌԱՎԱՐՈՒԹՅԱՆ 2018 ԹՎԱԿԱՆԻ ԴԵԿՏԵՄԲԵՐԻ 27-Ի N 1515-Ն ՈՐՈՇՄԱՆ N 3 ԵՎ N 4 ՀԱՎԵԼՎԱԾՆԵՐՈՒՄ ԿԱՏԱՐՎՈՂ ՓՈՓՈԽՈՒԹՅՈՒՆՆԵՐԸ ԵՎ ԼՐԱՑՈՒՄՆԵՐԸ
A8: Գործառական դասիչը | D8: Ծրագրային դասիչը | F8: Բյուջետային ծախսերի գործառական դասակարգման բաժինների, խմբերի և դասերի, բյուջետային հատկացումների գլխավոր կարգադրիչների, ծրագրերի, միջոցառումների և միջոցառումները կատարող պետական մարմինների անվանումները | G8: Ցուցանիշների փոփոխությունը (ավելացումները նշված են դրական նշանով, իսկ նվազեցումները` փակագծերում)
A9: Բաժին | B9: Խումբ | C9: Դաս | D9: Ծրագիր | E9: Միջոցա ռում | G9: Տարի
F10: ԸՆԴԱՄԵՆԸ ԾԱԽՍԵՐ | G10: =+G12 -> 0
F11: այդ թվում`
A12: 04 | F12: ՏՆՏԵՍԱԿԱՆ ՀԱՐԱԲԵՐՈՒԹՅՈՒՆՆԵՐ | G12: =G14 -> 0
F13: այդ թվում`
B14: 05 | F14: Տրանսպորտ | G14: =G16 -> 0
F15: այդ թվում`
C16: 01 | F16: Ճանապարհային տրանսպորտ | G16: =G18 -> 0
F17: այդ թվում`
F18: ՀՀ ՏԱՐԱԾՔԱՅԻՆ ԿԱՌԱՎԱՐՄԱՆ ԵՎ ԵՆԹԱԿԱՌՈՒՑՎԱԾՔՆԵՐԻ ՆԱԽԱՐԱՐՈՒԹՅՈՒՆ | G18: =G20 -> 0
F19: այդ թվում`
D20: 1049 | F20: Ճանապարհային ցանցի բարելավում | G20: =+G22+G31+G40+G45 -> 0
F21: այդ թվում`
E22: 21001 | F22: Պետական նշանակության ավտոճանապարհների հիմնանորոգում | G22: =+G24 -> 153264.3
F23: այդ թվում` ըստ կատարողների
F24: ՀՀ տարածքային կառավարման և ենթակառուցվածքների նախարարություն | G24: =+G26 -> 153264.3
F25: այդ թվում` բյուջետային ծախսերի տնտեսագիտական դասակարգման հոդվածներ
F26: ԸՆԴԱՄԵՆԸ ԾԱԽՍԵՐ | G26: =+G27 -> 153264.3
F27: ՈՉ ՖԻՆԱՆՍԱԿԱՆ ԱԿՏԻՎՆԵՐԻ ԳԾՈՎ ԾԱԽՍԵՐ | G27: =+G28 -> 153264.3
F28: ՀԻՄՆԱԿԱՆ ՄԻՋՈՑՆԵՐ | G28: =+G30 -> 153264.3
F29: ՇԵՆՔԵՐ ԵՎ ՇԻՆՈՒԹՅՈՒՆՆԵՐ | G29: =+G30 -> 153264.3
F30: - Շենքերի և շինությունների կապիտալ վերանորոգում | G30: ='1'!F15+'1'!F33+'1'!F37 -> 153264.3
E31: 21002 | F31: Տրանսպորտային օբյեկտների հիմնանորոգում,այդ թվում | G31: =+G33 -> -6295
F32: այդ թվում` ըստ կատարողների
F33: ՀՀ տարածքային կառավարման և ենթակառուցվածքների նախարարություն | G33: =+G35 -> -6295
F34: այդ թվում` բյուջետային ծախսերի տնտեսագիտական դասակարգման հոդվածներ
F35: ԸՆԴԱՄԵՆԸ ԾԱԽՍԵՐ | G35: =+G36 -> -6295
F36: ՈՉ ՖԻՆԱՆՍԱԿԱՆ ԱԿՏԻՎՆԵՐԻ ԳԾՈՎ ԾԱԽՍԵՐ | G36: =+G37 -> -6295
F37: ՀԻՄՆԱԿԱՆ ՄԻՋՈՑՆԵՐ | G37: =+G39 -> -6295
F38: ՇԵՆՔԵՐ ԵՎ ՇԻՆՈՒԹՅՈՒՆՆԵՐ | G38: =+G39 -> -6295
F39: - Շենքերի և շինությունների կապիտալ վերանորոգում | G39: ='1'!D44 -> -6295
E40: 11013 | F40: Եվրոպական ներդրումային բանկի աջակցությամբ իրականացվող Հյուսիս-հարավ միջանցքի զարգացման դրամաշնորհային ծրագրի համակարգում և կառավարում | G40: =G44 -> -106264.8
F41: այդ թվում` ըստ կատարողների
F42: ՀՀ տարածքային կառավարման և ենթակառուցվածքների նախարարություն | G42: =G40 -> -106264.8
F43: այդ թվում` բյուջետային ծախսերի տնտեսագիտական դասակարգման հոդվածներ
...

Sheet 4
A1: Հավելված 4
A2: ՀՀ կառավարության 2019 թվականի
A3: ______________ ի ___Ն որոշման
A5: ՀԱՅԱՍՏԱՆԻ ՀԱՆՐԱՊԵՏՈՒԹՅԱՆ ԿԱՌԱՎԱՐՈՒԹՅԱՆ 2018 ԹՎԱԿԱՆԻ ԴԵԿՏԵՄԲԵՐԻ 27-Ի N 1515-Ն ՈՐՈՇՄԱՆ N 5 ՀԱՎԵԼՎԱԾԻ N 2 ԱՂՅՈՒՍԱԿՈՒՄ ԿԱՏԱՐՎՈՂ ԼՐԱՑՈՒՄՆԵՐԸ
A7: Ծրագրային դասիչ | C7: Բյուջետային գլխավոր կարգադրիչների, ծրագրերի, միջոցառումների և ուղղությունների անվանումները | D7: Ցուցանիշների փոփոխությունը (ավելացումները նշված են դրական նշանով, իսկ նվազեցումները` փակագծերում)
A8: Ծրագիր | B8: Միջոցառում | D8: Տարի
C9: ԸՆԴԱՄԵՆԸ ` | D9: =D11 -> 146969.3
C10: այդ թվում՝
C11: ՀՀ ՏԱՐԱԾՔԱՅԻՆ ԿԱՌԱՎԱՐՄԱՆ ԵՎ ԵՆԹԱԿԱՌՈՒՑՎԱԾՔՆԵՐԻ ՆԱԽԱՐԱՐՈՒԹՅՈՒՆ | D11: =+D13 -> 146969.3
C12: այդ թվում`
A13: 1049 | B13: 21001 | C13: Պետական նշանակության ավտոճանապարհների հիմնանորոգում | D13: =D15+D48 -> 146969.3
C14: այդ թվում` ըստ կատարողների
C15: ՀՀ տարածքային կառավարման և ենթակառուցվածքների նախարարություն | D15: =+D17+D36+D41 -> 153264.3
C16: այդ թվում՝ ըստ ուղղությունների
C17: 1.1 Միջպետական նշանակության ավտոճանապարհներ, այդ թվում | D17: =SUM(D18:D34) -> 250577.5
C18: Մ-2, Երևան-Երասխ-Գորիս-Մեղրի-Իրանի սահման կմ65+350-կմ77+350 հատվածի հիմնանորոգում | D18: =-10420 -> -10420
C19: Մ-2, Երևան-Երասխ-Գորիս-Մեղրի-Իրանի սահման կմ65+350-կմ77+350 հատվածի հիմնանորոգում | D19: =257579.6 -> 257579.6
C20: Մ-2, Երևան-Երասխ-Գորիս-Մեղրի-Իրանի սահման կմ101+400-կմ108+400 հատվածի հիմնանորոգում | D20: -7738
C21: Մ-2, Երևան-Երասխ-Գորիս-Մեղրի-Իրանի սահման կմ126+100-կմ131+500 հատվածի հիմնանորոգում | D21: -7086
C22: Մ-2, Երևան-Երասխ-Գորիս-Մեղրի-Իրանի սահման կմ139+000-142+000 հատվածի հիմնանորոգում | D22: -3411.4
C23: Մ-2, Երևան-Երասխ-Գորիս-Մեղրի-Իրանի սահման կմ354+520-կմ364+000 հատվածի հիմնանորոգում | D23: -9380
C24: Մ-2, Երևան-Երասխ-Գորիս-Մեղրի-Իրանի սահման կմ354+520-կմ364+000 հատվածի հիմնանորոգում | D24: =49984+382 -> 50366
C25: Մ- 3, Թուրքիայի սահման-Մարգարա-Վանաձոր-Տաշիր-Վրաստանի սահման կմ75+500-կմ79+000 հատվածի հիմնանորոգում | D25: -2734
C26: Մ- 3, Թուրքիայի սահման-Մարգարա-Վանաձոր-Տաշիր-Վրաստանի սահման կմ107+900-կմ109+000 հատվածի հիմնանորոգում | D26: -1507
C27: Մ- 3, Թուրքիայի սահման-Մարգարա-Վանաձոր-Տաշիր-Վրաստանի սահման կմ112+900-կմ116+900 հատվածի հիմնանորոգում | D27: -968
C28: Մ-16, Մ-4-Ոսկեպար-Նոյեմբերյան-Մ-6 կմ12+560-կմ13+900 հատվածի հիմնանորոգում | D28: -1183
C29: Մ-16, Մ-4-Ոսկեպար-Նոյեմբերյան-Մ-6 կմ21+940-կմ24+700 հատվածի հիմնանորոգում | D29: -1760
C30: Մ-16, Մ-4-Ոսկեպար-Նոյեմբերյան-Մ-6 կմ29+000-կմ35+800 հատվածի հիմնանորոգում | D30: -5971.5
C31: Մ-16, Մ-4-Ոսկեպար-Նոյեմբերյան-Մ-6 կմ41+900-կմ46+400 հատվածի հիմնանորոգում | D31: -1350
C32: Մ-16, Մ-4-Ոսկեպար-Նոյեմբերյան-Մ-6 կմ7+000-կմ8+400 հատվածի հիմնանորոգում | D32: =142+115 -> 257
C33: ՀՀ Տավուշի մարզի Ոսկեպար գյուղի սկզբից մինչև Բաղանիս գյուղ նոր շրջանցիկ ճանապարհի կառուցում (հատված կմ0+000-կմ0+813, կմ0+000-կմ0+118) | D33: -3411
C34: Մ-17, Մ-2-Կապան-Ծավ-Մ-2 27-րդ և 28-րդ կմ-ում սողանքային հատվածի վերականգնում | D34: -705.2
C36: 1.2 Հանրապետական նշանակության ավտոճանապարհներ, այդ թվում | D36: =+D37+D38+D39 -> -118979.5
C37: Հ-26, Մոտեցում Մակարավանքի հուշարձան հանրապետական նշանակության ավտոճանապարհի կմ7+800-կմ10+800 հատվածի հիմնանորոգում | D37: -1887
C38: Հ-26, Մոտեցում Մակարավանքի հուշարձան հանրապետական նշանակության ավտոճանապարհի կմ7+800-կմ10+800 հատվածի հիմնանորոգում | D38: -118500
C39: Մոտեցում Մեծամորի թանգարան 4.1 կմ (3.6+0.5) ավտոճանապարհի հիմնանորոգում | D39: 1407.5
C41: 1.3 Մարզային նշանակության ավտոճանապարհներ, այդ թվում | D41: =+D42+D43+D44+D45+D46 -> 21666.3
C42: ՀՀ Կոտայքի մարզի Կամարիս համայնքի 1,0 կմ երկարությամբ հատվածի հիմնանորոգում | D42: -812.7
C43: Տ-2-10, Հ-12-Սիս մարզային նշանակության ավտոճանապարհի հիմնանորոգում | D43: -1958
C44: ՀՀ Գեղարքունիքի մարզի Գանձակ համայնքի 2,0 կմ երկարությամբ հատվածի հիմնանորոգում | D44: -401
...

Sheet 5
E1: Հավելված N 5
E2: ՀՀ կառավարության 2019 թվականի N -Ն որոշման
A3: ՀԱՅԱՍՏԱՆԻ ՀԱՆՐԱՊԵՏՈՒԹՅԱՆ ԿԱՌԱՎԱՐՈՒԹՅԱՆ 2018 ԹՎԱԿԱՆԻ ԴԵԿՏԵՄԲԵՐԻ 27-Ի N 1515-Ն ՈՐՈՇՄԱՆ N 5 ՀԱՎԵԼՎԱԾԻ N4 ԱՂՅՈՒՍԱԿՈՒՄ ԿԱՏԱՐՎՈՂ ՓՈՓՈԽՈՒԹՅՈՒՆՆԵՐԸ
E4: հազար դրամներով
A5: Ծրագրային դասիչը | C5: Բյուջետային հատկացումների գլխավոր կարգադրիչների, ծրագրերի, միջոցառումների և միջոցառումները կատարող պետական մարմինների անվանումները | D5: Տարի
A6: Ծրագիր | B6: Միջոց_x000D_ առում | D6: Ընդամենը | E6: այդ թվում
E7: Վարկային միջոցներ | F7: Համաֆին-անսավորում
C8: ԸՆԴԱՄԵՆԸ_x000D_ այդ թվում` | D8: =D18+D26 -> -146969.3 | E8: =E18 -> 0 | F8: =F18+F26 -> -146969.3
C9: - ԸՆԹԱՑԻԿ ԾԱԽՍԵՐ | D9: =D18 -> -106264.8 | E9: =E18 -> 0 | F9: =F18 -> -106264.8
C10: - ՈՉ ՖԻՆԱՆՍԱԿԱՆ ԱԿՏԻՎՆԵՐԻ ԳԾՈՎ ԾԱԽՍԵՐ | D10: =E10+F10 -> -40704.5 | E10: 0 | F10: =F24 -> -40704.5
C11: ՀՀ տարածքային կառավարման և ենթակառուցվածքների նախարարություն այդ թվում` | D11: =D14 -> -106264.8 | E11: =E14 -> 0 | F11: =F14 -> -106264.8
A12: 1049 | C12: Ճանապարհային ցանցի բարելավում
C13: այդ թվում`
B14: 11013 | C14: Եվրոպական ներդրումային բանկի աջակցությամբ իրականացվող Հյուսիս-հարավ միջանցքի զարգացման դրամաշնորհային ծրագրի համակարգում և կառավարում | D14: =D16 -> -106264.8 | E14: =E16 -> 0 | F14: =F16 -> -106264.8
C15: այդ թվում` ըստ կատարողների
C16: ՀՀ տարածքային կառավարման և ենթակառուցվածքների նախարարություն | D16: =D18 -> -106264.8 | E16: =E18 -> 0 | F16: =F18 -> -106264.8
C17: այդ թվում` բյուջետային ծախսերի տնտեսագիտական դասակարգման հոդվածներ
C18: ԸՆԴԱՄԵՆԸ ԾԱԽՍԵՐ | D18: =D19 -> -106264.8 | E18: =E19 -> 0 | F18: =F19 -> -106264.8
C19: ԸՆԹԱՑԻԿ ԾԱԽՍԵՐ | D19: =+D20 -> -106264.8 | E19: =+E20 -> 0 | F19: =+F20 -> -106264.8
C20: ԱՅԼ ԾԱԽՍԵՐ | D20: =D21 -> -106264.8 | E20: =E21 -> 0 | F20: =F21 -> -106264.8
C21: - Այլ ծախսեր | D21: =E21+F21 -> -106264.8 | E21: 0 | F21: -106264.8
B22: 21007 | C22: Եվրոպական ներդրումային բանկի աջակցությամբ իրականացվող Հյուսիս-հարավ միջանցքի զարգացման դրամաշնորհային ծրագիր, Տրանշ 3 | D22: =D24 -> -40704.5 | E22: =E24 -> 0 | F22: =F24 -> -40704.5
C23: այդ թվում` ըստ կատարողների
C24: ՀՀ տարածքային կառավարման և ենթակառուցվածքների նախարարություն | D24: =D26 -> -40704.5 | E24: =E26 -> 0 | F24: =F26 -> -40704.5
C25: այդ թվում` բյուջետային ծախսերի տնտեսագիտական դասակարգման հոդվածներ
C26: ՈՉ ՖԻՆԱՆՍԱԿԱՆ ԱԿՏԻՎՆԵՐԻ ԳԾՈՎ ԾԱԽՍԵՐ | D26: =D27 -> -40704.5 | E26: =E27 -> 0 | F26: =F27 -> -40704.5
C27: ՀԻՄՆԱԿԱՆ ՄԻՋՈՑՆԵՐ | D27: =D28 -> -40704.5 | E27: =E28 -> 0 | F27: =F28 -> -40704.5
C28: ՇԵՆՔԵՐ ԵՎ ՇԻՆՈՒԹՅՈՒՆՆԵՐ | D28: =D29 -> -40704.5 | E28: =E29 -> 0 | F28: =F29 -> -40704.5
C29: - Շենքերի և շինությունների շինարարություն | D29: =E29+F29 -> -40704.5 | E29: 0 | F29: -40704.5

Sheet 6
C1: Հավելված N6
C2: ՀՀ կառավարության 2019 թվականի N -Ն որոշման
A3: ՀԱՅԱՍՏԱՆԻ ՀԱՆՐԱՊԵՏՈՒԹՅԱՆ ԿԱՌԱՎԱՐՈՒԹՅԱՆ 2018 ԹՎԱԿԱՆԻ ԴԵԿՏԵՄԲԵՐԻ 27-Ի N 1515-Ն ՈՐՈՇՄԱՆ N 11 ՀԱՎԵԼՎԱԾԻ N 11.8 ԱՂՅՈՒՍԱԿՈՒՄ ԿԱՏԱՐՎՈՂ ՓՈՓՈԽՈՒԹՅՈՒՆՆԵՐԸ
A5: ՀՀ ՏԱՐԱԾՔԱՅԻՆ ԿԱՌԱՎԱՐՄԱՆ ԵՎ ԵՆԹԱԿԱՌՈՒՑՎԱԾՔՆԵՐԻ ՆԱԽԱՐԱՐՈՒԹՅՈՒՆ
A6: ՄԱՍ 2. ՊԵՏԱԿԱՆ ՄԱՐՄՆԻ ԳԾՈՎ ԱՐԴՅՈՒՆՔԱՅԻՆ (ԿԱՏԱՐՈՂԱԿԱՆ) ՑՈՒՑԱՆԻՇՆԵՐԸ
A7: Ծրագրի դասիչը | B7: Ծրագրի անվանումը
A8: 1049 | B8: Ճանապարհային ցանցի բարելավում
A9: Ծրագրի միջոցառումները
A10: Ծրագրի դասիչը` | B10: 1049 | C10: Ցուցանիշների փոփոխությունը (ավելացումները նշված են դրական նշանով)
A11: Միջոցառման դասիչը` | B11: 21001 | C11: Տարի
A12: Միջոցառման անվանումը` | B12: Պետական նշանակության ավտոճանապարհների հիմնանորոգում
A13: Նկարագրությունը` | B13: Միջպետական՝ հանրապետական և մարզային նշանակության ավտոճոնապարհների քայքայված ծածկի վերանորոգում՝ մաշված ծածկի փոխարինում_x000D_
A14: Միջոցառման տեսակը` | B14: Հանրության կողմից անմիջականորեն օգտագործվող ակտիվների հետ կապված միջոցառումներ
A15: Արդյունքի չափորոշիչներ
A16: Հիմնանորոգվող ավտոճանապարհների երկարությունը/կիլոմետր/ այդ թվում՛
A17: Միջպետական նշանակության ավտոճանապարհներ
A18: Հանրապետական նշանակության ավտոճանապարհներ
A19: Մարզային նշանակության ավտոճանապարհներ
A20: Բավարար վիճակում ճանապարհների և հատվածների երկարության հարաբերությունը այդ կարգի ճանապարհների ողջ երկարությանը, %
A21: Աշխատանքների ավարտվածության աստիճան, %
A22: Միջոցառման վրա կատարվող ծախսը (հազար դրամ) | C22: ='3'!G22 -> 153264.3
A24: Ծրագրի դասիչը` | B24: 1049
A25: Միջոցառման դասիչը` | B25: 21002 | C25: Տարի
A26: Միջոցառման անվանումը` | B26: Տրանսպորտային օբյեկտների հիմնանորոգում
A27: Նկարագրությունը` | B27: Ավտոմոբիլային ճանապարհների վրա գտնվող կամուրջների հիմնանորոգում
A28: Միջոցառման տեսակը` | B28: Հանրության կողմից անմիջականորեն օգտագործվող ակտիվների հետ կապված միջոցառումներ
A29: Արդյունքի չափորոշիչներ
A30: Հիմնանորոգվող տրանսպորտային օբյեկտների թիվը, այդ թվում՛
A31: Կամուրջներ
A32: Կամուրջներ (մ)
A33: Աշխատանքների ավարտվածության աստիճան, %
A34: Միջոցառման վրա կատարվող ծախսը (հազար դրամ) | C34: ='3'!G31 -> -6295
A36: Ծրագրի դասիչը` | B36: 1049 | C36: Ցուցանիշների փոփոխությունը (ավելացումները նշված են դրական նշանով, իսկ նվազեցումները` փակագծերում)
A37: Ծրագրի դասիչը` | B37: 1049
A38: Միջոցառման դասիչը` | B38: 21007 | C38: Տարի
A39: Միջոցառման անվանումը` | B39: Եվրոպական ներդրումային բանկի աջակցությամբ իրականացվող Հյուսիս-հարավ միջանցքի զարգացման դրամաշնորհային ծրագիր, Տրանշ 3
A40: Նկարագրությունը` | B40: Եվրոպական ներդրումային բանկի աջակցությամբ իրականացվող Հյուսիս-հարավ միջանցքի զարգացման դրամաշնորհային ծրագրի իրականացման նպատակով ճանապարհային երթևեկության անվտանգության բարելավմանն ուղղված միջոցառումներ: 3-րդ Տրանշ
A41: Միջոցառման տեսակը` | B41: Հանրության կողմից անմիջականորեն օգտագործվող ակտիվների հետ կապված միջոցառումներ
A42: Միջոցառումն իրականացնողի անվանումը? | B42: Մասնագիտացված միավոր
A43: Արդյունքի չափորոշիչներ
...

Sheet 7
C1: Հավելված N7
C2: ՀՀ կառավարության 2019 թվականի N -Ն որոշման
A4: ՀԱՅԱՍՏԱՆԻ ՀԱՆՐԱՊԵՏՈՒԹՅԱՆ ԿԱՌԱՎԱՐՈՒԹՅԱՆ 2018 ԹՎԱԿԱՆԻ ԴԵԿՏԵՄԲԵՐԻ 27-Ի N 1515-Ն ՈՐՈՇՄԱՆ N 11.1 ՀԱՎԵԼՎԱԾԻ 11.1.8 ԱՂՅՈՒՍԱԿՈՒՄ ԿԱՏԱՐՎՈՂ ՓՈՓՈԽՈՒԹՅՈՒՆՆԵՐԸ
C5: Աղյուսակ 1.
A6: ՀՀ ՏԱՐԱԾՔԱՅԻՆ ԿԱՌԱՎԱՐՄԱՆ ԵՎ ԵՆԹԱԿԱՌՈՒՑՎԱԾՔՆԵՐԻ ՆԱԽԱՐԱՐՈՒԹՅՈՒՆ
A7: ՄԱՍ 1. ՊԵՏԱԿԱՆ ՄԱՐՄՆԻ ԳԾՈՎ ԱՐԴՅՈՒՆՔԱՅԻՆ (ԿԱՏԱՐՈՂԱԿԱՆ) ՑՈՒՑԱՆԻՇՆԵՐԸ
A8: Ծրագրի դասիչը | B8: Ծրագրի անվանումը
A9: 1049 | B9: Ճանապարհային ցանցի բարելավում
A10: Ծրագրի միջոցառումները
A11: Ծրագրի դասիչը` | B11: 1049 | C11: Ցուցանիշների փոփոխությունը (ավելացումները նշված են դրական նշանով, իսկ նվազեցումները` փակագծերում)
A12: Միջոցառման դասիչը` | B12: 21001 | C12: Տարի
A13: Միջոցառման անվանումը` | B13: Պետական նշանակության ավտոճանապարհների հիմնանորոգում
A14: Նկարագրությունը` | B14: Միջպետական՝ հանրապետական և մարզային նշանակության ավտոճոնապարհների քայքայված ծածկի վերանորոգում՝ մաշված ծածկի փոխարինում_x000D_
A15: Միջոցառման տեսակը` | B15: Հանրության կողմից անմիջականորեն օգտագործվող ակտիվների հետ կապված միջոցառումներ
A17: Արդյունքի չափորոշիչներ
A18: Հիմնանորոգվող ավտոճանապարհների երկարությունը/կիլոմետր/ այդ թվում՛
A19: Միջպետական նշանակության ավտոճանապարհներ
A20: Հանրապետական նշանակության ավտոճանապարհներ
A21: Մարզային նշանակության ավտոճանապարհներ
A22: Աշխատանքների ավարտվածության աստիճան, %
A23: Միջոցառման վրա կատարվող ծախսը (հազար դրամ) | C23: ='6'!C22 -> 153264.3
A25: Ծրագրի դասիչը` | B25: 1049
A26: Միջոցառման դասիչը` | B26: 21002
A27: Միջոցառման անվանումը` | B27: Տրանսպորտային օբյեկտների հիմնանորոգում
A28: Նկարագրությունը` | B28: Ավտոմոբիլային ճանապարհների վրա գտնվող կամուրջների հիմնանորոգում
A29: Միջոցառման տեսակը` | B29: Հանրության կողմից անմիջականորեն օգտագործվող ակտիվների հետ կապված միջոցառումներ
A30: Արդյունքի չափորոշիչներ
A31: Հիմնանորոգվող տրանսպորտային օբյեկտների թիվը, այդ թվում՛
A32: Կամուրջներ
A33: Կամուրջներ (մ)
A34: Աշխատանքների ավարտվածության աստիճան, %
A35: Միջոցառման վրա կատարվող ծախսը (հազար դրամ) | C35: ='6'!C34 -> -6295
C37: Ցուցանիշների փոփոխությունը (ավելացումները նշված են դրական նշանով, իսկ նվազեցումները` փակագծերում)
A38: Ծրագրի դասիչը` | B38: Ծրագրի անվանումը
A39: 1049 | B39: Ճանապարհային ցանցի բարելավում
A40: Ծրագրի միջոցառումները
A41: Միջոցառման դասիչը` | B41: 21007 | C41: Տարի
A42: Միջոցառման անվանումը` | B42: Եվրոպական ներդրումային բանկի աջակցությամբ իրականացվող Հյուսիս-հարավ միջանցքի զարգացման դրամաշնորհային ծրագիր, Տրանշ 3
A43: Նկարագրությունը` | B43: Եվրոպական ներդրումային բանկի աջակցությամբ իրականացվող Հյուսիս-հարավ միջանցքի զարգացման դրամաշնորհային ծրագրի իրականացման նպատակով ճանապարհային երթևեկության անվտանգության բարելավմանն ուղղված միջոցառումներ: 3-րդ Տրանշ
A44: Միջոցառման տեսակը` | B44: Հանրության կողմից անմիջականորեն օգտագործվող ակտիվների հետ կապված միջոցառումներ
...

Sheet 8
A1: Հավելված 8
A2: ՀՀ կառավարության 2019 թվականի
A3: ______________ ի ___Ն որոշման
A6: ՀԱՅԱՍՏԱՆԻ ՀԱՆՐԱՊԵՏՈՒԹՅԱՆ ԿԱՌԱՎԱՐՈՒԹՅԱՆ 2018 ԹՎԱԿԱՆԻ ԴԵԿՏԵՄԲԵՐԻ 27-Ի N 1515-Ն ՈՐՈՇՄԱՆ N 12 ՀԱՎԵԼՎԱԾՈՒՄ ԿԱՏԱՐՎՈՂ ՓՈՓՈԽՈՒԹՅՈՒՆՆԵՐԸ ԵՎ ԼՐԱՑՈՒՄՆԵՐԸ
A7: Կոդը | B7: Անվանումը | C7: Գնման ձևը | D7: Չափման միավորը | E7: Միավորի գինը հազ․ դրամ | F7: Ցուցանիշների փոփոխությունը (ավելացումները նշված են դրական նշանով, իսկ նվազեցումները` փակագծերում)
F8: Քանակը | G8: Գումարը (հազար դրամով)
A9: ՀՀ տարածքային կառավարման և ենթակառուցվածքների նախարարություն
A10: Բաժին N 04 | B10: Խումբ N 05 | C10: Դաս N 01 | D10: Ճանապարհային տրանսպորտ | G10: =G12+G18 -> 146969.3
A11: 1049 21001 | B11: Պետական նշանակության ավտոճանապարհների հիմնանորոգում
A12: ՄԱՍ I. ԱՇԽԱՏԱՆՔՆԵՐ | G12: =SUM(G13:G17) -> 216225.1
A13: 45231177/38 | B13: Ճանապարհների վերանորոգման աշխատանքներ | C13: ՀԲՄ | D13: դրամ | E13: -118500 | F13: 1 | G13: =+E13*F13 -> -118500
A14: 45231177/13 | B14: Ճանապարհների վերանորոգման աշխատանքներ | C14: ՀԲՄ | D14: դրամ | E14: 257579.6 | F14: 1 | G14: =+E14*F14 -> 257579.6
A15: 45231177/7 | B15: Ճանապարհների վերանորոգման աշխատանքներ | C15: ՀԲՄ | D15: դրամ | E15: 49984 | F15: 1 | G15: =+E15*F15 -> 49984
A16: 45231177/68 | B16: Ճանապարհների վերանորոգման աշխատանքներ | C16: ՀՄԱ | D16: դրամ | E16: 1407.5 | F16: 1 | G16: =+E16*F16 -> 1407.5
A17: 45231177/34 | B17: Ճանապարհների վերանորոգման աշխատանքներ | C17: ՀԲՄ | D17: դրամ | E17: 25754 | F17: 1 | G17: =+E17*F17 -> 25754
A18: ՄԱՍ II. ԾԱՌԱՅՈՒԹՅՈՒՆՆԵՐ | G18: =SUM(G19:G41) -> -69255.8
A19: 71351540/11 | B19: Տեխնիկական հսկողության ծառայություններ | C19: ՀԲՄ | D19: դրամ | E19: -7738 | F19: 1 | G19: -7738
A20: 71351540/12 | B20: Տեխնիկական հսկողության ծառայություններ | C20: ՀԲՄ | D20: դրամ | E20: -10420 | F20: 1 | G20: -10420
A21: 71351540/7 | B21: Տեխնիկական հսկողության ծառայություններ | C21: ՀԲՄ | D21: դրամ | E21: -9380 | F21: 1 | G21: -9380
A22: 71351540/23 | B22: Տեխնիկական հսկողության ծառայություններ | C22: ՀԲՄ | D22: դրամ | E22: -1887 | F22: 1 | G22: -1887
A23: 71351540/22 | B23: Տեխնիկական հսկողության ծառայություններ | C23: ՀԲՄ | D23: դրամ | E23: -5971.5 | F23: 1 | G23: =+E23*F23 -> -5971.5
A24: 71351540/27 | B24: Տեխնիկական հսկողության ծառայություններ | C24: ՀԲՄ | D24: դրամ | E24: -1350 | F24: 1 | G24: =+E24*F24 -> -1350
A25: 71351540/37 | B25: Տեխնիկական հսկողության ծառայություններ | C25: ՀԲՄ | D25: դրամ | E25: -1760 | F25: 1 | G25: =+E25*F25 -> -1760
A26: 71351540/4 | B26: Տեխնիկական հսկողության ծառայություններ | C26: ՀԲՄ | D26: դրամ | E26: -705.2 | F26: 1 | G26: =+E26*F26 -> -705.2
A27: 71351540/24 | B27: Տեխնիկական հսկողության ծառայություններ | C27: ՀԲՄ | D27: դրամ | E27: -916 | F27: 1 | G27: =+E27*F27 -> -916
A28: 71351540/25 | B28: Տեխնիկական հսկողության ծառայություններ | C28: ՀԲՄ | D28: դրամ | E28: -968 | F28: 1 | G28: =+E28*F28 -> -968
A29: 71351540/9 | B29: Տեխնիկական հսկողության ծառայություններ | C29: ՀԲՄ | D29: դրամ | E29: -401 | F29: 1 | G29: =+E29*F29 -> -401
A30: 71351540/20 | B30: Տեխնիկական հսկողության ծառայություններ | C30: ՀԲՄ | D30: դրամ | E30: -3411.4 | F30: 1 | G30: =+E30*F30 -> -3411.4
A31: 71351540/5 | B31: Տեխնիկական հսկողության ծառայություններ | C31: ՀԲՄ | D31: դրամ | E31: -812.7 | F31: 1 | G31: =+E31*F31 -> -812.7
A32: 71351540/21 | B32: Տեխնիկական հսկողության ծառայություններ | C32: ՀԲՄ | D32: դրամ | E32: -1183 | F32: 1 | G32: =+E32*F32 -> -1183
A33: 71351540/8 | B33: Տեխնիկական հսկողության ծառայություններ | C33: ՀԲՄ | D33: դրամ | E33: -1507 | F33: 1 | G33: =+E33*F33 -> -1507
A34: 71351540/17 | B34: Տեխնիկական հսկողության ծառայություններ | C34: ԳՀ | D34: դրամ | E34: -6295 | F34: 1 | G34: =+E34*F34 -> -6295
... A41: 98111140/66 | B41: Հեղինակային հսկողության ծառայություններ | C41: ՄԱ | D41: դրամ | E41: 115 | F41: 1 | G41: =+E41*F41 -> 115
