Workbook
Name _tab10: #REF!
Name _tab10: #REF!
Name _tab11: #REF!
Name _tab11: #REF!
Name _tab12: #REF!
Name _tab12: #REF!
Name _tab13: #REF!
Name _tab14: #REF!
Name _tab15: #REF!
Name _tab16: #REF!
Name _tab17: #REF!
Name _tab18: #REF!
Name _tab19: #REF!
Name _tab20: #REF!
Name _tab21: #REF!
Name _tab22: #REF!
Name _tab23: #REF!
Name _tab24: #REF!
Name _tab5: #REF!
Name _tab6: #REF!
Name _tab7: #REF!
Name _tab8: #REF!
Name _tab9: #REF!
Name par_count: #REF!,#REF!,#REF!,#REF!,#REF!,#REF!,#REF!,#REF!,#REF!,#REF!,#REF!,#REF!,#REF!,#REF!,#REF!
Name par_count: #REF!,#REF!,#REF!,#REF!,#REF!,#REF!,#REF!,#REF!,#REF!,#REF!,#REF!,#REF!,#REF!,#REF!,#REF!
Name par_qual: #REF!,#REF!,#REF!,#REF!,#REF!
Name par_qual: #REF!,#REF!,#REF!,#REF!,#REF!
Name par_time: #REF!,#REF!,#REF!,#REF!
Name par_time: #REF!,#REF!,#REF!,#REF!
Name par2.12s: #REF!
Name par2.4s: #REF!,#REF!,#REF!,#REF!,#REF!,#REF!,#REF!,#REF!,#REF!,#REF!,#REF!,#REF!,#REF!,#REF!,#REF!,#REF!
Name par2.4s: #REF!,#REF!,#REF!,#REF!,#REF!,#REF!,#REF!,#REF!,#REF!,#REF!,#REF!,#REF!,#REF!,#REF!,#REF!,#REF!
Name par2.5s: #REF!,#REF!
Name par2.6s: #REF!,#REF!,#REF!,#REF!
Name par2.7s: #REF!,#REF!
Name par2.9s: #REF!,#REF!,#REF!,#REF!,#REF!,#REF!,#REF!,#REF!,#REF!,#REF!,#REF!,#REF!,#REF!,#REF!,#REF!,#REF!
Name par2.9s: #REF!,#REF!,#REF!,#REF!,#REF!,#REF!,#REF!,#REF!,#REF!,#REF!,#REF!,#REF!,#REF!,#REF!,#REF!,#REF!
Name par4.10s: #REF!,#REF!
Name par4.11d: #REF!,#REF!,#REF!,#REF!,#REF!
Name par4.12d: #REF!
Name par4.13s: #REF!
Name par4.14: #REF!,#REF!,#REF!,#REF!,#REF!,#REF!
Name par4.15: #REF!,#REF!,#REF!
Name par4.16: #REF!,#REF!,#REF!
Name par4.17: #REF!,#REF!,#REF!,#REF!
Name par4.18d: #REF!,#REF!
Name par4.19s: #REF!
Name par4.20f: #REF!
Name par4.21f: #REF!
Name par4.22: #REF!
Name par4.4: #REF!
Name par4.5: #REF!
Name par4.6s: #REF!
Name par4.7s: #REF!
Name par4.8: #REF!,#REF!,#REF!,#REF!,#REF!
Name par4.9: #REF!,#REF!,#REF!,#REF!,#REF!,#REF!
Name par5.1: #REF!,#REF!
Name par5.3: #REF!,#REF!,#REF!,#REF!,#REF!,#REF!
Name par5.4: #REF!,#REF!,#REF!,#REF!,#REF!
Name par5.5: #REF!

Sheet 1
G2: Հավելված № 1
F3: ՀՀ կառավարության 2019 թվականի
G4: № ------------ -Ն որոշման
A6: ՀԱՅԱՍՏԱՆԻ ՀԱՆՐԱՊԵՏՈՒԹՅԱՆ ԿԱՌԱՎԱՐՈՒԹՅԱՆ 2018 ԹՎԱԿԱՆԻ ԴԵԿՏԵՄԲԵՐԻ 27-Ի № 1515-Ն ՈՐՈՇՄԱՆ NN 3 և 4 ՀԱՎԵԼՎԱԾՆԵՐՈՒՄ ԿԱՏԱՐՎՈՂ ՓՈՓՈԽՈՒԹՅՈՒՆՆԵՐԸ
A8: Գործառական դասիչը | D8: Ծրագրային դասիչը | F8: Բյուջետային հատկացումների գլխավոր կարգադրիչների, ծրագրերի, միջոցառումների և միջոցառումները կատարող պետական մարմինների անվանումները | G8: Ցուցանիշների փոփոխությունները (ավելացումները նշված են դրական նշանով իսկ նվազեցումները` փակագծերում)
A9: բաժին | B9: խումբ | C9: դաս | D9: Ծրագիր | E9: Միջոցառում | G9: Տարի
A10: 07 | F10: ԱՌՈՂՋԱՊԱՀՈՒԹՅՈՒՆ | G10: =+G12+G96+G193+G208 -> 0
F11: այդ թվում՝
B12: 02 | F12: Արտահիվանդանոցային ծառայություններ | G12: =G14+G28+G70+G83 -> -60500
F13: այդ թվում՝
C14: 01 | F14: Ընդհանուր բնույթի բժշկական ծառայություններ | G14: =G19 -> -110000
F15: այդ թվում՝
D17: 1099 | F17: Առողջության առաջնային պահպանում | G17: =G19+G30+G39 -> -97500
F18: այդ թվում
E19: 11001 | F19: Ամբուլատոր_պոլիկլինիկական բժշկական օգնության ծառայություններ | G19: =G21 -> -110000
F20: այդ թվում՝ ըստ կատարողների
F21: ՀՀ առողջապահության նախարարություն | G21: =G27 -> -110000
F22: այդ թվում՝ բյուջետային ծախսերի տնտեսագիտական դասակարգման հոդվածներ
F23: ԸՆԴԱՄԵՆԸ ԾԱԽՍԵՐ | G23: =G24 -> -110000
F24: ԸՆԹԱՑԻԿ ԾԱԽՍԵՐ | G24: =G25 -> -110000
F25: ԾԱՌԱՅՈՒԹՅՈՒՆՆԵՐԻ ԵՎ ԱՊՐԱՆՔՆԵՐԻ ՁԵՌՔԲԵՐՈՒՄ | G25: =G26 -> -110000
F26: Պայմանագրային այլ ծառայությունների ձեռքբերում | G26: =G27 -> -110000
F27: Ընդհանուր բնույթի այլ ծառայություններ | G27: -110000
C28: 02 | F28: Մասնագիտացված բժշկական ծառայություններ | G28: =G30+G39+G50+G61 -> 16500
F29: այդ թվում՝
E30: 11002 | F30: Շարունակական հսկողություն պահանջող և առանձին հիվանդությունների բուժման ծառայություններ | G30: =G32 -> 8500
F31: այդ թվում՝ ըստ կատարողների
F32: ՀՀ առողջապահության նախարարություն | G32: =G38 -> 8500
F33: այդ թվում՝ բյուջետային ծախսերի տնտեսագիտական դասակարգման հոդվածներ
F34: ԸՆԴԱՄԵՆԸ ԾԱԽՍԵՐ | G34: =G35 -> 8500
F35: ԸՆԹԱՑԻԿ ԾԱԽՍԵՐ | G35: =G36 -> 8500
F36: ԾԱՌԱՅՈՒԹՅՈՒՆՆԵՐԻ ԵՎ ԱՊՐԱՆՔՆԵՐԻ ՁԵՌՔԲԵՐՈՒՄ | G36: =G37 -> 8500
F37: Պայմանագրային այլ ծառայությունների ձեռքբերում | G37: =G38 -> 8500
F38: Ընդհանուր բնույթի այլ ծառայություններ | G38: 8500
E39: 11003 | F39: Բնածին հիպոթիրեոզի, ֆենիլկենտոնուրիայի և լսողության խանգարումների վաղ հայտնաբերման նպատակով նորածնային սքրինինգի անցկացում | G39: =G41 -> 4000
F40: այդ թվում՝ ըստ կատարողների
F41: ՀՀ առողջապահության նախարարություն | G41: =G47 -> 4000
F42: այդ թվում՝ բյուջետային ծախսերի տնտեսագիտական դասակարգման հոդվածներ
F43: ԸՆԴԱՄԵՆԸ ԾԱԽՍԵՐ | G43: =G44 -> 4000
F44: ԸՆԹԱՑԻԿ ԾԱԽՍԵՐ | G44: =G45 -> 4000
F45: ԾԱՌԱՅՈՒԹՅՈՒՆՆԵՐԻ ԵՎ ԱՊՐԱՆՔՆԵՐԻ ՁԵՌՔԲԵՐՈՒՄ | G45: =G46 -> 4000
F46: Պայմանագրային այլ ծառայությունների ձեռքբերում | G46: =G47 -> 4000
F47: Ընդհանուր բնույթի այլ ծառայություններ | G47: 4000
D48: 1202 | F48: Ոչ վարակիչ հիվանդությունների բժշկական օգնության ապահովում | G48: =G50 -> -8000
F49: այդ թվում
E50: 11001 | F50: Հեմոդիալիզի և պերիտոնիալ դիալիզի անցկացման ծառայություններ | G50: =G52 -> -8000
F51: այդ թվում՝ ըստ կատարողների
F52: ՀՀ առողջապահության նախարարություն | G52: =G58 -> -8000
F53: այդ թվում՝ բյուջետային ծախսերի տնտեսագիտական դասակարգման հոդվածներ
F54: ԸՆԴԱՄԵՆԸ ԾԱԽՍԵՐ | G54: =G55 -> -8000
F55: ԸՆԹԱՑԻԿ ԾԱԽՍԵՐ | G55: =G56 -> -8000
F56: ԾԱՌԱՅՈՒԹՅՈՒՆՆԵՐԻ ԵՎ ԱՊՐԱՆՔՆԵՐԻ ՁԵՌՔԲԵՐՈՒՄ | G56: =G57 -> -8000
F57: Պայմանագրային այլ ծառայությունների ձեռքբերում | G57: =G58 -> -8000
F58: Ընդհանուր բնույթի այլ ծառայություններ | G58: -8000
D59: 1200 | F59: Մոր և մանկան առողջության պահպանում | G59: =G61 -> 12000
F60: այդ թվում
E61: 11004 | F61: Մտավոր, հոգեկան (վարքագծային), լսողական, ֆիզիկական (շարժողական) և զարգացման այլ խանգարումներով երեխաների գնահատման և վերականգնողական բուժման ծառայություններ | G61: =G63 -> 12000
F62: այդ թվում՝ ըստ կատարողների
F63: ՀՀ առողջապահության նախարարություն | G63: =G69 -> 12000
F64: այդ թվում՝ բյուջետային ծախսերի տնտեսագիտական դասակարգման հոդվածներ
F65: ԸՆԴԱՄԵՆԸ ԾԱԽՍԵՐ | G65: =G66 -> 12000
F66: ԸՆԹԱՑԻԿ ԾԱԽՍԵՐ | G66: =G67 -> 12000
F67: ԾԱՌԱՅՈՒԹՅՈՒՆՆԵՐԻ ԵՎ ԱՊՐԱՆՔՆԵՐԻ ՁԵՌՔԲԵՐՈՒՄ | G67: =G68 -> 12000
F68: Պայմանագրային այլ ծառայությունների ձեռքբերում | G68: =G69 -> 12000
F69: Ընդհանուր բնույթի այլ ծառայություններ | G69: 12000
C70: 03 | F70: Ստոմատոլոգիական ծառայություններ | G70: =G74 -> -14000
F71: այդ թվում՝
D72: 1207 | F72: Սոցիալապես անապահով և առանձին խմբերի անձանց բժշկական օգնություն | G72: =G74 -> -14000
F73: այդ թվում՝
E74: 11002 | F74: Ստոմատոլոգիական բժշկական օգնության ծառայություններ | G74: =G76 -> -14000
F75: այդ թվում՝ ըստ կատարողների
F76: ՀՀ առողջապահության նախարարություն | G76: =G82 -> -14000
F77: այդ թվում՝ բյուջետային ծախսերի տնտեսագիտական դասակարգման հոդվածներ
F78: ԸՆԴԱՄԵՆԸ ԾԱԽՍԵՐ | G78: =G79 -> -14000
F79: ԸՆԹԱՑԻԿ ԾԱԽՍԵՐ | G79: =G80 -> -14000
F80: ԾԱՌԱՅՈՒԹՅՈՒՆՆԵՐԻ ԵՎ ԱՊՐԱՆՔՆԵՐԻ ՁԵՌՔԲԵՐՈՒՄ | G80: =G81 -> -14000
F81: Պայմանագրային այլ ծառայությունների ձեռքբերում | G81: =G82 -> -14000
F82: Ընդհանուր բնույթի այլ ծառայություններ | G82: -14000
C83: 04 | F83: Պարաբժշկական ծառայություններ | G83: =G87 -> 47000
F84: այդ թվում՝
D85: 1201 | F85: Շտապ բժշկական օգնության ծրագիր | G85: =G87 -> 47000
F86: այդ թվում՝
E87: 11001 | F87: Շտապ բժշկական օգնության ծառայություններ | G87: =G89 -> 47000
F88: այդ թվում՝ ըստ կատարողների
F89: ՀՀ առողջապահության նախարարություն | G89: =G95 -> 47000
F90: այդ թվում՝ բյուջետային ծախսերի տնտեսագիտական դասակարգման հոդվածներ
F91: ԸՆԴԱՄԵՆԸ ԾԱԽՍԵՐ | G91: =G92 -> 47000
F92: ԸՆԹԱՑԻԿ ԾԱԽՍԵՐ | G92: =G93 -> 47000
F93: ԾԱՌԱՅՈՒԹՅՈՒՆՆԵՐԻ ԵՎ ԱՊՐԱՆՔՆԵՐԻ ՁԵՌՔԲԵՐՈՒՄ | G93: =G94 -> 47000
F94: Պայմանագրային այլ ծառայությունների ձեռքբերում | G94: =G95 -> 47000
F95: Ընդհանուր բնույթի այլ ծառայություններ | G95: 47000
B96: 03 | F96: Հիվանդանոցային ծառայություններ | G96: =G98+G131+G153 -> 60500
F97: այդ թվում՝
C98: 01 | F98: Ընդհանուր բնույթի հիվանդանոցային ծառայություններ | G98: =G113+G102+G122 -> 179370
F99: այդ թվում՝
D100: 1202 | F100: Ոչ վարակիչ հիվանդությունների բժշկական օգնության ապահովում | G100: =G102 -> -64500
F101: այդ թվում՝
E102: 11002 | F102: Անհետաձգելի բժշկական օգնության ծառայություններ | G102: =G104 -> -64500
F103: այդ թվում՝ ըստ կատարողների
F104: ՀՀ առողջապահության նախարարություն | G104: =G110 -> -64500
...

Sheet 2
D1: Հավելված № 2
C2: ՀՀ կառավարության 2019 թվականի
D3: № ------------ -Ն որոշման
A5: ՀԱՅԱՍՏԱՆԻ ՀԱՆՐԱՊԵՏՈՒԹՅԱՆ 2019 ԹՎԱԿԱՆԻ ՊԵՏԱԿԱՆ ԲՅՈՒՋԵԻ ՄԱՍԻՆ» ՀԱՅԱՍՏԱՆԻ ՀԱՆՐԱՊԵՏՈՒԹՅԱՆ ՕՐԵՆՔԻ N 1 ՀԱՎԵԼՎԱԾԻ N 2 ԱՂՅՈՒՍԱԿՈՒՄ ԿԱՏԱՐՎՈՂ ՎԵՐԱԲԱՇԽՈՒՄԸ ԵՎ ՀԱՅԱՍՏԱՆԻ ՀԱՆՐԱՊԵՏՈՒԹՅԱՆ ԿԱՌԱՎԱՐՈՒԹՅԱՆ 2018 ԹՎԱԿԱՆԻ ԴԵԿՏԵՄԲԵՐԻ 27-Ի № 1515-Ն ՈՐՈՇՄԱՆ № 5 ՀԱՎԵԼՎԱԾԻ № 1 ԱՂՅՈՒՍԱԿՈՒՄ ԿԱՏԱՐՎՈՂ ՓՈՓՈԽՈՒԹՅՈՒՆՆԵՐԸ
A7: Ծրագրային դասիչը | C7: Բյուջետային հատկացումների գլխավոր կարգադրիչների, ծրագրերի և միջոցառումների անվանումները | D7: Ցուցանիշների փոփոխությունները (ավելացումները նշված են դրական նշանով իսկ նվազեցումները` փակագծերում)
A8: Ծրագիր | B8: Միջոցառում | D8: Տարի
C9: ԸՆԴԱՄԵՆԸ | D9: 0
C10: ՀՀ առողջապահության նախարարություն
A11: 1003 | C11: Ծրագրի անվանումը՝ | D11: =D18 -> 5756
C12: Հանրային առողջության պահպանում
C13: Ծրագրի նպատակը՝
C14: Մարդու օրգանիզմի վրա շրջակա միջավայրի վնասակար և վտանգավոր գործոնների ազդեցության բացառում և նվազեցում,կառավարելի վարակիչ հիվանդությունների դեմ պայքար
C15: Վերջնական արդյունքի նկարագրությունը՝
C16: Բնակչության սանիտարահամաճարակային անվտանգության և վարակիչ հիվանդությունների նկատմամբ բնակչության անընկալության ապահովում: Հանրապետությունում արյան, արյան բաղադրամասերի և արյան պատրաստուկների անհրաժեշտ քանակի ապահովում
C17: Ծրագրի միջոցառումներ
B18: 11003 | C18: Միջոցառման անվանումը՝ | D18: 5756
C19: Արյան հավաքագրման ծառայություններ
C20: Միջոցառման նկարագրությունը՝
C21: Մարդու դոնորական արյան հավաքագրում, վարակիչ հիվանդությունների նկատմամբ հետազոտություն, համապատասխան պայմաններում և ժամկետներում պահպանում, դրան առնչվող ծառայությունների իրականացում
C22: Միջոցառման տեսակը՝
C23: Ծառայությունների մատուցում
A24: 1099 | C24: Ծրագրի անվանումը՝ | D24: =D31+D37+D43 -> -97500
C25: Առողջության առաջնային պահպանում
C26: Ծրագրի նպատակը՝
C27: Բնակչությանը մատչելի և որակյալ առաջնային բժշկական օգնության և սպասարկման տրամադրում, առողջության վատթարացման ռիսկի գործոնների վերհանում և դրանց հնարավոր անբարենպաստ ազդեցության կանխարգելում
C28: Վերջնական արդյունքի նկարագրությունը՝
C29: Առողջության առաջնային պահպանման օղակում ցուցաբերվող բժշկական օգնության որակի, հիվանդությունների վաղ հայտնաբերման և կանխարգելման մակարդակի բարելավում, առողջապահական ծառայությունների վերաբերյալ իրազեկվածության և դրանց նկատմամբ պահանջարկի ավելացում
C30: Ծրագրի միջոցառումներ
B31: 11001 | C31: Միջոցառման անվանումը՝ | D31: -110000
C32: Ամբուլատոր-պոլիկլինիկական բժշկական օգնության ծառայություններ
C33: Միջոցառման նկարագրությունը՝
C34: Ամբուլատոր-պոլիկլինիկական բժշկական օգնության ծառայություններ
C35: Միջոցառման տեսակը՝
C36: Ծառայությունների մատուցում
B37: 11002 | C37: Միջոցառման անվանումը՝ | D37: ='1'!G30 -> 8500
C38: Շարունական հսկողություն պահանջող և առանձին հիվանդությունների բուժման ծառայություններ
C39: Միջոցառման նկարագրությունը՝
C40: Առանձին հիվանդությունների (քրոնիկ ,դիսպանսեր հսկողություն պահանջող) բժշկական օգնության համալիր միջոցառումների իրականացում (հետազոտում,ախտորոշում,բուժում)
C41: Միջոցառման տեսակը՝
C42: Ծառայությունների մատուցում
B43: 11003 | C43: Միջոցառման անվանումը՝ | D43: ='1'!G39 -> 4000
C44: Բնածին հիպոթիրեոզի, ֆենիլկենտոնուրիայի և լսողության խանգարումների վաղ հայտնաբերման նպատակով նորածնային սքրինինգի անցկացում
C45: Միջոցառման նկարագրությունը՝
C46: Բնածին հիպոթիրեոզի, ֆենիլկենտոնուրիայի և լսողության խանգարումների վաղ հայտնաբերման նպատակով նորածնային սքրինինգի շրջանակներում լաբորատոր և գործիքային ախտորոշիչ հետազոտությունների անցկացում
C47: Միջոցառման տեսակը՝
C48: Ծառայությունների մատուցում
A49: 1126 | C49: Ծրագրի անվանումը՝ | D49: =D56 -> 627
C50: Առողջապահության ոլորտում պետական քաղաքականության մշակում,ծրագրերի համակարգում և մոնիտորինգ
C51: Ծրագրի նպատակը՝
C52: Մարդու և հանրության առողջության պահպանում, բնակչության առողջության բարելավում, հիվանդությունների կանխարգելում, հաշմանդամության և մահացության ցուցանիշների նվազեցում
C53: Վերջնական արդյունքի նկարագրությունը՝
C54: Առողջապահության ոլորտում իրականացվող ծրագրերի ազդեցության և արդյունավետության բարելավում
C55: Ծրագրի միջոցառումներ
B56: 11001 | C56: Միջոցառման անվանումը՝ | D56: 627
C57: Առողջապահության ոլորտի պետական քաղաքականության մշակում,ծրագրերի համակարգում և մոնիտորինգ
C58: Միջոցառման նկարագրությունը՝
C59: Քաղաքականության մշակման և իրականացման,իրավական ակտերի նախագծերի մշակման , խորհրդատվության, ծրագրերի համակարգման, կանոնակարգման,առողջապահական, փորձագիտական,կազմակերպամեթոդական,գնման,մոնիտորինգի ծառայություններ
C60: Միջոցառման տեսակը՝
C61: Ծառայությունների մատուցում
A62: 1200 | C62: Ծրագրի անվանումը՝ | D62: =+D69+D75+D81+D87+D99+D93 -> -43883
C63: Մոր և մանկան առողջության պահպանում
C64: Ծրագրի նպատակը՝
C65: Մոր և մանկան առողջության պահպանում,կանանց և երեխաներին մատուցվող բժշկական ծառայությունների մատչելիություն և որակի բարելավում
C66: Վերջնական արդյունքի նկարագրությունը՝
C67: Մանկական և մայրական մահացության և հիվանդացության կրճատում, կանանց վերարտադրողական առողջության բարելավում
C68: Ծրագրի միջոցառումներ
B69: 11001 | C69: Միջոցառման անվանումը՝ | D69: ='1'!G175 -> 74000
C70: Մանկաբարձական բժշկական օգնության ծառայություններ
C71: Միջոցառման նկարագրությունը՝
C72: Մանկաբարձական բժշկական օգնության համալիր միջոցառումների իրականացում, հղիության ախտաբանական ընթացքի բժշկական օգնություն և ծննդօգնություն
C73: Միջոցառման տեսակը՝
C74: Ծառայությունների մատուցում
B75: 11002 | C75: Միջոցառման անվանումը՝ | D75: ='1'!G159 -> -13000
C76: Գինեկոլոգիական հիվանդությունների բժշկական օգնության ծառայություններ
C77: Միջոցառման նկարագրությունը՝
C78: Գինեկոլոգիական հիվանդությունների բուժման համալիր միջոցառումների իրականացում
C79: Միջոցառման տեսակը՝
C80: Ծառայությունների մատուցում
B81: 11003 | C81: Միջոցառման անվանումը՝ | D81: ='1'!G166 -> -90500
C82: Երեխաներին բժշկական օգնության ծառայություններ
C83: Միջոցառման նկարագրությունը՝
C84: Երեխաների (0-7 տարեկան, 7-18 տարեկան սոցիալապես անապահով և հատուկ խմբերում ընդգրկված երեխաներին) հիվանդանոցային բժշկական օգնության իրականացում (հետազոտում, ախտորոշում, բուժում)
C85: Միջոցառման տեսակը՝
C86: Ծառայությունների մատուցում
B87: 11004 | C87: Միջոցառման անվանումը՝ | D87: ='1'!G61 -> 12000
C88: Մտավոր, հոգեկան (վարքագծային), լսողական, ֆիզիկական (շարժողական) և զարգացման այլ խանգարումներով երեխաների գնահատման և վերականգնողական բուժման ծառայություններ
C89: Միջոցառման նկարագրությունը՝
C90: Մտավոր, հոգեկան (վարքագծային), լսողական, ֆիզիկական (շարժողական) և զարգացման այլ խանգարումներով երեխաների առողջական վիճակի գնահատումը և վերականգնողական ամբուլատոր բուժման կազմակերպումը
C91: Միջոցառման տեսակը՝
C92: Ծառայությունների մատուցում
B93: 11005 | C93: Միջոցառման անվանումը՝ | D93: -6383
C94: Հաշմանդամ և կարիքավոր երեխաներին օրթեզներով և կորսետներով ապահովման ծառայություններ
C95: Միջոցառման նկարագրությունը՝
C96: Հաշմանդամ երեխաների համար օրթեզների և կորսետների օգտագործմամբ բժշկական օգնություն
C97: Միջոցառման տեսակը՝
C98: Ծառայությունների մատուցում
B99: 11006 | C99: Միջոցառման անվանումը՝ | D99: ='1'!G184 -> -20000
C100: Անպտուղ զույգերի համար վերարտադրողական օժանդակ տեխնոլոգիաների կիրառմամբ բժշկական օգնության ծառայություններ
C101: Միջոցառման նկարագրությունը՝
C102: Բնակչության առանձին և հատուկ խմբերում ընդգրկված անպտուղ զույգերին վերարտադրողական օժանդակ տեխնոլոգիաների կիրառմամբ բժշկական օգնության տրամադրում
...

Sheet 3
D2: Հավելված № 3
B3: ՀՀ կառավարության 2019 թվականի
C4: № ------------ -Ն որոշման
A6: ՀԱՅԱՍՏԱՆԻ ՀԱՆՐԱՊԵՏՈՒԹՅԱՆ ԿԱՌԱՎԱՐՈՒԹՅԱՆ 2018 ԹՎԱԿԱՆԻ ԴԵԿՏԵՄԲԵՐԻ 27-Ի N 1515-Ն ՈՐՈՇՄԱՆ N 11 ՀԱՎԵԼՎԱԾԻ 11.9 ԱՂՅՈՒՍԱԿՈՒՄ ԿԱՏԱՐՎՈՂ ՓՈՓՈԽՈՒԹՅՈՒՆՆԵՐԸ _x000D_
A7: ՀՀ Առողջապահության նախարարություն
A8: ՄԱՍ 2. ՊԵՏԱԿԱՆ ՄԱՐՄՆԻ ԳԾՈՎ ԱՐԴՅՈՒՆՔԱՅԻՆ (ԿԱՏԱՐՈՂԱԿԱՆ) ՑՈՒՑԱՆԻՇՆԵՐԸ
A9: Ծրագրի դասիչը | B9: Ծրագրի անվանումը
A10: 1003 | B10: Հանրային առողջության պահպանում
A11: Ծրագրի միջոցառումները
A12: Ծրագրի դասիչը` | B12: 1003 | C12: Ցուցանիշների փոփոխությունները (ավելացումները նշված են դրական նշանով)
A13: Միջոցառման դասիչը` | B13: 11003 | C13: Տարի
A14: Միջոցառման անվանումը` | B14: Արյան հավաքագրման ծառայություններ
A15: Նկարագրությունը` | B15: Մարդու դոնորական արյան հավաքագրում,, վարակիչ հիվանդությունների նկատմամբ հետազոտություն, համապատասխան պայմաններում և ժամկետներում պահպանում, դրանց առնչվող ծառայությունների իրականացում
A16: Միջոցառման տեսակը` | B16: Ծառայությունների մատուցում
A17: Միջոցառումն իրականացնողի անվանումը | B17: «Գնումների մասին» ՀՀ օրենքի համաձայն ընտրված կազմակերպություն
A18: Արդյունքի չափորոշիչներ
A19: ՀՀ-ում ծննդօգնության շրջանակում հակառեզուս RH(D) իմունոգլոբուլինի ապահովման դեպքերի թիվ, հատ
A20: Վարակիչ հիվանդություններիր նկատմամբ դոնորական փորձանմուշների չափորոշիչով հաստատված լաբորատոր փաթեթային հետազոտություններիր թիվ, հատ
A21: Հավաքագրված արյան նմուշների(միավորների) ընդհանուր թվից օգտագործման համար պիտանի արյան բաղադրամասերի թիվ, հատ
A22: հավաքագրված արյան բաղադրամասերի թվում պահպանման ժամկետների ընթացքում թափոնված նմուշների առավելագույն մասնաբաժին, տոկոս
A23: Դոնորական արյան փորձանմուշի փաթեթի հետազոտման առավելագույն ժամկետ, ժամ
A24: Միջոցառման վրա կատարվող ծախսը (հազար դրամ) | C24: 5756
A25: Ծրագրի դասիչը | B25: Ծրագրի անվանումը
A26: 1099 | B26: Առողջության առաջնային պահպանում
A27: Ծրագրի միջոցառումները
A28: Ծրագրի դասիչը` | B28: 1099 | C28: Ցուցանիշների փոփոխությունները (նվազեցումները նշված են փակագծերում)
A29: Միջոցառման դասիչը` | B29: 11001 | C29: Տարի
A30: Միջոցառման անվանումը` | B30: Ամբուլատոր-պոլիկլինիկական բժշկական օգնության ծառայություններ
A31: Նկարագրությունը` | B31: Ամբուլատոր-պոլիկլինիկական բժշկական օգնության ծառայություններ
A32: Միջոցառման տեսակը` | B32: Ծառայությունների մատուցում
A33: Միջոցառումն իրականացնողի անվանումը | B33: «Գնումների մասին» ՀՀ օրենքի համաձայն ընտրված կազմակերպություն
A34: Արդյունքի չափորոշիչներ
A35: Բնակչության առողջության առաջնային պահպանման գծով կազմակերպություններում գրանցված բնակչության թիվ, մարդ
A36: Տեղամասային թերապևտի,ընտանեկան բժշկի կողմից,կազմակերպություններում գրանցված բնակչության թիվ` 18 և ավելի բարձր տարիքի անձինք,մարդ
A37: Տեղամասային մանկաբույժի, ընտանեկան բժշկի կողմից կազմակերպություններում գրանցված բնակչության թիվ` մինչև 18 տ. երեխաներ,մարդ
A38: Դպրոցում բժշկական օգնություն և սպասարկում ստացող աշակերտների թիվ,մարդ
A39: Անվճար և արտոնյալ պայմաններով դեղեր ստանալու իրավունք ունեցող անձանց ընդամենը թիվ,մարդ | C39: -65000
A40: Հղիների նախածննդյան և հետծննդյան հսկողության ընթացքում իրականացվող լաբորատոր-գործիքային ախտորոշիչ հետազոտությունների թիվ,հատ | C40: -40000
A41: ԱՊ հաստատություններում մեկ բժշկի կողմից սպասարկված հիվանդների թիվ,միջին օրական դեպքեր
A42: Զինկոմիսարիատներին կից բժշկական հանձնաժողովներում ընդգրկված բժիշկ-փորձագետների և բուժքույրերի թիվ,մարդ
A43: Հղիության առաջին եռամսյակում նախածննդյան խնամք ստացող հղի կանանց թիվ,տոկոս
A44: Միջոցառման վրա կատարվող ծախսը (հազար դրամ) | C44: =+'1'!G19 -> -110000
A45: Ծրագրի դասիչը` | B45: 1099 | C45: Ցուցանիշների փոփոխությունները (ավելացումները նշված են դրական նշանով)
A46: Միջոցառման դասիչը` | B46: 11002 | C46: Տարի
A47: Միջոցառման անվանումը` | B47: Շարունական հսկողություն պահանջող և առանձին հիվանդությունների բուժման ծառայություններ
A48: Նկարագրությունը` | B48: Առանձին հիվանդությունների (քրոնիկ ,դիսպանսեր հսկողություն պահանջող) բժշկական օգնության համալիր միջոցառումների իրականացում (հետազոտում,ախտորոշում,բուժում)
A49: Միջոցառման տեսակը` | B49: Ծառայությունների մատուցում
A50: Միջոցառումն իրականացնողի անվանումը | B50: «Գնումների մասին» ՀՀ օրենքի համաձայն ընտրված կազմակերպություն
A51: Արդյունքի չափորոշիչներ
A52: Շարունակական հսկողություն պահանջող և առանձին հիվանդությունների բուժման գծով ծառայությունների օգտվելու դեպքերի թիվ, հատ | C52: 440
A53: Միջոցառման վրա կատարվող ծախսը (հազար դրամ) | C53: =+'1'!G30 -> 8500
A54: Ծրագրի դասիչը` | B54: 1099 | C54: Ցուցանիշների փոփոխությունները (ավելացումները նշված են դրական նշանով)
A55: Միջոցառման դասիչը` | B55: 11003 | C55: Տարի
A56: Միջոցառման անվանումը` | B56: Բնածին հիպոթիրեոզի, ֆենիլկենտոնուրիայի և լսողության խանգարումների վաղ հայտնաբերման նպատակով նորածնային սքրինինգի անցկացում
A57: Նկարագրությունը` | B57: Բնածին հիպոթիրեոզի, ֆենիլկենտոնուրիայի և լսողության խանգարումների վաղ հայտնաբերման նպատակով նորածնային սքրինինգի շրջանակներում լաբորատոր և գործիքային ախտորոշիչ հետազոտությունների անցկացում
A58: Միջոցառման տեսակը` | B58: Ծառայությունների մատուցում
A59: Միջոցառումն իրականացնողի անվանումը | B59: «Գնումների մասին» ՀՀ օրենքի համաձայն ընտրված կազմակերպություն
A60: Արդյունքի չափորոշիչներ
A61: Հետազատությունների քանակ,հատ | C61: 1800
A62: Միջոցառման վրա կատարվող ծախսը (հազար դրամ) | C62: =+'1'!G39 -> 4000
A63: Ծրագրի դասիչը | B63: Ծրագրի անվանումը
A64: 1126 | B64: Առողջապահության ոլորտում պետական քաղաքականության մշակում,ծրագրերի համակարգում և մոնիտորինգ
A65: Ծրագրի միջոցառումները
A66: Ծրագրի դասիչը` | B66: 1126 | C66: Ցուցանիշների փոփոխությունները (ավելացումները նշված են դրական նշանով)
A67: Միջոցառման դասիչը` | B67: 11001 | C67: Տարի
A68: Միջոցառման անվանումը` | B68: Առողջապահության ոլորտի պետական քաղաքականության մշակում, ծրագրերի համակարգում և մոնիտորինգ
A69: Նկարագրությունը` | B69: Քաղաքականության մշակման և իրականացման,իրավական ակտերի նախագծերի մշակման, խորհրդատվության, ծրագրերի համակարգման, կանոնակարգման,առողջապահական, փորձագիտական, կազմակերպամեթոդական, գնման, մոնիտորինգի ծառայություններ
A70: Միջոցառման տեսակը` | B70: Ծառայությունների մատուցում
A71: Միջոցառումն իրականացնողի անվանումը | B71: ՀՀ առողջապահության նախարարություն
A72: Արդյունքի չափորոշիչներ
A73: Սահմանված են առանձին ծրագրերում
A74: Միջոցառման վրա կատարվող ծախսը (հազար դրամ) | C74: 627
A75: Ծրագրի դասիչը | B75: Ծրագրի անվանումը
A76: 1200 | B76: Մոր և մանկան առողջության պահպանում
A77: Ծրագրի միջոցառումները
A78: Ծրագրի դասիչը` | B78: 1200 | C78: Ցուցանիշների փոփոխությունները (ավելացումները նշված են դրական նշանով իսկ նվազեցումները` փակագծերում)
A79: Միջոցառման դասիչը` | B79: 11001 | C79: Տարի
A80: Միջոցառման անվանումը` | B80: Մանկաբարձական բժշկական օգնության ծառայություններ
A81: Նկարագրությունը` | B81: Մանկաբարձական բժշկական օգնության համալիր միջոցառումների իրականացում, հղիության ախտաբանական ըւնթացքի բժշկական օգնություն և ծննդօգնություն
A82: Միջոցառման տեսակը` | B82: Ծառայությունների մատուցում
A83: Միջոցառումն իրականացնողի անվանումը | B83: «Գնումների մասին» ՀՀ օրենքի համաձայն ընտրված կազմակերպություն
A84: Արդյունքի չափորոշիչներ
A85: Մանկաբարձական բժշկական օգնության ծառայություններից օգտվելու դեպքերի թիվ հատ | C85: 250
A86: Միջոցառման վրա կատարվող ծախսը (հազար դրամ) | C86: =+'1'!G175 -> 74000
A87: Ծրագրի միջոցառումները
A88: Ծրագրի դասիչը` | B88: 1200 | C88: Ցուցանիշների փոփոխությունները (նվազեցումները նշված են փակագծերում)
A89: Միջոցառման դասիչը` | B89: 11002 | C89: Տարի
A90: Միջոցառման անվանումը` | B90: Գինեկոլոգիական հիվանդությունների բժշկական օգնության ծառայություններ
A91: Նկարագրությունը` | B91: Գինեկոլոգիական հիվանդությունների բուժման համալիր միջոցառումների իրականացում
A92: Միջոցառման տեսակը` | B92: Ծառայությունների մատուցում
A93: Միջոցառումն իրականացնողի անվանումը | B93: «Գնումների մասին» ՀՀ օրենքի համաձայն ընտրված կազմակերպություն
A94: Արդյունքի չափորոշիչներ
A95: Գինեկոլոգիական բժշկական օգնության գծով ծառայություններից օգտվելու դեպքերի թիվ,հատ | C95: -90
A96: Միջոցառման վրա կատարվող ծախսը (հազար դրամ) | C96: =+'1'!G157 -> -13000
A97: Ծրագրի միջոցառումները
A98: Ծրագրի դասիչը` | B98: 1200 | C98: Ցուցանիշների փոփոխությունները (նվազեցումները նշված են փակագծերում)
A99: Միջոցառման դասիչը` | B99: 11003 | C99: Տարի
A100: Միջոցառման անվանումը` | B100: Երեխաներին բժշկական օգնության ծառայություններ
A101: Նկարագրությունը` | B101: Երեխաների (0-7 տարեկան, 7-18 տարեկան սոցիալապես անապահով և հատուկ խմբերում ընդգրկված երեխաներին) հիվանդանոցային բժշկական օգնության իրականացում (հետազոտում, ախտորոշում, բուժում)
A102: Միջոցառման տեսակը` | B102: Ծառայությունների մատուցում
...

Sheet 4
D2: Հավելված № 4
B3: ՀՀ կառավարության 2019 թվականի
C4: № ------------ -Ն որոշման
A6: ՀԱՅԱՍՏԱՆԻ ՀԱՆՐԱՊԵՏՈՒԹՅԱՆ ԿԱՌԱՎԱՐՈՒԹՅԱՆ 2018 ԹՎԱԿԱՆԻ ԴԵԿՏԵՄԲԵՐԻ 27-Ի N 1515-Ն ՈՐՈՇՄԱՆ N 11 ՀԱՎԵԼՎԱԾԻ 11.9.1 ԱՂՅՈՒՍԱԿՈՒՄ ԿԱՏԱՐՎՈՂ ՓՈՓՈԽՈՒԹՅՈՒՆՆԵՐԸ _x000D_
A7: ՀՀ Առողջապահության նախարարություն
A8: ՄԱՍ 2. ՊԵՏԱԿԱՆ ՄԱՐՄՆԻ ԳԾՈՎ ԱՐԴՅՈՒՆՔԱՅԻՆ (ԿԱՏԱՐՈՂԱԿԱՆ) ՑՈՒՑԱՆԻՇՆԵՐԸ
A9: Ծրագրի դասիչը | B9: Ծրագրի անվանումը
A10: 1003 | B10: Հանրային առողջության պահպանում
A11: Ծրագրի միջոցառումները
A12: Ծրագրի դասիչը` | B12: 1003 | C12: Ցուցանիշների փոփոխությունները (ավելացումները նշված են դրական նշանով)
A13: Միջոցառման դասիչը` | B13: 11003 | C13: Տարի
A14: Միջոցառման անվանումը` | B14: Արյան հավաքագրման ծառայություններ
A15: Նկարագրությունը` | B15: Մարդու դոնորական արյան հավաքագրում,, վարակիչ հիվանդությունների նկատմամբ հետազոտություն, համապատասխան պայմաններում և ժամկետներում պահպանում, դրանց առնչվող ծառայությունների իրականացում
A16: Միջոցառման տեսակը` | B16: Ծառայությունների մատուցում
A17: Միջոցառումն իրականացնողի անվանումը | B17: «Գնումների մասին» ՀՀ օրենքի համաձայն ընտրված կազմակերպություն
A18: Արդյունքի չափորոշիչներ
A19: ՀՀ-ում ծննդօգնության շրջանակում հակառեզուս RH(D) իմունոգլոբուլինի ապահովման դեպքերի թիվ, հատ
A20: Վարակիչ հիվանդություններիր նկատմամբ դոնորական փորձանմուշների չափորոշիչով հաստատված լաբորատոր փաթեթային հետազոտություններիր թիվ, հատ
A21: Հավաքագրված արյան նմուշների(միավորների) ընդհանուր թվից օգտագործման համար պիտանի արյան բաղադրամասերի թիվ, հատ
A22: հավաքագրված արյան բաղադրամասերի թվում պահպանման ժամկետների ընթացքում թափոնված նմուշների առավելագույն մասնաբաժին, տոկոս
A23: Դոնորական արյան փորձանմուշի փաթեթի հետազոտման առավելագույն ժամկետ, ժամ
A24: Միջոցառման վրա կատարվող ծախսը (հազար դրամ) | C24: 5756
A25: Ծրագրի դասիչը | B25: Ծրագրի անվանումը
A26: 1099 | B26: Առողջության առաջնային պահպանում
A27: Ծրագրի միջոցառումները
A28: Ծրագրի դասիչը` | B28: 1099 | C28: Ցուցանիշների փոփոխությունները (նվազեցումները նշված են փակագծերում)
A29: Միջոցառման դասիչը` | B29: 11001 | C29: Տարի
A30: Միջոցառման անվանումը` | B30: Ամբուլատոր-պոլիկլինիկական բժշկական օգնության ծառայություններ
A31: Նկարագրությունը` | B31: Ամբուլատոր-պոլիկլինիկական բժշկական օգնության ծառայություններ
A32: Միջոցառման տեսակը` | B32: Ծառայությունների մատուցում
A33: Միջոցառումն իրականացնողի անվանումը | B33: «Գնումների մասին» ՀՀ օրենքի համաձայն ընտրված կազմակերպություն
A34: Արդյունքի չափորոշիչներ
A35: Բնակչության առողջության առաջնային պահպանման գծով կազմակերպություններում գրանցված բնակչության թիվ, մարդ
A36: Տեղամասային թերապևտի,ընտանեկան բժշկի կողմից,կազմակերպություններում գրանցված բնակչության թիվ` 18 և ավելի բարձր տարիքի անձինք,մարդ
A37: Տեղամասային մանկաբույժի, ընտանեկան բժշկի կողմից կազմակերպություններում գրանցված բնակչության թիվ` մինչև 18 տ. երեխաներ,մարդ
A38: Դպրոցում բժշկական օգնություն և սպասարկում ստացող աշակերտների թիվ,մարդ
A39: Անվճար և արտոնյալ պայմաններով դեղեր ստանալու իրավունք ունեցող անձանց ընդամենը թիվ,մարդ | C39: -65000
A40: Հղիների նախածննդյան և հետծննդյան հսկողության ընթացքում իրականացվող լաբորատոր-գործիքային ախտորոշիչ հետազոտությունների թիվ,հատ | C40: -40000
A41: ԱՊ հաստատություններում մեկ բժշկի կողմից սպասարկված հիվանդների թիվ,միջին օրական դեպքեր
A42: Զինկոմիսարիատներին կից բժշկական հանձնաժողովներում ընդգրկված բժիշկ-փորձագետների և բուժքույրերի թիվ,մարդ
A43: Հղիության առաջին եռամսյակում նախածննդյան խնամք ստացող հղի կանանց թիվ,տոկոս
A44: Միջոցառման վրա կատարվող ծախսը (հազար դրամ) | C44: =+'1'!G19 -> -110000
A45: Ծրագրի դասիչը` | B45: 1099 | C45: Ցուցանիշների փոփոխությունները (ավելացումները նշված են դրական նշանով)
A46: Միջոցառման դասիչը` | B46: 11002 | C46: Տարի
A47: Միջոցառման անվանումը` | B47: Շարունական հսկողություն պահանջող և առանձին հիվանդությունների բուժման ծառայություններ
A48: Նկարագրությունը` | B48: Առանձին հիվանդությունների (քրոնիկ ,դիսպանսեր հսկողություն պահանջող) բժշկական օգնության համալիր միջոցառումների իրականացում (հետազոտում,ախտորոշում,բուժում)
A49: Միջոցառման տեսակը` | B49: Ծառայությունների մատուցում
A50: Միջոցառումն իրականացնողի անվանումը | B50: «Գնումների մասին» ՀՀ օրենքի համաձայն ընտրված կազմակերպություն
A51: Արդյունքի չափորոշիչներ
A52: Շարունակական հսկողություն պահանջող և առանձին հիվանդությունների բուժման գծով ծառայությունների օգտվելու դեպքերի թիվ, հատ | C52: 440
A53: Միջոցառման վրա կատարվող ծախսը (հազար դրամ) | C53: =+'1'!G30 -> 8500
A54: Ծրագրի դասիչը` | B54: 1099 | C54: Ցուցանիշների փոփոխությունները (ավելացումները նշված են դրական նշանով)
A55: Միջոցառման դասիչը` | B55: 11003 | C55: Տարի
A56: Միջոցառման անվանումը` | B56: Բնածին հիպոթիրեոզի, ֆենիլկենտոնուրիայի և լսողության խանգարումների վաղ հայտնաբերման նպատակով նորածնային սքրինինգի անցկացում
A57: Նկարագրությունը` | B57: Բնածին հիպոթիրեոզի, ֆենիլկենտոնուրիայի և լսողության խանգարումների վաղ հայտնաբերման նպատակով նորածնային սքրինինգի շրջանակներում լաբորատոր և գործիքային ախտորոշիչ հետազոտությունների անցկացում
A58: Միջոցառման տեսակը` | B58: Ծառայությունների մատուցում
A59: Միջոցառումն իրականացնողի անվանումը | B59: «Գնումների մասին» ՀՀ օրենքի համաձայն ընտրված կազմակերպություն
A60: Արդյունքի չափորոշիչներ
A61: Հետազատությունների քանակ,հատ | C61: 1800
A62: Միջոցառման վրա կատարվող ծախսը (հազար դրամ) | C62: =+'1'!G39 -> 4000
A63: Ծրագրի դասիչը | B63: Ծրագրի անվանումը
A64: 1126 | B64: Առողջապահության ոլորտում պետական քաղաքականության մշակում,ծրագրերի համակարգում և մոնիտորինգ
A65: Ծրագրի միջոցառումները
A66: Ծրագրի դասիչը` | B66: 1126 | C66: Ցուցանիշների փոփոխությունները (ավելացումները նշված են դրական նշանով)
A67: Միջոցառման դասիչը` | B67: 11001 | C67: Տարի
A68: Միջոցառման անվանումը` | B68: Առողջապահության ոլորտի պետական քաղաքականության մշակում, ծրագրերի համակարգում և մոնիտորինգ
A69: Նկարագրությունը` | B69: Քաղաքականության մշակման և իրականացման,իրավական ակտերի նախագծերի մշակման, խորհրդատվության, ծրագրերի համակարգման, կանոնակարգման,առողջապահական, փորձագիտական, կազմակերպամեթոդական, գնման, մոնիտորինգի ծառայություններ
A70: Միջոցառման տեսակը` | B70: Ծառայությունների մատուցում
A71: Միջոցառումն իրականացնողի անվանումը | B71: ՀՀ առողջապահության նախարարություն
A72: Արդյունքի չափորոշիչներ
A73: Սահմանված են առանձին ծրագրերում
A74: Միջոցառման վրա կատարվող ծախսը (հազար դրամ) | C74: 627
A75: Ծրագրի դասիչը | B75: Ծրագրի անվանումը
A76: 1200 | B76: Մոր և մանկան առողջության պահպանում
A77: Ծրագրի միջոցառումները
A78: Ծրագրի դասիչը` | B78: 1200 | C78: Ցուցանիշների փոփոխությունները (ավելացումները նշված են դրական նշանով իսկ նվազեցումները` փակագծերում)
A79: Միջոցառման դասիչը` | B79: 11001 | C79: Տարի
A80: Միջոցառման անվանումը` | B80: Մանկաբարձական բժշկական օգնության ծառայություններ
A81: Նկարագրությունը` | B81: Մանկաբարձական բժշկական օգնության համալիր միջոցառումների իրականացում, հղիության ախտաբանական ըւնթացքի բժշկական օգնություն և ծննդօգնություն
A82: Միջոցառման տեսակը` | B82: Ծառայությունների մատուցում
A83: Միջոցառումն իրականացնողի անվանումը | B83: «Գնումների մասին» ՀՀ օրենքի համաձայն ընտրված կազմակերպություն
A84: Արդյունքի չափորոշիչներ
A85: Մանկաբարձական բժշկական օգնության ծառայություններից օգտվելու դեպքերի թիվ հատ | C85: 250
A86: Միջոցառման վրա կատարվող ծախսը (հազար դրամ) | C86: =+'1'!G175 -> 74000
A87: Ծրագրի միջոցառումները
A88: Ծրագրի դասիչը` | B88: 1200 | C88: Ցուցանիշների փոփոխությունները (նվազեցումները նշված են փակագծերում)
A89: Միջոցառման դասիչը` | B89: 11002 | C89: Տարի
A90: Միջոցառման անվանումը` | B90: Գինեկոլոգիական հիվանդությունների բժշկական օգնության ծառայություններ
A91: Նկարագրությունը` | B91: Գինեկոլոգիական հիվանդությունների բուժման համալիր միջոցառումների իրականացում
A92: Միջոցառման տեսակը` | B92: Ծառայությունների մատուցում
A93: Միջոցառումն իրականացնողի անվանումը | B93: «Գնումների մասին» ՀՀ օրենքի համաձայն ընտրված կազմակերպություն
A94: Արդյունքի չափորոշիչներ
A95: Գինեկոլոգիական բժշկական օգնության գծով ծառայություններից օգտվելու դեպքերի թիվ,հատ | C95: -90
A96: Միջոցառման վրա կատարվող ծախսը (հազար դրամ) | C96: =+'1'!G157 -> -13000
A97: Ծրագրի միջոցառումները
A98: Ծրագրի դասիչը` | B98: 1200 | C98: Ցուցանիշների փոփոխությունները (նվազեցումները նշված են փակագծերում)
A99: Միջոցառման դասիչը` | B99: 11003 | C99: Տարի
A100: Միջոցառման անվանումը` | B100: Երեխաներին բժշկական օգնության ծառայություններ
A101: Նկարագրությունը` | B101: Երեխաների (0-7 տարեկան, 7-18 տարեկան սոցիալապես անապահով և հատուկ խմբերում ընդգրկված երեխաներին) հիվանդանոցային բժշկական օգնության իրականացում (հետազոտում, ախտորոշում, բուժում)
A102: Միջոցառման տեսակը` | B102: Ծառայությունների մատուցում
...

Sheet 5
H2: Հավելված № 5
H3: ՀՀ կառավարության 2019 թվականի
H4: № ------------ -Ն որոշման
A6: ՀԱՅԱՍՏԱՆԻ ՀԱՆՐԱՊԵՏՈՒԹՅԱՆ ԿԱՌԱՎԱՐՈՒԹՅԱՆ 2018 ԹՎԱԿԱՆԻ ԴԵԿՏԵՄԲԵՐԻ 27-Ի N 1515-Ն ՈՐՈՇՄԱՆ N 12 ՀԱՎԵԼՎԱԾՈՒՄ ԿԱՏԱՐՎՈՂ ՓՈՓՈԽՈՒԹՅՈՒՆՆԵՐԸ _x000D_
A7: ՀՀ Առողջապահության նախարարություն
I8: (հազար դրամներով)
A9: Գնման առարկայի | E9: Գնման ձևը (ընթացակարգը) | F9: Չափի միավորը | G9: Միավորի գինը (ՀՀ դրամ) | H9: Քանակը | I9: Ցուցանիշների փոփոխությունը (նվազեցումները` փակագծերում) (հազ. դրամ)
A10: Միջանցիկ կոդը` ըստ CPV դասակարգման | B10: անվանումը
A11: 1 | B11: 2 | E11: 3 | F11: 4 | G11: 5 | H11: 6 | I11: 7
A12: Բաժին 07 | B12: Խումբ 02 | C12: Դաս 01 | D12: Ընդհանուր բնույթի բժշկական ծառայություններ | I12: =+I13 -> -110000
A13: 1099 11001 | B13: Ամբուլատոր-պոլիկլինիկական բժշկական օգնության ծառայություններ | I13: =I15 -> -110000
B14: ՄԱՍ III. ԾԱՌԱՅՈՒԹՅՈՒՆՆԵՐ
A15: 85121120-1 | B15: ամբուլատոր-բժշկական ծառայություններ | E15: ՄԱ | F15: դրամ | I15: ='1'!G19 -> -110000
A16: Բաժին 07 | B16: Խումբ 02 | C16: Դաս 02 | D16: Մասնագիտացված բժշկական ծառայություններ | I16: =I17+I20+I23+I26 -> 16500
A17: 1202 11001 | B17: Հեմոդիալիզի և պերիտոնիալ դիալիզի անցկացման ծառայություններ | I17: =I19 -> -8000
B18: ՄԱՍ III. ԾԱՌԱՅՈՒԹՅՈՒՆՆԵՐ
A19: 85111230-1 | B19: հիվանդանոցային պայմաններում դիալիզի ծառայություններ | E19: ՄԱ | F19: դրամ | I19: ='1'!G50 -> -8000
A20: 1099 11002 | B20: Շարունակական հսկողություն պահանջող և առանձին հիվանդությունների բուժման ծառայություններ | I20: =I22 -> 8500
B21: ՄԱՍ III. ԾԱՌԱՅՈՒԹՅՈՒՆՆԵՐ
A22: 85121100-1 | B22: բժշկական ծառայություններ | E22: ՄԱ | F22: դրամ | I22: ='1'!G30 -> 8500
A23: 1099 11003 | B23: Բնածին հիպոթիրեոզի, ֆենիլկենտոնուրիայի և լսողության խանգարումների վաղ հայտնաբերման նպատակով նորածնային սքրինինգի անցկացում | I23: =I25 -> 4000
B24: ՄԱՍ III. ԾԱՌԱՅՈՒԹՅՈՒՆՆԵՐ
A25: 85121100-1 | B25: բժշկական ծառայություններ | E25: ՄԱ | F25: դրամ | I25: ='1'!G39 -> 4000
A26: 1200 11004 | B26: Մտավոր, հոգեկան (վարքագծային), լսողական, ֆիաիկական (շարժողական) և զարգացման այլ խանգարումներով երեխաների գնահատման և վերականգնողական բուժման ծառայություններ | I26: =I28 -> 12000
B27: ՄԱՍ III. ԾԱՌԱՅՈՒԹՅՈՒՆՆԵՐ
A28: 85121100-1 | B28: բժշկական ծառայություններ | E28: ՄԱ | F28: դրամ | I28: ='1'!G61 -> 12000
A29: Բաժին 07 | B29: Խումբ 02 | C29: Դաս 03 | D29: Ստոմատոլոգիական ծառայություններ | I29: =+I30 -> -14000
A30: 1207 11002 | B30: Ստոմատոլոգիական բժշկական օգնության ծառայություններ | I30: =I32 -> -14000
B31: ՄԱՍ III. ԾԱՌԱՅՈՒԹՅՈՒՆՆԵՐ
A32: 85131100-1 | B32: ատամնաբուժական ծառայություններ | E32: ՄԱ | F32: դրամ | I32: ='1'!G74 -> -14000
A33: Բաժին 07 | B33: Խումբ 02 | C33: Դաս 04 | D33: Պարաբժշկական ծառայություններ | I33: =+I34 -> 47000
A34: 1201 11001 | B34: Շտապ բժշկական օգնության ծառայություններ | I34: =I36 -> 47000
B35: ՄԱՍ III. ԾԱՌԱՅՈՒԹՅՈՒՆՆԵՐ
A36: 85141210-1 | B36: Շտապ բժշկական օգնության ծառայություններ | E36: ՄԱ | F36: դրամ | I36: ='1'!G87 -> 47000
A37: Բաժին 07 | B37: Խումբ 03 | C37: Դաս 01 | D37: Ընդհանուր բնույթի հիվանդանոցային ծառայություններ | I37: =I38+I41+I44 -> 179370
A38: 1202 11002 | B38: Անհետաձգելի բժշկական օգնության ծառայություններ | I38: =I40 -> -64500
B39: ՄԱՍ III. ԾԱՌԱՅՈՒԹՅՈՒՆՆԵՐ
A40: 85111100-1 | B40: հիվանդանոցային ծառայություններ | E40: ՄԱ | F40: դրամ | I40: ='1'!G102 -> -64500
A41: 1207 11001 | B41: Սոցիալապես անապահով և հատուկ խմբերում ընդգրկվածներին բժշկական օգնության ծառայություններ | I41: =I43 -> 338870
B42: ՄԱՍ III. ԾԱՌԱՅՈՒԹՅՈՒՆՆԵՐ
A43: 85111100-1 | B43: հիվանդանոցային ծառայություններ | E43: ՄԱ | F43: դրամ | I43: ='1'!G113 -> 338870
A44: 1207 11003 | B44: Զինծառայողներին, ինչպես նաև փրկարար ծառայողներին և նրանց ընտանիքի անդամներին բժշկական օգնության ծառայություններ | I44: =I46 -> -95000
B45: ՄԱՍ III. ԾԱՌԱՅՈՒԹՅՈՒՆՆԵՐ
A46: 85111100-1 | B46: հիվանդանոցային ծառայություններ | E46: ՄԱ | F46: դրամ | I46: ='1'!G122 -> -95000
A47: Բաժին 07 | B47: Խումբ 03 | C47: Դաս 02 | D47: Մասնագիտացված հիվանդանոցային ծառայություններ | I47: =I48+I51 -> -69370
A48: 1202 11003 | B48: Հոգեկան և նարկոլոգիական հիվանդների բժշկական օգնության ծառայություններ | I48: =I50 -> 27000
B49: ՄԱՍ III. ԾԱՌԱՅՈՒԹՅՈՒՆՆԵՐ
A50: 85111170-1 | B50: հոգեբուժական հիվանդանոցների կողմից մատուցվող ծառայություններ | E50: ՄԱ | F50: դրամ | I50: ='1'!G135 -> 27000
A51: 1202 11004 | B51: Ուռուցքաբանական և արյունաբանական հիվանդությունների բժշկական օգնության ծառայություններ | I51: =I53 -> -96370
B52: ՄԱՍ III. ԾԱՌԱՅՈՒԹՅՈՒՆՆԵՐ
A53: 85121310-1 | B53: ուրոլոգիական ծառայություններ | E53: ՄԱ | F53: դրամ | I53: ='1'!G144 -> -96370
A54: Բաժին 07 | B54: Խումբ 03 | C54: Դաս 03 | D54: Մոր և մանկան բժշկական օգնության ծառայություններ | I54: =I55+I58+I61+I64 -> -49500
A55: 1200 11002 | B55: Գինեկոլոգիական հիվանդությունների բժշկական օգնության ծառայություններ | I55: =I57 -> -13000
B56: ՄԱՍ III. ԾԱՌԱՅՈՒԹՅՈՒՆՆԵՐ
A57: 85111130-1 | B57: հիվանդանոցների կողմից մատուցվող գինեկոլոգիական ծառայություններ | E57: ՄԱ | F57: դրամ | I57: ='1'!G157 -> -13000
A58: 1200 11003 | B58: Երեխաներին բժշկական օգնության ծառայություններ | I58: =I60 -> -90500
B59: ՄԱՍ III. ԾԱՌԱՅՈՒԹՅՈՒՆՆԵՐ
A60: 85111120-1 | B60: հիվանդանոցների կողմից մատուցվող բժշկական ծառայություններ | E60: ՄԱ | F60: դրամ | I60: ='1'!G166 -> -90500
A61: 1200 11001 | B61: Մանկաբարձական բժշկական օգնության ծառայություններ | I61: =I63 -> 74000
B62: ՄԱՍ III. ԾԱՌԱՅՈՒԹՅՈՒՆՆԵՐ
A63: 85111150-1 | B63: հիվանդանոցների կողմից մատուցվող մանկաբարձական ծառայություններ | E63: ՄԱ | F63: դրամ | I63: ='1'!G175 -> 74000
A64: 1200 11006 | B64: Անպտուղ զույգերի համար վերարտադրողական օճանդակ տեխնոլոգիաների կիրառմամբ բժշկական օգնության ծառայություններ | I64: =I66 -> -20000
B65: ՄԱՍ III. ԾԱՌԱՅՈՒԹՅՈՒՆՆԵՐ
A66: 85121120-1 | B66: ամբուլատոր-բժշկական ծառայություններ | E66: ՄԱ | F66: դրամ | I66: ='1'!G184 -> -20000
A67: Բաժին 07 | B67: Խումբ 04 | C67: Դաս 01 | D67: Հանրային առողջապահական ծառություններ | I67: =I68 -> 5756
A68: 1003 11003 | B68: Արյան հավաքագրման ծառայություններ | I68: =I70 -> 5756
B69: ՄԱՍ III. ԾԱՌԱՅՈՒԹՅՈՒՆՆԵՐ
A70: 85121120-1 | B70: ամբուլատոր-բժշկական ծառայություններ | E70: ՄԱ | F70: դրամ | I70: ='1'!G199 -> 5756
A71: Բաժին 07 | B71: Խումբ 06 | C71: Դաս 01 | D71: Առողջապահական հարակից ծառայություններ և ծրագրեր | I71: =I72 -> -6383
A72: 1200 11005 | B72: Հաշմանդամ և կարիքավոր երեխաներին օրթեզներով և կորսետներովապահովման ծառայություններ | I72: =I74+I75+I76 -> -6383
B73: ՄԱՍ III. ԾԱՌԱՅՈՒԹՅՈՒՆՆԵՐ
A74: 85111180/3 | B74: օրթոպեդիկ ծառայություններ | E74: ԳՀ | F74: հատ | G74: 34000 | H74: -3 | I74: =G74*H74/1000 -> -102
A75: 85111180/9 | B75: օրթոպեդիկ ծառայություններ | E75: ԳՀ | F75: հատ | G75: 34000 | H75: -77 | I75: =G75*H75/1000 -> -2618
A76: 85111180/10 | B76: օրթոպեդիկ ծառայություններ | E76: ԳՀ | F76: հատ | G76: 37000 | H76: -99 | I76: =G76*H76/1000 -> -3663
A77: Բաժին 07 | B77: Խումբ 06 | C77: Դաս 02 | D77: Առողջապահություն (այլ դասերին չպատկանող) | I77: =I78 -> 527
A78: 1126 11001 | B78: Առողջապահության ոլորտի պետական քաղաքականության մշակում,ծրագրերի համակարգում և մոնիտորինգ | I78: =I80+I81 -> 527
B79: ՄԱՍ III. ԾԱՌԱՅՈՒԹՅՈՒՆՆԵՐ
A80: 66511170-1 | B80: փոխադրամիջոցների հետ կապված ապահովագրական ծառայություններ | E80: ՄԱ | F80: դրամ | I80: ='1'!G235 -> 227
A81: 79111200-1 | B81: ներկայացուցչական ծառայություններ | E81: ՄԱ | F81: դրամ | I81: ='1'!G237 -> 300
