Workbook
Name _tab10: #REF!
Name _tab10: #REF!
Name _tab11: #REF!
Name _tab11: #REF!
Name _tab12: #REF!
Name _tab12: #REF!
Name _tab13: #REF!
Name _tab14: #REF!
Name _tab15: #REF!
Name _tab16: #REF!
Name _tab17: #REF!
Name _tab18: #REF!
Name _tab19: #REF!
Name _tab20: #REF!
Name _tab21: #REF!
Name _tab22: #REF!
Name _tab23: #REF!
Name _tab24: #REF!
Name _tab5: #REF!
Name _tab6: #REF!
Name _tab7: #REF!
Name _tab8: #REF!
Name _tab9: #REF!
Name par_count: #REF!,#REF!,#REF!,#REF!,#REF!,#REF!,#REF!,#REF!,#REF!,#REF!,#REF!,#REF!,#REF!,#REF!,#REF!
Name par_count: #REF!,#REF!,#REF!,#REF!,#REF!,#REF!,#REF!,#REF!,#REF!,#REF!,#REF!,#REF!,#REF!,#REF!,#REF!
Name par_qual: #REF!,#REF!,#REF!,#REF!,#REF!
Name par_qual: #REF!,#REF!,#REF!,#REF!,#REF!
Name par_time: #REF!,#REF!,#REF!,#REF!
Name par_time: #REF!,#REF!,#REF!,#REF!
Name par2.12s: #REF!
Name par2.4s: #REF!,#REF!,#REF!,#REF!,#REF!,#REF!,#REF!,#REF!,#REF!,#REF!,#REF!,#REF!,#REF!,#REF!,#REF!,#REF!
Name par2.4s: #REF!,#REF!,#REF!,#REF!,#REF!,#REF!,#REF!,#REF!,#REF!,#REF!,#REF!,#REF!,#REF!,#REF!,#REF!,#REF!
Name par2.5s: #REF!,#REF!
Name par2.6s: #REF!,#REF!,#REF!,#REF!
Name par2.7s: #REF!,#REF!
Name par2.9s: #REF!,#REF!,#REF!,#REF!,#REF!,#REF!,#REF!,#REF!,#REF!,#REF!,#REF!,#REF!,#REF!,#REF!,#REF!,#REF!
Name par2.9s: #REF!,#REF!,#REF!,#REF!,#REF!,#REF!,#REF!,#REF!,#REF!,#REF!,#REF!,#REF!,#REF!,#REF!,#REF!,#REF!
Name par4.10s: #REF!,#REF!
Name par4.11d: #REF!,#REF!,#REF!,#REF!,#REF!
Name par4.12d: #REF!
Name par4.13s: #REF!
Name par4.14: #REF!,#REF!,#REF!,#REF!,#REF!,#REF!
Name par4.15: #REF!,#REF!,#REF!
Name par4.16: #REF!,#REF!,#REF!
Name par4.17: #REF!,#REF!,#REF!,#REF!
Name par4.18d: #REF!,#REF!
Name par4.19s: #REF!
Name par4.20f: #REF!
Name par4.21f: #REF!
Name par4.22: #REF!
Name par4.4: #REF!
Name par4.5: #REF!
Name par4.6s: #REF!
Name par4.7s: #REF!
Name par4.8: #REF!,#REF!,#REF!,#REF!,#REF!
Name par4.9: #REF!,#REF!,#REF!,#REF!,#REF!,#REF!
Name par5.1: #REF!,#REF!
Name par5.3: #REF!,#REF!,#REF!,#REF!,#REF!,#REF!
Name par5.4: #REF!,#REF!,#REF!,#REF!,#REF!
Name par5.5: #REF!

Sheet 1
G2: Հավելված № 1
F3: ՀՀ կառավարության 2019 թվականի
G4: № ------------ -Ն որոշման
A6: ՀԱՅԱՍՏԱՆԻ ՀԱՆՐԱՊԵՏՈՒԹՅԱՆ ԿԱՌԱՎԱՐՈՒԹՅԱՆ 2018 ԹՎԱԿԱՆԻ ԴԵԿՏԵՄԲԵՐԻ 27-Ի № 1515-Ն ՈՐՈՇՄԱՆ NN 3 և 4 ՀԱՎԵԼՎԱԾՆԵՐՈՒՄ ԿԱՏԱՐՎՈՂ ՓՈՓՈԽՈՒԹՅՈՒՆՆԵՐԸ
A8: Գործառական դասիչը | D8: Ծրագրային դասիչը | F8: Բյուջետային հատկացումների գլխավոր կարգադրիչների, ծրագրերի, միջոցառումների և միջոցառումները կատարող պետական մարմինների անվանումները | G8: Ցուցանիշների փոփոխությունները (ավելացումները նշված են դրական նշանով իսկ նվազեցումները` փակագծերում)
A9: բաժին | B9: խումբ | C9: դաս | D9: Ծրագիր | E9: Միջոցառում | G9: Տարի
A10: 07 | F10: ԱՌՈՂՋԱՊԱՀՈՒԹՅՈՒՆ | G10: =+G12+G96+G193+G208 -> 0
F11: այդ թվում՝
B12: 02 | F12: Արտահիվանդանոցային ծառայություններ | G12: =G14+G28+G70+G83 -> -60500
F13: այդ թվում՝
C14: 01 | F14: Ընդհանուր բնույթի բժշկական ծառայություններ | G14: =G19 -> -110000
F15: այդ թվում՝
D17: 1099 | F17: Առողջության առաջնային պահպանում | G17: =G19+G30+G39 -> -97500
F18: այդ թվում
E19: 11001 | F19: Ամբուլատոր_պոլիկլինիկական բժշկական օգնության ծառայություններ | G19: =G21 -> -110000
F20: այդ թվում՝ ըստ կատարողների
F21: ՀՀ առողջապահության նախարարություն | G21: =G27 -> -110000
F22: այդ թվում՝ բյուջետային ծախսերի տնտեսագիտական դասակարգման հոդվածներ
F23: ԸՆԴԱՄԵՆԸ ԾԱԽՍԵՐ | G23: =G24 -> -110000
F24: ԸՆԹԱՑԻԿ ԾԱԽՍԵՐ | G24: =G25 -> -110000
F25: ԾԱՌԱՅՈՒԹՅՈՒՆՆԵՐԻ ԵՎ ԱՊՐԱՆՔՆԵՐԻ ՁԵՌՔԲԵՐՈՒՄ | G25: =G26 -> -110000
F26: Պայմանագրային այլ ծառայությունների ձեռքբերում | G26: =G27 -> -110000
F27: Ընդհանուր բնույթի այլ ծառայություններ | G27: -110000
C28: 02 | F28: Մասնագիտացված բժշկական ծառայություններ | G28: =G30+G39+G50+G61 -> 16500
F29: այդ թվում՝
E30: 11002 | F30: Շարունակական հսկողություն պահանջող և առանձին հիվանդությունների բուժման ծառայություններ | G30: =G32 -> 8500
F31: այդ թվում՝ ըստ կատարողների
F32: ՀՀ առողջապահության նախարարություն | G32: =G38 -> 8500
F33: այդ թվում՝ բյուջետային ծախսերի տնտեսագիտական դասակարգման հոդվածներ
F34: ԸՆԴԱՄԵՆԸ ԾԱԽՍԵՐ | G34: =G35 -> 8500
F35: ԸՆԹԱՑԻԿ ԾԱԽՍԵՐ | G35: =G36 -> 8500
F36: ԾԱՌԱՅՈՒԹՅՈՒՆՆԵՐԻ ԵՎ ԱՊՐԱՆՔՆԵՐԻ ՁԵՌՔԲԵՐՈՒՄ | G36: =G37 -> 8500
F37: Պայմանագրային այլ ծառայությունների ձեռքբերում | G37: =G38 -> 8500
F38: Ընդհանուր բնույթի այլ ծառայություններ | G38: 8500
E39: 11003 | F39: Բնածին հիպոթիրեոզի, ֆենիլկենտոնուրիայի և լսողության խանգարումների վաղ հայտնաբերման նպատակով նորածնային սքրինինգի անցկացում | G39: =G41 -> 4000
F40: այդ թվում՝ ըստ կատարողների
F41: ՀՀ առողջապահության նախարարություն | G41: =G47 -> 4000
F42: այդ թվում՝ բյուջետային ծախսերի տնտեսագիտական դասակարգման հոդվածներ
F43: ԸՆԴԱՄԵՆԸ ԾԱԽՍԵՐ | G43: =G44 -> 4000
F44: ԸՆԹԱՑԻԿ ԾԱԽՍԵՐ | G44: =G45 -> 4000
...

Sheet 2
D1: Հավելված № 2
C2: ՀՀ կառավարության 2019 թվականի
D3: № ------------ -Ն որոշման
A5: ՀԱՅԱՍՏԱՆԻ ՀԱՆՐԱՊԵՏՈՒԹՅԱՆ 2019 ԹՎԱԿԱՆԻ ՊԵՏԱԿԱՆ ԲՅՈՒՋԵԻ ՄԱՍԻՆ» ՀԱՅԱՍՏԱՆԻ ՀԱՆՐԱՊԵՏՈՒԹՅԱՆ ՕՐԵՆՔԻ N 1 ՀԱՎԵԼՎԱԾԻ N 2 ԱՂՅՈՒՍԱԿՈՒՄ ԿԱՏԱՐՎՈՂ ՎԵՐԱԲԱՇԽՈՒՄԸ ԵՎ ՀԱՅԱՍՏԱՆԻ ՀԱՆՐԱՊԵՏՈՒԹՅԱՆ ԿԱՌԱՎԱՐՈՒԹՅԱՆ 2018 ԹՎԱԿԱՆԻ ԴԵԿՏԵՄԲԵՐԻ 27-Ի № 1515-Ն ՈՐՈՇՄԱՆ № 5 ՀԱՎԵԼՎԱԾԻ № 1 ԱՂՅՈՒՍԱԿՈՒՄ ԿԱՏԱՐՎՈՂ ՓՈՓՈԽՈՒԹՅՈՒՆՆԵՐԸ
A7: Ծրագրային դասիչը | C7: Բյուջետային հատկացումների գլխավոր կարգադրիչների, ծրագրերի և միջոցառումների անվանումները | D7: Ցուցանիշների փոփոխությունները (ավելացումները նշված են դրական նշանով իսկ նվազեցումները` փակագծերում)
A8: Ծրագիր | B8: Միջոցառում | D8: Տարի
C9: ԸՆԴԱՄԵՆԸ | D9: 0
C10: ՀՀ առողջապահության նախարարություն
A11: 1003 | C11: Ծրագրի անվանումը՝ | D11: =D18 -> 5756
C12: Հանրային առողջության պահպանում
C13: Ծրագրի նպատակը՝
C14: Մարդու օրգանիզմի վրա շրջակա միջավայրի վնասակար և վտանգավոր գործոնների ազդեցության բացառում և նվազեցում,կառավարելի վարակիչ հիվանդությունների դեմ պայքար
C15: Վերջնական արդյունքի նկարագրությունը՝
C16: Բնակչության սանիտարահամաճարակային անվտանգության և վարակիչ հիվանդությունների նկատմամբ բնակչության անընկալության ապահովում: Հանրապետությունում արյան, արյան բաղադրամասերի և արյան պատրաստուկների անհրաժեշտ քանակի ապահովում
C17: Ծրագրի միջոցառումներ
B18: 11003 | C18: Միջոցառման անվանումը՝ | D18: 5756
C19: Արյան հավաքագրման ծառայություններ
C20: Միջոցառման նկարագրությունը՝
C21: Մարդու դոնորական արյան հավաքագրում, վարակիչ հիվանդությունների նկատմամբ հետազոտություն, համապատասխան պայմաններում և ժամկետներում պահպանում, դրան առնչվող ծառայությունների իրականացում
C22: Միջոցառման տեսակը՝
C23: Ծառայությունների մատուցում
A24: 1099 | C24: Ծրագրի անվանումը՝ | D24: =D31+D37+D43 -> -97500
C25: Առողջության առաջնային պահպանում
C26: Ծրագրի նպատակը՝
C27: Բնակչությանը մատչելի և որակյալ առաջնային բժշկական օգնության և սպասարկման տրամադրում, առողջության վատթարացման ռիսկի գործոնների վերհանում և դրանց հնարավոր անբարենպաստ ազդեցության կանխարգելում
C28: Վերջնական արդյունքի նկարագրությունը՝
C29: Առողջության առաջնային պահպանման օղակում ցուցաբերվող բժշկական օգնության որակի, հիվանդությունների վաղ հայտնաբերման և կանխարգելման մակարդակի բարելավում, առողջապահական ծառայությունների վերաբերյալ իրազեկվածության և դրանց նկատմամբ պահանջարկի ավելացում
C30: Ծրագրի միջոցառումներ
B31: 11001 | C31: Միջոցառման անվանումը՝ | D31: -110000
C32: Ամբուլատոր-պոլիկլինիկական բժշկական օգնության ծառայություններ
C33: Միջոցառման նկարագրությունը՝
C34: Ամբուլատոր-պոլիկլինիկական բժշկական օգնության ծառայություններ
C35: Միջոցառման տեսակը՝
C36: Ծառայությունների մատուցում
B37: 11002 | C37: Միջոցառման անվանումը՝ | D37: ='1'!G30 -> 8500
C38: Շարունական հսկողություն պահանջող և առանձին հիվանդությունների բուժման ծառայություններ
C39: Միջոցառման նկարագրությունը՝
C40: Առանձին հիվանդությունների (քրոնիկ ,դիսպանսեր հսկողություն պահանջող) բժշկական օգնության համալիր միջոցառումների իրականացում (հետազոտում,ախտորոշում,բուժում)
C41: Միջոցառման տեսակը՝
C42: Ծառայությունների մատուցում
...

Sheet 3
D2: Հավելված № 3
B3: ՀՀ կառավարության 2019 թվականի
C4: № ------------ -Ն որոշման
A6: ՀԱՅԱՍՏԱՆԻ ՀԱՆՐԱՊԵՏՈՒԹՅԱՆ ԿԱՌԱՎԱՐՈՒԹՅԱՆ 2018 ԹՎԱԿԱՆԻ ԴԵԿՏԵՄԲԵՐԻ 27-Ի N 1515-Ն ՈՐՈՇՄԱՆ N 11 ՀԱՎԵԼՎԱԾԻ 11.9 ԱՂՅՈՒՍԱԿՈՒՄ ԿԱՏԱՐՎՈՂ ՓՈՓՈԽՈՒԹՅՈՒՆՆԵՐԸ _x000D_
A7: ՀՀ Առողջապահության նախարարություն
A8: ՄԱՍ 2. ՊԵՏԱԿԱՆ ՄԱՐՄՆԻ ԳԾՈՎ ԱՐԴՅՈՒՆՔԱՅԻՆ (ԿԱՏԱՐՈՂԱԿԱՆ) ՑՈՒՑԱՆԻՇՆԵՐԸ
A9: Ծրագրի դասիչը | B9: Ծրագրի անվանումը
A10: 1003 | B10: Հանրային առողջության պահպանում
A11: Ծրագրի միջոցառումները
A12: Ծրագրի դասիչը` | B12: 1003 | C12: Ցուցանիշների փոփոխությունները (ավելացումները նշված են դրական նշանով)
A13: Միջոցառման դասիչը` | B13: 11003 | C13: Տարի
A14: Միջոցառման անվանումը` | B14: Արյան հավաքագրման ծառայություններ
A15: Նկարագրությունը` | B15: Մարդու դոնորական արյան հավաքագրում,, վարակիչ հիվանդությունների նկատմամբ հետազոտություն, համապատասխան պայմաններում և ժամկետներում պահպանում, դրանց առնչվող ծառայությունների իրականացում
A16: Միջոցառման տեսակը` | B16: Ծառայությունների մատուցում
A17: Միջոցառումն իրականացնողի անվանումը | B17: «Գնումների մասին» ՀՀ օրենքի համաձայն ընտրված կազմակերպություն
A18: Արդյունքի չափորոշիչներ
A19: ՀՀ-ում ծննդօգնության շրջանակում հակառեզուս RH(D) իմունոգլոբուլինի ապահովման դեպքերի թիվ, հատ
A20: Վարակիչ հիվանդություններիր նկատմամբ դոնորական փորձանմուշների չափորոշիչով հաստատված լաբորատոր փաթեթային հետազոտություններիր թիվ, հատ
A21: Հավաքագրված արյան նմուշների(միավորների) ընդհանուր թվից օգտագործման համար պիտանի արյան բաղադրամասերի թիվ, հատ
A22: հավաքագրված արյան բաղադրամասերի թվում պահպանման ժամկետների ընթացքում թափոնված նմուշների առավելագույն մասնաբաժին, տոկոս
A23: Դոնորական արյան փորձանմուշի փաթեթի հետազոտման առավելագույն ժամկետ, ժամ
A24: Միջոցառման վրա կատարվող ծախսը (հազար դրամ) | C24: 5756
A25: Ծրագրի դասիչը | B25: Ծրագրի անվանումը
A26: 1099 | B26: Առողջության առաջնային պահպանում
A27: Ծրագրի միջոցառումները
A28: Ծրագրի դասիչը` | B28: 1099 | C28: Ցուցանիշների փոփոխությունները (նվազեցումները նշված են փակագծերում)
A29: Միջոցառման դասիչը` | B29: 11001 | C29: Տարի
A30: Միջոցառման անվանումը` | B30: Ամբուլատոր-պոլիկլինիկական բժշկական օգնության ծառայություններ
A31: Նկարագրությունը` | B31: Ամբուլատոր-պոլիկլինիկական բժշկական օգնության ծառայություններ
A32: Միջոցառման տեսակը` | B32: Ծառայությունների մատուցում
A33: Միջոցառումն իրականացնողի անվանումը | B33: «Գնումների մասին» ՀՀ օրենքի համաձայն ընտրված կազմակերպություն
A34: Արդյունքի չափորոշիչներ
A35: Բնակչության առողջության առաջնային պահպանման գծով կազմակերպություններում գրանցված բնակչության թիվ, մարդ
A36: Տեղամասային թերապևտի,ընտանեկան բժշկի կողմից,կազմակերպություններում գրանցված բնակչության թիվ` 18 և ավելի բարձր տարիքի անձինք,մարդ
A37: Տեղամասային մանկաբույժի, ընտանեկան բժշկի կողմից կազմակերպություններում գրանցված բնակչության թիվ` մինչև 18 տ. երեխաներ,մարդ
A38: Դպրոցում բժշկական օգնություն և սպասարկում ստացող աշակերտների թիվ,մարդ
A39: Անվճար և արտոնյալ պայմաններով դեղեր ստանալու իրավունք ունեցող անձանց ընդամենը թիվ,մարդ | C39: -65000
A40: Հղիների նախածննդյան և հետծննդյան հսկողության ընթացքում իրականացվող լաբորատոր-գործիքային ախտորոշիչ հետազոտությունների թիվ,հատ | C40: -40000
A41: ԱՊ հաստատություններում մեկ բժշկի կողմից սպասարկված հիվանդների թիվ,միջին օրական դեպքեր
A42: Զինկոմիսարիատներին կից բժշկական հանձնաժողովներում ընդգրկված բժիշկ-փորձագետների և բուժքույրերի թիվ,մարդ
...

Sheet 4
D2: Հավելված № 4
B3: ՀՀ կառավարության 2019 թվականի
C4: № ------------ -Ն որոշման
A6: ՀԱՅԱՍՏԱՆԻ ՀԱՆՐԱՊԵՏՈՒԹՅԱՆ ԿԱՌԱՎԱՐՈՒԹՅԱՆ 2018 ԹՎԱԿԱՆԻ ԴԵԿՏԵՄԲԵՐԻ 27-Ի N 1515-Ն ՈՐՈՇՄԱՆ N 11 ՀԱՎԵԼՎԱԾԻ 11.9.1 ԱՂՅՈՒՍԱԿՈՒՄ ԿԱՏԱՐՎՈՂ ՓՈՓՈԽՈՒԹՅՈՒՆՆԵՐԸ _x000D_
A7: ՀՀ Առողջապահության նախարարություն
A8: ՄԱՍ 2. ՊԵՏԱԿԱՆ ՄԱՐՄՆԻ ԳԾՈՎ ԱՐԴՅՈՒՆՔԱՅԻՆ (ԿԱՏԱՐՈՂԱԿԱՆ) ՑՈՒՑԱՆԻՇՆԵՐԸ
A9: Ծրագրի դասիչը | B9: Ծրագրի անվանումը
A10: 1003 | B10: Հանրային առողջության պահպանում
A11: Ծրագրի միջոցառումները
A12: Ծրագրի դասիչը` | B12: 1003 | C12: Ցուցանիշների փոփոխությունները (ավելացումները նշված են դրական նշանով)
A13: Միջոցառման դասիչը` | B13: 11003 | C13: Տարի
A14: Միջոցառման անվանումը` | B14: Արյան հավաքագրման ծառայություններ
A15: Նկարագրությունը` | B15: Մարդու դոնորական արյան հավաքագրում,, վարակիչ հիվանդությունների նկատմամբ հետազոտություն, համապատասխան պայմաններում և ժամկետներում պահպանում, դրանց առնչվող ծառայությունների իրականացում
A16: Միջոցառման տեսակը` | B16: Ծառայությունների մատուցում
A17: Միջոցառումն իրականացնողի անվանումը | B17: «Գնումների մասին» ՀՀ օրենքի համաձայն ընտրված կազմակերպություն
A18: Արդյունքի չափորոշիչներ
A19: ՀՀ-ում ծննդօգնության շրջանակում հակառեզուս RH(D) իմունոգլոբուլինի ապահովման դեպքերի թիվ, հատ
A20: Վարակիչ հիվանդություններիր նկատմամբ դոնորական փորձանմուշների չափորոշիչով հաստատված լաբորատոր փաթեթային հետազոտություններիր թիվ, հատ
A21: Հավաքագրված արյան նմուշների(միավորների) ընդհանուր թվից օգտագործման համար պիտանի արյան բաղադրամասերի թիվ, հատ
A22: հավաքագրված արյան բաղադրամասերի թվում պահպանման ժամկետների ընթացքում թափոնված նմուշների առավելագույն մասնաբաժին, տոկոս
A23: Դոնորական արյան փորձանմուշի փաթեթի հետազոտման առավելագույն ժամկետ, ժամ
A24: Միջոցառման վրա կատարվող ծախսը (հազար դրամ) | C24: 5756
A25: Ծրագրի դասիչը | B25: Ծրագրի անվանումը
A26: 1099 | B26: Առողջության առաջնային պահպանում
A27: Ծրագրի միջոցառումները
A28: Ծրագրի դասիչը` | B28: 1099 | C28: Ցուցանիշների փոփոխությունները (նվազեցումները նշված են փակագծերում)
A29: Միջոցառման դասիչը` | B29: 11001 | C29: Տարի
A30: Միջոցառման անվանումը` | B30: Ամբուլատոր-պոլիկլինիկական բժշկական օգնության ծառայություններ
A31: Նկարագրությունը` | B31: Ամբուլատոր-պոլիկլինիկական բժշկական օգնության ծառայություններ
A32: Միջոցառման տեսակը` | B32: Ծառայությունների մատուցում
A33: Միջոցառումն իրականացնողի անվանումը | B33: «Գնումների մասին» ՀՀ օրենքի համաձայն ընտրված կազմակերպություն
A34: Արդյունքի չափորոշիչներ
A35: Բնակչության առողջության առաջնային պահպանման գծով կազմակերպություններում գրանցված բնակչության թիվ, մարդ
A36: Տեղամասային թերապևտի,ընտանեկան բժշկի կողմից,կազմակերպություններում գրանցված բնակչության թիվ` 18 և ավելի բարձր տարիքի անձինք,մարդ
A37: Տեղամասային մանկաբույժի, ընտանեկան բժշկի կողմից կազմակերպություններում գրանցված բնակչության թիվ` մինչև 18 տ. երեխաներ,մարդ
A38: Դպրոցում բժշկական օգնություն և սպասարկում ստացող աշակերտների թիվ,մարդ
A39: Անվճար և արտոնյալ պայմաններով դեղեր ստանալու իրավունք ունեցող անձանց ընդամենը թիվ,մարդ | C39: -65000
A40: Հղիների նախածննդյան և հետծննդյան հսկողության ընթացքում իրականացվող լաբորատոր-գործիքային ախտորոշիչ հետազոտությունների թիվ,հատ | C40: -40000
A41: ԱՊ հաստատություններում մեկ բժշկի կողմից սպասարկված հիվանդների թիվ,միջին օրական դեպքեր
A42: Զինկոմիսարիատներին կից բժշկական հանձնաժողովներում ընդգրկված բժիշկ-փորձագետների և բուժքույրերի թիվ,մարդ
...

Sheet 5
H2: Հավելված № 5
H3: ՀՀ կառավարության 2019 թվականի
H4: № ------------ -Ն որոշման
A6: ՀԱՅԱՍՏԱՆԻ ՀԱՆՐԱՊԵՏՈՒԹՅԱՆ ԿԱՌԱՎԱՐՈՒԹՅԱՆ 2018 ԹՎԱԿԱՆԻ ԴԵԿՏԵՄԲԵՐԻ 27-Ի N 1515-Ն ՈՐՈՇՄԱՆ N 12 ՀԱՎԵԼՎԱԾՈՒՄ ԿԱՏԱՐՎՈՂ ՓՈՓՈԽՈՒԹՅՈՒՆՆԵՐԸ _x000D_
A7: ՀՀ Առողջապահության նախարարություն
I8: (հազար դրամներով)
A9: Գնման առարկայի | E9: Գնման ձևը (ընթացակարգը) | F9: Չափի միավորը | G9: Միավորի գինը (ՀՀ դրամ) | H9: Քանակը | I9: Ցուցանիշների փոփոխությունը (նվազեցումները` փակագծերում) (հազ. դրամ)
A10: Միջանցիկ կոդը` ըստ CPV դասակարգման | B10: անվանումը
A11: 1 | B11: 2 | E11: 3 | F11: 4 | G11: 5 | H11: 6 | I11: 7
A12: Բաժին 07 | B12: Խումբ 02 | C12: Դաս 01 | D12: Ընդհանուր բնույթի բժշկական ծառայություններ | I12: =+I13 -> -110000
A13: 1099 11001 | B13: Ամբուլատոր-պոլիկլինիկական բժշկական օգնության ծառայություններ | I13: =I15 -> -110000
B14: ՄԱՍ III. ԾԱՌԱՅՈՒԹՅՈՒՆՆԵՐ
A15: 85121120-1 | B15: ամբուլատոր-բժշկական ծառայություններ | E15: ՄԱ | F15: դրամ | I15: ='1'!G19 -> -110000
A16: Բաժին 07 | B16: Խումբ 02 | C16: Դաս 02 | D16: Մասնագիտացված բժշկական ծառայություններ | I16: =I17+I20+I23+I26 -> 16500
A17: 1202 11001 | B17: Հեմոդիալիզի և պերիտոնիալ դիալիզի անցկացման ծառայություններ | I17: =I19 -> -8000
B18: ՄԱՍ III. ԾԱՌԱՅՈՒԹՅՈՒՆՆԵՐ
A19: 85111230-1 | B19: հիվանդանոցային պայմաններում դիալիզի ծառայություններ | E19: ՄԱ | F19: դրամ | I19: ='1'!G50 -> -8000
A20: 1099 11002 | B20: Շարունակական հսկողություն պահանջող և առանձին հիվանդությունների բուժման ծառայություններ | I20: =I22 -> 8500
B21: ՄԱՍ III. ԾԱՌԱՅՈՒԹՅՈՒՆՆԵՐ
A22: 85121100-1 | B22: բժշկական ծառայություններ | E22: ՄԱ | F22: դրամ | I22: ='1'!G30 -> 8500
A23: 1099 11003 | B23: Բնածին հիպոթիրեոզի, ֆենիլկենտոնուրիայի և լսողության խանգարումների վաղ հայտնաբերման նպատակով նորածնային սքրինինգի անցկացում | I23: =I25 -> 4000
B24: ՄԱՍ III. ԾԱՌԱՅՈՒԹՅՈՒՆՆԵՐ
A25: 85121100-1 | B25: բժշկական ծառայություններ | E25: ՄԱ | F25: դրամ | I25: ='1'!G39 -> 4000
A26: 1200 11004 | B26: Մտավոր, հոգեկան (վարքագծային), լսողական, ֆիաիկական (շարժողական) և զարգացման այլ խանգարումներով երեխաների գնահատման և վերականգնողական բուժման ծառայություններ | I26: =I28 -> 12000
B27: ՄԱՍ III. ԾԱՌԱՅՈՒԹՅՈՒՆՆԵՐ
A28: 85121100-1 | B28: բժշկական ծառայություններ | E28: ՄԱ | F28: դրամ | I28: ='1'!G61 -> 12000
A29: Բաժին 07 | B29: Խումբ 02 | C29: Դաս 03 | D29: Ստոմատոլոգիական ծառայություններ | I29: =+I30 -> -14000
A30: 1207 11002 | B30: Ստոմատոլոգիական բժշկական օգնության ծառայություններ | I30: =I32 -> -14000
B31: ՄԱՍ III. ԾԱՌԱՅՈՒԹՅՈՒՆՆԵՐ
A32: 85131100-1 | B32: ատամնաբուժական ծառայություններ | E32: ՄԱ | F32: դրամ | I32: ='1'!G74 -> -14000
A33: Բաժին 07 | B33: Խումբ 02 | C33: Դաս 04 | D33: Պարաբժշկական ծառայություններ | I33: =+I34 -> 47000
A34: 1201 11001 | B34: Շտապ բժշկական օգնության ծառայություններ | I34: =I36 -> 47000
B35: ՄԱՍ III. ԾԱՌԱՅՈՒԹՅՈՒՆՆԵՐ
A36: 85141210-1 | B36: Շտապ բժշկական օգնության ծառայություններ | E36: ՄԱ | F36: դրամ | I36: ='1'!G87 -> 47000
A37: Բաժին 07 | B37: Խումբ 03 | C37: Դաս 01 | D37: Ընդհանուր բնույթի հիվանդանոցային ծառայություններ | I37: =I38+I41+I44 -> 179370
A38: 1202 11002 | B38: Անհետաձգելի բժշկական օգնության ծառայություններ | I38: =I40 -> -64500
B39: ՄԱՍ III. ԾԱՌԱՅՈՒԹՅՈՒՆՆԵՐ
A40: 85111100-1 | B40: հիվանդանոցային ծառայություններ | E40: ՄԱ | F40: դրամ | I40: ='1'!G102 -> -64500
A41: 1207 11001 | B41: Սոցիալապես անապահով և հատուկ խմբերում ընդգրկվածներին բժշկական օգնության ծառայություններ | I41: =I43 -> 338870
B42: ՄԱՍ III. ԾԱՌԱՅՈՒԹՅՈՒՆՆԵՐ
...
