Workbook

Sheet HavelvacN1
B1: Հավելված N 1 | G1: Հավելված N1
D2: ՀՀ կառավարության 2019 թվականի
D3: ______________ ի ___Ն որոշման
L4: -ի N -Ն որոշման
B5: «ՀԱՅԱՍՏԱՆԻ ՀԱՆՐԱՊԵՏՈՒԹՅԱՆ 2019 ԹՎԱԿԱՆԻ ՊԵՏԱԿԱՆ ԲՅՈՒՋԵԻ ՄԱՍԻՆ» ՀԱՅԱՍՏԱՆԻ ՀԱՆՐԱՊԵՏՈՒԹՅԱՆ ՕՐԵՆՔԻ N1 ՀԱՎԵԼՎԱԾԻ N2 ԱՂՅՈՒՍԱԿՈՒՄ ԿԱՏԱՐՎՈՂ ՎԵՐԱԲԱՇԽՈՒՄԸ ԵՎ ՀԱՅԱՍՏԱՆԻ ՀԱՆՐԱՊԵՏՈՒԹՅԱՆ ԿԱՌԱՎԱՐՈՒԹՅԱՆ 2018 ԹՎԱԿԱՆԻ ԴԵԿՏԵՄԲԵՐԻ 27-Ի N1515-Ն ՈՐՈՇՄԱՆ N5 ՀԱՎԵԼՎԱԾԻ N1 ԱՂՅՈՒՍԱԿՈՒՄ ԿԱՏԱՐՎՈՂ ՓՈՓՈԽՈՒԹՅՈՒՆՆԵՐԸ ԵՎ ԼՐԱՑՈՒՄՆԵՐԸ
F7: հազար դրամ
B8: Ծրագրային դասիչը | D8: Բյուջետային հատկացումների գլխավոր կարգադրիչների, ծրագրերի և միջոցառումների անվանումները | E8: Ցուցանիշների փոփոխությունը (ավելացումները նշված են դրական նշանով, իսկ նվազեցումները` փակագծերում)
B9: Ծրագիր | C9: Միջոցառում | E9: առաջին կիսամյակ | F9: ինն ամիս | G9: Տարի
D10: ԸՆԴԱՄԵՆԸ | G10: =+G11 -> 0
D11: ՀՀ տարածքային կառավարման և ենթակառուցվածքների նախարարություն | G11: =+G12+G25 -> 0
B12: 1157 | D12: Ծրագրի անվանումը | E12: - | F12: - | G12: =+G19 -> 1046724.9
D13: Քաղաքային զարգացում
D14: Ծրագրի նպատակը
D15: Քաղաքային ենթակառուցվածքների զարգացում
D16: Վերջնական արդյունքի նկարագրությունը
D17: Քաղաքային ենթակառուցվածքների արդիականացում և բարելավում
B18: Ծրագրի միջոցառումներ
C19: 12017 | D19: Միջոցառման անվանումը` | E19: -133000 | F19: -619550 | G19: =-G25 -> 1046724.9
D20: Վերակառուցման և զարգացման եվրոպական բանկի աջակցությամբ իրականացվող Գյումրու քաղաքային ճանապարհների ծրագիր
D21: Միջոցառման նկարագրությունը`
D22: Գյումրու ընտրված փողոցների (ներառյալ հետիոտնային անցումների ցանցը և ջրահեռացման համակարգը) վերակառուցում
D23: Միջոցառման տեսակը
D24: Տրանսֆերտների տրամադրում
B25: 1167 | D25: Ծրագրի անվանումը` | E25: 133000 | F25: 619550 | G25: =+G32+G38 -> -1046724.9
D26: Էլեկտրաէներգետիկ համակարգի զարգացման ծրագիր
D27: Ծրագրի նպատակը`
D28: Նպաստել էլեկտրաէներգետիկ համակարգի հուսալիության բարձրացմանը և էլեկտրաէներգիայի անխափան մատակարարման ապահովմանը
D29: Վերջնական արդյունքի նկարագրությունը`
D30: Հուսալի և անվտանգ էլեկտրամատակարարման ապահովում
B31: Ծրագրի միջոցառումներ
C32: 32001 | D32: Միջոցառման անվանումը` | G32: =-409340-114020 -> -523360
D33: Վերակառուցման և զարգացման միջազգային բանկի աջակցությամբ իրականացվող Ներդրումներ «Բարձրավոլտ էլեկտրացանցեր» ՓԲԸ-ում՝ «Աշնակ» և «Արարատ-2» ենթակայանների վերակառուցման նպատակով
D34: Միջոցառման նկարագրությունը`
D35: Էլեկտրահաղորդման ցանցի բարելավման ծրագրի շրջանակներում նախատեսվում է վերակառուցել 30 և ավելի տարիներ շահագործման մեջ գտնվող 220 կՎ «Աշնակ» ենթակայանը և 40 և ավելի տարիներ շահագործման մեջ գտնվող 220 կՎ «Արարատ-2» ենթակայանը
D36: Միջոցառման տեսակը
D37: Այլ պետական կազմակերպությունների կողմից օգտագործվող ոչ ֆինանսական ակտիվների հետ գործառնություններ
C38: 32003 | D38: Միջոցառման անվանումը` | G38: =-409337.3-114027.6 -> -523364.9
D39: Ասիական զարգացման բանկի աջակցությամբ իրականացվող Ներդրումներ «Բարձրավոլտ էլեկտրացանցեր» ՓԲԸ-ում «Ագարակ-2» և «Շինուհայր» ենթակայանների վերակառուցման նպատակով
D40: Միջոցառման նկարագրությունը`
D41: Էլեկտրաէներգիայի հաղորդման ցանցի վերակառուցման շրջանակներում նախատեսվում է վերակառուցել 220 կՎ «Ագարակ-2» և «Շինուհայր» ենթակայանները
...

Sheet havelvacN2
I1: Հավելված N2
I2: ՀՀ կառավարության 2019 թվականի
I3: ______________ ի ___Ն որոշման
B5: ՀԱՅԱՍՏԱՆԻ ՀԱՆՐԱՊԵՏՈՒԹՅԱՆ ԿԱՌԱՎԱՐՈՒԹՅԱՆ 2018 ԹՎԱԿԱՆԻ ԴԵԿՏԵՄԲԵՐԻ 27-Ի N 1515-Ն ՈՐՈՇՄԱՆ N N 3 ԵՎ 4 ՀԱՎԵԼՎԱԾՆԵՐՈՒՄ ԿԱՏԱՐՎՈՂ ՓՈՓՈԽՈՒԹՅՈՒՆՆԵՐԸ ԵՎ ԼՐԱՑՈՒՄՆԵՐԸ
H7: հազար դրամ
B8: Գործառական դասիչը | E8: Ծրագրային դասիչը | G8: Բյուջետային ծախսերի գործառական դասակարգման բաժինների, խմբերի և դասերի, բյուջետային ծրագրերի միջոցառումների, բյուջետային հատկացումների գլխավոր կարգադրիչների անվանումները | H8: Ցուցանիշների փոփոխությունը (ավելացումները նշված են դրական նշանով, իսկ նվազեցումները` փակագծերում)
B9: Բաժին | C9: Խումբ | D9: Դաս | E9: Ծրագիր | F9: Միջոցառում | H9: ինն ամիս | I9: Տարի
G10: ԸՆԴԱՄԵՆԸ՝ ԾԱԽՍԵՐ | H10: =H12+#REF! -> #REF! | I10: =+I11 -> 0
G11: ՀՀ տարածքային կառավարման և ենթակառուցվածքների նախարարություն | I11: =+I12 -> 0
B12: 04 | G12: ՏՆՏԵՍԱԿԱՆ ՀԱՐԱԲԵՐՈՒԹՅՈՒՆՆԵՐ | H12: =H14 -> #REF! | I12: =+I14+I31 -> 0
G13: այդ թվում`
C14: 05 | G14: Տրանսպորտ | H14: =H16 -> #REF! | I14: =I16 -> 1046724.9
G15: այդ թվում`
D16: 01 | G16: Ճանապարհային տրանսպորտ | H16: =H18 -> #REF! | I16: =I18 -> 1046724.9
G17: այդ թվում`
G18: ՀՀ տարածքային կառավարման և ենթակառուցվածքների նախարարություն | H18: =H20 -> #REF! | I18: =I20 -> 1046724.9
G19: այդ թվում`
E20: 1157 | G20: Քաղաքային զարգացում | H20: =H22+H28 -> #REF! | I20: =+I22 -> 1046724.9
G21: այդ թվում`
F22: 12017 | G22: Վերակառուցման և զարգացման եվրոպական բանկի աջակցությամբ իրականացվող Գյումրու քաղաքային ճանապարհների ծրագիր | H22: =H24 -> 739412.9 | I22: =I24 -> 1046724.9
G23: այդ թվում` ըստ կատարողների
G24: ՀՀ տարածքային կառավարման և ենթակառուցվածքների նախարարություն | H24: =H26 -> 739412.9 | I24: =I26 -> 1046724.9
G25: այդ թվում` բյուջետային ծախսերի տնտեսագիտական դասակարգման հոդվածներ
G26: ԸՆԴԱՄԵՆԸ ԾԱԽՍԵՐ | H26: =H27 -> 739412.9 | I26: =I27 -> 1046724.9
G27: ՈՉ ՖԻՆԱՆՍԱԿԱՆ ԱԿՏԻՎՆԵՐԻ ԳԾՈՎ ԾԱԽՍԵՐ | H27: 739412.9 | I27: =+I28 -> 1046724.9
G28: ՀԻՄՆԱԿԱՆ ՄԻՋՈՑՆԵՐ | H28: =H30 -> #REF! | I28: =I30 -> 1046724.9
G29: ՇԵՆՔԵՐ ԵՎ ՇԻՆՈՒԹՅՈՒՆՆԵՐ
G30: - Շենքերի և շինությունների կապիտալ վերանորոգում | H30: =#REF! -> #REF! | I30: =-I31 -> 1046724.9
C31: 03 | G31: Վառելիք և էներգետիկա | I31: =+I33 -> -1046724.9
G32: այդ թվում`
D33: 05 | G33: Էլեկտրաէներգիա | I33: =+I35 -> -1046724.9
G34: այդ թվում`
E35: 1167 | G35: Էլեկտրաէներգետիկ համակարգի զարգացման ծրագիր | I35: =+I37+I48 -> -1046724.9
G36: այդ թվում`
F37: 32001 | G37: Վերակառուցման և զարգացման միջազգային բանկի աջակցությամբ իրականացվող Ներդրումներ «Բարձրավոլտ էլեկտրացանցեր» ՓԲԸ-ում՝ «Աշնակ» և «Արարատ-2» ենթակայանների վերակառուցման նպատակով | I37: =+I39 -> -523360
G38: այդ թվում` ըստ կատարողների
G39: ՀՀ տարածքային կառավարման և ենթակառուցվածքների նախարարություն | I39: =+I41 -> -523360
G40: այդ թվում` բյուջետային ծախսերի տնտեսագիտական դասակարգման հոդվածներ
G41: ԸՆԴԱՄԵՆԸ ԾԱԽՍԵՐ | I41: =+I42 -> -523360
G42: ՈՉ ՖԻՆԱՆՍԱԿԱՆ ԱԿՏԻՎՆԵՐԻ ԳԾՈՎ ԾԱԽՍԵՐ | I42: =+I43 -> -523360
...

Sheet HavelvacN3
I1: Հավելված N3
J2: ՀՀ կառավարության 2019 թվականի
J3: ______________ ի ___Ն որոշման
B5: «ՀԱՅԱՍՏԱՆԻ ՀԱՆՐԱՊԵՏՈՒԹՅԱՆ 2019 ԹՎԱԿԱՆԻ ՊԵՏԱԿԱՆ ԲՅՈՒՋԵԻ ՄԱՍԻՆ» ՀԱՅԱՍՏԱՆԻ ՀԱՆՐԱՊԵՏՈՒԹՅԱՆ ՕՐԵՆՔԻ N 1 ՀԱՎԵԼՎԱԾԻ N 4 ԱՂՅՈՒՍԱԿՈՒՄ ԿԱՏԱՐՎՈՂ ՎԵՐԱԲԱՇԽՈՒՄԸ ԵՎ ՀԱՅԱՍՏԱՆԻ ՀԱՆՐԱՊԵՏՈՒԹՅԱՆ ԿԱՌԱՎԱՐՈՒԹՅԱՆ 2018 ԹՎԱԿԱՆԻ ԴԵԿՏԵՄԲԵՐԻ 27-Ի N 1515-Ն ՈՐՈՇՄԱՆ N 5 ՀԱՎԵԼՎԱԾԻ N 3 ԱՂՅՈՒՍԱԿՈՒՄ ԿԱՏԱՐՎՈՂ ՓՈՓՈԽՈՒԹՅՈՒՆՆԵՐԸ
I7: հազար դրամ
B8: Ծրագրային դասիչը | D8: Բյուջետային հատկացումների գլխավոր կարգադրիչների, ծրագրերի, միջոցառումների և միջոցառումները կատարող պետական մարմինների անվանումները | H8: Ցուցանիշների փոփոխությունը (ավելացումները նշված են դրական նշանով, իսկ նվազեցումները` փակագծերում)
E9: Ինն ամիս | H9: Տարի
B10: Ծրագիրը | C10: Միջոցառումը | E10: ընդամենը | F10: այդ թվում՝ | H10: ընդամենը | I10: այդ թվում ՝
E11: մենը | F11: վարկային միջոցներ | G11: համաֆինանսավորում | I11: վարկային միջոցներ | J11: համաֆինանսավորում
D13: ԸՆԴԱՄԵՆԸ | E13: 0 | F13: 0 | G13: 0 | H13: =+I13+J13 -> 0 | I13: =+I15+I16 -> 0 | J13: =+J15+J16 -> 0
D14: այդ թվում`
D15: - ԸՆԹԱՑԻԿ ԾԱԽՍԵՐ | E15: -1244388.9 | F15: -1244388.9 | G15: 0 | H15: =+I15+J15 -> 0 | I15: =+I21+I28 -> 0 | J15: =+J21+J28 -> 0
D16: - ՈՉ ՖԻՆԱՆՍԱԿԱՆ ԱԿՏԻՎՆԵՐԻ ԳԾՈՎ ԾԱԽՍԵՐ | E16: 1244388.9 | F16: 1244388.9 | G16: 0 | H16: =+I16+J16 -> 0 | I16: =+I19+I28 -> 0 | J16: =+J27+J35+J36+J42+J43 -> 0
D17: ՀՀ տարածքային կառավարման և ենթակառուցվածքների նախարարություն | E17: 0 | F17: 0 | G17: 0 | H17: 0 | I17: =+I19+I28 -> 0 | J17: 0
D18: այդ թվում`
B19: 1157 | D19: Քաղաքային զարգացում | E19: 0 | F19: 0 | G19: 0 | H19: =+I19+J19 -> 1046724.9 | I19: =+I21 -> 818677.3 | J19: =+J21 -> 228047.6
D20: այդ թվում`
C21: 12017 | D21: Վերակառուցման և զարգացման եվրոպական բանկի աջակցությամբ իրականացվող Գյումրու քաղաքային ճանապարհների ծրագիր | E21: -619550 | F21: -619550 | G21: 0 | H21: =+H23 -> 1046724.9 | I21: =+I23 -> 818677.3 | J21: =+J23 -> 228047.6
D22: այդ թվում` ըստ կատարողների
D23: ՀՀ տարածքային կառավարման և ենթակառուցվածքների նախարարություն | E23: -619550 | F23: -619550 | G23: 0 | H23: =+I23+J23 -> 1046724.9 | I23: =+I25 -> 818677.3 | J23: =+J25 -> 228047.6
D24: այդ թվում` բյուջետային ծախսերի տնտեսագիտական դասակարգման հոդվածներ
D25: ԸՆԴԱՄԵՆԸ՝ ԾԱԽՍԵՐ | E25: -619550 | F25: -619550 | G25: 0 | H25: =+I25+J25 -> 1046724.9 | I25: =+I26 -> 818677.3 | J25: =+J26 -> 228047.6
D26: ՈՉ ՖԻՆԱՆՍԱԿԱՆ ԱԿՏԻՎՆԵՐԻ ԳԾՈՎ ԾԱԽՍԵՐ | E26: -486550 | F26: -486550 | G26: 0 | H26: =+H27 -> 1046724.9 | I26: =+I27 -> 818677.3 | J26: =+J27 -> 228047.6
D27: - Շենքերի և շինությունների կապիտալ վերանորոգում | E27: -486550 | F27: -486550 | G27: 0 | H27: =+I27+J27 -> 1046724.9 | I27: 818677.3 | J27: =-J28 -> 228047.6
B28: 1167 | D28: Էլեկտրաէներգետիկ համակարգի զարգացման ծրագիր | H28: =+H30+H37 -> -1046724.9 | I28: =+I30+I37 -> -818677.3 | J28: =+J30+J37 -> -228047.6
D29: այդ թվում`
C30: 32001 | D30: Վերակառուցման և զարգացման միջազգային բանկի աջակցությամբ իրականացվող Ներդրումներ_x000D_ «Բարձրավոլտ էլեկտրացանցեր» ՓԲԸ-ում, «Աշնակ» և «Արարատ-2» ենթակայանների վերակառուցման նպատակով | H30: =I30+J30 -> -523360 | I30: =I34 -> -409340 | J30: =J34 -> -114020
D31: այդ թվում` ըստ կատարողների
D32: ՀՀ տարածքային կառավարման և ենթակառուցվածքների նախարարություն | H32: =I32+J32 -> -523360 | I32: =I30 -> -409340 | J32: =J30 -> -114020
D33: այդ թվում` բյուջետային ծախսերի տնտեսագիտական դասակարգման հոդվածներ
D34: ՈՉ ՖԻՆԱՆՍԱԿԱՆ ԱԿՏԻՎՆԵՐԻ ԳԾՈՎ ԾԱԽՍԵՐ | H34: =I34+J34 -> -523360 | I34: =I35+I36 -> -409340 | J34: =J35+J36 -> -114020
D35: - Շենքերի և շինությունների կապիտալ վերանորոգում | H35: =I35+J35 -> 0 | I35: 0 | J35: 0
D36: - այլ մեքենաներ և սարքավորումներ | H36: =I36+J36 -> -523360 | I36: -409340 | J36: -114020
C37: 32003 | D37: Ասիական զարգացման բանկի աջակցությամբ իրականացվող Ներդրումներ «Բարձրավոլտ_x000D_ էլեկտրացանցեր» ՓԲԸ-ում «Ագարակ-2» և «Շինուհայր» ենթակայանների վերակառուցման նպատակով | H37: =I37+J37 -> -523364.9 | I37: =I41 -> -409337.3 | J37: =J41 -> -114027.6
D38: այդ թվում` ըստ կատարողների
D39: ՀՀ տարածքային կառավարման և ենթակառուցվածքների նախարարություն | H39: =I39+J39 -> -523364.9 | I39: =I37 -> -409337.3 | J39: =J37 -> -114027.6
D40: այդ թվում` բյուջետային ծախսերի տնտեսագիտական դասակարգման հոդվածներ
D41: ՈՉ ՖԻՆԱՆՍԱԿԱՆ ԱԿՏԻՎՆԵՐԻ ԳԾՈՎ ԾԱԽՍԵՐ | H41: =I41+J41 -> -523364.9 | I41: =I42+I43 -> -409337.3 | J41: =J42+J43 -> -114027.6
D42: - Շենքերի և շինությունների կապիտալ վերանորոգում | H42: =I42+J42 -> -523364.9 | I42: -409337.3 | J42: -114027.6
D43: - այլ մեքենաներ և սարքավորումներ | H43: =I43+J43 -> 0 | I43: 0 | J43: 0

Sheet HavelvacN4.1
E1: Հավելված N 4
F2: ՀՀ կառավարության 2019 թվականի
F3: ______________ ի ___Ն որոշման
F4: Աղյուսակ N 1
A6: ՀԱՅԱՍՏԱՆԻ ՀԱՆՐԱՊԵՏՈՒԹՅԱՆ ԿԱՌԱՎԱՐՈՒԹՅԱՆ 2018 ԹՎԱԿԱՆԻ ԴԵԿՏԵՄԲԵՐԻ 27-Ի N 1515-Ն ՈՐՈՇՄԱՆ N 11 ՀԱՎԵԼՎԱԾԻ N 11.8 և N 11.15 ԱՂՅՈՒՍԱԿՆԵՐՈՒՄ ԿԱՏԱՐՎՈՂ ՓՈՓՈԽՈՒԹՅՈՒՆՆԵՐԸ
A8: ՀՀ տարածքային կառավարման և ենթակառուցվածքների նախարարություն
A10: ՄԱՍ 2. ՊԵՏԱԿԱՆ ՄԱՐՄՆԻ ԳԾՈՎ ԱՐԴՅՈՒՆՔԱՅԻՆ (ԿԱՏԱՐՈՂԱԿԱՆ) ՑՈՒՑԱՆԻՇՆԵՐԸ
A12: Ծրագրի դասիչը | B12: Ծրագրի անվանումը
A13: 1157 | B13: Քաղաքային զարգացում
A15: Ծրագրի միջոցառումները | C15: Ցուցանիշների փոփոխությունը (ավելացումները նշված են դրական նշանով)
A16: Ծրագրի դասիչը` | B16: 1157
A17: Միջոցառման դասիչը` | B17: 12017 | C17: Առաջին եռամսյակ | D17: Առաջին կիսամյակ | E17: Ինն ամիս | F17: Տարի
A18: Միջոցառման անվանումը` | B18: Վերակառուցման և զարգացման եվրոպական բանկի աջակցությամբ իրականացվող Գյումրու քաղաքային ճանապարհների ծրագիր
A19: Նկարագրությունը` | B19: Գյումրու ընտրված փողոցների (ներառյալ հետիոտնային անցումների ցանցը և ջրահեռացման համակարգը) վերակառուցում
A20: Միջոցառման տեսակը` | B20: Տրանսֆերտների տրամադրում
A21: Շահառուների ընտրության չափանիշները՛ | B21: Ընտրությունը կատարվել է իրագործելիության ուսումնասիրությունների հիման վրա
A22: Արդյունքի չափորոշիչներ
A23: Գյումրի քաղաքի հիմնանորոգվող փողոցների (միջինը 9.5մ լայնությամբ և 16.75 կմ երկարությամբ) թիվը՝ հատ
A24: Գյումրի քաղաքի հարակից մայթերով (միջինում 4մ լայնությամբ) հիմնանորոգման ենթակա փողոցների թիվը՝ հատ
A25: Գյումրի քաղաքի փողոցների անձրևաջրերի հեռացման համակարգի հիմնանորոգում՝ գծգմ
A26: Գյումրի քաղաքի լուսավորության համակարգի հիմնանորոգում՝ լուսակետ հենասյունով՝ հատ
A27: Քաղաքի 147 փողոցների լուսավորության համակարգի արդիականացում ավտոմատ կառավարման համակարգով՝ լուսակետ՝ հատ
A28: Հիմնանորոգված փողոցների թիվը ընդհանուր փողոցային ցանցում՝ տոկոս
A29: Հիմնանորոգված փողոցների հարակից մայթերի թիվը գոյություն ունեցող մայթերի համեմատ՝ տոկոս
A30: էլ էներգիայի և ծախսի տնտեսում՝ տոկոս
A31: էլ էներգիայի և սպասարկման ծախսի տնտեսում՝ տոկոս
A32: Միջոցառման վրա կատարվող ծախսը (հազար դրամ) | F32: =+HavelvacN3!H27 -> 1046724.9
A34: Ծրագրի դասիչը | B34: Ծրագրի անվանումը
A35: 1167 | B35: Էլեկտրաէներգետիկ համակարգի զարգացման ծրագիր
A37: Ծրագրի դասիչը` | B37: 1167 | C37: Ցուցանիշների փոփոխությունը (նվազեցումները նշված են փակագծերում)
A38: Միջոցառման դասիչը` | B38: 32001
A39: Միջոցառման անվանումը` | B39: Վերակառուցման և զարգացման միջազգային բանկի աջակցությամբ իրականացվող Ներդրումներ «Բարձրավոլտ էլեկտրացանցեր» ՓԲԸ-ում՝ «Աշնակ» և «Արարատ-2» ենթակայանների վերակառուցման նպատակով
A40: Նկարագրությունը` | B40: Էլեկտրահաղորդման ցանցի բարելավման ծրագրի շրջանակներում նախատեսվում է վերակառուցել 30 և ավելի տարիներ շահագործման մեջ գտնվող 220 կՎ «Աշնակ» ենթակայանը և 40 և ավելի տարիներ շահագործման մեջ գտնվող 220 կՎ «Արարատ-2» ենթակայանը
A41: Միջոցառման տեսակը` | B41: Այլ պետական կազմակերպությունների կողմից օգտագործվող ոչ ֆինանսական ակտիվների հետ գործառույթներ
A42: Ակտիվն օգտագործող կազմակերպության(ների) անվանում(ներ)ը | B42: Մասնագիտացված միավոր
A43: Արդյունքի չափորոշիչներ
A44: Վերակառուցվող ենթակայանների քանակ, հատ
A45: Ենթակայանների սարքավորումների խափանումների տարեկան քանակ, հատ
A46: Տարածքում անջատումների միջին տարեկան հաճախականություն, հոսանքազրկումների քանակը/բաժանորդների թվին
A47: Միջոցառման վրա կատարվող ծախսը (հազար դրամ) | F47: =+HavelvacN3!H36 -> -523360
...

Sheet HavelvacN4.2
E1: Հավելված N 4
F2: ՀՀ կառավարության 2019 թվականի
F3: ______________ ի ___Ն որոշման
F4: Աղյուսակ N 2
A6: ՀԱՅԱՍՏԱՆԻ ՀԱՆՐԱՊԵՏՈՒԹՅԱՆ ԿԱՌԱՎԱՐՈՒԹՅԱՆ 2018 ԹՎԱԿԱՆԻ ԴԵԿՏԵՄԲԵՐԻ 27-Ի N 1515-Ն ՈՐՈՇՄԱՆ N 11.1 ՀԱՎԵԼՎԱԾԻ N 11.1.8 և 11.1.15 ԱՂՅՈՒՍԱԿՆԵՐՈՒՄ ԿԱՏԱՐՎՈՂ ՓՈՓՈԽՈՒԹՅՈՒՆՆԵՐԸ
A7: ՀՀ տարածքային կառավարման և ենթակառուցվածքների նախարարություն
A9: ՄԱՍ 1. ՊԵՏԱԿԱՆ ՄԱՐՄՆԻ ԳԾՈՎ ԱՐԴՅՈՒՆՔԱՅԻՆ (ԿԱՏԱՐՈՂԱԿԱՆ) ՑՈՒՑԱՆԻՇՆԵՐԸ
A11: Ծրագրի դասիչը | B11: Ծրագրի անվանումը
A12: 1157 | B12: Քաղաքային զարգացում
A14: Ծրագրի միջոցառումները | C14: Ցուցանիշների փոփոխությունը (ավելացումները նշված են դրական նշանով)
A15: Ծրագրի դասիչը` | B15: 1157
A16: Միջոցառման դասիչը` | B16: 12017 | C16: Առաջին եռամսյակ | D16: Առաջին կիսամյակ | E16: Ինն ամիս | F16: Տարի
A17: Միջոցառման անվանումը` | B17: Վերակառուցման և զարգացման եվրոպական բանկի աջակցությամբ իրականացվող Գյումրու քաղաքային ճանապարհների ծրագիր
A18: Նկարագրությունը` | B18: Գյումրու ընտրված փողոցների (ներառյալ հետիոտնային անցումների ցանցը և ջրահեռացման համակարգը) վերակառուցում
A19: Միջոցառման տեսակը` | B19: Տրանսֆերտների տրամադրում
A20: Շահառուների ընտրության չափանիշները՛ | B20: Ընտրությունը կատարվել է իրագործելիության ուսումնասիրությունների հիման վրա
A21: Արդյունքի չափորոշիչներ
A22: Գյումրի քաղաքի հիմնանորոգվող փողոցների (միջինը 9.5մ լայնությամբ և 16.75 կմ երկարությամբ) թիվը՝ հատ
A23: Գյումրի քաղաքի հարակից մայթերով (միջինում 4մ լայնությամբ) հիմնանորոգման ենթակա փողոցների թիվը՝ հատ
A24: Գյումրի քաղաքի փողոցների անձրևաջրերի հեռացման համակարգի հիմնանորոգում՝ գծգմ
A25: Գյումրի քաղաքի լուսավորության համակարգի հիմնանորոգում՝ լուսակետ հենասյունով՝ հատ
A26: Քաղաքի 147 փողոցների լուսավորության համակարգի արդիականացում ավտոմատ կառավարման համակարգով՝ լուսակետ՝ հատ
A27: Հիմնանորոգված փողոցների թիվը ընդհանուր փողոցային ցանցում՝ տոկոս
A28: Հիմնանորոգված փողոցների հարակից մայթերի թիվը գոյություն ունեցող մայթերի համեմատ՝ տոկոս
A29: էլ էներգիայի և ծախսի տնտեսում՝ տոկոս
A30: էլ էներգիայի և սպասարկման ծախսի տնտեսում՝ տոկոս
A31: Միջոցառման վրա կատարվող ծախսը (հազար դրամ) | F31: =+HavelvacN4.1!F32 -> 1046724.9
A33: Ծրագրի դասիչը | B33: Ծրագրի անվանումը
A34: 1167 | B34: Էլեկտրաէներգետիկ համակարգի զարգացման ծրագիր
A36: Ծրագրի միջոցառումները | C36: Ցուցանիշների փոփոխությունը (նվազեցումները նշված են փակագծերում)
A37: Ծրագրի դասիչը` | B37: 1167
A38: Միջոցառման դասիչը` | B38: 32001 | C38: Առաջին եռամսյակ | D38: Առաջին կիսամյակ | E38: Ինն ամիս | F38: Տարի
A39: Միջոցառման անվանումը` | B39: Վերակառուցման և զարգացման միջազգային բանկի աջակցությամբ իրականացվող Ներդրումներ «Բարձրավոլտ էլեկտրացանցեր» ՓԲԸ-ում՝ «Աշնակ» և «Արարատ-2» ենթակայանների վերակառուցման նպատակով
A40: Նկարագրությունը` | B40: Էլեկտրահաղորդման ցանցի բարելավման ծրագրի շրջանակներում նախատեսվում է վերակառուցել 30 և ավելի տարիներ շահագործման մեջ գտնվող 220 կՎ «Աշնակ» ենթակայանը և 40 և ավելի տարիներ շահագործման մեջ գտնվող 220 կՎ «Արարատ-2» ենթակայանը
A41: Միջոցառման տեսակը` | B41: Այլ պետական կազմակերպությունների կողմից օգտագործվող ոչ ֆինանսական ակտիվների հետ գործառույթներ
A42: Ակտիվն օգտագործող կազմակերպության(ների) անվանում(ներ)ը | B42: Մասնագիտացված միավոր
A43: Արդյունքի չափորոշիչներ
A44: Վերակառուցվող ենթակայանների քանակ, հատ
A45: Ենթակայանների սարքավորումների խափանումների տարեկան քանակ, հատ
A46: Տարածքում անջատումների միջին տարեկան հաճախականություն, հոսանքազրկումների քանակը/բաժանորդների թվին
...
