Workbook

Sheet Հավելված 1
D1: Հավելված N 1 ՀՀ կառավարության 2019 թվականի _________-ի N ___ որոշման
A6: <<ՀԱՅԱՍՏԱՆԻ ՀԱՆՐԱՊԵՏՈՒԹՅԱՆ 2019 ԹՎԱԿԱՆԻ ՊԵՏԱԿԱՆ ԲՅՈՒՋԵԻ ՄԱՍԻՆ>> ՀԱՅԱՍՏԱՆԻ ՀԱՆՐԱՊԵՏՈՒԹՅԱՆ ՕՐԵՆՔԻ N 1 ՀԱՎԵԼՎԱԾԻ N 2 ԱՂՅՈՒՍԱԿՈՒՄ ԿԱՏԱՐՎՈՂ ՎԵՐԱԲԱՇԽՈՒՄԸ ԵՎ ՀԱՅԱՍՏԱՆԻ ՀԱՆՐԱՊԵՏՈՒԹՅԱՆ ԿԱՌԱՎԱՐՈՒԹՅԱՆ 2018 ԹՎԱԿԱՆԻ ԴԵԿՏԵՄԲԵՐԻ 27-ի N 1515-Ն ՈՐՈՇՄԱՆ N 5 ՀԱՎԵԼՎԱԾԻ N 1 ԱՂՅՈՒՍԱԿՈՒՄ ԿԱՏԱՐՎՈՂ ՓՈՓՈԽՈՒԹՅՈՒՆՆԵՐԸ ԵՎ ԼՐԱՑՈՒՄՆԵՐԸ
D7: հազար դրամներով
A8: Ծրագրային դասիչը | C8: Բյուջետային հատկացումների գլխավոր կարգադրիչների, ծրագրերի և միջոցառումների անվանումները | D8: Ցուցանիշների փոփոխությունները(ավելացումները նշված են դրական նշանով, իսկ նվազեցումները՝ փակագծերում)
A9: Ծրագիր | B9: Միջոցառում | D9: Տարի
C10: ԸՆԴԱՄԵՆԸ | D10: =D11 -> 0
C11: ՀՀ կառավարություն | D11: =D12 -> 0
A12: 1139 | C12: Ծրագրի անվանումը` | D12: =D19+D25 -> 0
C13: ՀՀ կառավարության պահուստային ֆոնդ
C14: Ծրագրի նպատակը`
C15: Պետական բյուջեում չկանխատեսված՝ ինչպես նաև բյուջետային երաշխիքների ապահովման ծախսերի ֆինանսավորման ապահովում
C16: Վերջնական արդյունքի նկարագրությունը`
C17: Պահուստային ֆոնդի կառավարման արդյունավետության և թափանցիկության
A18: Ծրագրի միջոցառումներ
B19: 11001 | C19: Միջոցառման անվանումը` | D19: 49500
C20: ՀՀ կառավարության պահուստային ֆոնդ
C21: Միջոցառման նկարագրությունը`
C22: ՀՀ պետական բյուջեում նախատեսված ելքերի լրացուցիչ ֆինանսավորման՝ պետական բյուջեում չկանխատեսված ելքերի՝ ինչպես նաև բյուջետային երաշխիքների ապահովման ելքերի ֆինանսավորման ապահովում
C23: Միջոցառման տեսակը
C24: Ծառայությունների մատուցում
B25: 11001 | C25: Միջոցառման անվանումը` | D25: -49500
C26: ՀՀ կառավարության պահուստային ֆոնդ
C27: Միջոցառման նկարագրությունը`
C28: ՀՀ պետական բյուջեում նախատեսված ելքերի լրացուցիչ ֆինանսավորման՝ պետական բյուջեում չկանխատեսված ելքերի՝ ինչպես նաև բյուջետային երաշխիքների ապահովման ելքերի ֆինանսավորման ապահովում
C29: Միջոցառման տեսակը
C30: Ծառայությունների մատուցում
C31: ՀՀ ազգային անվտանգության ծառայություն | D31: =D32 -> 0
A32: 1138 | C32: Ծրագրի անվանումը` | D32: =D33 -> 0
C33: Ազգային անվտանգություն | D33: =D39+D45+D51+D57 -> 0
C34: Ծրագրի նպատակը`
C35: Ներքին և արտաքին սպառնալիքներից անձի, հասարակության ու պետության անվտանգության ապահովում
C36: Վերջնական արդյունքի նկարագրությունը`
C37: Այլ պետությունների կողմից հետախուզական գործունեության կասեցում,պետական սահմանի անձեռնամխելիության ապահովում, կոռուպցիոն ռիսկերի շեշտակի նվազեցում
A38: Ծրագրի միջոցառումներ
B39: 11001 | C39: Միջոցառման անվանումը` | D39: =+-151797.3+46885.3 -> -104912
C40: Հետախուզական, հակահետախուզական, ռազմական հակահետախուզության, հանցագործությունների դեմ պայքարի և պետական սահմանի պահպանության գործունեության կազմակերպում
C41: Միջոցառման նկարագրությունը`
C42: ՀՀ անվտանգությանը սպառնացող վտանգի մասին տեղեկատվության ստացում, վերլուծում, վտանգի կանխատեսում, վտանգի կանխման ու չեզոքացման վերաբերյալ առաջարկությունների մշակում_x000D_
C43: Միջոցառման տեսակը
C44: Ծառայությունների մատուցում
B45: 31001 | C45: Միջոցառման անվանումը` | D45: =+-22222.9+78313 -> 56090.1
C46: Ազգային անվտանգության համակարգի տեխնիկական հագեցվածության բարելավում
C47: Միջոցառման նկարագրությունը`
C48: Ազգային անվտանգության համակարգի ստորաբաժանումների համար վարչական սարքավորումների ձեռքբերում
C49: Միջոցառման տեսակը
C50: Պետական մարմնի կողմից օգտագործվող ոչ ֆինանսական ակտիվների հետ գործառնություններ
B51: 31005 | C51: Միջոցառման անվանումը` | D51: -678.1
C52: Ազգային անվտանգության համակարգի կողմից ծառայությունների մատուցման ապահովման համար ոչ նյութական հիմնական միջոցների ձեռքբերում
C53: Միջոցառման նկարագրությունը`
C54: Օգտագործվող հակավիրուսային ծրագրերի լիցենզիաների ձեռքբերում
C55: Միջոցառման տեսակը
C56: Պետական մարմնի կողմից օգտագործվող ոչ ֆինանսական ակտիվների հետ գործառնություններ
B57: 31004 | C57: Միջոցառման անվանումը` | D57: 49500
C58: Ազգային անվտանգության համակարգի տրանսպորտային միջոցներով ապահովվածության բարելավում
C59: Միջոցառման նկարագրությունը`
C60: Ազգային անվտանգության ծառայության օպերատիվ ստորաբաժանումների համար ավտոմեքենաների ձեռքբերում
C61: Միջոցառման տեսակը
C62: Պետական մարմնի կողմից օգտագործվող ոչ ֆինանսական ակտիվների հետ գործառնություններ

Sheet Հավելված 2
G1: Հավելված N 2 ՀՀ կառավարության 2019 թվականի _________-ի N ___ որոշման
A6: ՀԱՅԱՍՏԱՆԻ ՀԱՆՐԱՊԵՏՈՒԹՅԱՆ ԿԱՌԱՎԱՐՈՒԹՅԱՆ 2018 ԹՎԱԿԱՆԻ ԴԵԿՏԵՄԲԵՐԻ 27-ի N 1515-Ն ՈՐՈՇՄԱՆ N 3 ԵՎ N 4 ՀԱՎԵԼՎԱԾՆԵՐՈՒՄ ԿԱՏԱՐՎՈՂ ՓՈՓՈԽՈՒԹՅՈՒՆՆԵՐԸ ԵՎ ԼՐԱՑՈՒՄՆԵՐԸ
G8: հազար դրամներով
A9: Գործառական դասիչը | D9: Ծրագրային դասիչը | F9: Բյուջետային ծախսերի գործառական դասակարգման բաժինների, խմբերի և դասերի, բյուջետային ծրագրերի միջոցառումների, բյուջետային հատկացումների գլխավոր կարգադրիչների անվանումները | G9: Ցուցանիշների փոփոխությունները(ավելացումները նշված են դրական նշանով, իսկ նվազեցումները՝ փակագծերում)
A10: Բաժին | B10: Խումբ | C10: Դաս | D10: Ծրագիր | E10: Միջոցառում | G10: Տարի
F11: ԸՆԴԱՄԵՆԸ | G11: =G12 -> 0
A12: 11 | F12: ՀԻՄՆԱԿԱՆ ԲԱԺԻՆՆԵՐԻՆ ՉԴԱՍՎՈՂ ՊԱՀՈՒՍՏԱՅԻՆ ՖՈՆԴԵՐ | G12: =G14 -> 0
F13: այդ թվում`
B14: 01 | F14: ՀՀ կառավարության և համայնքների պահուստային ֆոնդ | G14: =G16 -> 0
F15: այդ թվում`
C16: 01 | F16: ՀՀ կառավարության պահուստային ֆոնդ | G16: =G18 -> 0
F17: այդ թվում`
F18: ՀՀ կառավարություն | G18: =G19+G27 -> 0
D19: 1139 | E19: 11001 | F19: ՀՀ կառավարության պահուստային ֆոնդ | G19: =G21 -> 49500
F20: այդ թվում` ըստ կատարողների
F21: ՀՀ կառավարություն | G21: =G23 -> 49500
F22: այդ թվում` բյուջետային ծախսերի տնտեսագիտական դասակարգման հոդվածներ
F23: ԸՆԴԱՄԵՆԸ ԾԱԽՍԵՐ | G23: =G24 -> 49500
F24: ԸՆԹԱՑԻԿ ԾԱԽՍԵՐ | G24: =G25 -> 49500
F25: ԱՅԼ ԾԱԽՍԵՐ | G25: =G26 -> 49500
F26: Պահուստային միջոցներ | G26: 49500
E27: 11001 | F27: ՀՀ կառավարության պահուստային ֆոնդ | G27: =G29 -> -49500
F28: այդ թվում` ըստ կատարողների
F29: ՀՀ կառավարություն | G29: =G31 -> -49500
F30: այդ թվում` բյուջետային ծախսերի տնտեսագիտական դասակարգման հոդվածներ
F31: ԸՆԴԱՄԵՆԸ ԾԱԽՍԵՐ | G31: =G32 -> -49500
F32: ԸՆԹԱՑԻԿ ԾԱԽՍԵՐ | G32: =G33 -> -49500
F33: ԱՅԼ ԾԱԽՍԵՐ | G33: =G34 -> -49500
F34: Պահուստային միջոցներ | G34: -49500
A35: 03 | F35: ՀԱՍԱՐԱԿԱԿԱՆ ԿԱՐԳ, ԱՆՎՏԱՆԳՈՒԹՅՈՒՆ ԵՎ ԴԱՏԱԿԱՆ ԳՈՐԾՈՒՆԵՈՒԹՅՈՒՆ | G35: =SUM(G37) -> 0
F36: այդ թվում`
B37: 01 | F37: Հասարակական կարգ և անվտանգություն | G37: =SUM(G39) -> 0
F38: այդ թվում`
C39: 02 | F39: Ազգային անվտանգություն | G39: =G41 -> 0
F40: այդ թվում`
F41: ՀՀ ազգային անվտանգության ծառայություն | G41: =G43 -> 0
F42: այդ թվում`
D43: 1138 | F43: Ազգային անվտանգություն | G43: =G45+G56+G65+G74 -> 0
F44: այդ թվում`
E45: 11001 | F45: Հետախուզական, հակահետախուզական, ռազմական հակահետախուզության, հանցագործությունների դեմ պայքարի և պետական սահմանի պահպանության գործունեության կազմակերպում | G45: =G47 -> -104912
F46: այդ թվում` ըստ կատարողների
F47: ՀՀ ազգային անվտանգության ծառայություն | G47: =G49 -> -104912
F48: այդ թվում` բյուջետային ծախսերի տնտեսագիտական դասակարգման հոդվածներ
F49: ԸՆԴԱՄԵՆԸ ԾԱԽՍԵՐ | G49: =G50 -> -104912
F50: ԸՆԹԱՑԻԿ ԾԱԽՍԵՐ | G50: =G51+G54 -> -104912
F51: ԱՇԽԱՏԱՆՔԻ ՎԱՐՁԱՏՐՈՒԹՅՈՒՆ | G51: =G52 -> -151797.3
F52: Դրամով վճարվող աշխատավարձեր և հավելավճարներ | G52: =G53 -> -151797.3
F53: - Աշխատողների աշխատավարձեր և հավելավճարներ | G53: -151797.3
F54: Ընթացիկ նորոգում և պահպանում (ծառայություններ և նյութեր) | G54: =G55 -> 46885.3
F55: - Մեքենաների և սարքավորումների ընթացիկ նորոգում և պահպանում | G55: 46885.3
E56: 31001 | F56: Ազգային անվտանգության համակարգի տեխնիկական հագեցվածության բարելավում | G56: =G58 -> 56090.1
F57: այդ թվում` ըստ կատարողների
F58: ՀՀ ազգային անվտանգության ծառայություն | G58: =G60 -> 56090.1
F59: այդ թվում` բյուջետային ծախսերի տնտեսագիտական դասակարգման հոդվածներ
F60: ԸՆԴԱՄԵՆԸ ԾԱԽՍԵՐ | G60: =G61 -> 56090.1
F61: ՈՉ ՖԻՆԱՆՍԱԿԱՆ ԱԿՏԻՎՆԵՐԻ ԳԾՈՎ ԾԱԽՍԵՐ | G61: =G62 -> 56090.1
F62: ՀԻՄՆԱԿԱՆ ՄԻՋՈՑՆԵՐ | G62: =G63 -> 56090.1
F63: ՄԵՔԵՆԱՆԵՐ ԵՎ ՍԱՐՔԱՎՈՐՈՒՄՆԵՐ | G63: =G64 -> 56090.1
F64: - Վարչական սարքավորումներ | G64: =-22222.9+78313 -> 56090.1
E65: 31005 | F65: Ազգային անվտանգության համակարգի կողմից ծառայությունների մատուցման ապահովման համար ոչ նյութական հիմնական միջոցների ձեռբերում | G65: =G67 -> -678.1
F66: այդ թվում` ըստ կատարողների
F67: ՀՀ ազգային անվտանգության ծառայություն | G67: =G69 -> -678.1
F68: այդ թվում` բյուջետային ծախսերի տնտեսագիտական դասակարգման հոդվածներ
F69: ԸՆԴԱՄԵՆԸ ԾԱԽՍԵՐ | G69: =G70 -> -678.1
F70: ՈՉ ՖԻՆԱՆՍԱԿԱՆ ԱԿՏԻՎՆԵՐԻ ԳԾՈՎ ԾԱԽՍԵՐ | G70: =G71 -> -678.1
F71: ՀԻՄՆԱԿԱՆ ՄԻՋՈՑՆԵՐ | G71: =G72 -> -678.1
F72: ԱՅԼ ՀԻՄՆԱԿԱՆ ՄԻՋՈՑՆԵՐ | G72: =G73 -> -678.1
F73: - Ոչ նյութական հիմնական միջոցներ | G73: -678.1
E74: 31004 | F74: Ազգային անվտանգության համակարգի տրանսպորտային միջոցներով ապահովվածության բարելավում | G74: =G76 -> 49500
F75: այդ թվում` ըստ կատարողների
F76: ՀՀ ազգային անվտանգության ծառայություն | G76: =G78 -> 49500
F77: այդ թվում` բյուջետային ծախսերի տնտեսագիտական դասակարգման հոդվածներ
F78: ԸՆԴԱՄԵՆԸ ԾԱԽՍԵՐ | G78: =G79 -> 49500
F79: ՈՉ ՖԻՆԱՆՍԱԿԱՆ ԱԿՏԻՎՆԵՐԻ ԳԾՈՎ ԾԱԽՍԵՐ | G79: =G80 -> 49500
F80: ՀԻՄՆԱԿԱՆ ՄԻՋՈՑՆԵՐ | G80: =G81 -> 49500
F81: ՄԵՔԵՆԱՆԵՐ ԵՎ ՍԱՐՔԱՎՈՐՈՒՄՆԵՐ | G81: =G82 -> 49500
F82: - Տրանսպորտային սարքավորումներ | G82: 49500

Sheet Հավելված 3
G1: Հավելված N 3 ՀՀ կառավարության 2019 թվականի _________-ի N ___ որոշման
A3: «ՀԱՅԱՍՏԱՆԻ ՀԱՆՐԱՊԵՏՈՒԹՅԱՆ 2019 ԹՎԱԿԱՆԻ ՊԵՏԱԿԱՆ ԲՅՈՒՋԵԻ ՄԱՍԻՆ» ՀԱՅԱՍՏԱՆԻ ՀԱՆՐԱՊԵՏՈՒԹՅԱՆ ՕՐԵՆՔԻ N 1 ՀԱՎԵԼՎԱԾԻ N 3 ԱՂՅՈՒՍԱԿՈՒՄ ԿԱՏԱՐՎՈՂ ՓՈՓՈԽՈՒԹՅՈՒՆՆԵՐԸ ԵՎ ԼՐԱՑՈՒՄՆԵՐԸ
G4: հազար դրամներով
A5: Ծրագրային դասիչ | C5: Բյուջետային գլխավոր կարգադրիչների, ծրագրերի, միջոցառումների և ուղղությունների անվանումները | D5: Ընդամենը | E5: ՏԱՐԻ
E6: Ցուցանիշների փոփոխությունները (ավելացումները նշված են դրական նշանով, իսկ նվազեցումները՝ փակագծերում)
E7: այդ թվում՝
A8: Ծրագիր | B8: Միջոցառում | E8: Կառուցման աշխատանքներ | F8: Վերակառուցման, վերանորոգման և վերականգնման աշխատանքներ | G8: Նախագծահե- տազոտական, գեոդեզիա- քարտեզագրա- կան աշխա- տանքներ | H8: Ոչ ֆինանսական այլ ակտիվների ձեռքբերում
C9: ԸՆԴԱՄԵՆԸ | D9: =SUM(E9:H9) -> 104912 | E9: =E11 -> 0 | F9: 0 | G9: 0 | H9: =H11 -> 104912
C10: այդ թվում՝
C11: ՀՀ ԱԶԳԱՅԻՆ ԱՆՎՏԱՆԳՈՒԹՅԱՆ ԾԱՌԱՅՈՒԹՅՈՒՆ | D11: =SUM(E11:H11) -> 104912 | E11: 0 | F11: 0 | G11: 0 | H11: =H13+H14+H15 -> 104912
C12: այդ թվում`
A13: 1138 | B13: 31001 | C13: Ազգային անվտանգության համակարգի տեխնիկական հագեցվածության բարելավում | D13: =SUM(E13:H13) -> 56090.1 | E13: 0 | F13: 0 | G13: 0 | H13: ='Հավելված 2'!G56 -> 56090.1
A14: 1138 | B14: 31004 | C14: Ազգային անվտանգության համակարգի տրանսպորտային միջոցներով ապահովվածության բարելավում | D14: =SUM(E14:H14) -> 49500 | E14: 0 | F14: 0 | G14: 0 | H14: 49500 | XFD14: =SUM(A14:XFC14) -> 131142
A15: 1138 | B15: 31005 | C15: Ազգային անվտանգության համակարգի կողմից ծառայությունների մատուցման ապահովման համար ոչ նյութական հիմնական միջոցների ձեռբերում | D15: =SUM(E15:H15) -> -678.1 | E15: 0 | F15: 0 | G15: 0 | H15: ='Հավելված 2'!G73 -> -678.1

Sheet Հավելված 4
D1: Հավելված N 4 ՀՀ կառավարության 2019 թվականի _________-ի N ___ որոշման
A2: ՀԱՅԱՍՏԱՆԻ ՀԱՆՐԱՊԵՏՈՒԹՅԱՆ ԿԱՌԱՎԱՐՈՒԹՅԱՆ 2018 ԹՎԱԿԱՆԻ ԴԵԿՏԵՄԲԵՐԻ 27-Ի N 1515-Ն ՈՐՈՇՄԱՆ N 5 ՀԱՎԵԼՎԱԾԻ N 2 ԱՂՅՈՒՍԱԿՈՒՄ ԿԱՏԱՐՎՈՂ ՓՈՓՈԽՈՒԹՅՈՒՆՆԵՐԸ ԵՎ ԼՐԱՑՈՒՄՆԵՐԸ
A4: Ծրագրային դասիչ | C4: Բյուջետային գլխավոր կարգադրիչների, ծրագրերի, միջոցառումների, միջոցառումները կատարող պետական մարմինների և ուղղությունների անվանումները | D4: Ցուցանիշների փոփոխությունները (ավելացումները նշված են դրական նշանով, իսկ նվազեցումները՝ փակագծերում)
A5: Ծրագիր | B5: Միջոցառում | D5: Տարի
C6: ԸՆԴԱՄԵՆԸ | D6: =D7 -> 104912
C7: ՀՀ ԱԶԳԱՅԻՆ ԱՆՎՏԱՆԳՈՒԹՅԱՆ ԾԱՌԱՅՈՒԹՅՈՒՆ | D7: =D9+D12+D15 -> 104912
C8: այդ թվում`
A9: 1138 | B9: 31001 | C9: Ազգային անվտանգության համակարգի տեխնիկական հագեցվածության բարելավում | D9: =D11 -> 56090.1
C10: այդ թվում` ըստ կատարողների
C11: ՀՀ ազգային անվտանգության ծառայություն | D11: ='Հավելված 3'!H13 -> 56090.1
A12: 1138 | B12: 31004 | C12: Ազգային անվտանգության համակարգի տրանսպորտային միջոցներով ապահովվածության բարելավում | D12: =D14 -> 49500
C13: այդ թվում` ըստ կատարողների
C14: ՀՀ ազգային անվտանգության ծառայություն | D14: ='Հավելված 3'!H14 -> 49500
A15: 1138 | B15: 31005 | C15: Ազգային անվտանգության համակարգի կողմից ծառայությունների մատուցման ապահովման համար ոչ նյութական հիմնական միջոցների ձեռբերում | D15: =D17 -> -678.1
C16: այդ թվում` ըստ կատարողների
C17: ՀՀ ազգային անվտանգության ծառայություն | D17: ='Հավելված 3'!H15 -> -678.1

Sheet Հավելված 5
E1: Հավելված N 5 ՀՀ կառավարության 2019 թվականի _________-ի N ___ որոշման
B2: ՀԱՅԱՍՏԱՆԻ ՀԱՆՐԱՊԵՏՈՒԹՅԱՆ ԿԱՌԱՎԱՐՈՒԹՅԱՆ 2018 ԹՎԱԿԱՆԻ ԴԵԿՏԵՄԲԵՐԻ 27-Ի N 1515-Ն ՈՐՈՇՄԱՆ N 11 ՀԱՎԵԼՎԱԾԻ N 11.52 ԵՎ N 11.32 ԱՂՅՈՒՍԱԿՆԵՐՈՒՄ ԿԱՏԱՐՎՈՂ ՓՈՓՈԽՈՒԹՅՈՒՆՆԵՐԸ ԵՎ ԼՐԱՑՈՒՄՆԵՐԸ
B4: ՀՀ կառավարություն
B5: ՄԱՍ 2. ՊԵՏԱԿԱՆ ՄԱՐՄՆԻ ԳԾՈՎ ԱՐԴՅՈՒՆՔԱՅԻՆ (ԿԱՏԱՐՈՂԱԿԱՆ) ՑՈՒՑԱՆԻՇՆԵՐԸ
B6: Ծրագրի դասիչը | C6: Ծրագրի անվանումը
B7: 1139 | C7: ՀՀ կառավարության պահուստային ֆոնդ
B9: Ծրագրի միջոցառումները
B10: Ծրագրի դասիչը | C10: 1139 | D10: Ցուցանիշների փոփոխությունը (ավելացումները նշված են դրական նշանով)
B11: Միջոցառման դասիչը` | C11: 11001 | D11: առաջին կիսամյակ | E11: տարի
B12: Միջոցառման անվանումը` | C12: ՀՀ կառավարության պահուստային ֆոնդ
B13: Նկարագրությունը` | C13: ՀՀ պետական բյուջեում նախատեսված ելքերի լրացուցիչ ֆինանսավորման՝ պետական բյուջեում չկանխատեսված ելքերի, ինչպես նաև բյուջետային երաշխիքների ապահովման ելքերի ֆինանսավորման ապահովում
B14: Միջոցառման տեսակը` | C14: Ծառայությունների մատուցում
B15: Միջոցառումն իրականացնողի անվանումը` | C15: ՀՀ կառավարություն
B16: Արդյունքի չափորոշիչներ
B17: Միջոցառման վրա կատարվող ծախսը (հազ. դրամ) | D17: -20.492 | E17: 49500
B19: Ծրագրի դասիչը | C19: 1139 | D19: Ցուցանիշների փոփոխությունը (նվազեցումները նշված են փակագծերում)
B20: Միջոցառման դասիչը` | C20: 11001 | D20: առաջին կիսամյակ | E20: տարի
B21: Միջոցառման անվանումը` | C21: ՀՀ կառավարության պահուստային ֆոնդ
B22: Նկարագրությունը` | C22: ՀՀ պետական բյուջեում նախատեսված ելքերի լրացուցիչ ֆինանսավորման՝ պետական բյուջեում չկանխատեսված ելքերի, ինչպես նաև բյուջետային երաշխիքների ապահովման ելքերի ֆինանսավորման ապահովում
B23: Միջոցառման տեսակը` | C23: Ծառայությունների մատուցում
B24: Միջոցառումն իրականացնողի անվանումը` | C24: ՀՀ կառավարություն
B25: Արդյունքի չափորոշիչներ
B26: Միջոցառման վրա կատարվող ծախսը (հազ. դրամ) | D26: -20.492 | E26: -49500
B28: ՀՀ ազգային անվտանգության ծառայություն
B29: ՄԱՍ 2. ՊԵՏԱԿԱՆ ՄԱՐՄՆԻ ԳԾՈՎ ԱՐԴՅՈՒՆՔԱՅԻՆ (ԿԱՏԱՐՈՂԱԿԱՆ) ՑՈՒՑԱՆԻՇՆԵՐԸ
B30: Ծրագրի դասիչը | C30: Ծրագրի անվանումը
B31: 1138 | C31: Ազգային անվտանգություն
B33: Ծրագրի միջոցառումները
B34: Ծրագրի դասիչը | C34: 1138 | D34: Ցուցանիշների փոփոխությունը (նվազեցումները նշված են փակագծերում)
B35: Միջոցառման դասիչը` | C35: 11001 | D35: առաջին կիսամյակ | E35: տարի
B36: Միջոցառման անվանումը` | C36: Հետախուզական,հակահետախուզական,ռազմական հակահետախուզության, հանցագործությունների դեմ պայքարի և պետական սահմանի պահպանության գործունեության կազմակերպում
B37: Նկարագրությունը` | C37: ՀՀ անվտանգությանը սպառնացող վտանգի մասին տեղեկատվության ստացում, վերլուծում, վտանգի կանխատեսում, վտանգի կանխման ու չեզոքացման վերաբերյալ առաջարկությունների մշակում
B38: Միջոցառման տեսակը` | C38: Ծառայությունների մատուցում
B39: Միջոցառումն իրականացնողի անվանումը` | C39: ՀՀ ազգային անվտանգության ծառայություն
B40: Արդյունքի չափորոշիչներ
B41: Միջոցառման վրա կատարվող ծախսը (հազ. դրամ) | D41: 20.492 | E41: ='Հավելված 2'!G45 -> -104912
B44: Ծրագրի դասիչը | C44: 1138 | D44: Ցուցանիշների փոփոխությունը (նվազեցումները նշված են փակագծերում)
B45: Միջոցառման դասիչը` | C45: 31005 | D45: առաջին կիսամյակ | E45: տարի
B46: Միջոցառման անվանումը` | C46: Ազգային անվտանգության համակարգի կողմից ծառայությունների մատուցման ապահովման համար ոչ նյութական հիմնական միջոցների ձեռբերում
B47: Նկարագրությունը` | C47: Օգտագործվող հակավիրուսային ծրագրերի լիցենզիաների ձեռքբերում
B48: Միջոցառման տեսակը` | C48: Պետական մարմնի կողմից օգտագործվող ոչ ֆինանսական ակտիվների հետ գործառնություններ
B49: Միջոցառումն իրականացնողի անվանումը` | C49: ՀՀ ազգային անվտանգության ծառայություն
B50: Արդյունքի չափորոշիչներ
B51: Միջոցառման վրա կատարվող ծախսը (հազար դրամ) | E51: -678.108
B54: Ծրագրի դասիչը | C54: 1138 | D54: Ցուցանիշների փոփոխությունը (ավելացումները նշված են դրական նշանով)
B55: Միջոցառման դասիչը` | C55: 31001 | D55: առաջին կիսամյակ | E55: տարի
B56: Միջոցառման անվանումը` | C56: Ազգային անվտանգության համակարգի տեխնիկական հագեցվածության բարելավում
B57: Նկարագրությունը` | C57: Ազգային անվտանգության համակարգի ստորաբաժանումների համար վարչական սարքավորումների ձեռքբերում
B58: Միջոցառման տեսակը` | C58: Պետական մարմնի կողմից օգտագործվող ոչ ֆինանսական ակտիվների հետ գործառնություններ
B59: Միջոցառումն իրականացնողի անվանումը` | C59: ՀՀ ազգային անվտանգության ծառայություն
B60: Արդյունքի չափորոշիչներ
B61: Համակարգչային սարքավորումների քանակ, հատ | E61: 196
B62: Գրասենյակային գույքի միավոր քանակ, հատ | E62: 509
B63: Համակարգչային սարքավորումների ծառայության կանխատեսվող միջին ժամկետ, տարի | E63: 5
B64: Միջոցառման վրա կատարվող ծախսը (հազար դրամ) | E64: ='Հավելված 2'!G64 -> 56090.1
B67: Ծրագրի դասիչը | C67: 1138 | D67: Ցուցանիշների փոփոխությունը (ավելացումները նշված են դրական նշանով)
B68: Միջոցառման դասիչը` | C68: 31004 | D68: առաջին կիսամյակ | E68: տարի
B69: Միջոցառման անվանումը` | C69: Ազգային անվտանգության համակարգի տրանսպորտային սարքավորումների հագեցվածության բարելավում
B70: Նկարագրությունը` | C70: Ազգային անվտանգության ծառայության օպերատիվ ստորաբաժանումների համար ավտոմեքենաների ձեռքբերում
B71: Միջոցառման տեսակը` | C71: Պետական մարմնի կողմից օգտագործվող ոչ ֆինանսական ակտիվների հետ գործառնություններ
B72: Միջոցառումն իրականացնողի անվանումը` | C72: ՀՀ ազգային անվտանգության ծառայություն
B73: Արդյունքի չափորոշիչներ
B74: Տրանսպորտային սարքավորումների քանակ, հատ | E74: 7
B75: Միջոցառման վրա կատարվող ծախսը (հազ. դրամ) | D75: 20.492 | E75: 49500

Sheet Հավելված 6
E1: Հավելված N 6 ՀՀ կառավարության 2019 թվականի _________-ի N ___ որոշման
B2: ՀԱՅԱՍՏԱՆԻ ՀԱՆՐԱՊԵՏՈՒԹՅԱՆ ԿԱՌԱՎԱՐՈՒԹՅԱՆ 2018 ԹՎԱԿԱՆԻ ԴԵԿՏԵՄԲԵՐԻ 27-Ի N 1515-Ն ՈՐՈՇՄԱՆ N 11.1 ՀԱՎԵԼՎԱԾԻ N 11.1.66 ԵՎ 11.1.38 ԱՂՅՈՒՍԱԿՆԵՐՈՒՄ ԿԱՏԱՐՎՈՂ ՓՈՓՈԽՈՒԹՅՈՒՆՆԵՐԸ ԵՎ ԼՐԱՑՈՒՄՆԵՐԸ
B4: ՀՀ կառավարություն
B5: ՄԱՍ 1. ՊԵՏԱԿԱՆ ՄԱՐՄՆԻ ԳԾՈՎ ԱՐԴՅՈՒՆՔԱՅԻՆ (ԿԱՏԱՐՈՂԱԿԱՆ) ՑՈՒՑԱՆԻՇՆԵՐԸ
B6: Ծրագրի դասիչը | C6: Ծրագրի անվանումը
B7: 1139 | C7: ՀՀ կառավարության պահուստային ֆոնդ
B9: Ծրագրի միջոցառումները
B10: Ծրագրի դասիչը | C10: 1139 | D10: Ցուցանիշների փոփոխությունը (ավելացումները նշված են դրական նշանով)
B11: Միջոցառման դասիչը` | C11: 11001 | D11: առաջին կիսամյակ | E11: տարի
B12: Միջոցառման անվանումը` | C12: ՀՀ կառավարության պահուստային ֆոնդ
B13: Նկարագրությունը` | C13: ՀՀ պետական բյուջեում նախատեսված ելքերի լրացուցիչ ֆինանսավորման՝ պետական բյուջեում չկանխատեսված ելքերի, ինչպես նաև բյուջետային երաշխիքների ապահովման ելքերի ֆինանսավորման ապահովում
B14: Միջոցառման տեսակը` | C14: Ծառայությունների մատուցում
B15: Միջոցառումն իրականացնողի անվանումը` | C15: ՀՀ կառավարություն
B16: Արդյունքի չափորոշիչներ
B17: Միջոցառման վրա կատարվող ծախսը (հազ. դրամ) | D17: -20.492 | E17: 49500
B19: Ծրագրի դասիչը | C19: 1139 | D19: Ցուցանիշների փոփոխությունը (նվազեցումները նշված են փակագծերում)
B20: Միջոցառման դասիչը` | C20: 11001 | D20: առաջին կիսամյակ | E20: տարի
B21: Միջոցառման անվանումը` | C21: ՀՀ կառավարության պահուստային ֆոնդ
B22: Նկարագրությունը` | C22: ՀՀ պետական բյուջեում նախատեսված ելքերի լրացուցիչ ֆինանսավորման՝ պետական բյուջեում չկանխատեսված ելքերի, ինչպես նաև բյուջետային երաշխիքների ապահովման ելքերի ֆինանսավորման ապահովում
B23: Միջոցառման տեսակը` | C23: Ծառայությունների մատուցում
B24: Միջոցառումն իրականացնողի անվանումը` | C24: ՀՀ կառավարություն
B25: Արդյունքի չափորոշիչներ
B26: Միջոցառման վրա կատարվող ծախսը (հազ. դրամ) | D26: -20.492 | E26: -49500
B30: ՀՀ ազգային անվտանգության ծառայություն
B31: ՄԱՍ 1. ՊԵՏԱԿԱՆ ՄԱՐՄՆԻ ԳԾՈՎ ԱՐԴՅՈՒՆՔԱՅԻՆ (ԿԱՏԱՐՈՂԱԿԱՆ) ՑՈՒՑԱՆԻՇՆԵՐԸ
B32: Ծրագրի դասիչը | C32: Ծրագրի անվանումը
B33: 1138 | C33: Ազգային անվտանգություն
B35: Ծրագրի միջոցառումները
B36: Ծրագրի դասիչը | C36: 1138 | D36: Ցուցանիշների փոփոխությունը (նվազեցումները նշված են փակագծերում)
B37: Միջոցառման դասիչը` | C37: 11001 | D37: առաջին կիսամյակ | E37: տարի
B38: Միջոցառման անվանումը` | C38: Հետախուզական, հակահետախուզական, ռազմական հակահետախուզության, հանցագործությունների դեմ պայքարի և պետական սահմանի պահպանության գործունեության կազմակերպում
B39: Նկարագրությունը` | C39: ՀՀ անվտանգությանը սպառնացող վտանգի մասին տեղեկատվության ստացում, վերլուծում, վտանգի կանխատեսում, վտանգի կանխման ու չեզոքացման վերաբերյալ առաջարկությունների մշակում
B40: Միջոցառման տեսակը` | C40: Ծառայությունների մատուցում
B41: Միջոցառումն իրականացնողի անվանումը` | C41: ՀՀ ազգային անվտանգության ծառայություն
B42: Արդյունքի չափորոշիչներ
B43: Միջոցառման վրա կատարվող ծախսը (հազ. դրամ) | D43: 20.492 | E43: ='Հավելված 5'!E41 -> -104912
B46: Ծրագրի դասիչը | C46: 1138 | D46: Ցուցանիշների փոփոխությունը (նվազեցումները նշված են փակագծերում)
B47: Միջոցառման դասիչը` | C47: 31005 | D47: առաջին կիսամյակ | E47: տարի
B48: Միջոցառման անվանումը` | C48: Ազգային անվտանգության համակարգի կողմից ծառայությունների մատուցման ապահովման համար ոչ նյութական հիմնական միջոցների ձեռբերում
B49: Նկարագրությունը` | C49: Օգտագործվող հակավիրուսային ծրագրերի լիցենզիաների ձեռքբերում
B50: Միջոցառման տեսակը` | C50: Պետական մարմնի կողմից օգտագործվող ոչ ֆինանսական ակտիվների հետ գործառնություններ
B51: Միջոցառումն իրականացնողի անվանումը` | C51: ՀՀ ազգային անվտանգության ծառայություն
B52: Արդյունքի չափորոշիչներ
B53: Միջոցառման վրա կատարվող ծախսը (հազար դրամ) | E53: -678.108
B56: Ծրագրի դասիչը | C56: 1138 | D56: Ցուցանիշների փոփոխությունը (ավելացումները նշված են դրական նշանով)
B57: Միջոցառման դասիչը` | C57: 31001 | D57: առաջին կիսամյակ | E57: տարի
B58: Միջոցառման անվանումը` | C58: Ազգային անվտանգության համակարգի տեխնիկական հագեցվածության բարելավում
B59: Նկարագրությունը` | C59: Ազգային անվտանգության համակարգի ստորաբաժանումների համար վարչական սարքավորումների ձեռքբերում
B60: Միջոցառման տեսակը` | C60: Պետական մարմնի կողմից օգտագործվող ոչ ֆինանսական ակտիվների հետ գործառնություններ
B61: Միջոցառումն իրականացնողի անվանումը` | C61: ՀՀ ազգային անվտանգության ծառայություն
B62: Արդյունքի չափորոշիչներ
B63: Համակարգչային սարքավորումների քանակ, հատ | E63: 196
B64: Գրասենյակային գույքի միավոր քանակ, հատ | E64: 509
B65: Համակարգչային սարքավորումների ծառայության կանխատեսվող միջին ժամկետ, տարի | E65: 5
B66: Միջոցառման վրա կատարվող ծախսը (հազար դրամ) | E66: ='Հավելված 5'!E64 -> 56090.1
B69: Ծրագրի դասիչը | C69: 1138 | D69: Ցուցանիշների փոփոխությունը (ավելացումները նշված են դրական նշանով)
B70: Միջոցառման դասիչը` | C70: 31004 | D70: առաջին կիսամյակ | E70: տարի
B71: Միջոցառման անվանումը` | C71: Ազգային անվտանգության համակարգի տրանսպորտային սարքավորումների հագեցվածության բարելավում
B72: Նկարագրությունը` | C72: Ազգային անվտանգության ծառայության օպերատիվ ստորաբաժանումների համար ավտոմեքենաների ձեռքբերում
B73: Միջոցառման տեսակը` | C73: Պետական մարմնի կողմից օգտագործվող ոչ ֆինանսական ակտիվների հետ գործառնություններ
B74: Միջոցառումն իրականացնողի անվանումը` | C74: ՀՀ ազգային անվտանգության ծառայություն
B75: Արդյունքի չափորոշիչներ
B76: Տրանսպորտային սարքավորումների քանակ, հատ | E76: 7
B77: Միջոցառման վրա կատարվող ծախսը (հազ. դրամ) | D77: 20.492 | E77: 49500

Sheet Հավելված 7
G1: Հավելված N 7 ՀՀ կառավարության 2019 թվականի _________-ի N ___ որոշման
B4: ՀՀ ԿԱՌԱՎԱՐՈՒԹՅԱՆ 2018 ԹՎԱԿԱՆԻ ԴԵԿՏԵՄԲԵՐԻ 27-Ի N 1515-Ն ՈՐՈՇՄԱՆ N 12 ՀԱՎԵԼՎԱԾԻ ՑՈՒՑԱՆԻՇՆԵՐՈՒՄ ԿԱՏԱՐՎՈՂ ՓՈՓՈԽՈՒԹՅՈՒՆՆԵՐԸ
B5: Կոդը | C5: Անվանումը | D5: Գնման ձևը | E5: Չափման միավորը | F5: Մեկ միավորի գինը | G5: Քանակը | H5: Գումարը (հազար դրամով)
C6: ՀՀ ազգային անվտանգության ծառայություն | H6: =H8+H101+H105+H108+H139 -> 151797.29
C7: Բաժին N 3 Խումբ N 1 Դաս N 2 Ազգային անվտանգություն
B8: 1138 31001 | C8: Ազգային անվտանգության համակարգի տեխնիկական հագեցվածության բարելավում | H8: -22222.9
C9: ՄԱՍ 1. ԱՊՐԱՆՔՆԵՐ | H9: =SUM(H10:H100) -> -22222.959
B10: 39138110/3 | C10: աթոռ մետաղյա | D10: Գնանշման հարցում | E10: հատ | F10: 9000 | G10: 0 | H10: -114
B11: 39111220/3 | C11: բազկաթոռ` ղեկավարի | D11: Գնանշման հարցում | E11: հատ | F11: 40000 | G11: 0 | H11: -60
B12: 30237112/3 | C12: սնուցման բլոկ | D12: Գնանշման հարցում | E12: հատ | F12: 250000 | G12: -1 | H12: -250
B13: 39151130/7 | C13: մոդուլային կահույք | D13: Գնանշման հարցում | E13: հատ | F13: 20000 | G13: 0 | H13: -4.5
B14: 39722100/3 | C14: վառարանների մասեր | D14: Գնանշման հարցում | E14: հատ | F14: 20000 | G14: 0 | H14: -15
B15: 39151210/3 | C15: ճեմասրահի ― ընդունարանի կահույք | D15: Գնանշման հարցում | E15: հատ | F15: 210000 | G15: 0 | H15: -1040.742
B16: 32561600/14 | C16: օպտիկամանրաթելային փոխարկիչ | D16: Գնանշման հարցում | E16: հատ | F16: 30000 | G16: 0 | H16: -1.02
B17: 39711210/2 | C17: էլեկտրաջերմային տեխնիկա | D17: Էլեկտրոնային աճուրդ | E17: հատ | F17: 550000 | G17: 0 | H17: -25.09
B18: 39121400/3 | C18: լրագրասեղան | D18: Գնանշման հարցում | E18: հատ | F18: 13000 | G18: 0 | H18: -7.26
B19: 30232231/8 | C19: համակարգչի կոշտ սկավառակ | D19: Գնանշման հարցում | E19: հատ | F19: 28000 | G19: 0 | H19: -263.8
B20: 39121480/3 | C20: սեղան` կոշկակարի | D20: Գնանշման հարցում | E20: հատ | F20: 50000 | G20: 0 | H20: -0.1
B21: 39121410/3 | C21: սեղան` համակարգչի | D21: Գնանշման հարցում | E21: հատ | F21: 27000 | G21: 0 | H21: -121.2
... B100: 38631600/16 | C100: հատուկ օպտիկական գործիքներ | D100: Գնանշման հարցում | E100: հատ | F100: 1500000 | G100: 0 | H100: -162
B101: 1138 31005 | C101: Ազգային անվտանգության համակարգի կողմից ծառայությունների մատուցման ապահովման համար ոչ նյութական հիմնական միջոցների ձեռքբերում | H101: =H102 -> -678.108
C102: ՄԱՍ 3. ԾԱՌԱՅՈՒԹՅՈՒՆՆԵՐ | H102: =H103+H104 -> -678.108
B103: 48761100/2 | C103: հակավիրուսային համակարգչային ծրագրային փաթեթներ | D103: Գնանշման հարցում | E103: դրամ | H103: -40
B104: 48211200/4 | C104: լիցենզիաների կառավարման համակարգչային ծրագրային փաթեթներ | D104: Գնանշման հարցում | E104: դրամ | H104: -638.108
B105: 1138 11001 | C105: Հետախուզական, հակահետախուզական, ռազմական հակահետախուզության, հանցագործությունների դեմ պայքարի և պետական սահմանի պահպանության գործունեության կազմակերպում | H105: =H106 -> 46885.3
C106: ՄԱՍ 3. ԾԱՌԱՅՈՒԹՅՈՒՆՆԵՐ | H106: =H107 -> 46885.3
B107: 45311149/502 | C107: էլեկտրականության բաշխման սարքերի էլեկտրական մոնտաժման աշխատանքներ | D107: Հրատապ բաց մրցույթ | E107: դրամ | F107: 46885300 | G107: 1 | H107: =F107*G107/1000 -> 46885.3
B108: 1138 31001 | C108: Ազգային անվտանգության համակարգի տեխնիկական հագեցվածության բարելավում | H108: =H109 -> 78313
C109: ՄԱՍ 1. ԱՊՐԱՆՔՆԵՐ | H109: =SUM(H110:H138) -> 78313
B110: 30232231/510 | C110: համակարգչի կոշտ սկավառակ | D110: Գնանշման հարցում | E110: հատ | F110: 120000 | G110: 5 | H110: =F110*G110/1000 -> 600
B111: 30232231/511 | C111: համակարգչի կոշտ սկավառակ | D111: Գնանշման հարցում | E111: հատ | F111: 108000 | G111: 38 | H111: =F111*G111/1000 -> 4104
B112: 31221230/506 | C112: միացման մալուխներ | D112: Գնանշման հարցում | E112: հատ | F112: 56000 | G112: 2 | H112: =F112*G112/1000 -> 112
B113: 32333300/501 | C113: թվային տեսաձայնագրիչներ | D113: Գնանշման հարցում | E113: հատ | F113: 520000 | G113: 6 | H113: =F113*G113/1000 -> 3120
B114: 32341330/501 | C114: ռադիոկայաններ | D114: Գնանշման հարցում | E114: հատ | F114: 307000 | G114: 34 | H114: =F114*G114/1000 -> 10438
B115: 32341330/502 | C115: ռադիոկայաններ | D115: Գնանշման հարցում | E115: հատ | F115: 691000 | G115: 1 | H115: =F115*G115/1000 -> 691
B116: 32421300/519 | C116: ցանցային բաժանարար | D116: Գնանշման հարցում | E116: հատ | F116: 15000 | G116: 2 | H116: =F116*G116/1000 -> 30
B117: 32421300/520 | C117: ցանցային բաժանարար | D117: Գնանշման հարցում | E117: հատ | F117: 145000 | G117: 2 | H117: =F117*G117/1000 -> 290
B118: 32421300/521 | C118: ցանցային բաժանարար | D118: Գնանշման հարցում | E118: հատ | F118: 26000 | G118: 2 | H118: =F118*G118/1000 -> 52
B119: 32551120/501 | C119: հեռախոսային կայաններ | D119: Գնանշման հարցում | E119: հատ | F119: 461000 | G119: 1 | H119: =F119*G119/1000 -> 461
B120: 32551160/503 | C120: հեռախոսային սարքեր | D120: Գնանշման հարցում | E120: հատ | F120: 25000 | G120: 10 | H120: =F120*G120/1000 -> 250
B121: 32551160/504 | C121: հեռախոսային սարքեր | D121: Գնանշման հարցում | E121: հատ | F121: 4500 | G121: 50 | H121: =F121*G121/1000 -> 225
... B138: 39151210/504 | C138: ճեմասրահի ― ընդունարանի կահույք | D138: Գնանշման հարցում | E138: հատ | F138: 180000 | G138: 10 | H138: =F138*G138/1000 -> 1800
B139: 1138 31004 | C139: Ազգային անվտանգության համակարգի տրանսպորտային սարքավորումներով հագեցվածության բարելավում | H139: =H140 -> 49500
C140: ՄԱՍ 1. ԱՊՐԱՆՔՆԵՐ | H140: =SUM(H141:H182) -> 49500
B141: 34111130/501 | C141: սեդան թափքով մեքենաներ | D141: Գնանշման հարցում | E141: հատ | F141: 7200000 | G141: 4 | H141: =F141*G141/1000 -> 28800
B142: 34111130/502 | C142: սեդան թափքով մեքենաներ | D142: Գնանշման հարցում | E142: հատ | F142: 6900000 | G142: 3 | H142: =F142*G142/1000 -> 20700
