Workbook
Name _tab10: #REF!
Name _tab10: #REF!
Name _tab11: #REF!
Name _tab11: #REF!
Name _tab12: #REF!
Name _tab12: #REF!
Name _tab13: #REF!
Name _tab13: #REF!
Name _tab14: #REF!
Name _tab14: #REF!
Name _tab15: #REF!
Name _tab15: #REF!
Name _tab16: #REF!
Name _tab16: #REF!
Name _tab17: #REF!
Name _tab17: #REF!
Name _tab18: #REF!
Name _tab18: #REF!
Name _tab19: #REF!
Name _tab19: #REF!
Name _tab20: #REF!
Name _tab20: #REF!
Name _tab21: #REF!
Name _tab21: #REF!
Name _tab22: #REF!
Name _tab22: #REF!
Name _tab23: #REF!
Name _tab23: #REF!
Name _tab24: #REF!
Name _tab24: #REF!
Name _tab5: #REF!
Name _tab5: #REF!
Name _tab6: #REF!
Name _tab6: #REF!
Name _tab7: #REF!
Name _tab7: #REF!
Name _tab8: #REF!
Name _tab8: #REF!
Name _tab9: #REF!
Name _tab9: #REF!
Name AgencyCode: #REF!
Name AgencyName: #REF!
Name åû: #REF!
Name davit: #REF!
Name Functional1: #REF!
Name ggg: #REF!
Name mas: #REF!
Name mass: #REF!
Name PANature: #REF!
Name par_count: #REF!,#REF!,#REF!,#REF!,#REF!,#REF!,#REF!,#REF!,#REF!,#REF!,#REF!,#REF!,#REF!,#REF!,#REF!
Name par_count: #REF!,#REF!,#REF!,#REF!,#REF!,#REF!,#REF!,#REF!,#REF!,#REF!,#REF!,#REF!,#REF!,#REF!,#REF!
Name par_qual: #REF!,#REF!,#REF!,#REF!,#REF!
Name par_qual: #REF!,#REF!,#REF!,#REF!,#REF!
Name par_time: #REF!,#REF!,#REF!,#REF!
Name par_time: #REF!,#REF!,#REF!,#REF!
Name par2.12s: #REF!
Name par2.12s: #REF!
Name par2.4s: #REF!,#REF!,#REF!,#REF!,#REF!,#REF!,#REF!,#REF!,#REF!,#REF!,#REF!,#REF!,#REF!,#REF!,#REF!,#REF!
Name par2.4s: #REF!,#REF!,#REF!,#REF!,#REF!,#REF!,#REF!,#REF!,#REF!,#REF!,#REF!,#REF!,#REF!,#REF!,#REF!,#REF!
Name par2.5s: #REF!,#REF!

Sheet 1
H1: Հավելված N 1
E2: ՀՀ կառավարության 2026 թվականի
H3: N ------------ -Ն որոշման
C4: «ՀԱՅԱՍՏԱՆԻ ՀԱՆՐԱՊԵՏՈՒԹՅԱՆ 2026 ԹՎԱԿԱՆԻ ՊԵՏԱԿԱՆ ԲՅՈՒՋԵԻ ՄԱՍԻՆ» ՕՐԵՆՔԻ N 1 ՀԱՎԵԼՎԱԾԻ N 2 ԱՂՅՈՒՍԱԿՈՒՄ ԿԱՏԱՐՎՈՂ ՎԵՐԱԲԱՇԽՈՒՄԸ ԵՎ ՀԱՅԱՍՏԱՆԻ ՀԱՆՐԱՊԵՏՈՒԹՅԱՆ ԿԱՌԱՎԱՐՈՒԹՅԱՆ 2025 ԹՎԱԿԱՆԻ ԴԵԿՏԵՄԲԵՐԻ 25-Ի N 1910-Ն ՈՐՈՇՄԱՆ N 5 ՀԱՎԵԼՎԱԾԻ N 1 ԱՂՅՈՒՍԱԿՈՒՄ ԿԱՏԱՐՎՈՂ ՓՈՓՈԽՈՒԹՅՈՒՆՆԵՐԸ ԵՎ ԼՐԱՑՈՒՄՆԵՐԸ
H8: հազար դրամներով
B9: ԲԳԿ | C9: Ծրագրային դասիչը | E9: ԲԳԿ/Ծրագրի /միջոցառման անվանումը | F9: Ծրագրի նպատակը/Միջոցառման նկարագրությունը | G9: Վերջնական արդյունքի նկարագրությունը/Միջոցառման տեսակը | H9: Ցուցանիշների փոփոխությունը (ավելացումները նշված են դրական նշանով, իսկ նվազեցումները` փակագծերում)
C10: Ծրագիր | D10: Միջոցառում | H10: Տարի
B11: ԸՆԴԱՄԵՆԸ | H11: =+H15+H12 -> 0
B12: ՀՀ տարածքային կառավարման և ենթակառուցվածքների նախարարություն | H12: =H13 -> 1235990.5
C13: 1212 | E13: Տարածքային զարգացում | F13: Տարածքային համաչափ զարգացման խթանում | G13: ՀՀ համայնքների կառավարման արդյունավետության բարձրացում և տնտեսական գործունեության խթանում | H13: =+H14 -> 1235990.5
D14: 1212-12025 | E14: Մարզերում առաջնահերթ լուծում պահանջող հիմնախնդիրների լուծում | F14: Մարզերում առաջնահերթ լուծում պահանջող ծրագրերի իրականացում, որի արդյունքում լուծում կտրվի բնակչության և համայնքների սոցիալական նշանակություն ունեցող հիմնախնդիրներին: | G14: Տրանսֆերտների տրամադրում | H14: ='2'!H21 -> 1235990.5
B15: ՀՀ կառավարություն | H15: =H16 -> -1235990.5
C16: 1139 | E16: ՀՀ կառավարության պահուստային ֆոնդ | F16: Պետական բյուջեում չկանխատեսված, ինչպես նաեւ բյուջետային երաշխիքների ապահովման ծախսերի ֆինանսավորման ապահովում | G16: Պահուստային ֆոնդի կառավարման արդյունավետության և թափանցիկության ապահովում | H16: =H17+H18+H19 -> -1235990.5
D17: 1139 - 11001 | E17: ՀՀ կառավարության պահուստային ֆոնդ | F17: ՀՀ պետական բյուջեում նախատեսված ելքերի լրացուցիչ ֆինանսավորման, պետական բյուջեում չկանխատեսված ելքերի, ինչպես նաև բյուջետային երաշխիքների ապահովման ելքերի ֆինանսավորման ապահովում | G17: Ծառայությունների մատուցում | H17: ='2'!H112 -> -1235990.5
D18: 1139 - 11001 | E18: ՀՀ կառավարության պահուստային ֆոնդ | F18: ՀՀ պետական բյուջեում նախատեսված ելքերի լրացուցիչ ֆինանսավորման, պետական բյուջեում չկանխատեսված ելքերի, ինչպես նաև բյուջետային երաշխիքների ապահովման ելքերի ֆինանսավորման ապահովում | G18: Ծառայությունների մատուցում | H18: ='2'!H120 -> 1235990.5
D19: 1139 - 11003 | E19: Հարկաբյուջետային ռիսկերի կառավարման պահուստ | F19: Հարկաբյուջետային ռիսկերի կառավարման նպատակով նախատեսված միջոցներ | G19: Ծառայությունների մատուցում | H19: ='2'!H121 -> -1235990.5
C24: ՀԱՅԱՍՏԱՆԻ ՀԱՆՐԱՊԵՏՈՒԹՅԱՆ
C25: ՎԱՐՉԱՊԵՏԻ ԱՇԽԱՏԱԿԱԶՄԻ
D26: ՂԵԿԱՎԱՐ ՝ Լ. Մակունց

Sheet 2
H1: Հավելված N 2
G2: ՀՀ կառավարության 2026 թվականի
H3: N ------------ -Ն որոշման
B5: ՀԱՅԱՍՏԱՆԻ ՀԱՆՐԱՊԵՏՈՒԹՅԱՆ ԿԱՌԱՎԱՐՈՒԹՅԱՆ 2025 ԹՎԱԿԱՆԻ ԴԵԿՏԵՄԲԵՐԻ 25-Ի N 1910-Ն ՈՐՈՇՄԱՆ NN 3 ԵՎ 4 ՀԱՎԵԼՎԱԾՆԵՐՈՒՄ ԿԱՏԱՐՎՈՂ ՓՈՓՈԽՈՒԹՅՈՒՆՆԵՐԸ ԵՎ ԼՐԱՑՈՒՄՆԵՐԸ
H6: հազար դրամներով
B7: Գործառական դասիչը | E7: Ծրագրային դասիչը | G7: Բյուջետային ծախսերի գործառական դասակարգման բաժինների, խմբերի և դասերի, բյուջետային ծրագրերի միջոցառումների, բյուջետային հատկացումների գլխավոր կարգադրիչների անվանումները | H7: Ցուցանիշների փոփոխությունը (ավելացումները նշված են դրական նշանով, իսկ նվազեցումները` փակագծերում)
B8: Բաժին | C8: Խումբ | D8: Դաս | E8: Ծրագիր | F8: Միջոցառում | H8: Տարի
G9: ԸՆԴԱՄԵՆԸ ԾԱԽՍԵՐ | H9: =H11+H93 -> 0
G10: այդ թվում`
G11: ՀՀ տարածքային կառավարման և ենթակառուցվածքների նախարարություն | H11: =H13 -> 1235990.5
G12: այդ թվում`
B13: 01 | G13: ԸՆԴՀԱՆՈՒՐ ԲՆՈՒՅԹԻ ՀԱՆՐԱՅԻՆ ԾԱՌԱՅՈՒԹՅՈՒՆՆԵՐ | H13: =H15 -> 1235990.5
G14: այդ թվում`
C15: 08 | G15: Կառավարության տարբեր մակարդակների միջև իրականացվող ընդհանուր բնույթի տրանսֆերտներ | H15: =H17 -> 1235990.5
G16: այդ թվում`
D17: 01 | G17: Կառավարության տարբեր մակարդակների միջև իրականացվող ընդհանուր բնույթի տրանսֆերտներ | H17: =H19 -> 1235990.5
G18: այդ թվում`
E19: 1212 | G19: Տարածքային զարգացում | H19: =+H21 -> 1235990.5
G20: այդ թվում`
F21: 12025 | G21: Մարզերում առաջնահերթ լուծում պահանջող հիմնախնդիրների լուծում | H21: =H23+H31+H39+H47+H58+H66+H77+H85 -> 1235990.5
G22: այդ թվում` ըստ կատարողների
G23: ՀՀ Արագածոտնի մարզպետի աշխատակազմ | H23: =H25 -> 801.9
G24: այդ թվում` բյուջետային ծախսերի տնտեսագիտական դասակարգման հոդվածներ
G25: ԸՆԴԱՄԵՆԸ ԾԱԽՍԵՐ | H25: =H26 -> 801.9
G26: ԸՆԹԱՑԻԿ ԾԱԽՍԵՐ | H26: =H27 -> 801.9
G27: ՍՈՑԻԱԼԱԿԱՆ ՆՊԱՍՏՆԵՐ ԵՎ ԿԵՆՍԱԹՈՇԱԿՆԵՐ | H27: =H28 -> 801.9
G28: ՍՈՑԻԱԼԱԿԱՆ ՆՊԱՍՏՆԵՐ ԵՎ ԿԵՆՍԱԹՈՇԱԿՆԵՐ | H28: =H30 -> 801.9
G29: Սոցիալական օգնության դրամական արտահայտությամբ նպաստներ (բյուջեից)
G30: -Այլ նպաստներ բյուջեից | H30: 801.9
G31: ՀՀ Արմավիրի մարզպետի աշխատակազմ | H31: =H33 -> 68946
G32: այդ թվում` բյուջետային ծախսերի տնտեսագիտական դասակարգման հոդվածներ
G33: ԸՆԴԱՄԵՆԸ ԾԱԽՍԵՐ | H33: =H34 -> 68946
G34: ԸՆԹԱՑԻԿ ԾԱԽՍԵՐ | H34: =H35 -> 68946
G35: ՍՈՑԻԱԼԱԿԱՆ ՆՊԱՍՏՆԵՐ ԵՎ ԿԵՆՍԱԹՈՇԱԿՆԵՐ | H35: =H36 -> 68946
G36: ՍՈՑԻԱԼԱԿԱՆ ՆՊԱՍՏՆԵՐ ԵՎ ԿԵՆՍԱԹՈՇԱԿՆԵՐ | H36: =H38 -> 68946
G37: Սոցիալական օգնության դրամական արտահայտությամբ նպաստներ (բյուջեից)
G38: -Այլ նպաստներ բյուջեից | H38: 68946
G39: ՀՀ Գեղարքունիքի մարզպետի աշխատակազմ | H39: =H41 -> 107947.4
G40: այդ թվում` բյուջետային ծախսերի տնտեսագիտական դասակարգման հոդվածներ
G41: ԸՆԴԱՄԵՆԸ ԾԱԽՍԵՐ | H41: =H42 -> 107947.4
...

Sheet 3
F1: Հավելված N 3
E2: ՀՀ կառավարության 2025 թվականի
F3: N ------------ -Ն որոշման
C5: «ՀԱՅԱՍՏԱՆԻ ՀԱՆՐԱՊԵՏՈՒԹՅԱՆ 2026 ԹՎԱԿԱՆԻ ՊԵՏԱԿԱՆ ԲՅՈՒՋԵԻ ՄԱՍԻՆ» ՕՐԵՆՔԻ N 1 ՀԱՎԵԼՎԱԾԻ N 7 ԱՂՅՈՒՍԱԿՈՒՄ ԿԱՏԱՐՎՈՂ ԼՐԱՑՈՒՄԸ ԵՎ ՀԱՅԱՍՏԱՆԻ ՀԱՆՐԱՊԵՏՈՒԹՅԱՆ ԿԱՌԱՎԱՐՈՒԹՅԱՆ 2025 ԹՎԱԿԱՆԻ ԴԵԿՏԵՄԲԵՐԻ 25-Ի N 1910-Ն ՈՐՈՇՄԱՆ N 5 ՀԱՎԵԼՎԱԾԻ N 6 ԱՂՅՈՒՍԱԿՈՒՄ ԿԱՏԱՐՎՈՂ ԼՐԱՑՈՒՄԸ
D10: հազար դրամներով
B11: Ծրագրային դասիչը | D11: Հատկացումների տրամադրման նպատակները և բյուջետային գլխավոր կարգադրիչների, ծրագրերի, միջոցառումների և կատարող պետական մարմնի անվանումները | E11: Տարի
B12: Ծրագիր | C12: Միջոցառում
D13: Ընդամենը | E13: =E15 -> 274404.9
B14: այդ թվում`
B15: Ընթացիկ սուբվենցիաներ համայնքներին | E15: =E17 -> 274404.9
B16: այդ թվում`
B17: ՀՀ տարածքային կառավարման և ենթակառուցվածքների նախարարություն | E17: =E18 -> 274404.9
B18: 1212 | D18: Տարածքային զարգացում | E18: =E20 -> 274404.9
D19: այդ թվում`
C20: 12025 | D20: Մարզերում առաջնահերթ լուծում պահանջող հիմնախնդիրների լուծում | E20: =E22+E25 -> 274404.9
D21: այդ թվում` ըստ կատարողների
D22: ՀՀ Լոռու մարզպետի աշխատակազմ | E22: =E24 -> 57483.3
D23: այդ թվում` ըստ ուղղությունների
D24: Համայնքի բազմաբնակարան շենքերի տանիքներին պատճառված վնասների մեղմում | E24: ='2'!H57 -> 57483.3
D25: ՀՀ Շիրակի մարզպետի աշխատակազմ | E25: =E27 -> 216921.6
D26: այդ թվում` ըստ ուղղությունների
D27: Համայնքի բազմաբնակարան շենքերի տանիքներին պատճառված վնասների մեղմում | E27: ='2'!H76 -> 216921.6
C30: ՀԱՅԱՍՏԱՆԻ ՀԱՆՐԱՊԵՏՈՒԹՅԱՆ
C31: ՎԱՐՉԱՊԵՏԻ ԱՇԽԱՏԱԿԱԶՄԻ
D32: ՂԵԿԱՎԱՐ ՝ Լ. Մակունց

Sheet 4
I1: Հավելված N4
I2: ՀՀ կառավարության 2026 թվականի
I3: ______________ ի ___Ն որոշման
B5: «ՀԱՅԱՍՏԱՆԻ ՀԱՆՐԱՊԵՏՈՒԹՅԱՆ 2026 ԹՎԱԿԱՆԻ ՊԵՏԱԿԱՆ ԲՅՈՒՋԵԻ ՄԱՍԻՆ» ՕՐԵՆՔԻ N 1 ՀԱՎԵԼՎԱԾԻ N 3 ԱՂՅՈՒՍԱԿՈՒՄ ԿԱՏԱՐՎՈՂ ՓՈՓՈԽՈՒԹՅՈՒՆԸ
H6: հազար դրամներով
B7: Ծրագրային դասիչ | D7: Բյուջետային գլխավոր կարգադրիչների, ծրագրերի, միջոցառումների և ուղղությունների անվանումները | E7: Ցուցանիշների փոփոխությունը (նվազեցումները նշված են փակագծերում)
E8: Ընդամենը, | F8: այդ թվում՝
B9: Ծրագիր | C9: Միջոցառում | F9: Կառուցման աշխատանքներ | G9: Վերակառուցման, վերանորոգման և վերականգնման աշխատանքներ | H9: Նախագծահե- տազոտական, գեոդեզիա- քարտեզագրական աշխատանքներ | I9: Ոչ ֆինանսական այլ ակտիվների ձեռքբերում
D10: ԸՆԴԱՄԵՆԸ | E10: =+E12 -> -117087.5 | F10: =+F12 -> 0 | G10: =+G12 -> -117087.5 | H10: =+H12 -> 0 | I10: =+I12 -> 0
D11: այդ թվում`
D12: ՀՀ կառավարություն | E12: =+G12 -> -117087.5 | F12: 0 | G12: =G14 -> -117087.5 | H12: 0 | I12: 0
D13: այդ թվում՝
B14: 1139 | C14: 11003 | D14: Հարկաբյուջետային ռիսկերի կառավարման պահուստ | E14: =+G14 -> -117087.5 | F14: 0 | G14: =+'2'!H132 -> -117087.5 | H14: 0 | I14: 0
E17: ՀԱՅԱՍՏԱՆԻ ՀԱՆՐԱՊԵՏՈՒԹՅԱՆ ՎԱՐՉԱՊԵՏԻ ԱՇԽԱՏԱԿԱԶՄԻ ՂԵԿԱՎԱՐ` Լ․ ՄԱԿՈՒՆՑ

Sheet 5
E1: Հավելված N 5
E2: ՀՀ կառավարության 2026 թվականի
E3: ______________ ի ___Ն որոշման
B5: ՀԱՅԱՍՏԱՆԻ ՀԱՆՐԱՊԵՏՈՒԹՅԱՆ ԿԱՌԱՎԱՐՈՒԹՅԱՆ 2025 ԹՎԱԿԱՆԻ ԴԵԿՏԵՄԲԵՐԻ 25-Ի N 1910-Ն ՈՐՈՇՄԱՆ N 5 ՀԱՎԵԼՎԱԾԻ N 2 ԱՂՅՈՒՍԱԿՈՒՄ ԿԱՏԱՐՎՈՂ ՓՈՓՈԽՈՒԹՅՈՒՆԸ
E7: հազար դրամներով
B8: Ծրագրային դասիչը | D8: Հատկացումների տրամադրման նպատակները և բյուջետային գլխավոր կարգադրիչների, ծրագրերի, միջոցառումների և կատարող պետական մարմնի անվանումները | E8: Ցուցանիշների փոփոխությունը (նվազեցումները նշված են փակագծերում)
B9: Ծրագիր | C9: Միջոցառում | E9: Տարի
D10: ԸՆԴԱՄԵՆԸ | E10: =E12 -> -117087.5
D11: այդ թվում՝
D12: ՀՀ կառավարություն | E12: =E14 -> -117087.5
D13: այդ թվում`
B14: 1139 | C14: 11003 | D14: Հարկաբյուջետային ռիսկերի կառավարման պահուստ | E14: =E16 -> -117087.5
D15: այդ թվում` ըստ կատարողների
D16: ՀՀ կառավարություն | E16: =+'2'!H132 -> -117087.5
C18: ՀԱՅԱՍՏԱՆԻ ՀԱՆՐԱՊԵՏՈՒԹՅԱՆ ՎԱՐՉԱՊԵՏԻ ԱՇԽԱՏԱԿԱԶՄԻ ՂԵԿԱՎԱՐ՝ Լ․ ՄԱԿՈՒՆՑ

Sheet 6
K1: Հավելված N 6
K2: ՀՀ կառավարության 2026 թվականի
K3: ------------- ի № ---- -Ն որոշման
B5: ՀԱՅԱՍՏԱՆԻ ՀԱՆՐԱՊԵՏՈՒԹՅԱՆ ԿԱՌԱՎԱՐՈՒԹՅԱՆ 2025 ԹՎԱԿԱՆԻ ԴԵԿՏԵՄԲԵՐԻ 25-Ի № 1910-Ն ՈՐՈՇՄԱՆ № 9 ՀԱՎԵԼՎԱԾԻ ԱՂՅՈՒՍԱԿՈՒՄ ԿԱՏԱՐՎՈՂ ՓՈՓՈԽՈՒԹՅՈՒՆՆԵՐԸ ԵՎ ԼՐԱՑՈՒՄՆԵՐԸ
K7: հազար դրամներով
B8: ԲԳԿ | C8: Ծրագիր | E8: Միջոցառում | I8: Իրականացնողը/ ակտիվն օգտագործողը/ շահառուի ընտրության չափորոշիչը | J8: Արդյունքային չափորոշիչը | K8: Ցուցանիշների փոփոխությունը (ավելացումները նշված են դրական նշանով, իսկ նվազեցումները` փակագծերում)
C9: Դասիչը | D9: Անվանումը | E9: Դասիչը | F9: Անվանումը | G9: Նկարագրությունը | H9: Տեսակը | K9: Տարի
B10: ԸՆԴԱՄԵՆԸ | K10: =K11+K24 -> 0
B11: ՀՀ տարածքային կառավարման և ենթակառուցվածքների նախարարություն | K11: =K12 -> 1235990.5
C12: 1212 | D12: Տարածքային զարգացում | K12: =+K13 -> 1235990.5
E13: 1212-12025 | F13: Մարզերում առաջնահերթ լուծում պահանջող հիմնախնդիրների լուծում | K13: ='2'!H21 -> 1235990.5
G14: Մարզերում առաջնահերթ լուծում պահանջող ծրագրերի իրականացում, որի արդյունքում լուծում կտրվի բնակչության և համայնքների սոցիալական նշանակություն ունեցող հիմնախնդիրներին
H15: Տրանսֆերտների տրամադրում
I16: Համայնքներ
J17: Համայնքների թիվ, հատ | K17: ='7'!K17+'7'!K25+'7'!K33+'7'!K43+'7'!K56+'7'!K64+'7'!K77+'7'!K86 -> 21
J18: Վերանորոգվող բնակելի տան տանիք, հատ | K18: ='7'!K34+'7'!K44+'7'!K57+'7'!K65+'7'!K78+'7'!K87 -> 2935
J19: Վերանորոգվող ավտոմեքենաների թիվ, հատ | K19: ='7'!K35+'7'!K45+'7'!K69+'7'!K88 -> 3638
J20: Գյուղատնտեսական հողատարածքների մակերես (հա) | K20: ='7'!K18+'7'!K26+'7'!K36+'7'!K49+'7'!K70+'7'!K79+'7'!K89 -> 1613.39
J21: Բազմաբնակարան շենքերի տանիքների մակերես (թիթեղ (քմ) | K21: ='7'!K46+'7'!K66 -> 130669
J22: Ջերմատների ապակե ծածկ (քմ) | K22: ='7'!K47+'7'!K67 -> 4797.8
J23: Ջերմատների պոլիէթ-ն թաղանթ (քմ) | K23: ='7'!K48+'7'!K68+'7'!K90 -> 31776
B24: ՀՀ կառավարություն | K24: =K25 -> -1235990.5
C25: 1139 | D25: ՀՀ կառավարության պահուստային ֆոնդ | K25: =K26+K30+K34 -> -1235990.5
E26: 1139 - 11001 | F26: ՀՀ կառավարության պահուստային ֆոնդ | K26: ='2'!H105 -> -1235990.5
G27: ՀՀ պետական բյուջեում նախատեսված ելքերի լրացուցիչ ֆինանսավորման, պետական բյուջեում չկանխատեսված ելքերի, ինչպես նաև բյուջետային երաշխիքների ապահովման ելքերի ֆինանսավորման ապահովում
H28: Ծառայությունների մատուցում
I29: Ծառայությունը մատուցողի անվանումը` ՀՀ կառավարություն
E30: 1139 - 11001 | F30: ՀՀ կառավարության պահուստային ֆոնդ | K30: ='2'!H113 -> 1235990.5
G31: ՀՀ պետական բյուջեում նախատեսված ելքերի լրացուցիչ ֆինանսավորման, պետական բյուջեում չկանխատեսված ելքերի, ինչպես նաև բյուջետային երաշխիքների ապահովման ելքերի ֆինանսավորման ապահովում
H32: Ծառայությունների մատուցում
I33: Ծառայությունը մատուցողի անվանումը` ՀՀ կառավարություն
E34: 1139 - 11003 | F34: Հարկաբյուջետային ռիսկերի կառավարման պահուստ | K34: ='2'!H121 -> -1235990.5
G35: Հարկաբյուջետային ռիսկերի կառավարման նպատակով նախատեսված միջոցներ
H36: Ծառայությունների մատուցում
I37: Ծառայությունը մատուցողի անվանումը` ՀՀ կառավարություն
D39: ՀԱՅԱՍՏԱՆԻ ՀԱՆՐԱՊԵՏՈՒԹՅԱՆ
D40: ՎԱՐՉԱՊԵՏԻ ԱՇԽԱՏԱԿԱԶՄԻ
E41: ՂԵԿԱՎԱՐ ՝ Լ. Մակունց

Sheet 7
K1: Հավելված № 7
L2: ՀՀ կառավարության 2026 թվականի
L3: ------------- ի № ---- -Ն որոշման
B5: ՀԱՅԱՍՏԱՆԻ ՀԱՆՐԱՊԵՏՈՒԹՅԱՆ ԿԱՌԱՎԱՐՈՒԹՅԱՆ 2025 ԹՎԱԿԱՆԻ ԴԵԿՏԵՄԲԵՐԻ 25-Ի № 1910-Ն ՈՐՈՇՄԱՆ № 9.1 ՀԱՎԵԼՎԱԾԻ ԱՂՅՈՒՍԱԿՈՒՄ ԿԱՏԱՐՎՈՂ ՓՈՓՈԽՈՒԹՅՈՒՆՆԵՐԸ ԵՎ ԼՐԱՑՈՒՄՆԵՐԸ
K7: հազար դրամներով
B8: ԲՍԿ | C8: Ծրագիր | E8: Միջոցառում | I8: Իրականացնողը/ ակտիվն օգտագործողը/ շահառուի ընտրության չափորոշիչը | J8: Արդյունքային չափորոշիչը | K8: Ցուցանիշների փոփոխությունը (ավելացումները նշված են դրական նշանով, իսկ նվազեցումները` փակագծերում)
C9: Դասիչը | D9: Անվանումը | E9: Դասիչը | F9: Անվանումը | G9: Նկարագրությունը | H9: Տեսակը | K9: Տարի
B10: ԸՆԴԱՄԵՆԸ | K10: =K11+K19+K27+K37+K50+K58+K71+K80+K91 -> 0
B11: ՀՀ Արագածոտնի մարզպետի աշխատակազմ | K11: =K12 -> 801.9
C12: 1212 | D12: Տարածքային զարգացում | K12: =K13 -> 801.9
E13: 1212-12025 | F13: Մարզերում առաջնահերթ լուծում պահանջող հիմնախնդիրների լուծում | K13: ='2'!H23 -> 801.9
G14: Մարզերում առաջնահերթ լուծում պահանջող ծրագրերի իրականացում, որի արդյունքում լուծում կտրվի բնակչության և համայնքների սոցիալական նշանակություն ունեցող հիմնախնդիրներին:
H15: Տրանսֆերտների տրամադրում
I16: Համայնքներ
J17: Համայնքների թիվ, հատ | K17: 2
J18: Գյուղատնտեսական հողատարածքների մակերես (հա) | K18: 4.86
B19: ՀՀ Արմավիրի մարզպետի աշխատակազմ | K19: =K20 -> 68946
C20: 1212 | D20: Տարածքային զարգացում | K20: =K21 -> 68946
E21: 1212-12025 | F21: Մարզերում առաջնահերթ լուծում պահանջող հիմնախնդիրների լուծում | K21: ='2'!H31 -> 68946
G22: Մարզերում առաջնահերթ լուծում պահանջող ծրագրերի իրականացում, որի արդյունքում լուծում կտրվի բնակչության և համայնքների սոցիալական նշանակություն ունեցող հիմնախնդիրներին:
H23: Տրանսֆերտների տրամադրում
I24: Համայնքներ
J25: Համայնքների թիվ, հատ | K25: 2
J26: Գյուղատնտեսական հողատարածքների մակերես (հա) | K26: 194.3
B27: ՀՀ Գեղարքունիքի մարզպետի աշխատակազմ | K27: =K28 -> 107947.4
C28: 1212 | D28: Տարածքային զարգացում | K28: =K29 -> 107947.4
E29: 1212-12025 | F29: Մարզերում առաջնահերթ լուծում պահանջող հիմնախնդիրների լուծում | K29: ='2'!H39 -> 107947.4
G30: Մարզերում առաջնահերթ լուծում պահանջող ծրագրերի իրականացում, որի արդյունքում լուծում կտրվի բնակչության և համայնքների սոցիալական նշանակություն ունեցող հիմնախնդիրներին:
H31: Տրանսֆերտների տրամադրում
I32: Համայնքներ
J33: Համայնքների թիվ, հատ | K33: 3
J34: Վերանորոգվող բնակելի տան տանիք, հատ | K34: 858
J35: Վերանորոգվող ավտոմեքենաների թիվ, հատ | K35: 179
J36: Գյուղատնտեսական հողատարածքների մակերես (հա) | K36: 89.6
B37: ՀՀ Լոռու մարզպետի աշխատակազմ | K37: =K38 -> 308475.3
C38: 1212 | D38: Տարածքային զարգացում | K38: =K39 -> 308475.3
E39: 1212-12025 | F39: Մարզերում առաջնահերթ լուծում պահանջող հիմնախնդիրների լուծում | K39: ='2'!H47 -> 308475.3
G40: Մարզերում առաջնահերթ լուծում պահանջող ծրագրերի իրականացում, որի արդյունքում լուծում կտրվի բնակչության և համայնքների սոցիալական նշանակություն ունեցող հիմնախնդիրներին:
H41: Տրանսֆերտների տրամադրում
I42: Համայնքներ
...
