Workbook
Name _tab10: #REF!
Name _tab10: #REF!
Name _tab11: #REF!
Name _tab11: #REF!
Name _tab12: #REF!
Name _tab12: #REF!
Name _tab13: #REF!
Name _tab13: #REF!
Name _tab14: #REF!
Name _tab14: #REF!
Name _tab15: #REF!
Name _tab15: #REF!
Name _tab16: #REF!
Name _tab16: #REF!
Name _tab17: #REF!
Name _tab17: #REF!
Name _tab18: #REF!
Name _tab18: #REF!
Name _tab19: #REF!
Name _tab19: #REF!
Name _tab20: #REF!
Name _tab20: #REF!
Name _tab21: #REF!
Name _tab21: #REF!
Name _tab22: #REF!
Name _tab22: #REF!
Name _tab23: #REF!
Name _tab23: #REF!
Name _tab24: #REF!
Name _tab24: #REF!
Name _tab5: #REF!
Name _tab5: #REF!
Name _tab6: #REF!
Name _tab6: #REF!
Name _tab7: #REF!
Name _tab7: #REF!
Name _tab8: #REF!
Name _tab8: #REF!
Name _tab9: #REF!
Name _tab9: #REF!
Name a: #REF!
Name a: #REF!
Name a: #REF!
Name AgencyCode: #REF!
Name AgencyCode: #REF!
Name AgencyCode: #REF!
Name AgencyName: #REF!
Name AgencyName: #REF!
Name AgencyName: #REF!
Name åû: #REF!
Name åû: #REF!
Name davit: #REF!
Name davit: #REF!
Name Functional1: #REF!
Name Functional1: #REF!
Name Functional1: #REF!
Name ggg: #REF!
Name ggg: #REF!
Name hav: #REF!
Name hav: #REF!

Sheet Հավելված N 1
G1: Հավելված N 1
G2: ՀՀ կառավարության 2026 թվականի
G3: ______________ ի ___Ն որոշման
B6: «ՀԱՅԱUՏԱՆԻ ՀԱՆՐԱՊԵՏՈՒԹՅԱՆ 2026 ԹՎԱԿԱՆԻ ՊԵՏԱԿԱՆ ԲՅՈՒՋԵԻ ՄԱUԻՆ» OՐԵՆՔԻ N 1 ՀԱՎԵԼՎԱԾԻ N 2 ԱՂՅՈՒՍԱԿՈՒՄ ԿԱՏԱՐՎՈՂ ՎԵՐԱԲԱՇԽՈՒՄԸ ԵՎ ՀԱՅԱՍՏԱՆԻ ՀԱՆՐԱՊԵՏՈՒԹՅԱՆ ԿԱՌԱՎԱՐՈՒԹՅԱՆ 2025 ԹՎԱԿԱՆԻ ԴԵԿՏԵՄԲԵՐԻ 25-Ի N 1910-Ն ՈՐՈՇՄԱՆ N 5 ՀԱՎԵԼՎԱԾԻ N 1 ԱՂՅՈՒՍԱԿՈՒՄ ԿԱՏԱՐՎՈՂ ՓՈՓՈԽՈՒԹՅՈՒՆԸ
H7: հազար դրամներով
B8: ԲԳԿ | C8: Ծրագրային դասիչը | E8: ԲԳԿ/Ծրագրի /միջոցառման անվանումը | F8: Ծրագրի նպատակը/Միջոցառման նկարագրությունը | G8: Վերջնական արդյունքի նկարագրությունը/Միջոցառման տեսակը | H8: Ցուցանիշների փոփոխությունը (ավելացումները նշված են դրական նշանով, իսկ նվազեցումները փակագծերում)
C9: Ծրագիր | D9: Միջոցառում | H9: Տարի
B10: ԸՆԴԱՄԵՆԸ | H10: =H12+H16 -> 0
B11: այդ թվում՝
B12: ՀՀ ԲԱՐՁՐ ՏԵԽՆՈԼՈԳԻԱԿԱՆ ԱՐԴՅՈՒՆԱԲԵՐՈՒԹՅԱՆ ՆԱԽԱՐԱՐՈՒԹՅՈՒՆ | H12: =H13 -> -168444
C13: 1043 | E13: Բարձր տեխնոլոգիական արդյունաբերության էկոհոմակարգի և շուկայի զարգացման ծրագիր | F13: Բարձր տեխնոլոգիաների ենթակառուցվածքների բարելավում | G13: Բարձր տեխնոլոգիաների ոլորտի աճ | H13: =SUM(H14:H15) -> -168444
D14: 11009 | E14: Ձեռներեցության տեխնոլոգիական էկոհամակարգ | F14: Ձեռնարկատիրական (գիտական և տեխնոլոգիական հիմքով) կրթության բարելավման, ստարտափերի զարգացման համար անհրաժեշտ ենթակառուցվածքների, ինչպես նաև դեպի հայաստանյան տեխնոլոգիական համակարգ գիտելիքի ներհոսքի ապահովման ծառայություններ | G14: Ծառայությունների մատուցում | H14: -150000
D15: 11018 | E15: Պետական աջակցություն տեղեկատվական տեխնոլոգիաների ոլորտում գործունեություն իրականացնող առևտրային կազմակերպություններին և անհատ ձեռնարկատերերին | F15: Տեղեկատվական տեխնոլոգիաների ոլորտում գործունեություն իրականացնող առևտրային կազմակերպություններին և անհատ ձեռնարկատերերին պետական աջակցության տրամադրում | G15: Ծառայությունների մատուցում | H15: -18444
B16: ՀՀ ԿՐԹՈՒԹՅԱՆ, ԳԻՏՈՒԹՅԱՆ, ՄՇԱԿՈՒՅԹԻ ԵՎ ՍՊՈՐՏԻ ՆԱԽԱՐԱՐՈՒԹՅՈՒՆ | H16: =H17 -> 168444
C17: 1162 | E17: Գիտական և գիտատեխնիկական հետազոտությունների ծրագիր | F17: Գիտական և գիտատեխնիկական գործունեության հիմնարար, կիրառական և թեմատիկ հետազոտությունների իրականացում, ենթակառուցվածքի և ազգային արժեք ներկայացնող գիտական օբյեկտների պահպանում և զարգացում, գիտական ներուժի վերարտադրության ապահովում£ | G17: Գիտության և տեխնիկայի զարգացման գերակա ուղղությունների հետազոտությունների իրականացում, գիտական ներուժի զարգացում, ազգային արժեք ներկայացնող գիտական օբյեկտների պահպանում | H17: =H18 -> 168444
D18: 1162 - 11002 | E18: Գիտական ենթակառուցվածքի արդիականացում | F18: Գիտական կազմակերպությունների և բուհերի գիտական ստորաբաժանումների զարգացում, ծրագրերի իրականացում, գիտական սարքավորումների արդիականացում, միջազգային համագործակցության աջակցություն | G18: Ծառայությունների մատուցում | H18: 168444

Sheet Հավելված N 2
F1: Հավելված N 2
F2: ՀՀ կառավարության 2026 թվականի
F3: ______________ ի N ___Ն որոշման
A7: ՀԱՅԱՍՏԱՆԻ ՀԱՆՐԱՊԵՏՈՒԹՅԱՆ ԿԱՌԱՎԱՐՈՒԹՅԱՆ 2025 ԹՎԱԿԱՆԻ ԴԵԿՏԵՄԲԵՐԻ 25-Ի N 1910-Ն ՈՐՈՇՄԱՆ N 3 ԵՎ N 4 ՀԱՎԵԼՎԱԾՆԵՐՈՒՄ ԿԱՏԱՐՎՈՂ ՓՈՓՈԽՈՒԹՅՈՒՆՆԵՐԸ
G8: հազար դրամներով
A9: Գործառական դասիչը | D9: Ծրագրային դասիչը | F9: Բյուջետային հատկացումների գլխավոր կարգադրիչների, ծրագրերի, միջոցառումների և միջոցառումները կատարող պետական մարմինների անվանումները | G9: Ցուցանիշների փոփոխությունը (ավելացումները նշված են դրական նշանով, իսկ նվազեցումները փակագծերում)
A10: Բաժին | B10: Խումբ | C10: Դաս | D10: Ծրագիր | E10: Միջոցառում | G10: Տարի
F11: ԸՆԴԱՄԵՆԸ | G11: =G13+G42 -> 0
F12: այդ թվում՝
F13: ՀՀ ԲԱՐՁՐ ՏԵԽՆՈԼՈԳԻԱԿԱՆ ԱՐԴՅՈՒՆԱԲԵՐՈՒԹՅԱՆ ՆԱԽԱՐԱՐՈՒԹՅՈՒՆ | G13: -168444
A14: 01 | F14: ԸՆԴՀԱՆՈՒՐ ԲՆՈՒՅԹԻ ՀԱՆՐԱՅԻՆ ԾԱՌԱՅՈՒԹՅՈՒՆՆԵՐ | G14: =SUM(G16) -> -168444
F15: այդ թվում`
B16: 03 | F16: Ընդհանուր բնույթի ծառայություններ | G16: =SUM(G18) -> -168444
F17: այդ թվում`
C18: 02 | F18: Ծրագրման և վիճակագրական ընդհանուր ծառայություններ | G18: =SUM(G20) -> -168444
F19: այդ թվում`
F20: ՀՀ բարձր տեխնոլոգիական արդյունաբերության նախարարություն | G20: =SUM(G22) -> -168444
F21: այդ թվում`
D22: 1043 | E22: ՀՀ Բարձր տեխնոլոգիական արդյունաբերության էկոհոմակարգի և շուկայի զարգացման ծրագիր | G22: =SUM(G24+G33) -> -168444
F23: այդ թվում`
E24: 11009 | F24: Ձեռներեցության տեխնոլոգիական էկոհամակարգ | G24: =G26 -> -150000
F25: այդ թվում` ըստ կատարողների
F26: ՀՀ Բարձր տեխնոլոգիական արդյունաբերության նախարարություն | G26: =G28 -> -150000
F27: այդ թվում` բյուջետային ծախսերի տնտեսագիտական դասակարգման հոդվածների
F28: ԸՆԴԱՄԵՆԸ ԾԱԽՍԵՐ | G28: =G29 -> -150000
F29: ԸՆԹԱՑԻԿ ԾԱԽՍԵՐ | G29: =G30 -> -150000
F30: ԾԱՌԱՅՈՒԹՅՈՒՆՆԵՐԻ ԵՎ ԱՊՐԱՆՔՆԵՐԻ ՁԵՌՔԲԵՐՈՒՄ | G30: =G31 -> -150000
F31: Պայմանագրային այլ ծառայությունների ձեռքբերում | G31: =G32 -> -150000
F32: - Ընդհանուր բնույթի այլ ծառայութններ | G32: ='Հավելված N 1'!H14 -> -150000
E33: 11018 | F33: Պետական աջակցություն տեղեկատվական տեխնոլոգիաների ոլորտում գործունեություն իրականացնող առևտրային կազմակերպություններին և անհատ ձեռնարկատերերին | G33: =SUM(G35) -> -18444
F34: այդ թվում` ըստ կատարողների | G34: ='[1]Հավելված N 1'!H16 -> 0
F35: ՀՀ բարձր տեխնոլոգիական արդյունաբերության նախարարություն | G35: -18444
F36: այդ թվում` բյուջետային ծախսերի տնտեսագիտական դասակարգման հոդվածներ | G36: -18444
F37: ԸՆԴԱՄԵՆԸ ԾԱԽՍԵՐ | G37: -18444
F38: ԸՆԹԱՑԻԿ ԾԱԽՍԵՐ | G38: -18444
F39: ՍՈՑԻԱԼԱԿԱՆ ՆՊԱՍՏՆԵՐ ԵՎ ԿԵՆՍԱԹՈՇԱԿՆԵՐ | G39: -18444
F40: Սոցիալական օգնության դրամական արտահայտությամբ նպաստներ (բյուջեից) | G40: -18444
F41: - Այլ նպաստներ բյուջեից | G41: ='Հավելված N 1'!H15 -> -18444
F42: ՀՀ ԿՐԹՈՒԹՅԱՆ, ԳԻՏՈՒԹՅԱՆ, ՄՇԱԿՈՒՅԹԻ ԵՎ ՍՊՈՐՏԻ ՆԱԽԱՐԱՐՈՒԹՅՈՒՆ | G42: =G43 -> 168444
A43: 01 | F43: ԸՆԴՀԱՆՈՒՐ ԲՆՈՒՅԹԻ ՀԱՆՐԱՅԻՆ ԾԱՌԱՅՈՒԹՅՈՒՆՆԵՐ | G43: =G45 -> 168444
F44: այդ թվում`
B45: 04 | F45: Ընդհանուր բնույթի հետազոտական աշխատանք | G45: =G47 -> 168444
F46: այդ թվում`
C47: 01 | F47: Ընդհանուր բնույթի հետազոտական աշխատանք | G47: =G49 -> 168444
F48: այդ թվում`
F49: ՀՀ կրթության, գիտության, մշակույթի և սպորտի նախարարություն | G49: =G51 -> 168444
F50: այդ թվում`
D51: 1162 | E51: Գիտական և գիտատեխնիկական հետազոտությունների ծրագիր | G51: =G53 -> 168444
F52: այդ թվում`
E53: 11002 | F53: Գիտական ենթակառուցվածքի արդիականացում | G53: =G55 -> 168444
F54: այդ թվում` ըստ կատարողների
F55: ՀՀ կրթության, գիտության, մշակույթի և սպորտի նախարարության բարձրագույն կրթության և գիտության կոմիտե | G55: =G57 -> 168444
F56: այդ թվում` բյուջետային ծախսերի տնտեսագիտական դասակարգման հոդվածներ
F57: ԸՆԴԱՄԵՆԸ ԾԱԽՍԵՐ | G57: =G58 -> 168444
F58: ԸՆԹԱՑԻԿ ԾԱԽՍԵՐ | G58: =G59 -> 168444
F59: ԴՐԱՄԱՇՆՈՐՀՆԵՐ | G59: =G60 -> 168444
F60: Ընթացիկ դրամաշնորհներ պետական հատվածի այլ մակարդակներին | G60: =G61 -> 168444
F61: - Այլ ընթացիկ դրամաշնորհներ | G61: ='Հավելված N 1'!H18 -> 168444

Sheet Հավելված N 3
F2: Հավելված N 3
F3: ՀՀ կառավարության 2026 թվականի
F4: ______________ ի N ___Ն որոշման
B6: ՀԱՅԱՍՏԱՆԻ ՀԱՆՐԱՊԵՏՈՒԹՅԱՆ ԿԱՌԱՎԱՐՈՒԹՅԱՆ 2025 ԹՎԱԿԱՆԻ ԴԵԿՏԵՄԲԵՐԻ 25-Ի N 1910-Ն ՈՐՈՇՄԱՆ N 5 ՀԱՎԵԼՎԱԾԻ N 7.1 ԱՂՅՈՒՍԱԿՈՒՄ ԿԱՏԱՐՎՈՂ ԼՐԱՑՈՒՄԸ
G7: հազար դրամներով
B8: Ծրագրային դասիչը | D8: Բյուջետային հատկացումների գլխավոր կարգադրիչների, ծրագրերի, միջոցառումների, ծախսային ուղղությունների անվանումները | E8: Միջոցառումները կատարող պետական մարմինների և դրամաշնորհ ստացող տնտեսվարող սուբյեկտների անվանումները | F8: Գերատեսչական պատկանելություն | G8: Ցուցանիշների փոփոխությունը (ավելացումները նշված են դրական նշանով)
G9: Տարի
B10: Ծրագիր | C10: Միջոցառում | G10: 2026թ․
D11: ՀՀ կրթության, գիտության, մշակույթի և սպորտի նախարարություն | G11: =G12 -> 168444
B12: 1162 | D12: Գիտական և գիտատեխնիկական հետազոտությունների ծրագիր | G12: =G13 -> 168444
C13: 11002 | D13: Գիտական ենթակառուցվածքի արդիականացում | E13: ՀՀ կրթության, գիտության, մշակույթի և սպորտի նախարարության բարձրագույն կրթության և գիտության կոմիտե-ընդամենը | G13: =G16 -> 168444
D14: այդ թվում՝ ըստ ուղղությունների
D15: Ֆիզիկական արհեստական բանականության ծրագրի համար ֆինանսական աջակցություն | G15: ='Հավելված N 1'!H18 -> 168444
F16: ԸՆԴԱՄԵՆԸ- ՀՀ կրթության, գիտության, մշակույթի և սպորտի նախարարության բարձրագույն կրթության և գիտության կոմիտե | G16: =G15 -> 168444

Sheet Հավելված N 4
E2: Հավելված N 4
E3: ՀՀ կառավարության 2026 թվականի
E4: ______________ ի ___Ն որոշման
B6: ՀԱՅԱՍՏԱՆԻ ՀԱՆՐԱՊԵՏՈՒԹՅԱՆ ԿԱՌԱՎԱՐՈՒԹՅԱՆ 2025 ԹՎԱԿԱՆԻ ԴԵԿՏԵՄԲԵՐԻ 25-Ի N 1910-Ն ՈՐՈՇՄԱՆ N 5 ՀԱՎԵԼՎԱԾԻ N 7.2 ԱՂՅՈՒՍԱԿՈՒՄ ԿԱՏԱՐՎՈՂ ՓՈՓՈԽՈՒԹՅՈՒՆԸ
F7: հազար դրամներով
B8: Ծրագրային դասիչը | D8: Բյուջետային հատկացումների գլխավոր կարգադրիչների, ծրագրերի, միջոցառումների անվանումները | E8: Միջոցառումները կատարող պետական մարմինների անվանումները | F8: Ցուցանիշների փոփոխությունը (ավելացումները նշված են դրական նշանով)
F9: Տարի
B10: Ծրագիր | C10: Միջոցառում | F10: 2026թ․
D11: ԸՆԴԱՄԵՆԸ | F11: =F12 -> 168444
D12: ՀՀ կրթության, գիտության, մշակույթի և սպորտի նախարարություն | F12: =F13 -> 168444
B13: 1162 | D13: Գիտական և գիտատեխնիկական հետազոտությունների ծրագիր | F13: =F14 -> 168444
C14: 11002 | D14: Գիտական ենթակառուցվածքի արդիականացում | E14: ՀՀ կրթության, գիտության, մշակույթի և սպորտի նախարարության բարձրագույն կրթության և գիտության կոմիտե | F14: ='Հավելված N 1'!H18 -> 168444

Sheet Հավելված N 5
J1: Հավելված N 5
J2: ՀՀ կառավարության 2026 թվականի
J3: ______________ ի ___Ն որոշման
B6: ՀԱՅԱՍՏԱՆԻ ՀԱՆՐԱՊԵՏՈՒԹՅԱՆ ԿԱՌԱՎԱՐՈՒԹՅԱՆ 2025 ԹՎԱԿԱՆԻ ԴԵԿՏԵՄԲԵՐԻ 25-Ի N 1910-Ն ՈՐՈՇՄԱՆ N 9 ՀԱՎԵԼՎԱԾՈՒՄ ԿԱՏԱՐՎՈՂ ՓՈՓՈԽՈՒԹՅՈՒՆՆԵՐԸ
B8: ԲԳԿ | C8: Ծրագիր | E8: Միջոցառում | I8: Իրականացնողը/ ակտիվն օգտագործողը/ շահառուի ընտրության չափորոշիչը | J8: Արդյունքային չափորոշիչը | K8: Ցուցանիշների փոփոխությունը (ավելացումները նշված են դրական նշանով, իսկ նվազեցումները՝ փակագծերում)
C9: Դասիչը | D9: Անվանումը | E9: Դասիչը | F9: Անվանումը | G9: Նկարագրությունը | H9: Տեսակը | K9: Տարի
B10: ԸՆԴԱՄԵՆԸ | K10: =K12+K22 -> 0
B11: այդ թվում՝
B12: ՀՀ բարձր տեխնոլոգիական արդյունաբերության նախարարություն | K12: =K13 -> -168444
C13: 1043 | D13: Բարձր տեխնոլոգիական արդյունաբերության էկոհամակարգի և շուկայի զարգացման ծրագիր | K13: =K14+K18 -> -168444
E14: 1043 - 11009 | F14: Ձեռներեցության տեխնոլոգիական էկոհամակարգ | K14: ='Հավելված N 1'!H14 -> -150000
G15: Ձեռնարկատիրական (գիտական և տեխնոլոգիական հիմքով) կրթության բարելավման, ստարտափերի զարգացման համար անհրաժեշտ ենթակառուցվածքների, ինչպես նաև դեպի հայաստանյան տեխնոլոգիական համակարգ գիտելիքի ներհոսքի ապահովման ծառայություններ
H16: Ծառայությունների մատուցում
I17: Ծառայությունը մատուցողի անվանումը` ՀՀ բարձր տեխնոլոգիական արդյունաբերության նախարարություն
E18: 1043 - 11018 | F18: Պետական աջակցություն տեղեկատվական տեխնոլոգիաների ոլորտում գործունեություն իրականացնող առևտրային կազմակերպություններին և անհատ ձեռնարկատերերին | K18: ='Հավելված N 1'!H15 -> -18444
G19: Տեղեկատվական տեխնոլոգիաների ոլորտում գործունեություն իրականացնող առևտրային կազմակերպություններին և անհատ ձեռնարկատերերին պետական աջակցության տրամադրում
H20: Ծառայությունների մատուցում
I21: Ծառայությունը մատուցողի անվանումը` ՀՀ բարձր տեխնոլոգիական արդյունաբերության նախարարություն
B22: ՀՀ կրթության, գիտության, մշակույթի և սպորտի նախարարություն | K22: =K23 -> 168444
C23: 1162 | D23: Գիտական և գիտատեխնիկական հետազոտությունների ծրագիր | K23: =K24 -> 168444
E24: 1162 - 11002 | F24: Գիտական ենթակառուցվածքի արդիականացում | K24: ='Հավելված N 1'!H18 -> 168444
G25: Գիտական կազմակերպությունների և բուհերի գիտական ստորաբաժանումների զարգացում, ծրագրերի իրականացում, գիտական սարքավորումների արդիականացում, միջազգային համագործակցության աջակցություն
H26: Ծառայությունների մատուցում
I27: Ծառայությունը մատուցողի անվանումը` ՀՀ կառավարության 2025թ. փետրվարի 13-ի N 156-Ն որոշմամբ հաստատված N 1 հավելվածի համաձայն ընտրված կազմակերպություններ

Sheet Հավելված N 6
J1: Հավելված N 6
J2: ՀՀ կառավարության 2026 թվականի
J3: ______________ ի ___Ն որոշման
B6: ՀԱՅԱՍՏԱՆԻ ՀԱՆՐԱՊԵՏՈՒԹՅԱՆ ԿԱՌԱՎԱՐՈՒԹՅԱՆ 2025 ԹՎԱԿԱՆԻ ԴԵԿՏԵՄԲԵՐԻ 25-Ի N 1910-Ն ՈՐՈՇՄԱՆ N 9.1 ՀԱՎԵԼՎԱԾՈՒՄ ԿԱՏԱՐՎՈՂ ՓՈՓՈԽՈՒԹՅՈՒՆՆԵՐԸ
B9: ԲՍԿ | C9: Ծրագիր | E9: Միջոցառում | I9: Իրականացնողը/ ակտիվն օգտագործողը/ շահառուի ընտրության չափորոշիչը | J9: Արդյունքային չափորոշիչը | K9: Ցուցանիշների փոփոխությունը (ավելացումները նշված են դրական նշանով, իսկ նվազեցումները՝ փակագծերում)
C10: Դասիչը | D10: Անվանումը | E10: Դասիչը | F10: Անվանումը | G10: Նկարագրությունը | H10: Տեսակը | K10: Տարի
B11: ԸՆԴԱՄԵՆԸ | K11: =K13+K23 -> 0
B12: այդ թվում՝
B13: ՀՀ բարձր տեխնոլոգիական արդյունաբերության նախարարություն | K13: =K14 -> -168444
C14: 1043 | D14: Բարձր տեխնոլոգիական արդյունաբերության էկոհամակարգի և շուկայի զարգացման ծրագիր | K14: =K15+K19 -> -168444
E15: 1043 - 11009 | F15: Ձեռներեցության տեխնոլոգիական էկոհամակարգ | K15: ='Հավելված N 1'!H14 -> -150000
G16: Ձեռնարկատիրական (գիտական և տեխնոլոգիական հիմքով) կրթության բարելավման, ստարտափերի զարգացման համար անհրաժեշտ ենթակառուցվածքների, ինչպես նաև դեպի հայաստանյան տեխնոլոգիական համակարգ գիտելիքի ներհոսքի ապահովման ծառայություններ
H17: Ծառայությունների մատուցում
I18: Ծառայությունը մատուցողի անվանումը` ՀՀ բարձր տեխնոլոգիական արդյունաբերության նախարարություն
E19: 1043 - 11018 | F19: Պետական աջակցություն տեղեկատվական տեխնոլոգիաների ոլորտում գործունեություն իրականացնող առևտրային կազմակերպություններին և անհատ ձեռնարկատերերին | K19: ='Հավելված N 1'!H15 -> -18444
G20: Տեղեկատվական տեխնոլոգիաների ոլորտում գործունեություն իրականացնող առևտրային կազմակերպություններին և անհատ ձեռնարկատերերին պետական աջակցության տրամադրում
H21: Ծառայությունների մատուցում
I22: Ծառայությունը մատուցողի անվանումը` ՀՀ բարձր տեխնոլոգիական արդյունաբերության նախարարություն
B23: ՀՀ կրթության, գիտության, մշակույթի և սպորտի նախարարության բարձրագույն կրթության և գիտության կոմիտե | K23: =K24 -> 168444
C24: 1162 | D24: Գիտական և գիտատեխնիկական հետազոտությունների ծրագիր | K24: =K25 -> 168444
E25: 1162 - 11002 | F25: Գիտական ենթակառուցվածքի արդիականացում | K25: ='Հավելված N 1'!H18 -> 168444
G26: Գիտական կազմակերպությունների և բուհերի գիտական ստորաբաժանումների զարգացում, ծրագրերի իրականացում, գիտական սարքավորումների արդիականացում, միջազգային համագործակցության աջակցություն
H27: Ծառայությունների մատուցում
I28: Ծառայությունը մատուցողի անվանումը` ՀՀ կառավարության 2025թ. փետրվարի 13-ի N 156-Ն որոշմամբ հաստատված N 1 հավելվածի համաձայն ընտրված կազմակերպություններ

Sheet Հավելված N 7
E1: Հավելված N 7
E2: ՀՀ կառավարության 2026 թվականի
E3: ______________ ի ___Ն որոշման
A5: ՀԱՅԱՍՏԱՆԻ ՀԱՆՐԱՊԵՏՈՒԹՅԱՆ ԿԱՌԱՎԱՐՈՒԹՅԱՆ 2025 ԹՎԱԿԱՆԻ ԴԵԿՏԵՄԲԵՐԻ 25-Ի N 1910-Ն ՈՐՈՇՄԱՆ N 10 ՀԱՎԵԼՎԱԾՈՒՄ ԿԱՏԱՐՎՈՂ ՓՈՓՈԽՈՒԹՅՈՒՆՆԵՐԸ
A7: Կոդը | B7: Անվանումը | C7: Գնման ձևը | D7: Չափի միավորը | E7: միավորի գինը | F7: Ցուցանիշների փոփոխությունը (նվազեցումները նշված են փակագծերում)
F8: քանակը | G8: գումարը (հազար դրամով)
A9: 1 | B9: 2 | C9: 3 | D9: 4 | E9: 5 | F9: 6 | G9: 7
A10: ՀՀ բարձր տեխնոլոգիական արդյունաբերության նախարարություն | G10: =+G11 -> -150000
A11: Բաժին N 01 | B11: Խումբ N 03 | C11: Դաս N 02 | D11: Ծրագրման և վիճակագրական ընդհանուր ծառայություններ | G11: =+G12 -> -150000
A12: 1043 11009 | B12: Ձեռներեցության տեխնոլոգիական էկոհամակարգ | G12: =+G14 -> -150000
B13: ՄԱՍ III. ԾԱՌԱՅՈՒԹՅՈՒՆՆԵՐ | G13: =G14 -> -150000
A14: 79951100/3 | B14: Միջոցառումների հետ կապված ծառայություններ | C14: ԷԱՃ | D14: դրամ | G14: -150000
