Workbook

Sheet Հավելված 1
G1: Հավելված N 1
G2: ՀՀ կառավարության 2026 թվականի
G3: ___________ ___-ի N _______ որոշման
A4: «ՀԱՅԱՍՏԱՆԻ ՀԱՆՐԱՊԵՏՈՒԹՅԱՆ 2026 ԹՎԱԿԱՆԻ ՊԵՏԱԿԱՆ ԲՅՈՒՋԵԻ ՄԱՍԻՆ» ՀԱՅԱՍՏԱՆԻ ՀԱՆՐԱՊԵՏՈՒԹՅԱՆ ՕՐԵՆՔԻ N 1 ՀԱՎԵԼՎԱԾԻ N 2 ԱՂՅՈՒՍԱԿՈՒՄ ԿԱՏԱՐՎՈՂ ՎԵՐԱԲԱՇԽՈՒՄԸ, ՓՈՓՈԽՈՒԹՅՈՒՆՆԵՐԸ ԵՎ ՀԱՅԱՍՏԱՆԻ ՀԱՆՐԱՊԵՏՈՒԹՅԱՆ ԿԱՌԱՎԱՐՈՒԹՅԱՆ 2025 ԹՎԱԿԱՆԻ ԴԵԿՏԵՄԲԵՐԻ 25-Ի N 1910-Ն ՈՐՈՇՄԱՆ N 5 ՀԱՎԵԼՎԱԾԻ N 1 ԱՂՅՈՒՍԱԿՈՒՄ ԿԱՏԱՐՎՈՂ ՓՈՓՈԽՈՒԹՅՈՒՆՆԵՐԸ
G5: հազար դրամներով
A6: ԲԳԿ | B6: Ծրագրային դասիչը | D6: ԲԳԿ/Ծրագրի /միջոցառման անվանումը | E6: Ծրագրի նպատակը/Միջոցառման նկարագրությունը | F6: Վերջնական արդյունքի նկարագրությունը/Միջոցառման տեսակը | G6: Ցուցանիշների փոփոխությունը (ավելացումները նշված են դրական նշանով, իսկ նվազեցումները՝ փակագծերում)
B7: Ծրագիր | C7: Միջոցառում | G7: Տարի
A8: ԸՆԴԱՄԵՆԸ | G8: =G9+G27 -> 0
A9: Բարձրագույն դատական խորհուրդ | G9: =G10 -> 248018
B10: 1080 | D10: Դատական իշխանության գործունեության ապահովում և իրականացում | E10: Դատական իշխանության անկախության երաշխավորում, բնականոն գործունեության և դատական պաշտպանության իրավունքի ապահովում | F10: Դատական իշխանության գուծունեության և դատական պաշտպանության իրավունքի ապահովման արդյունավետության բարձրացում | G10: =SUM(G11:G25) -> 248018
C11: 1080 - 11003 | D11: ՀՀ վերաքննիչ քաղաքացիական դատարանի բնականոն գործունեության և ՀՀ Վերաքննիչ քաղաքացիական դատարանի կողմից դատական պաշտպանության իրավունքի ապահովում | E11: Դատավարական գործունեության իրականացում, դատական ակտերի կազմում և հրապարակում, արխիվային փաստաթղթերի տրամադրում, դատական ծառայության իրականացում | F11: Ծառայությունների մատուցում | G11: =+'Հավելված 2'!G21 -> 9981
C12: 1080 - 11004 | D12: ՀՀ վերաքննիչ քրեական դատարանի բնականոն գործունեության և ՀՀ Վերաքննիչ քրեական դատարանի կողմից դատական պաշտպանության իրավունքի ապահովում | E12: Դատավարական գործունեության իրականացում, դատական ակտերի կազմում և հրապարակում, արխիվային փաստաթղթերի տրամադրում, դատական ծառայության իրականացում | F12: Ծառայությունների մատուցում | G12: =+'Հավելված 2'!G30 -> 14770
C13: 1080 - 11005 | D13: ՀՀ վերաքննիչ վարչական դատարանի բնականոն գործունեության և ՀՀ Վերաքննիչ վարչական դատարանի կողմից դատական պաշտպանության իրավունքի ապահովում | E13: Դատավարական գործունեության իրականացում, դատական ակտերի կազմում և հրապարակում, արխիվային փաստաթղթերի տրամադրում, դատական ծառայության իրականացում | F13: Ծառայությունների մատուցում | G13: =+'Հավելված 2'!G39 -> 10363
C14: 1080 - 11009 | D14: ՀՀ Արարատի և Վայոց ձորի մարզերի առաջին ատյանի ընդհանուր իրավասության դատարանի բնականոն գործունեության և ՀՀ Արարատի և Վայոց ձորի մարզերի ընդհանուր իրավասության դատարանի կողմից դատական պաշտպանության իրավունքի ապահովում | E14: Դատավարական գործունեության իրականացում, դատական ակտերի կազմում և հրապարակում, արխիվային փաստաթղթերի տրամադրում, դատական ծառայության իրականացում | F14: Ծառայությունների մատուցում | G14: =+'Հավելված 2'!G48 -> 26308
C15: 1080 - 11010 | D15: ՀՀ Արմավիրի մարզի առաջին ատյանի ընդհանուր իրավասության դատարանի բնականոն գործունեության և ՀՀ Արմավիրի մարզի ընդհանուր իրավասության դատարանի կողմից դատական պաշտպանության իրավունքի ապահովում | E15: Դատավարական գործունեության իրականացում, դատական ակտերի կազմում և հրապարակում, արխիվային փաստաթղթերի տրամադրում, դատական ծառայության իրականացում | F15: Ծառայությունների մատուցում | G15: =+'Հավելված 2'!G57 -> 10466
C16: 1080 - 11011 | D16: ՀՀ Գեղարքունիքի մարզի առաջին ատյանի ընդհանուր իրավասության դատարանի բնականոն գործունեության և ՀՀ Գեղարքունիքի մարզի ընդհանուր իրավասության դատարանի կողմից դատական պաշտպանության իրավունքի ապահովում | E16: Դատավարական գործունեության իրականացում, դատական ակտերի կազմում և հրապարակում, արխիվային փաստաթղթերի տրամադրում, դատական ծառայության իրականացում | F16: Ծառայությունների մատուցում | G16: =+'Հավելված 2'!G66 -> 6234
C17: 1080 - 11012 | D17: ՀՀ Լոռու մարզի առաջին ատյանի ընդհանուր իրավասության դատարանի բնականոն գործունեության և ՀՀ Լոռու մարզի ընդհանուր իրավասության դատարանի կողմից դատական պաշտպանության իրավունքի ապահովում | E17: Դատավարական գործունեության իրականացում, դատական ակտերի կազմում և հրապարակում, արխիվային փաստաթղթերի տրամադրում, դատական ծառայության իրականացում | F17: Ծառայությունների մատուցում | G17: =+'Հավելված 2'!G75 -> 7161
C18: 1080 - 11013 | D18: ՀՀ Կոտայքի մարզի առաջին ատյանի ընդհանուր իրավասության դատարանի բնականոն գործունեության և ՀՀ Կոտայքի մարզի ընդհանուր իրավասության դատարանի կողմից դատական պաշտպանության իրավունքի ապահովում | E18: Դատավարական գործունեության իրականացում, դատական ակտերի կազմում և հրապարակում, արխիվային փաստաթղթերի տրամադրում, դատական ծառայության իրականացում | F18: Ծառայությունների մատուցում | G18: =+'Հավելված 2'!G84 -> 22181
C19: 1080 - 11014 | D19: ՀՀ Շիրակի մարզի առաջին ատյանի ընդհանուր իրավասության դատարանի բնականոն գործունեության և ՀՀ Շիրակի մարզի ընդհանուր իրավասության դատարանի կողմից դատական պաշտպանության իրավունքի ապահովում | E19: Դատավարական գործունեության իրականացում, դատական ակտերի կազմում և հրապարակում, արխիվային փաստաթղթերի տրամադրում, դատական ծառայության իրականացում | F19: Ծառայությունների մատուցում | G19: =+'Հավելված 2'!G93 -> 592
C20: 1080 - 11015 | D20: ՀՀ Սյունիքի մարզի առաջին ատյանի ընդհանուր իրավասության դատարանի բնականոն գործունեության և ՀՀ Սյունիքի մարզի ընդհանուր իրավասության դատարանի կողմից դատական պաշտպանության իրավունքի ապահովում | E20: Դատավարական գործունեության իրականացում, դատական ակտերի կազմում և հրապարակում, արխիվային փաստաթղթերի տրամադրում, դատական ծառայության իրականացում | F20: Ծառայությունների մատուցում | G20: =+'Հավելված 2'!G102 -> 6191
C21: 1080 - 11016 | D21: ՀՀ Տավուշի մարզի առաջին ատյանի ընդհանուր իրավասության դատարանի բնականոն գործունեության և ՀՀ Տավուշի մարզի ընդհանուր իրավասության դատարանի կողմից դատական պաշտպանության իրավունքի ապահովում | E21: Դատավարական գործունեության իրականացում, դատական ակտերի կազմում և հրապարակում, արխիվային փաստաթղթերի տրամադրում, դատական ծառայության իրականացում | F21: Ծառայությունների մատուցում | G21: =+'Հավելված 2'!G111 -> 11095
C22: 1080 - 11017 | D22: ՀՀ Սնանկության դատարանի բնականոն գործունեության և ՀՀ Սնանկության դատարանի կողմից դատական պաշտպանության իրավունքի ապահովում | E22: Դատավարական գործունեության իրականացում, դատական ակտերի կազմում և հրապարակում, արխիվային փաստաթղթերի տրամադրում, դատական ծառայության իրականացում | F22: Ծառայությունների մատուցում | G22: =+'Հավելված 2'!G120 -> 20246
C23: 1080 - 11019 | D23: Հակակոռուպցիոն դատարանի բնականոն գործունեության և Հակակոռուպցիոն դատարանի կողմից դատական պաշտպանության իրավուքի ապահովում | E23: Դատավարական գործունեության իրականացում, ակտերի կազմում և հրապարակում, արխիվային փաստաթղթերի տրամադրում, դատական ծառայության իրականացում | F23: Ծառայությունների մատուցում | G23: =+'Հավելված 2'!G129 -> 20742
C24: 1080 - 11022 | D24: Երևան քաղաքի առաջին ատյանի ընդհանուր իրավասության քաղաքացիական դատարանի բնականոն գործունեության և Երևան քաղաքի առաջին ատյանի ընդհանուր իրավասության քաղաքացիական դատարանի կողմից դատական պաշտպանության իրավունքի ապահովում | E24: Դատավարական գործունեության իրականացում, դատական ակտերի կազմում և հրապարակում, արխիվային փաստաթղթերի տրամադրում, անվտանգության երաշխիքների ապահովում, դատական ծառայության իրականացում | F24: Ծառայությունների մատուցում | G24: =+'Հավելված 2'!G138 -> 45263
C25: 1080 - 11023 | D25: Երևան քաղաքի առաջին ատյանի ընդհանուր իրավասության քրեական դատարանի բնականոն գործունեության և Երևան քաղաքի առաջին ատյանի ընդհանուր իրավասության քրեական դատարանի կողմից դատական պաշտպանության իրավունքի ապահովում | E25: Դատավարական գործունեության իրականացում, դատական ակտերի կազմում և հրապարակում, արխիվային փաստաթղթերի տրամադրում, անվտանգության երաշխիքների ապահովում, դատական ծառայության իրականացում | F25: Ծառայությունների մատուցում | G25: =+'Հավելված 2'!G147 -> 36425
A26: ՀՀ բարձր տեխնոլոգիական արդյունաբերության նախարարություն | G26: =+G27 -> -248018
B27: 1043 | D27: Բարձր տեխնոլոգիական արդյունաբերության էկոհամակարգի և շուկայի զարգացման ծրագիր | E27: Բարձր տեխնոլոգիաների ենթակառուցվածքների բարելավում | F27: Բարձր տեխնոլոգիաների ոլորտի աճ | G27: =+G28 -> -248018
C28: 1043 - 11018 | D28: Պետական աջակցություն տեղեկատվական տեխնոլոգիաների ոլորտում գործունեություն իրականացնող առևտրային կազմակերպություններին և անհատ ձեռնարկատերերին | E28: Տեղեկատվական տեխնոլոգիաների ոլորտում գործունեություն իրականացնող առևտրային կազմակերպություններին և անհատ ձեռնարկատերերին պետական աջակցության տրամադրում | F28: Ծառայությունների մատուցում | G28: =+'Հավելված 2'!G162 -> -248018

Sheet Հավելված 2
G1: Հավելված N 2
G2: ՀՀ կառավարության 2026 թվականի
G3: ___________ ___-ի N _______ որոշման
A4: ՀԱՅԱՍՏԱՆԻ ՀԱՆՐԱՊԵՏՈՒԹՅԱՆ ԿԱՌԱՎԱՐՈՒԹՅԱՆ 2025 ԹՎԱԿԱՆԻ ԴԵԿՏԵՄԲԵՐԻ 25-Ի N 1910-Ն ՈՐՈՇՄԱՆ NN 3 ԵՎ 4 ՀԱՎԵԼՎԱԾՆԵՐՈՒՄ ԿԱՏԱՐՎՈՂ ՓՈՓՈԽՈՒԹՅՈՒՆՆԵՐԸ
G6: հազար դրամներով
A7: Գործառնական դասիչը | D7: Ծրագրային դասիչը | F7: Բյուջետային ծախսերի գործառնական դասակարգման բաժինների, խմբերի և դասերի, բյուջետային ծրագրերի միջոցառումների, բյուջետային հատկացումների գլխավոր կարգադրիչների անվանումները | G7: Ցուցանիշների փոփոխությունը (ավելացումները նշված են դրական նշանով, իսկ նվազեցումները՝ փակագծերում)
A8: բաժին | B8: խումբ | C8: դաս | D8: ծրագիր | E8: միջոցառում | G8: Տարի
F9: ԸՆԴԱՄԵՆԸ ԾԱԽՍԵՐ | G9: =G11+G156 -> 0
F10: այդ թվում՝
A11: 03 | F11: ՀԱՍԱՐԱԿԱԿԱՆ ԿԱՐԳ, ԱՆՎՏԱՆԳՈՒԹՅՈՒՆ ԵՎ ԴԱՏԱԿԱՆ ԳՈՐԾՈՒՆԵՈՒԹՅՈՒՆ | G11: =G13 -> 248018
F12: այդ թվում՝
B13: 03 | F13: Դատական գործունեություն և իրավական պաշտպանություն | G13: =G15 -> 248018
F14: այդ թվում՝
C15: 01 | F15: Դատարաններ | G15: =G17 -> 248018
F16: այդ թվում՝
F17: Բարձրագույն դատական խորհուրդ | G17: =G19 -> 248018
F18: այդ թվում`
D19: 1080 | F19: Դատական իշխանության գործունեության ապահովում և իրականացում | G19: =+G21+G30+G39+G48+G57+G66+G75+G84+G93+G102+G111+G120+G129+G138+G147 -> 248018
F20: այդ թվում՝
E21: 11003 | F21: ՀՀ վերաքննիչ քաղաքացիական դատարանի բնականոն գործունեության և ՀՀ Վերաքննիչ քաղաքացիական դատարանի կողմից դատական պաշտպանության իրավունքի ապահովում | G21: =G23 -> 9981
F22: այդ թվում` ըստ կատարողների
F23: ՀՀ դատական դեպարտամենտ | G23: =G25 -> 9981
F24: այդ թվում` բյուջետային ծախսերի տնտեսագիտական դասակարգման հոդվածներ
F25: ԸՆԴԱՄԵՆԸ ԾԱԽՍԵՐ | G25: =G26 -> 9981
F26: ԸՆԹԱՑԻԿ ԾԱԽՍԵՐ | G26: =G27 -> 9981
F27: ԾԱՌԱՅՈՒԹՅՈՒՆՆԵՐԻ ԵՎ ԱՊՐԱՆՔՆԵՐԻ ՁԵՌՔԲԵՐՈՒՄ | G27: =+G28 -> 9981
F28: Շարունակական ծախսեր | G28: =+G29 -> 9981
F29: - Կապի ծառայություններ | G29: 9981
E30: 11004 | F30: ՀՀ վերաքննիչ քրեական դատարանի բնականոն գործունեության և ՀՀ Վերաքննիչ քրեական դատարանի կողմից դատական պաշտպանության իրավունքի ապահովում | G30: =G32 -> 14770
F31: այդ թվում` ըստ կատարողների
F32: ՀՀ դատական դեպարտամենտ | G32: =G34 -> 14770
F33: այդ թվում` բյուջետային ծախսերի տնտեսագիտական դասակարգման հոդվածներ
F34: ԸՆԴԱՄԵՆԸ ԾԱԽՍԵՐ | G34: =G35 -> 14770
F35: ԸՆԹԱՑԻԿ ԾԱԽՍԵՐ | G35: =G36 -> 14770
F36: ԾԱՌԱՅՈՒԹՅՈՒՆՆԵՐԻ ԵՎ ԱՊՐԱՆՔՆԵՐԻ ՁԵՌՔԲԵՐՈՒՄ | G36: =+G37 -> 14770
F37: Շարունակական ծախսեր | G37: =+G38 -> 14770
F38: - Կապի ծառայություններ | G38: 14770
E39: 11005 | F39: ՀՀ վերաքննիչ վարչական դատարանի բնականոն գործունեության և ՀՀ Վերաքննիչ վարչական դատարանի կողմից դատական պաշտպանության իրավունքի ապահովում | G39: =G41 -> 10363
F40: այդ թվում` ըստ կատարողների
F41: ՀՀ դատական դեպարտամենտ | G41: =G43 -> 10363
F42: այդ թվում` բյուջետային ծախսերի տնտեսագիտական դասակարգման հոդվածներ
F43: ԸՆԴԱՄԵՆԸ ԾԱԽՍԵՐ | G43: =G44 -> 10363
F44: ԸՆԹԱՑԻԿ ԾԱԽՍԵՐ | G44: =G45 -> 10363
F45: ԾԱՌԱՅՈՒԹՅՈՒՆՆԵՐԻ ԵՎ ԱՊՐԱՆՔՆԵՐԻ ՁԵՌՔԲԵՐՈՒՄ | G45: =+G46 -> 10363
F46: Շարունակական ծախսեր | G46: =+G47 -> 10363
F47: - Կապի ծառայություններ | G47: 10363
E48: 11009 | F48: ՀՀ Արարատի և Վայոց ձորի մարզերի առաջին ատյանի ընդհանուր իրավասության դատարանի բնականոն գործունեության և ՀՀ Արարատի և Վայոց ձորի մարզերի ընդհանուր իրավասության դատարանի կողմից դատական պաշտպանության իրավունքի ապահովում | G48: =G50 -> 26308
F49: այդ թվում` ըստ կատարողների
F50: ՀՀ դատական դեպարտամենտ | G50: =G52 -> 26308
F51: այդ թվում` բյուջետային ծախսերի տնտեսագիտական դասակարգման հոդվածներ
F52: ԸՆԴԱՄԵՆԸ ԾԱԽՍԵՐ | G52: =G53 -> 26308
F53: ԸՆԹԱՑԻԿ ԾԱԽՍԵՐ | G53: =G54 -> 26308
F54: ԾԱՌԱՅՈՒԹՅՈՒՆՆԵՐԻ ԵՎ ԱՊՐԱՆՔՆԵՐԻ ՁԵՌՔԲԵՐՈՒՄ | G54: =+G55 -> 26308
F55: Շարունակական ծախսեր | G55: =+G56 -> 26308
F56: - Կապի ծառայություններ | G56: 26308
E57: 11010 | F57: ՀՀ Արմավիրի մարզի առաջին ատյանի ընդհանուր իրավասության դատարանի բնականոն գործունեության և ՀՀ Արմավիրի մարզի ընդհանուր իրավասության դատարանի կողմից դատական պաշտպանության իրավունքի ապահովում | G57: =G59 -> 10466
F58: այդ թվում` ըստ կատարողների
F59: ՀՀ դատական դեպարտամենտ | G59: =G61 -> 10466
F60: այդ թվում` բյուջետային ծախսերի տնտեսագիտական դասակարգման հոդվածներ
F61: ԸՆԴԱՄԵՆԸ ԾԱԽՍԵՐ | G61: =G62 -> 10466
F62: ԸՆԹԱՑԻԿ ԾԱԽՍԵՐ | G62: =G63 -> 10466
F63: ԾԱՌԱՅՈՒԹՅՈՒՆՆԵՐԻ ԵՎ ԱՊՐԱՆՔՆԵՐԻ ՁԵՌՔԲԵՐՈՒՄ | G63: =+G64 -> 10466
F64: Շարունակական ծախսեր | G64: =+G65 -> 10466
F65: - Կապի ծառայություններ | G65: 10466
E66: 11011 | F66: ՀՀ Գեղարքունիքի մարզի առաջին ատյանի ընդհանուր իրավասության դատարանի բնականոն գործունեության և ՀՀ Գեղարքունիքի մարզի ընդհանուր իրավասության դատարանի կողմից դատական պաշտպանության իրավունքի ապահովում | G66: =G68 -> 6234
F67: այդ թվում` ըստ կատարողների
F68: ՀՀ դատական դեպարտամենտ | G68: =G70 -> 6234
F69: այդ թվում` բյուջետային ծախսերի տնտեսագիտական դասակարգման հոդվածներ
F70: ԸՆԴԱՄԵՆԸ ԾԱԽՍԵՐ | G70: =G71 -> 6234
F71: ԸՆԹԱՑԻԿ ԾԱԽՍԵՐ | G71: =G72 -> 6234
F72: ԾԱՌԱՅՈՒԹՅՈՒՆՆԵՐԻ ԵՎ ԱՊՐԱՆՔՆԵՐԻ ՁԵՌՔԲԵՐՈՒՄ | G72: =+G73 -> 6234
F73: Շարունակական ծախսեր | G73: =+G74 -> 6234
F74: - Կապի ծառայություններ | G74: 6234
E75: 11012 | F75: ՀՀ Լոռու մարզի առաջին ատյանի ընդհանուր իրավասության դատարանի բնականոն գործունեության և ՀՀ Լոռու մարզի ընդհանուր իրավասության դատարանի կողմից դատական պաշտպանության իրավունքի ապահովում | G75: =G77 -> 7161
F76: այդ թվում` ըստ կատարողների
F77: ՀՀ դատական դեպարտամենտ | G77: =G79 -> 7161
F78: այդ թվում` բյուջետային ծախսերի տնտեսագիտական դասակարգման հոդվածներ
F79: ԸՆԴԱՄԵՆԸ ԾԱԽՍԵՐ | G79: =G80 -> 7161
F80: ԸՆԹԱՑԻԿ ԾԱԽՍԵՐ | G80: =G81 -> 7161
F81: ԾԱՌԱՅՈՒԹՅՈՒՆՆԵՐԻ ԵՎ ԱՊՐԱՆՔՆԵՐԻ ՁԵՌՔԲԵՐՈՒՄ | G81: =+G82 -> 7161
F82: Շարունակական ծախսեր | G82: =+G83 -> 7161
F83: - Կապի ծառայություններ | G83: 7161
E84: 11013 | F84: ՀՀ Կոտայքի մարզի առաջին ատյանի ընդհանուր իրավասության դատարանի բնականոն գործունեության և ՀՀ Կոտայքի մարզի ընդհանուր իրավասության դատարանի կողմից դատական պաշտպանության իրավունքի ապահովում | G84: =G86 -> 22181
F85: այդ թվում` ըստ կատարողների
F86: ՀՀ դատական դեպարտամենտ | G86: =G88 -> 22181
F87: այդ թվում` բյուջետային ծախսերի տնտեսագիտական դասակարգման հոդվածներ
F88: ԸՆԴԱՄԵՆԸ ԾԱԽՍԵՐ | G88: =G89 -> 22181
F89: ԸՆԹԱՑԻԿ ԾԱԽՍԵՐ | G89: =G90 -> 22181
F90: ԾԱՌԱՅՈՒԹՅՈՒՆՆԵՐԻ ԵՎ ԱՊՐԱՆՔՆԵՐԻ ՁԵՌՔԲԵՐՈՒՄ | G90: =+G91 -> 22181
F91: Շարունակական ծախսեր | G91: =+G92 -> 22181
F92: - Կապի ծառայություններ | G92: 22181
E93: 11014 | F93: ՀՀ Շիրակի մարզի առաջին ատյանի ընդհանուր իրավասության դատարանի բնականոն գործունեության և ՀՀ Շիրակի մարզի ընդհանուր իրավասության դատարանի կողմից դատական պաշտպանության իրավունքի ապահովում | G93: =G95 -> 592
F94: այդ թվում` ըստ կատարողների
F95: ՀՀ դատական դեպարտամենտ | G95: =G97 -> 592
F96: այդ թվում` բյուջետային ծախսերի տնտեսագիտական դասակարգման հոդվածներ
F97: ԸՆԴԱՄԵՆԸ ԾԱԽՍԵՐ | G97: =G98 -> 592
F98: ԸՆԹԱՑԻԿ ԾԱԽՍԵՐ | G98: =G99 -> 592
F99: ԾԱՌԱՅՈՒԹՅՈՒՆՆԵՐԻ ԵՎ ԱՊՐԱՆՔՆԵՐԻ ՁԵՌՔԲԵՐՈՒՄ | G99: =+G100 -> 592
F100: Շարունակական ծախսեր | G100: =+G101 -> 592
F101: - Կապի ծառայություններ | G101: 592
...

Sheet Հավելված 3 
J1: Հավելված N 3
J2: ՀՀ կառավարության 2026 թվականի
J3: ___________ ___-ի N _______ որոշման
A4: ՀԱՅԱՍՏԱՆԻ ՀԱՆՐԱՊԵՏՈՒԹՅԱՆ ԿԱՌԱՎԱՐՈՒԹՅԱՆ 2025 ԹՎԱԿԱՆԻ ԴԵԿՏԵՄԲԵՐԻ 25-Ի N 1910-Ն ՈՐՈՇՄԱՆ N 9 ՀԱՎԵԼՎԱԾՈՒՄ ԿԱՏԱՐՎՈՂ ՓՈՓՈԽՈՒԹՅՈՒՆՆԵՐԸ
J5: հազար դրամներով
A6: ԲԳԿ | B6: Ծրագիր | D6: Միջոցառում | H6: Իրականացնողը/ ակտիվն օգտագործողը/ շահառուի ընտրության չափորոշիչը | I6: Արդյունքային չափորոշիչը | J6: Ցուցանիշների փոփոխությունը (ավելացումները նշված են դրական նշանով, իսկ նվազեցումները՝ փակագծերում)
B7: Դասիչը | C7: Անվանումը | D7: Դասիչը | E7: Անվա-նումը | F7: Նկարագրու-թյունը | G7: Տեսակը | J7: Տարի
A8: ԸՆԴԱՄԵՆԸ | J8: =J9+J227 -> 0
A9: Բարձրագույն դատական խորհուրդ | J9: =J10 -> 248018
B10: 1080 | C10: Դատական իշխանության գործունեության ապահովում և իրականացում | J10: =+J11+J18+J22+J26+J31+J38+J57+J64+J86+J111+J128+J152+J171+J178+J182+J186+J201+J210 -> 248018
D11: 1080 - 11002 | E11: ՀՀ Վճռաբեկ դատարանի բնականոն գործունեության և ՀՀ Վճռաբեկ դատարանի կողմից դատական պաշտպանության իրավունքի ապահովում | J11: 0
F12: Դատավարական գործունեության իրականացում, դատական ակտերի կազմում և հրապարակում, արխիվային փաստաթղթերի տրամադրում, դատական ծառայության իրականացում
G13: Ծառայությունների մատուցում
H14: Ծառայությունը մատուցողի անվանումը` ՀՀ Վճռաբեկ դատարան
I15: Ստացված քրեական գործերով վճռաբեկ բողոքների քանակը, գործ/հատ | J15: 934
I16: Նախորդ տարվանից փոխանցված քրեական գործերով վճռաբեկ բողոքների քանակը, գործ/հատ | J16: 200
I17: Քննված քրեական գործերով վճռաբեկ բողոքների քանակը, գործ/հատ | J17: 599
D18: 1080 - 11003 | E18: ՀՀ վերաքննիչ քաղաքացիական դատարանի բնականոն գործունեության և ՀՀ Վերաքննիչ քաղաքացիական դատարանի կողմից դատական պաշտպանության իրավունքի ապահովում | J18: =++'Հավելված 2'!G21 -> 9981
F19: Դատավարական գործունեության իրականացում, դատական ակտերի կազմում և հրապարակում, արխիվային փաստաթղթերի տրամադրում, դատական ծառայության իրականացում
G20: Ծառայությունների մատուցում
H21: Ծառայությունը մատուցողի անվանումը` ՀՀ Վերաքննիչ քաղաքացիական դատարան
D22: 1080 - 11004 | E22: ՀՀ վերաքննիչ քրեական դատարանի բնականոն գործունեության և ՀՀ Վերաքննիչ քրեական դատարանի կողմից դատական պաշտպանության իրավունքի ապահովում | J22: =+'Հավելված 2'!G30 -> 14770
F23: Դատավարական գործունեության իրականացում, դատական ակտերի կազմում և հրապարակում, արխիվային փաստաթղթերի տրամադրում, դատական ծառայության իրականացում
G24: Ծառայությունների մատուցում
H25: Ծառայությունը մատուցողի անվանումը` ՀՀ Վերաքննիչ քրեական դատարան
D26: 1080 - 11005 | E26: ՀՀ վերաքննիչ վարչական դատարանի բնականոն գործունեության և ՀՀ Վերաքննիչ վարչական դատարանի կողմից դատական պաշտպանության իրավունքի ապահովում | J26: =+'Հավելված 2'!G39 -> 10363
F27: Դատավարական գործունեության իրականացում, դատական ակտերի կազմում և հրապարակում, արխիվային փաստաթղթերի տրամադրում, դատական ծառայության իրականացում
G28: Ծառայությունների մատուցում
H29: Ծառայությունը մատուցողի անվանումը` ՀՀ Վերաքննիչ վարչական դատարան
I30: Բեկանված դատական ակտերի թիվը կայացված դատական ակտերի թվում /վերաքննիչ վարչական գործեր/, տոկոս | J30: -25.3
D31: 1080 - 11008 | E31: ՀՀ Արագածոտնի մարզի առաջին ատյանի ընդհանուր իրավասության դատարանի բնականոն գործունեության և ՀՀ Արագածոտնի մարզի ընդհանուր իրավասության դատարանի կողմից դատական պաշտպանության իրավունքի ապահովում | J31: 0
F32: Դատավարական գործունեության իրականացում, դատական ակտերի կազմում և հրապարակում, արխիվային փաստաթղթերի տրամադրում, դատական ծառայության իրականացում
G33: Ծառայությունների մատուցում
H34: Ծառայությունը մատուցողի անվանումը` ՀՀ Արագածոտնի մարզի առաջին ատյանի ընդհանուր իրավասության դատարան
I35: Ստացված վճարման կարգադրություններ արձակելու մասին գործեր, գործ/հատ | J35: -23
I36: Վարույթ ընդունված վճարման կարգադրություններ արձակելու մասին գործերի քանակը, գործ/հատ | J36: -14
I37: Ավարտված վճարման կարգադրություններ արձակելու մասին գործերի քանակը, գործ/հատ | J37: -23
D38: 1080 - 11009 | E38: ՀՀ Արարատի և Վայոց ձորի մարզերի առաջին ատյանի ընդհանուր իրավասության դատարանի բնականոն գործունեության և ՀՀ Արարատի և Վայոց ձորի մարզերի ընդհանուր իրավասության դատարանի կողմից դատական պաշտպանության իրավունքի ապահովում | J38: =+'Հավելված 2'!G48 -> 26308
F39: Դատավարական գործունեության իրականացում, դատական ակտերի կազմում և հրապարակում, արխիվային փաստաթղթերի տրամադրում, դատական ծառայության իրականացում
G40: Ծառայությունների մատուցում
H41: Ծառայությունը մատուցողի անվանումը` ՀՀ Արարատի և Վայոց ձորի մարզերի առաջին ատյանի ընդհանուր իրավասության դատարան
I42: Ստացված հայցադիմումների, դիմումների և գործերի քանակը /քաղաքացիական գործեր/, գործ/հատ | J42: -1861
I43: Վարույթ ընդունված քաղաքացիական գործերի քանակը, գործ/հատ | J43: -2119
I44: Ավարտված քաղաքացիական գործերի քանակը, գործ/հատ | J44: -2034
I45: Տարեվերջին անավարտ քաղաքացիական գործերի քանակը, գործ/հատ | J45: 173
I46: Ավարտված քաղաքացիական գործերի թիվը ստացված քաղաքացիական գործերի թվում, տոկոս | J46: -10.6
I47: Բեկանված դատական ակտերի թիվը կայացված դատական ակտերի թվում /քաղաքացիական գործեր/, տոկոս | J47: 2
I48: Ստացված հայցադիմումների, դիմումների և գործերի քանակը /քրեական գործեր/, գործ/հատ | J48: 964
I49: Վարույթ ընդունված քրեական գործերի քանակը, գործ/հատ | J49: 964
I50: Ավարտված քրեական գործերի քանակը, գործ/հատ | J50: 718
I51: Տարեվերջին անավարտ քրեական գործերի քանակը, գործ/հատ | J51: 246
I52: Ավարտված քրեական գործերի թիվը ստացված քրեական գործերի թվում, տոկոս | J52: 7.2
I53: Բեկանված դատական ակտերի թիվը կայացված դատական ակտերի թվում /քրեական գործեր/, տոկոս | J53: 0.9
... I56: Ավարտված վճարման կարգադրություններ արձակելու մասին գործերի քանակը, գործ/հատ | J56: -75
D57: 1080 - 11010 | E57: ՀՀ Արմավիրի մարզի առաջին ատյանի ընդհանուր իրավասության դատարանի բնականոն գործունեության և ՀՀ Արմավիրի մարզի ընդհանուր իրավասության դատարանի կողմից դատական պաշտպանության իրավունքի ապահովում | J57: =+'Հավելված 2'!G57 -> 10466
F58: Դատավարական գործունեության իրականացում, դատական ակտերի կազմում և հրապարակում, արխիվային փաստաթղթերի տրամադրում, դատական ծառայության իրականացում
G59: Ծառայությունների մատուցում
H60: Ծառայությունը մատուցողի անվանումը` ՀՀ Արմավիրի մարզի առաջին ատյանի ընդհանուր իրավասության դատարան
I61: Ստացված վճարման կարգադրություններ արձակելու մասին գործեր, գործ/հատ | J61: -26
I62: Վարույթ ընդունված վճարման կարգադրություններ արձակելու մասին գործերի քանակը, գործ/հատ | J62: -22
I63: Ավարտված վճարման կարգադրություններ արձակելու մասին գործերի քանակը, գործ/հատ | J63: -26
D64: 1080 - 11011 | E64: ՀՀ Գեղարքունիքի մարզի առաջին ատյանի ընդհանուր իրավասության դատարանի բնականոն գործունեության և ՀՀ Գեղարքունիքի մարզի ընդհանուր իրավասության դատարանի կողմից դատական պաշտպանության իրավունքի ապահովում | J64: =+'Հավելված 2'!G66 -> 6234
F65: Դատավարական գործունեության իրականացում, դատական ակտերի կազմում և հրապարակում, արխիվային փաստաթղթերի տրամադրում, դատական ծառայության իրականացում
G66: Ծառայությունների մատուցում
H67: Ծառայությունը մատուցողի անվանումը` ՀՀ Գեղարքունիքի մարզի առաջին ատյանի ընդհանուր իրավասության դատարան
I68: Վարույթ ընդունված քաղաքացիական գործերի քանակը, գործ/հատ | J68: -67
I69: Ավարտված քաղաքացիական գործերի քանակը, գործ/հատ | J69: -247
I70: Տարեվերջին անավարտ քաղաքացիական գործերի քանակը, գործ/հատ | J70: 248
I71: Ավարտված քաղաքացիական գործերի թիվը ստացված քաղաքացիական գործերի թվում, տոկոս | J71: -12.9
I72: Բեկանված դատական ակտերի թիվը կայացված դատական ակտերի թվում /քաղաքացիական գործեր/, տոկոս | J72: 1.9
I73: Ստացված հայցադիմումների, դիմումների և գործերի քանակը /քրեական գործեր/, գործ/հատ | J73: 250
I74: Վարույթ ընդունված քրեական գործերի քանակը, գործ/հատ | J74: 250
I75: Ավարտված քրեական գործերի քանակը, գործ/հատ | J75: 200
I76: Տարեվերջին անավարտ քրեական գործերի քանակը, գործ/հատ | J76: 50
I77: Բեկանված դատական ակտերի թիվը կայացված դատական ակտերի թվում /քրեական գործեր/, տոկոս | J77: -0.6
I78: Ստացված մինչդատական վարույթի գործեր, գործ/հատ | J78: 280
I79: Վարույթ ընդունված մինչդատական վարույթի գործերի քանակը, գործ/հատ | J79: 292
... I85: Ավարտված վճարման կարգադրություններ արձակելու մասին գործերի քանակը, գործ/հատ | J85: -26
D86: 1080 - 11012 | E86: ՀՀ Լոռու մարզի առաջին ատյանի ընդհանուր իրավասության դատարանի բնականոն գործունեության և ՀՀ Լոռու մարզի ընդհանուր իրավասության դատարանի կողմից դատական պաշտպանության իրավունքի ապահովում | J86: =+'Հավելված 2'!G75 -> 7161
F87: Դատավարական գործունեության իրականացում, դատական ակտերի կազմում և հրապարակում, արխիվային փաստաթղթերի տրամադրում, դատական ծառայության իրականացում
G88: Ծառայությունների մատուցում
H89: Ծառայությունը մատուցողի անվանումը` ՀՀ Լոռու մարզի առաջին ատյանի ընդհանուր իրավասության դատարան
I90: Ստացված հայցադիմումների, դիմումների և գործերի քանակը /քաղաքացիական գործեր/, գործ/հատ | J90: -2367
I91: Վարույթ ընդունված քաղաքացիական գործերի քանակը, գործ/հատ | J91: -2422
I92: Ավարտված քաղաքացիական գործերի քանակը, գործ/հատ | J92: -2394
I93: Տարեվերջին անավարտ քաղաքացիական գործերի քանակը, գործ/հատ | J93: 27
I94: Ավարտված քաղաքացիական գործերի թիվը ստացված քաղաքացիական գործերի թվում, տոկոս | J94: -15.4
I95: Բեկանված դատական ակտերի թիվը կայացված դատական ակտերի թվում /քաղաքացիական գործեր/, տոկոս | J95: 1.2
I96: Ստացված հայցադիմումների, դիմումների և գործերի քանակը /քրեական գործեր/, գործ/հատ | J96: 290
I97: Վարույթ ընդունված քրեական գործերի քանակը, գործ/հատ | J97: 290
I98: Ավարտված քրեական գործերի քանակը, գործ/հատ | J98: 185
I99: Տարեվերջին անավարտ քրեական գործերի քանակը, գործ/հատ | J99: 105
I100: Ավարտված քրեական գործերի թիվը ստացված քրեական գործերի թվում, տոկոս | J100: -1.7
I101: Բեկանված դատական ակտերի թիվը կայացված դատական ակտերի թվում /քրեական գործեր/, տոկոս | J101: 0.2
... I110: Ավարտված վճարման կարգադրություններ արձակելու մասին գործերի քանակը, գործ/հատ | J110: -24
D111: 1080 - 11013 | E111: ՀՀ Կոտայքի մարզի առաջին ատյանի ընդհանուր իրավասության դատարանի բնականոն գործունեության և ՀՀ Կոտայքի մարզի ընդհանուր իրավասության դատարանի կողմից դատական պաշտպանության իրավունքի ապահովում | J111: =+'Հավելված 2'!G84 -> 22181
F112: Դատավարական գործունեության իրականացում, դատական ակտերի կազմում և հրապարակում, արխիվային փաստաթղթերի տրամադրում, դատական ծառայության իրականացում
G113: Ծառայությունների մատուցում
H114: Ծառայությունը մատուցողի անվանումը` ՀՀ Կոտայքի մարզի առաջին ատյանի ընդհանուր իրավասության դատարան
I115: Ստացված հայցադիմումների, դիմումների և գործերի քանակը /քրեական գործեր/, գործ/հատ | J115: 150
...

Sheet Հավելված 4
J1: Հավելված N 4
J2: ՀՀ կառավարության 2026 թվականի
J3: ___________ ___-ի N _______ որոշման
A4: ՀԱՅԱՍՏԱՆԻ ՀԱՆՐԱՊԵՏՈՒԹՅԱՆ ԿԱՌԱՎԱՐՈՒԹՅԱՆ 2025 ԹՎԱԿԱՆԻ ԴԵԿՏԵՄԲԵՐԻ 25-Ի N 1910-Ն ՈՐՈՇՄԱՆ N 9.1 ՀԱՎԵԼՎԱԾՈՒՄ ԿԱՏԱՐՎՈՂ ՓՈՓՈԽՈՒԹՅՈՒՆՆԵՐԸ
J5: հազար դրամներով
A6: ԲՍԿ | B6: Ծրագիր | D6: Միջոցառում | H6: Իրականացնողը/ ակտիվն օգտագործողը/ շահառուի ընտրության չափորոշիչը | I6: Արդյունքային չափորոշիչը | J6: Ցուցանիշների փոփոխությունը (ավելացումները նշված են դրական նշանով, իսկ նվազեցումները՝ փակագծերում)
B7: Դասիչը | C7: Անվանումը | D7: Դասիչը | E7: Անվա-նումը | F7: Նկարագրու-թյունը | G7: Տեսակը | J7: Տարի
A8: ԸՆԴԱՄԵՆԸ | J8: =J9+J227 -> 0
A9: ՀՀ դատական դեպարտամենտ | J9: =J10 -> 248018
B10: 1080 | C10: Դատական իշխանության գործունեության ապահովում և իրականացում | J10: =+J11+J18+J22+J26+J31+J38+J57+J64+J86+J111+J128+J152+J171+J178+J182+J186+J201+J210 -> 248018
D11: 1080 - 11002 | E11: ՀՀ Վճռաբեկ դատարանի բնականոն գործունեության և ՀՀ Վճռաբեկ դատարանի կողմից դատական պաշտպանության իրավունքի ապահովում | J11: 0
F12: Դատավարական գործունեության իրականացում, դատական ակտերի կազմում և հրապարակում, արխիվային փաստաթղթերի տրամադրում, դատական ծառայության իրականացում
G13: Ծառայությունների մատուցում
H14: Ծառայությունը մատուցողի անվանումը` ՀՀ Վճռաբեկ դատարան
I15: Ստացված քրեական գործերով վճռաբեկ բողոքների քանակը, գործ/հատ | J15: 934
I16: Նախորդ տարվանից փոխանցված քրեական գործերով վճռաբեկ բողոքների քանակը, գործ/հատ | J16: 200
I17: Քննված քրեական գործերով վճռաբեկ բողոքների քանակը, գործ/հատ | J17: 599
D18: 1080 - 11003 | E18: ՀՀ վերաքննիչ քաղաքացիական դատարանի բնականոն գործունեության և ՀՀ Վերաքննիչ քաղաքացիական դատարանի կողմից դատական պաշտպանության իրավունքի ապահովում | J18: =+'Հավելված 2'!G21 -> 9981
F19: Դատավարական գործունեության իրականացում, դատական ակտերի կազմում և հրապարակում, արխիվային փաստաթղթերի տրամադրում, դատական ծառայության իրականացում
G20: Ծառայությունների մատուցում
H21: Ծառայությունը մատուցողի անվանումը` ՀՀ Վերաքննիչ քաղաքացիական դատարան
D22: 1080 - 11004 | E22: ՀՀ վերաքննիչ քրեական դատարանի բնականոն գործունեության և ՀՀ Վերաքննիչ քրեական դատարանի կողմից դատական պաշտպանության իրավունքի ապահովում | J22: =+'Հավելված 2'!G30 -> 14770
F23: Դատավարական գործունեության իրականացում, դատական ակտերի կազմում և հրապարակում, արխիվային փաստաթղթերի տրամադրում, դատական ծառայության իրականացում
G24: Ծառայությունների մատուցում
H25: Ծառայությունը մատուցողի անվանումը` ՀՀ Վերաքննիչ քրեական դատարան
D26: 1080 - 11005 | E26: ՀՀ վերաքննիչ վարչական դատարանի բնականոն գործունեության և ՀՀ Վերաքննիչ վարչական դատարանի կողմից դատական պաշտպանության իրավունքի ապահովում | J26: =+'Հավելված 2'!G39 -> 10363
F27: Դատավարական գործունեության իրականացում, դատական ակտերի կազմում և հրապարակում, արխիվային փաստաթղթերի տրամադրում, դատական ծառայության իրականացում
G28: Ծառայությունների մատուցում
H29: Ծառայությունը մատուցողի անվանումը` ՀՀ Վերաքննիչ վարչական դատարան
I30: Բեկանված դատական ակտերի թիվը կայացված դատական ակտերի թվում /վերաքննիչ վարչական գործեր/, տոկոս | J30: -25.3
D31: 1080 - 11008 | E31: ՀՀ Արագածոտնի մարզի առաջին ատյանի ընդհանուր իրավասության դատարանի բնականոն գործունեության և ՀՀ Արագածոտնի մարզի ընդհանուր իրավասության դատարանի կողմից դատական պաշտպանության իրավունքի ապահովում | J31: 0
F32: Դատավարական գործունեության իրականացում, դատական ակտերի կազմում և հրապարակում, արխիվային փաստաթղթերի տրամադրում, դատական ծառայության իրականացում
G33: Ծառայությունների մատուցում
H34: Ծառայությունը մատուցողի անվանումը` ՀՀ Արագածոտնի մարզի առաջին ատյանի ընդհանուր իրավասության դատարան
I35: Ստացված վճարման կարգադրություններ արձակելու մասին գործեր, գործ/հատ | J35: -23
I36: Վարույթ ընդունված վճարման կարգադրություններ արձակելու մասին գործերի քանակը, գործ/հատ | J36: -14
I37: Ավարտված վճարման կարգադրություններ արձակելու մասին գործերի քանակը, գործ/հատ | J37: -23
D38: 1080 - 11009 | E38: ՀՀ Արարատի և Վայոց ձորի մարզերի առաջին ատյանի ընդհանուր իրավասության դատարանի բնականոն գործունեության և ՀՀ Արարատի և Վայոց ձորի մարզերի ընդհանուր իրավասության դատարանի կողմից դատական պաշտպանության իրավունքի ապահովում | J38: =+'Հավելված 2'!G48 -> 26308
F39: Դատավարական գործունեության իրականացում, դատական ակտերի կազմում և հրապարակում, արխիվային փաստաթղթերի տրամադրում, դատական ծառայության իրականացում
G40: Ծառայությունների մատուցում
H41: Ծառայությունը մատուցողի անվանումը` ՀՀ Արարատի և Վայոց ձորի մարզերի առաջին ատյանի ընդհանուր իրավասության դատարան
I42: Ստացված հայցադիմումների, դիմումների և գործերի քանակը /քաղաքացիական գործեր/, գործ/հատ | J42: -1861
I43: Վարույթ ընդունված քաղաքացիական գործերի քանակը, գործ/հատ | J43: -2119
I44: Ավարտված քաղաքացիական գործերի քանակը, գործ/հատ | J44: -2034
I45: Տարեվերջին անավարտ քաղաքացիական գործերի քանակը, գործ/հատ | J45: 173
I46: Ավարտված քաղաքացիական գործերի թիվը ստացված քաղաքացիական գործերի թվում, տոկոս | J46: -10.6
I47: Բեկանված դատական ակտերի թիվը կայացված դատական ակտերի թվում /քաղաքացիական գործեր/, տոկոս | J47: 2
I48: Ստացված հայցադիմումների, դիմումների և գործերի քանակը /քրեական գործեր/, գործ/հատ | J48: 964
I49: Վարույթ ընդունված քրեական գործերի քանակը, գործ/հատ | J49: 964
I50: Ավարտված քրեական գործերի քանակը, գործ/հատ | J50: 718
I51: Տարեվերջին անավարտ քրեական գործերի քանակը, գործ/հատ | J51: 246
I52: Ավարտված քրեական գործերի թիվը ստացված քրեական գործերի թվում, տոկոս | J52: 7.2
I53: Բեկանված դատական ակտերի թիվը կայացված դատական ակտերի թվում /քրեական գործեր/, տոկոս | J53: 0.9
... I56: Ավարտված վճարման կարգադրություններ արձակելու մասին գործերի քանակը, գործ/հատ | J56: -75
D57: 1080 - 11010 | E57: ՀՀ Արմավիրի մարզի առաջին ատյանի ընդհանուր իրավասության դատարանի բնականոն գործունեության և ՀՀ Արմավիրի մարզի ընդհանուր իրավասության դատարանի կողմից դատական պաշտպանության իրավունքի ապահովում | J57: =+'Հավելված 2'!G57 -> 10466
F58: Դատավարական գործունեության իրականացում, դատական ակտերի կազմում և հրապարակում, արխիվային փաստաթղթերի տրամադրում, դատական ծառայության իրականացում
G59: Ծառայությունների մատուցում
H60: Ծառայությունը մատուցողի անվանումը` ՀՀ Արմավիրի մարզի առաջին ատյանի ընդհանուր իրավասության դատարան
I61: Ստացված վճարման կարգադրություններ արձակելու մասին գործեր, գործ/հատ | J61: -26
I62: Վարույթ ընդունված վճարման կարգադրություններ արձակելու մասին գործերի քանակը, գործ/հատ | J62: -22
I63: Ավարտված վճարման կարգադրություններ արձակելու մասին գործերի քանակը, գործ/հատ | J63: -26
D64: 1080 - 11011 | E64: ՀՀ Գեղարքունիքի մարզի առաջին ատյանի ընդհանուր իրավասության դատարանի բնականոն գործունեության և ՀՀ Գեղարքունիքի մարզի ընդհանուր իրավասության դատարանի կողմից դատական պաշտպանության իրավունքի ապահովում | J64: =+'Հավելված 2'!G66 -> 6234
F65: Դատավարական գործունեության իրականացում, դատական ակտերի կազմում և հրապարակում, արխիվային փաստաթղթերի տրամադրում, դատական ծառայության իրականացում
G66: Ծառայությունների մատուցում
H67: Ծառայությունը մատուցողի անվանումը` ՀՀ Գեղարքունիքի մարզի առաջին ատյանի ընդհանուր իրավասության դատարան
I68: Վարույթ ընդունված քաղաքացիական գործերի քանակը, գործ/հատ | J68: -67
I69: Ավարտված քաղաքացիական գործերի քանակը, գործ/հատ | J69: -247
I70: Տարեվերջին անավարտ քաղաքացիական գործերի քանակը, գործ/հատ | J70: 248
I71: Ավարտված քաղաքացիական գործերի թիվը ստացված քաղաքացիական գործերի թվում, տոկոս | J71: -12.9
I72: Բեկանված դատական ակտերի թիվը կայացված դատական ակտերի թվում /քաղաքացիական գործեր/, տոկոս | J72: 1.9
I73: Ստացված հայցադիմումների, դիմումների և գործերի քանակը /քրեական գործեր/, գործ/հատ | J73: 250
I74: Վարույթ ընդունված քրեական գործերի քանակը, գործ/հատ | J74: 250
I75: Ավարտված քրեական գործերի քանակը, գործ/հատ | J75: 200
I76: Տարեվերջին անավարտ քրեական գործերի քանակը, գործ/հատ | J76: 50
I77: Բեկանված դատական ակտերի թիվը կայացված դատական ակտերի թվում /քրեական գործեր/, տոկոս | J77: -0.6
I78: Ստացված մինչդատական վարույթի գործեր, գործ/հատ | J78: 280
I79: Վարույթ ընդունված մինչդատական վարույթի գործերի քանակը, գործ/հատ | J79: 292
... I85: Ավարտված վճարման կարգադրություններ արձակելու մասին գործերի քանակը, գործ/հատ | J85: -26
D86: 1080 - 11012 | E86: ՀՀ Լոռու մարզի առաջին ատյանի ընդհանուր իրավասության դատարանի բնականոն գործունեության և ՀՀ Լոռու մարզի ընդհանուր իրավասության դատարանի կողմից դատական պաշտպանության իրավունքի ապահովում | J86: =+'Հավելված 2'!G75 -> 7161
F87: Դատավարական գործունեության իրականացում, դատական ակտերի կազմում և հրապարակում, արխիվային փաստաթղթերի տրամադրում, դատական ծառայության իրականացում
G88: Ծառայությունների մատուցում
H89: Ծառայությունը մատուցողի անվանումը` ՀՀ Լոռու մարզի առաջին ատյանի ընդհանուր իրավասության դատարան
I90: Ստացված հայցադիմումների, դիմումների և գործերի քանակը /քաղաքացիական գործեր/, գործ/հատ | J90: -2367
I91: Վարույթ ընդունված քաղաքացիական գործերի քանակը, գործ/հատ | J91: -2422
I92: Ավարտված քաղաքացիական գործերի քանակը, գործ/հատ | J92: -2394
I93: Տարեվերջին անավարտ քաղաքացիական գործերի քանակը, գործ/հատ | J93: 27
I94: Ավարտված քաղաքացիական գործերի թիվը ստացված քաղաքացիական գործերի թվում, տոկոս | J94: -15.4
I95: Բեկանված դատական ակտերի թիվը կայացված դատական ակտերի թվում /քաղաքացիական գործեր/, տոկոս | J95: 1.2
I96: Ստացված հայցադիմումների, դիմումների և գործերի քանակը /քրեական գործեր/, գործ/հատ | J96: 290
I97: Վարույթ ընդունված քրեական գործերի քանակը, գործ/հատ | J97: 290
I98: Ավարտված քրեական գործերի քանակը, գործ/հատ | J98: 185
I99: Տարեվերջին անավարտ քրեական գործերի քանակը, գործ/հատ | J99: 105
I100: Ավարտված քրեական գործերի թիվը ստացված քրեական գործերի թվում, տոկոս | J100: -1.7
I101: Բեկանված դատական ակտերի թիվը կայացված դատական ակտերի թվում /քրեական գործեր/, տոկոս | J101: 0.2
... I110: Ավարտված վճարման կարգադրություններ արձակելու մասին գործերի քանակը, գործ/հատ | J110: -24
D111: 1080 - 11013 | E111: ՀՀ Կոտայքի մարզի առաջին ատյանի ընդհանուր իրավասության դատարանի բնականոն գործունեության և ՀՀ Կոտայքի մարզի ընդհանուր իրավասության դատարանի կողմից դատական պաշտպանության իրավունքի ապահովում | J111: =+'Հավելված 2'!G84 -> 22181
F112: Դատավարական գործունեության իրականացում, դատական ակտերի կազմում և հրապարակում, արխիվային փաստաթղթերի տրամադրում, դատական ծառայության իրականացում
G113: Ծառայությունների մատուցում
H114: Ծառայությունը մատուցողի անվանումը` ՀՀ Կոտայքի մարզի առաջին ատյանի ընդհանուր իրավասության դատարան
I115: Ստացված հայցադիմումների, դիմումների և գործերի քանակը /քրեական գործեր/, գործ/հատ | J115: 150
...

Sheet Հավելված 5
G1: Հավելված N 5
E2: ՀՀ կառավարության 2026 թվականի
E3: ___________ ___-ի N _______ որոշման
A5: ՀԱՅԱՍՏԱՆԻ ՀԱՆՐԱՊԵՏՈՒԹՅԱՆ ԿԱՌԱՎԱՐՈՒԹՅԱՆ 2025 ԹՎԱԿԱՆԻ ԴԵԿՏԵՄԲԵՐԻ 25-Ի N 1910-Ն ՈՐՈՇՄԱՆ N 10 ՀԱՎԵԼՎԱԾՈՒՄ ԿԱՏԱՐՎՈՂ ՓՈՓՈԽՈՒԹՅՈՒՆՆԵՐԸ
A7: Գնման առարկայի | E7: Ցուցանիշների փոփոխությունը (ավելացումները նշված են դրական նշանով, իսկ նվազեցումները՝ փակագծում)
A8: կոդը | B8: անվանումը | C8: գնման ձևը | D8: չափի միավորը | E8: միավորի գինը | F8: քանակը | G8: Գումարը (հազար դրամ)
A9: ՀՀ դատական դեպարտամենտ | G9: =+G10 -> 248018
A10: Բաժին N 03 | B10: Խումբ N 03 | C10: Դաս N 01 | D10: Դատարաններ | G10: =+G11+G14+G17+G20+G23+G26+G29+G32+G35+G38+G41+G44+G47+G50+G53 -> 248018
A11: 1080 11003 | B11: ՀՀ վերաքննիչ քաղաքացիական դատարանի բնականոն գործունեության և ՀՀ Վերաքննիչ քաղաքացիական դատարանի կողմից դատական պաշտպանության իրավունքի ապահովում | G11: =+G12 -> 9981
B12: ՄԱՍ III. ԾԱՌԱՅՈՒԹՅՈՒՆՆԵՐ | G12: =+G13 -> 9981
A13: 79571100-1 | B13: փոստային առաքման ծառայություններ | C13: ՄԱ | D13: դրամ | G13: =+'Հավելված 2'!G29 -> 9981
A14: 1080 11004 | B14: ՀՀ վերաքննիչ քրեական դատարանի բնականոն գործունեության և ՀՀ Վերաքննիչ քրեական դատարանի կողմից դատական պաշտպանության իրավունքի ապահովում | G14: =+G15 -> 14770
B15: ՄԱՍ III. ԾԱՌԱՅՈՒԹՅՈՒՆՆԵՐ | G15: =+G16 -> 14770
A16: 79571100-1 | B16: փոստային առաքման ծառայություններ | C16: ՄԱ | D16: դրամ | G16: =+'Հավելված 2'!G38 -> 14770
A17: 1080 11005 | B17: ՀՀ վերաքննիչ վարչական դատարանի բնականոն գործունեության և ՀՀ Վերաքննիչ վարչական դատարանի կողմից դատական պաշտպանության իրավունքի ապահովում | G17: =+G18 -> 10363
B18: ՄԱՍ III. ԾԱՌԱՅՈՒԹՅՈՒՆՆԵՐ | G18: =+G19 -> 10363
A19: 79571100-1 | B19: փոստային առաքման ծառայություններ | C19: ՄԱ | D19: դրամ | G19: =+'Հավելված 2'!G47 -> 10363
A20: 1080 11009 | B20: ՀՀ Արարատի և Վայոց ձորի մարզերի առաջին ատյանի ընդհանուր իրավասության դատարանի բնականոն գործունեության և ՀՀ Արարատի և Վայոց ձորի մարզերի ընդհանուր իրավասության դատարանի կողմից դատական պաշտպանության իրավունքի ապահովում | G20: =+G21 -> 26308
B21: ՄԱՍ III. ԾԱՌԱՅՈՒԹՅՈՒՆՆԵՐ | G21: =+G22 -> 26308
A22: 79571100-1 | B22: փոստային առաքման ծառայություններ | C22: ՄԱ | D22: դրամ | G22: =+'Հավելված 2'!G56 -> 26308
A23: 1080 11010 | B23: ՀՀ Արմավիրի մարզի առաջին ատյանի ընդհանուր իրավասության դատարանի բնականոն գործունեության և ՀՀ Արմավիրի մարզի ընդհանուր իրավասության դատարանի կողմից դատական պաշտպանության իրավունքի ապահովում | G23: =+G24 -> 10466
B24: ՄԱՍ III. ԾԱՌԱՅՈՒԹՅՈՒՆՆԵՐ | G24: =+G25 -> 10466
A25: 79571100-1 | B25: փոստային առաքման ծառայություններ | C25: ՄԱ | D25: դրամ | G25: =+'Հավելված 2'!G65 -> 10466
A26: 1080 11011 | B26: ՀՀ Գեղարքունիքի մարզի առաջին ատյանի ընդհանուր իրավասության դատարանի բնականոն գործունեության և ՀՀ Գեղարքունիքի մարզի ընդհանուր իրավասության դատարանի կողմից դատական պաշտպանության իրավունքի ապահովում | G26: =+G27 -> 6234
B27: ՄԱՍ III. ԾԱՌԱՅՈՒԹՅՈՒՆՆԵՐ | G27: =+G28 -> 6234
A28: 79571100-1 | B28: փոստային առաքման ծառայություններ | C28: ՄԱ | D28: դրամ | G28: =+'Հավելված 2'!G74 -> 6234
A29: 1080 11012 | B29: ՀՀ Լոռու մարզի առաջին ատյանի ընդհանուր իրավասության դատարանի բնականոն գործունեության և ՀՀ Լոռու մարզի ընդհանուր իրավասության դատարանի կողմից դատական պաշտպանության իրավունքի ապահովում | G29: =+G30 -> 7161
B30: ՄԱՍ III. ԾԱՌԱՅՈՒԹՅՈՒՆՆԵՐ | G30: =+G31 -> 7161
A31: 79571100-1 | B31: փոստային առաքման ծառայություններ | C31: ՄԱ | D31: դրամ | G31: =+'Հավելված 2'!G83 -> 7161
A32: 1080 11013 | B32: ՀՀ Կոտայքի մարզի առաջին ատյանի ընդհանուր իրավասության դատարանի բնականոն գործունեության և ՀՀ Կոտայքի մարզի ընդհանուր իրավասության դատարանի կողմից դատական պաշտպանության իրավունքի ապահովում | G32: =+G33 -> 22181
B33: ՄԱՍ III. ԾԱՌԱՅՈՒԹՅՈՒՆՆԵՐ | G33: =+G34 -> 22181
A34: 79571100-1 | B34: փոստային առաքման ծառայություններ | C34: ՄԱ | D34: դրամ | G34: =+'Հավելված 2'!G92 -> 22181
A35: 1080 11014 | B35: ՀՀ Շիրակի մարզի առաջին ատյանի ընդհանուր իրավասության դատարանի բնականոն գործունեության և ՀՀ Շիրակի մարզի ընդհանուր իրավասության դատարանի կողմից դատական պաշտպանության իրավունքի ապահովում | G35: =+G36 -> 592
B36: ՄԱՍ III. ԾԱՌԱՅՈՒԹՅՈՒՆՆԵՐ | G36: =+G37 -> 592
A37: 79571100-1 | B37: փոստային առաքման ծառայություններ | C37: ՄԱ | D37: դրամ | G37: =+'Հավելված 2'!G101 -> 592
A38: 1080 11015 | B38: ՀՀ Սյունիքի մարզի առաջին ատյանի ընդհանուր իրավասության դատարանի բնականոն գործունեության և ՀՀ Սյունիքի մարզի ընդհանուր իրավասության դատարանի կողմից դատական պաշտպանության իրավունքի ապահովում | G38: =+G39 -> 6191
B39: ՄԱՍ III. ԾԱՌԱՅՈՒԹՅՈՒՆՆԵՐ | G39: =+G40 -> 6191
A40: 79571100-1 | B40: փոստային առաքման ծառայություններ | C40: ՄԱ | D40: դրամ | G40: =+'Հավելված 2'!G110 -> 6191
A41: 1080 11016 | B41: ՀՀ Տավուշի մարզի առաջին ատյանի ընդհանուր իրավասության դատարանի բնականոն գործունեության և ՀՀ Տավուշի մարզի ընդհանուր իրավասության դատարանի կողմից դատական պաշտպանության իրավունքի ապահովում | G41: =+G42 -> 11095
B42: ՄԱՍ III. ԾԱՌԱՅՈՒԹՅՈՒՆՆԵՐ | G42: =+G43 -> 11095
A43: 79571100-1 | B43: փոստային առաքման ծառայություններ | C43: ՄԱ | D43: դրամ | G43: =+'Հավելված 2'!G119 -> 11095
A44: 1080 11017 | B44: ՀՀ Սնանկության դատարանի բնականոն գործունեության և ՀՀ Սնանկության դատարանի կողմից դատական պաշտպանության իրավունքի ապահովում | G44: =+G45 -> 20246
B45: ՄԱՍ III. ԾԱՌԱՅՈՒԹՅՈՒՆՆԵՐ | G45: =+G46 -> 20246
A46: 79571100-1 | B46: փոստային առաքման ծառայություններ | C46: ՄԱ | D46: դրամ | G46: =+'Հավելված 2'!G128 -> 20246
A47: 1080 11019 | B47: Հակակոռուպցիոն դատարանի բնականոն գործունեության և Հակակոռուպցիոն դատարանի կողմից դատական պաշտպանության իրավուքի ապահովում | G47: =+G48 -> 20742
B48: ՄԱՍ III. ԾԱՌԱՅՈՒԹՅՈՒՆՆԵՐ | G48: =+G49 -> 20742
A49: 79571100-1 | B49: փոստային առաքման ծառայություններ | C49: ՄԱ | D49: դրամ | G49: =+'Հավելված 2'!G137 -> 20742
A50: 1080 11022 | B50: Երևան քաղաքի առաջին ատյանի ընդհանուր իրավասության քաղաքացիական դատարանի բնականոն գործունեության և Երևան քաղաքի առաջին ատյանի ընդհանուր իրավասության քաղաքացիական դատարանի կողմից դատական պաշտպանության իրավունքի ապահովում | G50: =+G51 -> 45263
B51: ՄԱՍ III. ԾԱՌԱՅՈՒԹՅՈՒՆՆԵՐ | G51: =+G52 -> 45263
A52: 79571100-1 | B52: փոստային առաքման ծառայություններ | C52: ՄԱ | D52: դրամ | G52: =+'Հավելված 2'!G146 -> 45263
A53: 1080 11023 | B53: Երևան քաղաքի առաջին ատյանի ընդհանուր իրավասության քրեական դատարանի բնականոն գործունեության և Երևան քաղաքի առաջին ատյանի ընդհանուր իրավասության քրեական դատարանի կողմից դատական պաշտպանության իրավունքի ապահովում | G53: =+G54 -> 36425
B54: ՄԱՍ III. ԾԱՌԱՅՈՒԹՅՈՒՆՆԵՐ | G54: =+G55 -> 36425
A55: 79571100-1 | B55: փոստային առաքման ծառայություններ | C55: ՄԱ | D55: դրամ | G55: =+'Հավելված 2'!G155 -> 36425
