Workbook
Name a: #REF!
Name a: #REF!
Name a: #REF!
Name AgencyCode: #REF!
Name AgencyCode: #REF!
Name AgencyCode: #REF!
Name AgencyCode: #REF!
Name AgencyCode: #REF!
Name AgencyName: #REF!
Name AgencyName: #REF!
Name AgencyName: #REF!
Name åû: #REF!
Name BOP: #REF!
Name BOP: #REF!
Name BOP: #REF!
Name BOP: #REF!
Name BOPfoot: #REF!
Name BOPfoot: #REF!
Name BOPfoot: #REF!
Name BOPfoot: #REF!
Name davit: #REF!
Name davit: #REF!
Name DebtCG: #REF!
Name DebtCG: #REF!
Name DebtCG: #REF!
Name DebtCG: #REF!
Name DebtGG: #REF!
Name DebtGG: #REF!
Name DebtGG: #REF!
Name DebtGG: #REF!
Name Functional1: #REF!
Name Functional1: #REF!
Name Functional1: #REF!
Name ggg: #REF!
Name ggg: #REF!
Name hav: #REF!
Name hav: #REF!
Name hav: #REF!
Name hav: #REF!
Name mas: #REF!
Name mass: #REF!
Name MonExo: #REF!
Name MonExo: #REF!
Name MonExo: #REF!
Name MonExo: #REF!
Name MonGrow: #REF!
Name MonGrow: #REF!
Name MonGrow: #REF!
Name MonGrow: #REF!
Name PANature: #REF!
Name PANature: #REF!
Name PANature: #REF!
Name PAType: #REF!
Name PAType: #REF!
Name PAType: #REF!
Name Performance2: #REF!
Name Performance2: #REF!
Name Performance2: #REF!
Name PerformanceType: #REF!
Name PerformanceType: #REF!

Sheet Հավելված N 1
F1: Հավելված N 1
F2: ՀՀ կառավարության 2026 թվականի
F3: ______________ ի ___Ն որոշման
A6: «ՀԱՅԱUՏԱՆԻ ՀԱՆՐԱՊԵՏՈՒԹՅԱՆ 2026 ԹՎԱԿԱՆԻ ՊԵՏԱԿԱՆ ԲՅՈՒՋԵԻ ՄԱUԻՆ» ՀԱՅԱUՏԱՆԻ ՀԱՆՐԱՊԵՏՈՒԹՅԱՆ OՐԵՆՔԻ N 1 ՀԱՎԵԼՎԱԾԻ N 2 ԱՂՅՈՒՍԱԿՈՒՄ ԿԱՏԱՐՎՈՂ ՎԵՐԱԲԱՇԽՈՒՄԸ ԵՎ ՀԱՅԱՍՏԱՆԻ ՀԱՆՐԱՊԵՏՈՒԹՅԱՆ ԿԱՌԱՎԱՐՈՒԹՅԱՆ 2025 ԹՎԱԿԱՆԻ ԴԵԿՏԵՄԲԵՐԻ 25-Ի N 1910-Ն ՈՐՈՇՄԱՆ N 5 ՀԱՎԵԼՎԱԾԻ N 1 ԱՂՅՈՒՍԱԿՈՒՄ ԿԱՏԱՐՎՈՂ ՓՈՓՈԽՈՒԹՅՈՒՆՆԵՐԸ ԵՎ ԼՐԱՑՈՒՄՆԵՐԸ
G9: հազ. դրամներով
A10: ԲԳԿ | B10: Ծրագրային դասիչը | D10: ԲԳԿ/Ծրագրի /միջոցառման անվանումը | E10: Ծրագրի նպատակը/Միջոցառման նկարագրությունը | F10: Վերջնական արդյունքի նկարագրությունը/Միջոցառման տեսակը | G10: Ցուցանիշների փոփոխությունը (ավելացումները նշված են դրական նշանով, իսկ նվազեցումները փակագծերում)
G11: Տարի
B12: Ծրագիր | C12: Միջոցառում
A13: ԸՆԴԱՄԵՆԸ | G13: =+G15+G26+G30 -> 0
A14: այդ թվում՝
A15: ՀՀ ԿՐԹՈՒԹՅԱՆ, ԳԻՏՈՒԹՅԱՆ, ՄՇԱԿՈՒՅԹԻ ԵՎ ՍՊՈՐՏԻ ՆԱԽԱՐԱՐՈՒԹՅՈՒՆ | G15: =G16+G18 -> 10060000
B16: 1189 | D16: Դպրոցների սեյսմիկ անվտանգության մակարդակի բարձրացման ծրագիր | E16: Նպաստել երկրի սեյսմակայունության ապահովմանը, անհատական և հասարակական անվտանգության մակարդակի բարձրացմանը | F16: Դպրոցական շենքերի սեյսմակայունության մակարդակի բարձրացում | G16: =SUM(G17:G17) -> 500000
C17: 1189 - 12003 | D17: Ասիական զարգացման բանկի աջակցությամբ իրականացվող դպրոցների սեյսմիկ պաշտպանության ծրագրի լրացուցիչ ֆինանսավորման շրջանակներում ՀՀ դպրոցների սեյսմիկ անվտանգության բարելավմանն ուղղված միջոցառումներ | E17: Դպրոցների սեյսմիկ պաշտպանության լրացուցիչ ֆինանսավորման ծրագիր, դպրոցների շենքերի կառուցման, ամրացման շինարարական աշխատանքներ, շինարարական ստանդարտների արդիականացում, արտակարգ իրավիճակներին արձագանքման ծրագրի մշակում | F17: Տրանսֆերտների տրամադրում | G17: =+'Հավելված N 2'!G111 -> 500000
B18: 1236 | D18: Հանրակրթական և նախադպրոցական հաստատությունների հիմնում, կառուցում, բարելավում | E18: Առնվազն 300 դպրոցի և 500 մանկապարտեզի կառուցման, վերակառուցման, հիմնանորոգման ծրագրերի իրականացում ՀՀ պետական բյուջեի միջոցների շրջանակներում | F18: Կրթական միջավայրի բարելավում | G18: =SUM(G19:G24) -> 9560000
C19: 1236 - 32001 | D19: Մանկապարտեզների նոր շենքերի կառուցում | E19: Նախադպրոցական կրթության հասանելիության ապահովման նպատակով՛ մանկապարտեզների հիմնում, նոր շենքերի (մասնաշենքերի), ներառյալ՛ ,Մոդուլայինե տիպի շենքերի կառուցում և նախագծում | F19: Այլ պետական կազմակերպությունների կողմից օգտագործվող ոչ ֆինանսական ակտիվների հետ գործառնություններ | G19: =+'Հավելված N 2'!G23 -> 500000
C20: 1236 - 32002 | D20: Մանկապարտեզների շենքերի վերակառուցում, հիմնանորոգում | E20: Նախադպրոցական կրթության հասանելիության ապահովման նպատակով՛ մանկապարտեզների շենքերի (մասնաշենքերի), վերակառուցում, հիմնանորոգում և նախագծում | F20: Այլ պետական կազմակերպությունների կողմից օգտագործվող ոչ ֆինանսական ակտիվների հետ գործառնություններ | G20: =+'Հավելված N 2'!G32 -> 315000
C21: 1236 - 32003 | D21: Հանրակրթական դպրոցների նոր շենքերի կառուցում | E21: ՀՀ մարզերում կրթական որակյալ ծառայությունների հասանելիության ապահովման ծրագրի շրջանակներում հանրակրթական և նախադպրոցական կրթության հասանելիության ապահովման նպատակով կրթական կենտրոնների կառուցում | F21: Այլ պետական կազմակերպությունների կողմից օգտագործվող ոչ ֆինանսական ակտիվների հետ գործառնություններ | G21: =+'Հավելված N 2'!G49 -> 4736038.3
C22: 1236 - 32004 | D22: Հանրակրթական դպրոցների շենքերի վերակառուցում, հիմնանորոգում | E22: Դպրոցական պարտադիր կրթության հասանելիության ապահովման նպատակով՛ հանրակրթական դպրոցների շենքերի (մասնաշենքերի), վերակառուցում, հիմնանորոգում և նախագծում | F22: Այլ պետական կազմակերպությունների կողմից օգտագործվող ոչ ֆինանսական ակտիվների հետ գործառնություններ | G22: =+'Հավելված N 2'!G58 -> -220758.3
C23: 1236 - 32005 | D23: Կրթահամալիրների կառուցում | E23: ՀՀ մարզերում կրթական որակյալ ծառայությունների հասանելիության ապահովման ծրագրի շրջանակներում հանրակրթական և նախադպրոցական կրթության հասանելիության ապահովման նպատակով կրթական կենտրոնների կառուցում | F23: Այլ պետական կազմակերպությունների կողմից օգտագործվող ոչ ֆինանսական ակտիվների հետ գործառնություններ | G23: =+'Հավելված N 2'!G76 -> 2729720
C24: 1236 - 32006 | D24: Հանրակրթական դպրոցների, մանկապարտեզների և կրթահամալիրների գույքով և տեխնիկայով ապահովում | E24: Կրթական ժամանակակից նորմերին և կրթական չափորոշիչներին համապատասխան ուսուցման ծրագրերն իրականացնելու նպատակով հանրակրթական և նախադպրոցական հաստատությունների համար գույքի և տեխնիկայի ձեռքբերում | F24: Այլ պետական կազմակերպությունների կողմից օգտագործվող ոչ ֆինանսական ակտիվների հետ գործառնություններ | G24: =+'Հավելված N 2'!G94 -> 1500000
A26: ՀՀ ՖԻՆԱՆՍՆԵՐԻ ՆԱԽԱՐԱՐՈՒԹՅՈՒՆ | G26: =+G27 -> -5000000
B27: 1006 | D27: Պետական պարտքի կառավարում | E27: Կառավարության ֆինանսական կարիքների բավարարման մշտական հնարավորության ապահովումը` երկարաժամկետ հատվածում նվազեցնելով պարտքի սպասարկման մեծությունը | F27: Կառավարության պարտքի օպտիմալ կառուցվածքի ձևավորում՛ հաշվի առնելով պոտենցիալ ռիսկերը | G27: =SUM(G28) -> -5000000
C28: 1006 - 13001 | D28: Կառավարության պարտքի սպասարկում | E28: Կառավարության պարտքի սպասարկում (տոկոսավճարներ) | F28: Ֆինանսավորման ծախսերի իրականացում | G28: =+'Հավելված N 2'!G132 -> -5000000
A30: ՀՀ ԲԱՐՁՐ ՏԵԽՆՈԼՈԳԻԱԿԱՆ ԱՐԴՅՈՒՆԱԲԵՐՈՒԹՅԱՆ ՆԱԽԱՐԱՐՈՒԹՅՈՒՆ | G30: =+G31+G33 -> -5060000
B31: 1043 | D31: Բարձր տեխնոլոգիական արդյունաբերության էկոհամակարգի և շուկայի զարգացման ծրագիր | E31: Բարձր տեխնոլոգիաների ենթակառուցվածքների բարելավում | F31: Բարձր տեխնոլոգիաների ոլորտի աճ | G31: =SUM(G32) -> -2290000
C32: 1043 - 11018 | D32: Պետական աջակցություն տեղեկատվական տեխնոլոգիաների ոլորտում գործունեություն իրականացնող առևտրային կազմակերպություններին և անհատ ձեռնարկատերերին | E32: Տեղեկատվական տեխնոլոգիաների ոլորտում գործունեություն իրականացնող առևտրային կազմակերպություններին և անհատ ձեռնարկատերերին պետական աջակցության տրամադրում | F32: Ծառայությունների մատուցում | G32: =+'Հավելված N 2'!G153 -> -2290000
B33: 1220 | D33: Ռազմարդյունաբերության համալիրի զարգացում | E33: Նոր արտադրությունների հիմնում, ներկրման և արտադրության մեխանիզմի ստեղծում | F33: Ռազմարդյունաբերության համալիրի զարգացում | G33: =SUM(G34:G35) -> -2770000
C34: 1220 - 11001 | D34: Ռազմական նշանակության հատուկ գիտահետազոտական և փորձակոնստրուկտորական աշխատանքներ | E34: ՀՀ պաշտպանության և անվտանգության համակարգերի ապահովման և նոր նմուշների ստեղծման նպատակով գիտահետազոտական և փորձակոնստրուկտորական աշխատանքների իրականացում | F34: Ծառայությունների մատուցում | G34: =+'Հավելված N 2'!G172 -> -1600000
C35: 1220 - 11003 | D35: Փորձանմուշների արտադրություն | E35: Զորային և պետական փորձարկումների համար նախատեսված ռազմարդյունաբերական փորձանմուշների համար անհրաժեշտ հումքի, նյութերի, բաղկացուցիչների արտադրության կազմակերպում | F35: Ծառայությունների մատուցում | G35: =+'Հավելված N 2'!G180 -> -1170000

Sheet Հավելված N 2
F1: Հավելված N 2
F2: ՀՀ կառավարության 2026 թվականի
F3: ______________ ի ___Ն որոշման
A5: ՀԱՅԱՍՏԱՆԻ ՀԱՆՐԱՊԵՏՈՒԹՅԱՆ ԿԱՌԱՎԱՐՈՒԹՅԱՆ 2025 ԹՎԱԿԱՆԻ ԴԵԿՏԵՄԲԵՐԻ 29-Ի N1910-Ն ՈՐՈՇՄԱՆ N 3 ԵՎ N 4 ՀԱՎԵԼՎԱԾՆԵՐՈՒՄ ԿԱՏԱՐՎՈՂ ՓՈՓՈԽՈՒԹՅՈՒՆՆԵՐԸ ԵՎ ԼՐԱՑՈՒՄՆԵՐԸ
G7: հազ. դրամներով
A8: Գործառական դասիչը | D8: Ծրագրային դասիչը | F8: Բյուջետային հատկացումների գլխավոր կարգադրիչների, ծրագրերի, միջոցառումների և միջոցառումները կատարող պետական մարմինների անվանումները | G8: Ցուցանիշների փոփոխությունը (ավելացումները նշված են դրական նշանով, իսկ նվազեցումները փակագծերում)
A9: Բաժին | B9: Խումբ | C9: Դաս | D9: Ծրագիր | E9: Միջոցառում | G9: Տարի
F10: ԸՆԴԱՄԵՆԸ | G10: =+G12+G121+G142 -> 0
F11: այդ թվում
F12: ՀՀ ԿՐԹՈՒԹՅԱՆ, ԳԻՏՈՒԹՅԱՆ, ՄՇԱԿՈՒՅԹԻ ԵՎ ՍՊՈՐՏԻ ՆԱԽԱՐԱՐՈՒԹՅՈՒՆ | G12: =+G13 -> 10060000
A13: 09 | F13: ԿՐԹՈՒԹՅՈՒՆ | G13: =+G15+G41+G103 -> 10060000
F14: այդ թվում`
B15: 01 | F15: Նախադպրոցական և տարրական ընդհանուր կրթություն | G15: =+G17 -> 815000
F16: այդ թվում`
C17: 01 | F17: Նախադպրոցական կրթություն | G17: =+G19 -> 815000
F18: այդ թվում`
F19: ՀՀ կրթության, գիտության, մշակույթի և սպորտի նախարարություն | G19: =+G21 -> 815000
F20: այդ թվում`
D21: 1236 | E21: Հանրակրթական և նախադպրոցական հաստատությունների հիմնում, կառուցում, բարելավում | G21: =+G23+G32 -> 815000
F22: այդ թվում`
E23: 32001 | F23: Մանկապարտեզների նոր շենքերի կառուցում | G23: =+G25 -> 500000
F24: այդ թվում` ըստ կատարողների
F25: ՀՀ քաղաքաշինության կոմիտե | G25: =+G27 -> 500000
F26: այդ թվում` բյուջետային ծախսերի տնտեսագիտական դասակարգման հոդվածներ
F27: ԸՆԴԱՄԵՆԸ ԾԱԽՍԵՐ | G27: =G28 -> 500000
F28: ՈՉ ՖԻՆԱՆՍԱԿԱՆ ԱԿՏԻՎՆԵՐԻ ԳԾՈՎ ԾԱԽՍԵՐ | G28: =+G29 -> 500000
F29: ՀԻՄՆԱԿԱՆ ՄԻՋՈՑՆԵՐ | G29: =+G30 -> 500000
F30: ՇԵՆՔԵՐ ԵՎ ՇԻՆՈՒԹՅՈՒՆՆԵՐ | G30: =+G31 -> 500000
F31: - Շենքերի և շինությունների շինարարություն | G31: =+'Հավելված N 4'!E14 -> 500000
E32: 32002 | F32: Մանկապարտեզների շենքերի վերակառուցում, հիմնանորոգում | G32: =+G34 -> 315000
F33: այդ թվում` ըստ կատարողների
F34: ՀՀ կրթության, գիտության, մշակույթի և սպորտի նախարարություն | G34: =+G36 -> 315000
F35: այդ թվում` բյուջետային ծախսերի տնտեսագիտական դասակարգման հոդվածներ
F36: ԸՆԴԱՄԵՆԸ ԾԱԽՍԵՐ | G36: =G37 -> 315000
F37: ՈՉ ՖԻՆԱՆՍԱԿԱՆ ԱԿՏԻՎՆԵՐԻ ԳԾՈՎ ԾԱԽՍԵՐ | G37: =+G38 -> 315000
F38: ՀԻՄՆԱԿԱՆ ՄԻՋՈՑՆԵՐ | G38: =+G39 -> 315000
F39: ՇԵՆՔԵՐ ԵՎ ՇԻՆՈՒԹՅՈՒՆՆԵՐ | G39: =+G40 -> 315000
F40: - Շենքերի և շինությունների կապիտալ վերանորոգում | G40: =+'Հավելված N 4'!E19 -> 315000
B41: 02 | F41: Միջնակարգ ընդհանուր կրթություն | G41: =+G43 -> 8745000
F42: այդ թվում`
...

Sheet Հավելված N 3
F1: Հավելված N 3
F2: ՀՀ կառավարության 2026 թվականի
F3: ______________ ի ___Ն որոշման
A5: «ՀԱՅԱUՏԱՆԻ ՀԱՆՐԱՊԵՏՈՒԹՅԱՆ 2026 ԹՎԱԿԱՆԻ ՊԵՏԱԿԱՆ ԲՅՈՒՋԵԻ ՄԱUԻՆ» ՀԱՅԱUՏԱՆԻ ՀԱՆՐԱՊԵՏՈՒԹՅԱՆ OՐԵՆՔԻ N 1 ՀԱՎԵԼՎԱԾԻ N 3 ԱՂՅՈՒՍԱԿՈՒՄ ԿԱՏԱՐՎՈՂ ՓՈՓՈԽՈՒԹՅՈՒՆԸ ԵՎ ԼՐԱՑՈՒՄՆԵՐԸ
G8: հազ. դրամներով
A9: Ծրագրային դասիչ | C9: Բյուջետային գլխավոր կարգադրիչների, ծրագրերի, միջոցառումների, միջոցառումները կատարող պետական մարմինների և ուղղությունների անվանումները | D9: Ընդամենը | E9: Ցուցանիշների փոփոխությունը (ավելացումները նշված են դրական նշանով, իսկ նվազեցումները՝ փակագծերում)
A10: Ծրագիր | B10: Միջոցառում | E10: Կառուցման աշխատանքներ | F10: Վերակառուցման, վերանորոգման և վերականգնման աշխատանքներ | G10: Նախագծահե- տազոտական, գեոդեզիա- քարտեզագրա- կան աշխա- տանքներ | H10: Ոչ ֆինանսական այլ ակտիվների ձեռքբերում
C11: ԸՆԴԱՄԵՆԸ | D11: =SUM(E11:H11) -> 9560000 | E11: =+E13 -> 7936038.3 | F11: =+F13 -> 79241.7 | G11: =+G13 -> 44720 | H11: =+H13 -> 1500000
C12: այդ թվում՝
C13: ՀՀ ԿՐԹՈՒԹՅԱՆ, ԳԻՏՈՒԹՅԱՆ, ՄՇԱԿՈՒՅԹԻ ԵՎ ՍՊՈՐՏԻ ՆԱԽԱՐԱՐՈՒԹՅՈՒՆ | D13: =SUM(E13:H13) -> 9560000 | E13: =+E15+E18+E21+E24+E28+E32 -> 7936038.3 | F13: =+F15+F18+F21+F24+F28+F32 -> 79241.7 | G13: =+G15+G18+G21+G24+G28+G32 -> 44720 | H13: =+H15+H18+H21+H24+H28+H32 -> 1500000
C14: այդ թվում`
A15: 1236 | B15: 32001 | C15: Մանկապարտեզների նոր շենքերի կառուցում | D15: =SUM(E15:H15) -> 500000 | E15: =+E17 -> 500000 | F15: =+F17 -> 0 | G15: =+G17 -> 0 | H15: =+H17 -> 0
C16: այդ թվում`
C17: Մանկապարտեզների նոր շենքերի կառուցում | D17: =SUM(E17:H17) -> 500000 | E17: 500000 | F17: 0 | G17: 0 | H17: 0
A18: 1236 | B18: 32002 | C18: Մանկապարտեզների շենքերի վերակառուցում, հիմնանորոգում | D18: =SUM(E18:H18) -> 315000 | E18: =+E20 -> 0 | F18: =+F20 -> 315000 | G18: =+G20 -> 0 | H18: =+H20 -> 0
C19: այդ թվում`
C20: Մանկապարտեզների շենքերի վերակառուցում, հիմնանորոգում | D20: =SUM(E20:H20) -> 315000 | E20: 0 | F20: 315000 | G20: 0 | H20: 0
A21: 1236 | B21: 32003 | C21: Հանրակրթական դպրոցների նոր շենքերի կառուցում | D21: =SUM(E21:H21) -> 4736038.3 | E21: =+E23 -> 4736038.3 | F21: =+F23 -> 0 | G21: =+G23 -> 0 | H21: =+H23 -> 0
C22: այդ թվում`
C23: Հանրակրթական դպրոցների նոր շենքերի կառուցում | D23: =SUM(E23:H23) -> 4736038.3 | E23: =4800000+200000-263961.7 -> 4736038.3 | F23: 0 | G23: 0 | H23: 0
A24: 1236 | B24: 32004 | C24: Հանրակրթական դպրոցների շենքերի վերակառուցում, հիմնանորոգում | D24: =SUM(E24:H24) -> -220758.3 | E24: =+E26+E27 -> 0 | F24: =+F26+F27 -> -235758.3 | G24: =+G26+G27 -> 15000 | H24: =+H26+H27 -> 0
C25: այդ թվում`
C26: Հանրակրթական դպրոցների շենքերի վերակառուցում, հիմնանորոգում | D26: =SUM(E26:H26) -> -235758.3 | E26: 0 | F26: =-520758.3+(300000-15000) -> -235758.3 | G26: 0 | H26: 0
C27: Հանրակրթական դպրոցների շենքերի վերակառուցման, հիմնանորոգման նախագծանախահաշվային փաստաթղթերի կազմում և փորձաքննություն | D27: =SUM(E27:H27) -> 15000 | E27: 0 | F27: 0 | G27: 15000 | H27: 0
A28: 1236 | B28: 32005 | C28: Կրթահամալիրների կառուցում | D28: =SUM(E28:H28) -> 2729720 | E28: =+E30+E31 -> 2700000 | F28: =+F30+F31 -> 0 | G28: =+G30+G31 -> 29720 | H28: =+H30+H31 -> 0
C29: այդ թվում`
C30: Կրթահամալիրների կառուցում | D30: =SUM(E30:H30) -> 2700000 | E30: =700000+2000000 -> 2700000 | F30: =-D35 -> 0 | G30: 0 | H30: 0
C31: ՀՀ մարզերում կրթական որակյալ ծառայությունների հասանելիության ապահովման ծրագրի շրջանակներում կրթահամալիրների կառուցման նախագծանախահաշվային փաստաթղթերի կազմում և փորձաքննություն | D31: =SUM(E31:H31) -> 29720 | E31: 0 | F31: =-D36 -> 0 | G31: 29720 | H31: 0
A32: 1236 | B32: 32006 | C32: Հանրակրթական դպրոցների, մանկապարտեզների և կրթահամալիրների գույքով և տեխնիկայով ապահովում | D32: =SUM(E32:H32) -> 1500000 | E32: =+E34 -> 0 | F32: =+F34 -> 0 | G32: =+G34 -> 0 | H32: =+H34 -> 1500000
C33: այդ թվում`
C34: Հանրակրթական դպրոցների, մանկապարտեզների և կրթահամալիրների գույքով և տեխնիկայով ապահովում | D34: =SUM(E34:H34) -> 1500000 | E34: 0 | F34: 0 | G34: 0 | H34: 1500000

Sheet Հավելված N 4
D1: Հավելված N 4
D2: ՀՀ կառավարության 2026 թվականի
D3: ______________ ի ___Ն որոշման
B5: ՀԱՅԱՍՏԱՆԻ ՀԱՆՐԱՊԵՏՈՒԹՅԱՆ ԿԱՌԱՎԱՐՈՒԹՅԱՆ 2025 ԹՎԱԿԱՆԻ ԴԵԿՏԵՄԲԵՐԻ 25-Ի N 1910-Ն ՈՐՈՇՄԱՆ N 5 ՀԱՎԵԼՎԱԾԻ N 2 ԱՂՅՈՒՍԱԿՈՒՄ ԿԱՏԱՐՎՈՂ ՓՈՓՈԽՈՒԹՅՈՒՆԸ ԵՎ ԼՐԱՑՈՒՄՆԵՐԸ
E7: հազ. դրամներով
B8: Ծրագրային դասիչ | D8: Բյուջետային գլխավոր կարգադրիչների, ծրագրերի, միջոցառումների, միջոցառումները կատարող պետական մարմինների և ուղղությունների անվանումները | E8: Ցուցանիշների փոփոխությունը (ավելացումները նշված են դրական նշանով, իսկ նվազեցումները՝ փակագծերում)
B9: Ծրագիր | C9: Միջոցառում | E9: Տարի
D10: ՀՀ ԿՐԹՈՒԹՅԱՆ, ԳԻՏՈՒԹՅԱՆ, ՄՇԱԿՈՒՅԹԻ ԵՎ ՍՊՈՐՏԻ ՆԱԽԱՐԱՐՈՒԹՅՈՒՆ | E10: =+E12+E17+E22+E27+E36+E45 -> 9560000
D11: այդ թվում՝
B12: 1236 | C12: 32001 | D12: Մանկապարտեզների նոր շենքերի կառուցում | E12: =+E14 -> 500000
D13: այդ թվում` ըստ կատարողների
D14: ՀՀ քաղաքաշինության կոմիտե | E14: =+E16 -> 500000
D15: այդ թվում՝ ըստ ուղղությունների
D16: Մանկապարտեզների նոր շենքերի կառուցում | E16: =+'Հավելված N 3'!D17 -> 500000
B17: 1236 | C17: 32002 | D17: Մանկապարտեզների շենքերի վերակառուցում, հիմնանորոգում | E17: =+E19 -> 315000
D18: այդ թվում` ըստ կատարողների
D19: ՀՀ կրթության, գիտության, մշակույթի և սպորտի նախարարություն | E19: =+E21 -> 315000
D20: այդ թվում՝ ըստ ուղղությունների
D21: Մանկապարտեզների շենքերի վերակառուցում, հիմնանորոգում | E21: =+'Հավելված N 3'!D20 -> 315000
B22: 1236 | C22: 32003 | D22: Հանրակրթական դպրոցների նոր շենքերի կառուցում | E22: =+E24 -> 4736038.3
D23: այդ թվում` ըստ կատարողների
D24: ՀՀ կրթության, գիտության, մշակույթի և սպորտի նախարարություն | E24: =+E26 -> 4736038.3
D25: այդ թվում՝ ըստ ուղղությունների
D26: Հանրակրթական դպրոցների նոր շենքերի կառուցում | E26: =+'Հավելված N 3'!D23 -> 4736038.3
B27: 1236 | C27: 32004 | D27: Հանրակրթական դպրոցների շենքերի վերակառուցում, հիմնանորոգում | E27: =+E29+E33 -> -220758.3
D28: այդ թվում` ըստ կատարողների
D29: ՀՀ կրթության, գիտության, մշակույթի և սպորտի նախարարություն | E29: =+E31+E32 -> 300000
D30: այդ թվում՝ ըստ ուղղությունների
D31: Հանրակրթական դպրոցների շենքերի վերակառուցում, հիմնանորոգում | E31: =300000-15000 -> 285000
D32: Հանրակրթական դպրոցների շենքերի վերակառուցման, հիմնանորոգման նախագծանախահաշվային փաստաթղթերի կազմում և փորձաքննություն | E32: 15000
D33: ՀՀ քաղաքաշինության կոմիտե | E33: =+E35 -> -520758.3
D34: այդ թվում՝ ըստ ուղղությունների
D35: Հանրակրթական դպրոցների շենքերի վերակառուցում, հիմնանորոգում | E35: -520758.3
B36: 1236 | C36: 32005 | D36: Կրթահամալիրների կառուցում | E36: =+E38+E42 -> 2729720
D37: այդ թվում` ըստ կատարողների
D38: ՀՀ կրթության, գիտության, մշակույթի և սպորտի նախարարություն | E38: =SUM(E40:E41) -> 2029720
D39: այդ թվում՝ ըստ ուղղությունների
D40: Կրթահամալիրների կառուցում | E40: =2000000 -> 2000000
D41: ՀՀ մարզերում կրթական որակյալ ծառայությունների հասանելիության ապահովման ծրագրի շրջանակներում կրթահամալիրների կառուցման նախագծանախահաշվային փաստաթղթերի կազմում և փորձաքննություն | E41: =+'Հավելված N 3'!D31 -> 29720
D42: ՀՀ քաղաքաշինության կոմիտե | E42: =+E44 -> 700000
...

Sheet Հավելված N 5
D1: Հավելված N 5
D2: ՀՀ կառավարության 2026 թվականի
D3: ______________ ի ___Ն որոշման
A6: «ՀԱՅԱՍՏԱՆԻ ՀԱՆՐԱՊԵՏՈՒԹՅԱՆ 2026 ԹՎԱԿԱՆԻ ՊԵՏԱԿԱՆ ԲՅՈՒՋԵԻ ՄԱՍԻՆ» ՕՐԵՆՔԻ N 1 ՀԱՎԵԼՎԱԾԻ N 4 ԱՂՅՈՒՍԱԿՈՒՄ ԵՎ ՀԱՅԱՍՏԱՆԻ ՀԱՆՐԱՊԵՏՈՒԹՅԱՆ ԿԱՌԱՎԱՐՈՒԹՅԱՆ 2025 ԹՎԱԿԱՆԻ ԴԵԿՏԵՄԲԵՐԻ 25-Ի N 1910-Ն ՈՐՈՇՄԱՆ N 5 ՀԱՎԵԼՎԱԾԻ N 3 ԱՂՅՈՒՍԱԿՈՒՄ ԿԱՏԱՐՎՈՂ ԼՐԱՑՈՒՄԸ
F8: հազ. դրամներով
A9: Ծրագրային դասիչը | C9: Բյուջետային հատկացումների գլխավոր կարգադրիչների, ծրագրերի, միջոցառումների և միջոցառումները կատարող պետական մարմինների անվանումները | D9: Ցուցանիշների փոփոխությունը (ավելացումները նշված են դրական նշանով)
D10: Տարի
D11: Ընդամենը | E11: այդ թվում`
A12: Ծրագիր | B12: Միջոցառում | E12: Վարկային միջոցներ | F12: Համաֆինան սավորում
C13: ԸՆԴԱՄԵՆԸ | D13: =+E13+F13 -> 500000 | E13: =+E15 -> 0 | F13: =+F15 -> 500000
C14: այդ թվում`
C15: ՈՉ ՖԻՆԱՆՍԱԿԱՆ ԱԿՏԻՎՆԵՐԻ ԳԾՈՎ ԾԱԽՍԵՐ | D15: =+E15+F15 -> 500000 | E15: =+E16 -> 0 | F15: =+F16 -> 500000
C16: ՀՀ կրթության, գիտության, մշակույթի և սպորտի նախարարություն | D16: =+E16+F16 -> 500000 | E16: =+E18 -> 0 | F16: =+F18 -> 500000
C17: այդ թվում`
A18: 1189 | C18: Դպրոցների սեյսմիկ անվտանգության մակարդակի բարձրացման ծրագիր | D18: =+E18+F18 -> 500000 | E18: =+E20 -> 0 | F18: =+F20 -> 500000
C19: այդ թվում`
B20: 12003 | C20: Ասիական զարգացման բանկի աջակցությամբ իրականացվող դպրոցների սեյսմիկ պաշտպանության ծրագրի լրացուցիչ ֆինանսավորման շրջանակներում ՀՀ դպրոցների սեյսմիկ անվտանգության բարելավմանն ուղղված միջոցառումներ | D20: =+E20+F20 -> 500000 | E20: =+E22 -> 0 | F20: =+F22 -> 500000
C21: այդ թվում` ըստ կատարողների
C22: ՀՀ տարածքային կառավարման և ենթակառուցվածքների նախարարություն | D22: =+E22+F22 -> 500000 | E22: =+E24 -> 0 | F22: =+F24 -> 500000
C23: այդ թվում` բյուջետային ծախսերի տնտեսագիտական դասակարգման հոդվածներ
C24: ԸՆԴԱՄԵՆԸ ԾԱԽՍԵՐ | D24: =+E24+F24 -> 500000 | E24: =+E25 -> 0 | F24: =+F25 -> 500000
C25: ՈՉ ՖԻՆԱՆՍԱԿԱՆ ԱԿՏԻՎՆԵՐԻ ԳԾՈՎ ԾԱԽՍԵՐ | D25: =+E25+F25 -> 500000 | E25: =+E26 -> 0 | F25: =+F26 -> 500000
C26: ՀԻՄՆԱԿԱՆ ՄԻՋՈՑՆԵՐ | D26: =+E26+F26 -> 500000 | E26: =+E27 -> 0 | F26: =+F27 -> 500000
C27: ՇԵՆՔԵՐ ԵՎ ՇԻՆՈՒԹՅՈՒՆՆԵՐ | D27: =+E27+F27 -> 500000 | E27: =+E28 -> 0 | F27: =+F28 -> 500000
C28: - Շենքերի և շինությունների շինարարություն | D28: =+E28+F28 -> 500000 | F28: 500000

Sheet Հավելված N 6
I1: Հավելված N 6
I2: ՀՀ կառավարության 2026 թվականի
I3: ______________ ի ___Ն որոշման
A6: ՀԱՅԱՍՏԱՆԻ ՀԱՆՐԱՊԵՏՈՒԹՅԱՆ ԿԱՌԱՎԱՐՈՒԹՅԱՆ 2025 ԹՎԱԿԱՆԻ ԴԵԿՏԵՄԲԵՐԻ 25-Ի N 1910-Ն ՈՐՈՇՄԱՆ N 9 ՀԱՎԵԼՎԱԾՆՈՒՄ ԿԱՏԱՐՎՈՂ ՓՈՓՈԽՈՒԹՅՈՒՆՆԵՐԸ ԵՎ ԼՐԱՑՈՒՄՆԵՐԸ
J8: հազ. դրամներով
A9: ԲԳԿ | B9: Ծրագիր | D9: Միջոցառում | H9: Իրականացնողը/ ակտիվն օգտագործողը/ շահառուի ընտրության չափորոշիչը | I9: Արդյունքային չափորոշիչը | J9: Ցուցանիշների փոփոխությունը (ավելացումները նշված են դրական նշանով, իսկ նվազեցումները՝ փակագծերում)
B10: Դասիչը | C10: Անվանումը | D10: Դասիչը | E10: Անվանումը | F10: Նկարագրությունը | G10: Տեսակը | J10: Տարի
A11: ԸՆԴԱՄԵՆԸ | J11: =+J13+J49+J56 -> 0
A12: այդ թվում՝
A13: ՀՀ ԿՐԹՈՒԹՅԱՆ, ԳԻՏՈՒԹՅԱՆ, ՄՇԱԿՈԻՅԹԻ ԵՎ ՍՊՈՐՏԻ ՆԱԽԱՐԱՐՈՒԹՅՈՒՆ | J13: =J14+J20 -> 10060000
B14: 1189 | C14: Դպրոցների սեյսմիկ անվտանգության մակարդակի բարձրացման ծրագիր | J14: =+J15 -> 500000
D15: 1189 - 12003 | E15: Ասիական զարգացման բանկի աջակցությամբ իրականացվող դպրոցների սեյսմիկ պաշտպանության ծրագրի լրացուցիչ ֆինանսավորման շրջանակներում ՀՀ դպրոցների սեյսմիկ անվտանգության բարելավմանն ուղղված միջոցառումներ | J15: =+'Հավելված N 1'!G17 -> 500000
F16: Դպրոցների սեյսմիկ պաշտպանության լրացուցիչ ֆինանսավորման ծրագիր, դպրոցների շենքերի կառուցման, ամրացման շինարարական աշխատանքներ, շինարարական ստանդարտների արդիականացում, արտակարգ իրավիճակներին արձագանքման ծրագրի մշակում
G17: Տրանսֆերտների տրամադրում
H18: Շահառուների ընտրության չափորոշիչները` Մասնագիտացված կազմակերպություն
B20: 1236 | C20: Հանրակրթական և նախադպրոցական հաստատությունների հիմնում, կառուցում, բարելավում | J20: =+J21+J25+J30+J34+J39+J44 -> 9560000
D21: 1236 - 32001 | E21: Մանկապարտեզների նոր շենքերի կառուցում | J21: =+'Հավելված N 1'!G19 -> 500000
F22: Նախադպրոցական կրթության հասանելիության ապահովման նպատակով՛ մանկապարտեզների հիմնում, նոր շենքերի (մասնաշենքերի), ներառյալ՛ ,Մոդուլայինե տիպի շենքերի կառուցում և նախագծում
G23: Այլ պետական կազմակերպությունների կողմից օգտագործվող ոչ ֆինանսական ակտիվների հետ գործառնություններ
H24: Ակտիվն օգտագործող կազմակերպության անվանումը` Նախադպրոցական կրթություն իրականացնող ուսումնական հաստատություններ
D25: 1236 - 32002 | E25: Մանկապարտեզների շենքերի վերակառուցում, հիմնանորոգում | J25: =+'Հավելված N 1'!G20 -> 315000
F26: Նախադպրոցական կրթության հասանելիության ապահովման նպատակով՛ մանկապարտեզների շենքերի (մասնաշենքերի), վերակառուցում, հիմնանորոգում և նախագծում
G27: Այլ պետական կազմակերպությունների կողմից օգտագործվող ոչ ֆինանսական ակտիվների հետ գործառնություններ
H28: Ակտիվն օգտագործող կազմակերպության անվանումը` Նախադպրոցական կրթություն իրականացնող ուսումնական հաստատություններ
I29: Նախակրթարանների թիվը, որոնց հիմնման համար կատարվում են ներդրումներ, հատ | J29: 12
D30: 1236 - 32003 | E30: Հանրակրթական դպրոցների նոր շենքերի կառուցում | J30: =+'Հավելված N 1'!G21 -> 4736038.3
F31: ՀՀ մարզերում կրթական որակյալ ծառայությունների հասանելիության ապահովման ծրագրի շրջանակներում հանրակրթական և նախադպրոցական կրթության հասանելիության ապահովման նպատակով կրթական կենտրոնների կառուցում
G32: Այլ պետական կազմակերպությունների կողմից օգտագործվող ոչ ֆինանսական ակտիվների հետ գործառնություններ
H33: Ակտիվն օգտագործող կազմակերպության անվանումը` Հանրակրթական դպրոցներ
D34: 1236 - 32004 | E34: Հանրակրթական դպրոցների շենքերի վերակառուցում, հիմնանորոգում | J34: =+'Հավելված N 1'!G22 -> -220758.3
F35: Դպրոցական պարտադիր կրթության հասանելիության ապահովման նպատակով՛ հանրակրթական դպրոցների շենքերի (մասնաշենքերի), վերակառուցում, հիմնանորոգում և նախագծում
G36: Այլ պետական կազմակերպությունների կողմից օգտագործվող ոչ ֆինանսական ակտիվների հետ գործառնություններ
H37: Ակտիվն օգտագործող կազմակերպության անվանումը` Հանրակրթական դպրոցներ
I38: Նախագծանախահաշվային փաստաթղթերի քանակ, հատ | J38: 3
D39: 1236 - 32005 | E39: Կրթահամալիրների կառուցում | J39: =+'Հավելված N 1'!G23 -> 2729720
F40: ՀՀ մարզերում կրթական որակյալ ծառայությունների հասանելիության ապահովման ծրագրի շրջանակներում հանրակրթական և նախադպրոցական կրթության հասանելիության ապահովման նպատակով կրթական կենտրոնների կառուցում
G41: Այլ պետական կազմակերպությունների կողմից օգտագործվող ոչ ֆինանսական ակտիվների հետ գործառնություններ
H42: Ակտիվն օգտագործող կազմակերպության անվանումը` Ստեղծվող կրթահամալիրներ
I43: Նախագծանախահաշվային փաստաթղթերի քանակ, հատ | J43: 5
D44: 1236 - 32006 | E44: Հանրակրթական դպրոցների, մանկապարտեզների և կրթահամալիրների գույքով և տեխնիկայով ապահովում | J44: =+'Հավելված N 1'!G24 -> 1500000
...

Sheet Հավելված N 7
I1: Հավելված N 7
I2: ՀՀ կառավարության 2026 թվականի
I3: ______________ ի ___Ն որոշման
A6: ՀԱՅԱՍՏԱՆԻ ՀԱՆՐԱՊԵՏՈՒԹՅԱՆ ԿԱՌԱՎԱՐՈՒԹՅԱՆ 2025 ԹՎԱԿԱՆԻ ԴԵԿՏԵՄԲԵՐԻ 25-Ի N 1910-Ն ՈՐՈՇՄԱՆ N 9.1 ՀԱՎԵԼՎԱԾՆՈՒՄ ԿԱՏԱՐՎՈՂ ՓՈՓՈԽՈՒԹՅՈՒՆՆԵՐԸ ԵՎ ԼՐԱՑՈՒՄՆԵՐԸ
J8: հազ. դրամներով
A9: ԲՍԿ | B9: Ծրագիր | D9: Միջոցառում | H9: Իրականացնողը/ ակտիվն օգտագործողը/ շահառուի ընտրության չափորոշիչը | I9: Արդյունքային չափորոշիչը | J9: Ցուցանիշների փոփոխությունը (ավելացումները նշված են դրական նշանով, իսկ նվազեցումները՝ փակագծերում)
B10: Դասիչը | C10: Անվանումը | D10: Դասիչը | E10: Անվանումը | F10: Նկարագրությունը | G10: Տեսակը | J10: Տարի
A11: ԸՆԴԱՄԵՆԸ | J11: =+J13+J39+J46+J53+J71 -> 0
A12: այդ թվում՝
A13: ՀՀ ԿՐԹՈՒԹՅԱՆ, ԳԻՏՈՒԹՅԱՆ, ՄՇԱԿՈԻՅԹԻ ԵՎ ՍՊՈՐՏԻ ՆԱԽԱՐԱՐՈՒԹՅՈՒՆ | J13: =+J14 -> 8880758.3
B14: 1236 | C14: Հանրակրթական և նախադպրոցական հաստատությունների հիմնում, կառուցում, բարելավում | J14: =J15+J20+J24+J29+J34 -> 8880758.3
D15: 1236 - 32002 | E15: Մանկապարտեզների շենքերի վերակառուցում, հիմնանորոգում | J15: =+'Հավելված N 2'!G34 -> 315000
F16: Նախադպրոցական կրթության հասանելիության ապահովման նպատակով՛ մանկապարտեզների շենքերի (մասնաշենքերի), վերակառուցում, հիմնանորոգում և նախագծում
G17: Այլ պետական կազմակերպությունների կողմից օգտագործվող ոչ ֆինանսական ակտիվների հետ գործառնություններ
H18: Ակտիվն օգտագործող կազմակերպության անվանումը` Նախադպրոցական կրթություն իրականացնող ուսումնական հաստատություններ
I19: Նախակրթարանների թիվը, որոնց հիմնման համար կատարվում են ներդրումներ, հատ | J19: 12
D20: 1236 - 32003 | E20: Հանրակրթական դպրոցների նոր շենքերի կառուցում | J20: =+'Հավելված N 2'!G51 -> 4736038.3
F21: ՀՀ մարզերում կրթական որակյալ ծառայությունների հասանելիության ապահովման ծրագրի շրջանակներում հանրակրթական և նախադպրոցական կրթության հասանելիության ապահովման նպատակով կրթական կենտրոնների կառուցում
G22: Այլ պետական կազմակերպությունների կողմից օգտագործվող ոչ ֆինանսական ակտիվների հետ գործառնություններ
H23: Ակտիվն օգտագործող կազմակերպության անվանումը` Հանրակրթական դպրոցներ
D24: 1236 - 32004 | E24: Հանրակրթական դպրոցների շենքերի վերակառուցում, հիմնանորոգում | J24: =+'Հավելված N 2'!G60 -> 300000
F25: Դպրոցական պարտադիր կրթության հասանելիության ապահովման նպատակով՛ հանրակրթական դպրոցների շենքերի (մասնաշենքերի), վերակառուցում, հիմնանորոգում և նախագծում
G26: Այլ պետական կազմակերպությունների կողմից օգտագործվող ոչ ֆինանսական ակտիվների հետ գործառնություններ
H27: Ակտիվն օգտագործող կազմակերպության անվանումը` Հանրակրթական դպրոցներ
I28: Նախագծանախահաշվային փաստաթղթերի քանակ, հատ | J28: 3
D29: 1236 - 32005 | E29: Կրթահամալիրների կառուցում | J29: =+'Հավելված N 2'!G78 -> 2029720
F30: ՀՀ մարզերում կրթական որակյալ ծառայությունների հասանելիության ապահովման ծրագրի շրջանակներում հանրակրթական և նախադպրոցական կրթության հասանելիության ապահովման նպատակով կրթական կենտրոնների կառուցում
G31: Այլ պետական կազմակերպությունների կողմից օգտագործվող ոչ ֆինանսական ակտիվների հետ գործառնություններ
H32: Ակտիվն օգտագործող կազմակերպության անվանումը` Ստեղծվող կրթահամալիրներ
I33: Նախագծանախահաշվային փաստաթղթերի քանակ, հատ | J33: 5
D34: 1236 - 32006 | E34: Հանրակրթական դպրոցների, մանկապարտեզների և կրթահամալիրների գույքով և տեխնիկայով ապահովում | J34: =+'Հավելված N 2'!G96 -> 1500000
F35: Կրթական ժամանակակից նորմերին և կրթական չափորոշիչներին համապատասխան ուսուցման ծրագրերն իրականացնելու նպատակով հանրակրթական և նախադպրոցական հաստատությունների համար գույքի և տեխնիկայի ձեռքբերում
G36: Այլ պետական կազմակերպությունների կողմից օգտագործվող ոչ ֆինանսական ակտիվների հետ գործառնություններ
H37: Ակտիվն օգտագործող կազմակերպության անվանումը` Հանրակրթական դպրոցներ, մանկապարտեզներ և կրթահամալիրներ
A39: ՀՀ ՖԻՆԱՆՍՆԵՐԻ ՆԱԽԱՐԱՐՈՒԹՅՈՒՆ | J39: =+J40 -> -5000000
B40: 1006 | C40: Պետական պարտքի կառավարում | J40: =+'Հավելված N 2'!G134 -> -5000000
D41: 1006 - 13001 | E41: Կառավարության պարտքի սպասարկում
F42: Կառավարության պարտքի սպասարկում (տոկոսավճարներ)
G43: Ֆինանսավորման ծախսերի իրականացում
H44: Միջոցառումն իրականացնողի անվանումը` ՀՀ ֆինանսների նախարարություն
...
