Workbook

Sheet 1
H1: Հավելված 1
H2: ՀՀ կառավարության 2026 թվականի
H3: ______________ ի ___Ն որոշման
B5: «ՀԱՅԱUՏԱՆԻ ՀԱՆՐԱՊԵՏՈՒԹՅԱՆ 2026 ԹՎԱԿԱՆԻ ՊԵՏԱԿԱՆ ԲՅՈՒՋԵԻ ՄԱUԻՆ» OՐԵՆՔԻ N 1 ՀԱՎԵԼՎԱԾԻ N 2 ԱՂՅՈՒՍԱԿՈՒՄ ԿԱՏԱՐՎՈՂ ՎԵՐԱԲԱՇԽՈՒՄԸ ԵՎ ՀԱՅԱՍՏԱՆԻ ՀԱՆՐԱՊԵՏՈՒԹՅԱՆ ԿԱՌԱՎԱՐՈՒԹՅԱՆ 2025 ԹՎԱԿԱՆԻ ԴԵԿՏԵՄԲԵՐԻ 25-Ի N 1910-Ն ՈՐՈՇՄԱՆ N 5 ՀԱՎԵԼՎԱԾԻ N 1 ԱՂՅՈՒՍԱԿՈՒՄ ԿԱՏԱՐՎՈՂ ՓՈՓՈԽՈՒԹՅՈՒՆՆԵՐԸ ԵՎ ԼՐԱՑՈՒՄՆԵՐԸ
H6: հազար դրամներով
B7: ԲԳԿ | C7: Ծրագրային դասիչը | E7: ԲԳԿ/Ծրագրի /միջոցառման անվանումը | F7: Ծրագրի նպատակը/Միջոցառման նկարագրությունը | G7: Վերջնական արդյունքի նկարագրությունը/Միջոցառման տեսակը | H7: Ցուցանիշների փոփոխությունը (ավելացումները նշված են դրական նշանով, իսկ նվազեցումները՝ փակագծերում)
H8: Տարի
C9: Ծրագիր | D9: Միջոցառում
B10: ԸՆԴԱՄԵՆԸ | H10: =H11+H18 -> 0
B11: ՀՀ տարածքային կառավարման և ենթակառուցվածքների նախարարություն | H11: =H12+H16 -> 0
C12: 1049 | E12: Ճանապարհային ցանցի բարելավում | F12: Ճանապարհային ցանցի բարելավում և անվտանգ երթևեկության ապահովում | G12: Ճանապարհների ծածկի որակի և փոխադրումների արդյունավետության բարելավում, ճանապարհների վիճակով պայմանավորված պատահարների նվազում | H12: =H15+H13+H14 -> 838544
D13: 1049-21001 | E13: Պետական նշանակության ավտոճանապարհների հիմնանորոգում | F13: Միջպետական, հանրապետական և մարզային նշանակության ավտոճանապարհների քայքայված ծածկի վերանորոգում, մաշված ծածկի փոխարինում | G13: Հանրության կողմից անմիջականորեն օգտագործվող ակտիվների հետ կապված միջոցառումներ | H13: ='2'!H24 -> 194276
D14: 1049 - 21020 | E14: Պետական նշանակության ավտոճանապարհների միջին նորոգում | F14: Միջպետական, հանրապետական և մարզային նշանակության ավտոճանապարհների պատվածքի մաշված վերին շերտի վերականգնում և շինարարական նորմերով նախատեսված սկզբնական որակական ցուցանիշների ապահովում | G14: Հանրության կողմից անմիջականորեն օգտագործվող ակտիվների հետ կապված միջոցառումներ | H14: ='2'!H33 -> 444268
D15: 1049-21022 | E15: Այլ նշանակության ճանապարհների հիմնանորոգում | F15: Միջպետական, հանրապետական և մարզային նշանակության ավտոճանապարհների քայքայված ծածկի վերանորոգում, մաշված ծածկի փոխարինում | G15: Հանրության կողմից անմիջականորեն օգտագործվող ակտիվների հետ կապված միջոցառումներ | H15: ='2'!H50 -> 200000
C16: 1157 | E16: Քաղաքային զարգացում | F16: Քաղաքային ենթակառուցվածքների զարգացում | G16: Քաղաքային ենթակառուցվածքների արդիականացում և բարելավում | H16: =H17 -> -838544
D17: 1157 - 21002 | E17: Երևանի մետրոպոլիտենի ենթակառուցվածքների կառուցում | F17: Երևանի մետրոպոլիտենի ենթակառուցվածքների կառուցում | G17: Հանրության կողմից անմիջականորեն օգտագործվող ակտիվների հետ կապված միջոցառումներ | H17: ='2'!H55 -> -838544
B18: ՀՀ կառավարություն | H18: =H19 -> 0
C19: 1139 | E19: ՀՀ կառավարության պահուստային ֆոնդ | F19: Պետական բյուջեում չկանխատեսված, ինչպես նաեւ բյուջետային երաշխիքների ապահովման ծախսերի ֆինանսավորման ապահովում | G19: Պահուստային ֆոնդի կառավարման արդյունավետության և թափանցիկության ապահովում | H19: =H20+H21 -> 0
D20: 1139 - 11001 | E20: ՀՀ կառավարության պահուստային ֆոնդ | F20: ՀՀ պետական բյուջեում նախատեսված ելքերի լրացուցիչ ֆինանսավորման, պետական բյուջեում չկանխատեսված ելքերի, ինչպես նաև բյուջետային երաշխիքների ապահովման ելքերի ֆինանսավորման ապահովում | G20: Ծառայությունների մատուցում | H20: ='2'!H87 -> -200000
D21: 1139 - 11001 | E21: ՀՀ կառավարության պահուստային ֆոնդ | F21: ՀՀ պետական բյուջեում նախատեսված ելքերի լրացուցիչ ֆինանսավորման, պետական բյուջեում չկանխատեսված ելքերի, ինչպես նաև բյուջետային երաշխիքների ապահովման ելքերի ֆինանսավորման ապահովում | G21: Ծառայությունների մատուցում | H21: ='2'!H95 -> 200000
E23: ՀԱՅԱՍՏԱՆԻ ՀԱՆՐԱՊԵՏՈՒԹՅԱՆ ՎԱՐՉԱՊԵՏԻ ԱՇԽԱՏԱԿԱԶՄԻ ՂԵԿԱՎԱՐ` Լ․ ՄԱԿՈՒՆՑ

Sheet 2
H1: Հավելված N2
H2: ՀՀ կառավարության 2026 թվականի
H3: ______________ ի ___Ն որոշման
B5: ՀԱՅԱՍՏԱՆԻ ՀԱՆՐԱՊԵՏՈՒԹՅԱՆ ԿԱՌԱՎԱՐՈՒԹՅԱՆ 2025 ԹՎԱԿԱՆԻ ԴԵԿՏԵՄԲԵՐԻ 25-Ի N 1910-Ն ՈՐՈՇՄԱՆ NN 3 ԵՎ 4 ՀԱՎԵԼՎԱԾՆԵՐՈՒՄ ԿԱՏԱՐՎՈՂ ՓՈՓՈԽՈՒԹՅՈՒՆՆԵՐԸ ԵՎ ԼՐԱՑՈՒՄՆԵՐԸ
H7: հազար դրամներով
B8: Գործառական դասիչը | E8: Ծրագրային դասիչը | G8: Բյուջետային հատկացումների գլխավոր կարգադրիչների, ծրագրերի, միջոցառումների և միջոցառումները կատարող պետական մարմինների անվանումները | H8: Ցուցանիշների փոփոխությունը (ավելացումները նշված են դրական նշանով, իսկ նվազեցումները` փակագծերում)
B9: Բաժին | C9: Խումբ | D9: Դաս | E9: Ծրագիր | F9: Միջոցառում | H9: Տարի
G10: ԸՆԴԱՄԵՆԸ | H10: =H12+H68 -> 0
G11: այդ թվում`
G12: ՀՀ տարածքային կառավարման և ենթակառուցվածքների նախարարություն | H12: =H14 -> 0
G13: այդ թվում`
B14: 04 | G14: ՏՆՏԵՍԱԿԱՆ ՀԱՐԱԲԵՐՈՒԹՅՈՒՆՆԵՐ | H14: =H16 -> 0
G15: այդ թվում`
C16: 05 | G16: ՏՐԱՆՍՊՈՐՏ | H16: =H18+H51 -> 0
G17: այդ թվում`
D18: 01 | G18: Ճանապարհային տրանսպորտ | H18: =H20 -> 838544
G19: այդ թվում`
G20: ՀՀ տարածքային կառավարման և ենթակառուցվածքների նախարարություն | H20: =H22 -> 838544
G21: այդ թվում`
E22: 1049 | G22: Ճանապարհային ցանցի բարելավում | H22: =H42+H24+H33 -> 838544
G23: այդ թվում`
F24: 21001 | G24: Պետական նշանակության ավտոճանապարհների հիմնանորոգում | H24: =H26 -> 194276
G25: այդ թվում` ըստ կատարողների
G26: ՀՀ Շիրակի մարզպետի աշխատակազմ | H26: =H28 -> 194276
G27: այդ թվում` բյուջետային ծախսերի տնտեսագիտական դասակարգման հոդվածներ
G28: ԸՆԴԱՄԵՆԸ ԾԱԽՍԵՐ | H28: =H29 -> 194276
G29: ՈՉ ՖԻՆԱՆՍԱԿԱՆ ԱԿՏԻՎՆԵՐԻ ԳԾՈՎ ԾԱԽՍԵՐ | H29: =H30 -> 194276
G30: ՀԻՄՆԱԿԱՆ ՄԻՋՈՑՆԵՐ | H30: =H31 -> 194276
G31: ՇԵՆՔԵՐ ԵՎ ՇԻՆՈՒԹՅՈՒՆՆԵՐ | H31: =H32 -> 194276
G32: - Շենքերի և շինությունների կապիտալ վերանորոգում | H32: 194276
F33: 21020 | G33: Պետական նշանակության ավտոճանապարհների միջին նորոգում | H33: =H35 -> 444268
G34: այդ թվում` ըստ կատարողների
G35: ՀՀ Գեղարքունիքի մարզպետի աշխատակազմ | H35: =H37 -> 444268
G36: այդ թվում` բյուջետային ծախսերի տնտեսագիտական դասակարգման հոդվածներ
G37: ԸՆԴԱՄԵՆԸ ԾԱԽՍԵՐ | H37: =H38 -> 444268
G38: ՈՉ ՖԻՆԱՆՍԱԿԱՆ ԱԿՏԻՎՆԵՐԻ ԳԾՈՎ ԾԱԽՍԵՐ | H38: =H39 -> 444268
G39: ՀԻՄՆԱԿԱՆ ՄԻՋՈՑՆԵՐ | H39: =H40 -> 444268
G40: ՇԵՆՔԵՐ ԵՎ ՇԻՆՈՒԹՅՈՒՆՆԵՐ | H40: =H41 -> 444268
G41: - Շենքերի և շինությունների կապիտալ վերանորոգում | H41: 444268
F42: 21022 | G42: Այլ նշանակության ճանապարհների հիմնանորոգում | H42: =H44 -> 200000
...

Sheet 3
I1: Հավելված N3
I2: ՀՀ կառավարության 2026 թվականի
I3: ______________ ի ___Ն որոշման
B5: «ՀԱՅԱՍՏԱՆԻ ՀԱՆՐԱՊԵՏՈՒԹՅԱՆ 2026 ԹՎԱԿԱՆԻ ՊԵՏԱԿԱՆ ԲՅՈՒՋԵԻ ՄԱՍԻՆ» ՕՐԵՆՔԻ N 1 ՀԱՎԵԼՎԱԾԻ N 3 ԱՂՅՈՒՍԱԿՈՒՄ ԿԱՏԱՐՎՈՂ ՓՈՓՈԽՈՒԹՅՈՒՆԸ ԵՎ ԼՐԱՑՈՒՄՆԵՐԸ
H6: հազար դրամներով
B7: Ծրագրային դասիչ | D7: Բյուջետային գլխավոր կարգադրիչների, ծրագրերի, միջոցառումների և ուղղությունների անվանումները | E7: Ցուցանիշների փոփոխությունը (ավելացումները նշված են դրական նշանով, իսկ նվազեցումները` փակագծերում)
E8: Ընդամենը, | F8: այդ թվում՝
B9: Ծրագիր | C9: Միջոցառում | F9: Կառուցման աշխատանքներ | G9: Վերակառուցման, վերանորոգման և վերականգնման աշխատանքներ | H9: Նախագծահե- տազոտական, գեոդեզիա- քարտեզագրական աշխատանքներ | I9: Ոչ ֆինանսական այլ ակտիվների ձեռքբերում
D10: ԸՆԴԱՄԵՆԸ | E10: 0 | F10: =F12 -> -371544 | G10: =G12 -> 638544 | H10: =H12 -> -267000 | I10: =I12 -> 0
D11: այդ թվում՝
D12: ՀՀ ՏԱՐԱԾՔԱՅԻՆ ԿԱՌԱՎԱՐՄԱՆ ԵՎ ԵՆԹԱԿԱՌՈՒՑՎԱԾՔՆԵՐԻ ՆԱԽԱՐԱՐՈՒԹՅՈՒՆ | E12: =F12+G12+H12+I12 -> 0 | F12: =+F30+F26 -> -371544 | G12: =G14+G19 -> 638544 | H12: =H30 -> -267000 | I12: 0
D13: այդ թվում`
B14: 1049 | C14: 21001 | D14: Պետական նշանակության ավտոճանապարհների հիմնանորոգում | E14: =F14+G14+H14+I14 -> 194276 | F14: =F16 -> 0 | G14: =G16 -> 194276 | H14: =H16 -> 0 | I14: =I16 -> 0
D15: այդ թվում`
D16: ՀՀ Շիրակի մարզ | E16: =E17+E18 -> 194276 | F16: =F17+F18 -> 0 | G16: =G17+G18 -> 194276 | H16: =H17+H18 -> 0 | I16: =I17+I18 -> 0
D17: «ՀՀ Շիրակի մարզի Տ-7-8, /Տ-7-37/ - Գտաշեն - Կամխուտ - /Տ-7-37/ ավտոճանապարհի կմ 0+000 - կմ 1+850 հատվածի հիմնանորոգման աշխատանքներ | E17: =F17+G17+I17+H17 -> 149394.2 | G17: 149394.2 | H17: 0 | I17: 0
D18: «ՀՀ Շիրակի մարզի Տ-7-7 Ջրաձոր - /Հ-32/ Հ-32 հանրապետական նշանակության ավտոճանապարհի ԿՄ 16+450-ից մինչև Ջրաձորի դպրոց տանող մարզային նշանակության ավտոճանապարհահատվածի հիմնանորոգման աշխատանքներ | E18: =F18+G18+I18+H18 -> 44881.8 | G18: 44881.8 | H18: 0 | I18: 0
B19: 1049 | C19: 21020 | D19: Պետական նշանակության ավտոճանապարհների միջին նորոգում | E19: =F19+G19+H19+I19 -> 444268 | F19: =F21 -> 0 | G19: =G21 -> 444268 | H19: =H21 -> 0 | I19: =I21 -> 0
D20: այդ թվում`
D21: ՀՀ Գեղարքունիքի մարզ | E21: =F21+G21+I21+H21 -> 444268 | F21: =F22+F23+F24+F25 -> 0 | G21: =G22+G23+G24+G25 -> 444268 | H21: =H22+H23+H24+H25 -> 0 | I21: =I22+I23+I24+I25 -> 0
D22: Տ-4-6՝ Սևան(Տ-4-9)-Վարսեր 3,3կմ մարզային նշանակության ճանապարհահատվածի միջին նորոգման աշխատանքներ | E22: =F22+G22+I22+H22 -> 188698 | G22: 188698 | H22: 0 | I22: 0
D23: Տ-4-23՝ /Մ-10/-Զոլաքար(Տ-4-31) 2,0կմ մարզային նշանակության ճանապարհահատվածի միջին նորոգման աշխատանքներ | E23: =F23+G23+I23+H23 -> 70170 | G23: 70170 | H23: 0 | I23: 0
D24: Տ-4-24՝ /Մ-10/-Ծովինար-/Մ-10/ 2,4կմ մարզային նշանակության ճանապարհահատվածի միջին նորոգման աշխատանքներ | E24: =F24+G24+I24+H24 -> 77700 | G24: 77700 | H24: 0 | I24: 0
D25: Տ-4-29՝ /Մ-10/-Ձորագյուղ(Տ-4-37) 3,0կմ մարզային նշանակության ճանապարհահատվածի միջին նորոգման աշխատանքներ | E25: =F25+G25+I25+H25 -> 107700 | G25: 107700 | H25: 0 | I25: 0
B26: 1049 | C26: 21022 | D26: Այլ նշանակության ճանապարհների հիմնանորոգում | E26: =F26+G26+H26+I26 -> 200000 | F26: =F28 -> 200000 | G26: =G28 -> 0 | H26: =H28 -> 0 | I26: =I28 -> 0
D27: այդ թվում`
D28: ՀՀ Տավուշի մարզ | E28: =F28+G28+I28+H28 -> 200000 | F28: =F29 -> 200000 | G28: =G29 -> 0 | H28: =H29 -> 0 | I28: =I29 -> 0
D29: «Սևքար և Աչաջուր համայնքներից-Ֆիդայինների հովիտ /Սուլթանի ուրթ/-Աղբղա-Հ-26 հանրապետական նշանակության ավտոճանապարհի հատում» 21.207 կմ երկարությամբ ճանապարհահատվածի կառուցման աշխատանքներ | E29: =F29+G29+I29+H29 -> 200000 | F29: ='2'!H42 -> 200000 | H29: 0 | I29: 0
B30: 1157 | C30: 21002 | D30: Երևանի մետրոպոլիտենի ենթակառուցվածքների կառուցում | E30: =F30+G30+H30+I30 -> -838544 | F30: ='2'!H65 -> -571544 | G30: 0 | H30: -267000 | I30: 0
E33: ՀԱՅԱՍՏԱՆԻ ՀԱՆՐԱՊԵՏՈՒԹՅԱՆ ՎԱՐՉԱՊԵՏԻ ԱՇԽԱՏԱԿԱԶՄԻ ՂԵԿԱՎԱՐ` Լ․ ՄԱԿՈՒՆՑ

Sheet 4.
E1: Հավելված N 4
E2: ՀՀ կառավարության 2026 թվականի
E3: ______________ ի ___Ն որոշման
B5: ՀԱՅԱՍՏԱՆԻ ՀԱՆՐԱՊԵՏՈՒԹՅԱՆ ԿԱՌԱՎԱՐՈՒԹՅԱՆ 2025 ԹՎԱԿԱՆԻ ԴԵԿՏԵՄԲԵՐԻ 25-Ի N 1910-Ն ՈՐՈՇՄԱՆ N 5 ՀԱՎԵԼՎԱԾԻ N 2 ԱՂՅՈՒՍԱԿՈՒՄ ԿԱՏԱՐՎՈՂ ՓՈՓՈԽՈՒԹՅՈՒՆԸ ԵՎ ԼՐԱՑՈՒՄՆԵՐԸ
E7: հազար դրամներով
B8: Ծրագրային դասիչը | D8: Հատկացումների տրամադրման նպատակները և բյուջետային գլխավոր կարգադրիչների, ծրագրերի, միջոցառումների և կատարող պետական մարմնի անվանումները | E8: Ցուցանիշների փոփոխությունը (ավելացումները նշված են դրական նշանով, իսկ նվազեցումները` փակագծերում)
B9: Ծրագիր | C9: Միջոցառում | E9: Տարի
D10: ԸՆԴԱՄԵՆԸ | E10: =E12 -> 0
D11: այդ թվում՝
D12: ՀՀ ՏԱՐԱԾՔԱՅԻՆ ԿԱՌԱՎԱՐՄԱՆ ԵՎ ԵՆԹԱԿԱՌՈՒՑՎԱԾՔՆԵՐԻ ՆԱԽԱՐԱՐՈՒԹՅՈՒՆ | E12: =E14+E36 -> 0
D13: այդ թվում`
B14: 1049 | D14: Ճանապարհային ցանցի բարելավում | E14: =E31+E16+E22 -> 838544
D15: Այդ թվում՝ ըստ կատարողների
C16: 21001 | D16: Պետական նշանակության ավտոճանապարհների հիմնանորոգում | E16: =E18 -> 194276
D17: այդ թվում` ըստ կատարողների
D18: ՀՀ Շիրակի մարզպետի աշխատակազմ | E18: =E20+E21 -> 194276
D19: այդ թվում` ըստ ուղղությունների
D20: «ՀՀ Շիրակի մարզի Տ-7-8, /Տ-7-37/ - Գտաշեն - Կամխուտ - /Տ-7-37/ ավտոճանապարհի կմ 0+000 - կմ 1+850 հատվածի հիմնանորոգման աշխատանքներ | E20: ='3'!G17 -> 149394.2
D21: «ՀՀ Շիրակի մարզի Տ-7-7 Ջրաձոր - /Հ-32/ Հ-32 հանրապետական նշանակության ավտոճանապարհի ԿՄ 16+450-ից մինչև Ջրաձորի դպրոց տանող մարզային նշանակության ավտոճանապարհահատվածի հիմնանորոգման աշխատանքներ | E21: ='3'!G18 -> 44881.8
C22: 21020 | D22: Պետական նշանակության ավտոճանապարհների միջին նորոգում | E22: =E24 -> 444268
D23: այդ թվում` ըստ կատարողների
D24: ՀՀ Գեղարքունիքի մարզպետի աշխատակազմ | E24: =E27+E28+E29+E30 -> 444268
D25: այդ թվում` ըստ ուղղությունների
D26: Մարզային նշանակության ավտոճանապարհներ, այդ թվում՝
D27: ='3'!D22 -> Տ-4-6՝ Սևան(Տ-4-9)-Վարսեր 3,3կմ մարզային նշանակության ճանապարհահատվածի միջին նորոգման աշխատանքներ | E27: ='3'!G22 -> 188698
D28: ='3'!D23 -> Տ-4-23՝ /Մ-10/-Զոլաքար(Տ-4-31) 2,0կմ մարզային նշանակության ճանապարհահատվածի միջին նորոգման աշխատանքներ | E28: ='3'!G23 -> 70170
D29: ='3'!D24 -> Տ-4-24՝ /Մ-10/-Ծովինար-/Մ-10/ 2,4կմ մարզային նշանակության ճանապարհահատվածի միջին նորոգման աշխատանքներ | E29: ='3'!G24 -> 77700
D30: ='3'!D25 -> Տ-4-29՝ /Մ-10/-Ձորագյուղ(Տ-4-37) 3,0կմ մարզային նշանակության ճանապարհահատվածի միջին նորոգման աշխատանքներ | E30: ='3'!G25 -> 107700
C31: 21022 | D31: Այլ նշանակության ճանապարհների հիմնանորոգում | E31: =E33 -> 200000
D32: այդ թվում` ըստ կատարողների
D33: ՀՀ Տավուշի մարզպետի աշխատակազմ | E33: =E35 -> 200000
D34: այդ թվում` ըստ ուղղությունների
D35: «Սևքար և Աչաջուր համայնքներից-Ֆիդայինների հովիտ /Սուլթանի ուրթ/-Աղբղա-Հ-26 հանրապետական նշանակության ավտոճանապարհի հատում» 21.207 կմ երկարությամբ ճանապարհահատվածի կառուցման աշխատանքներ | E35: ='2'!H50 -> 200000
B36: 1157 | C36: 21002 | D36: Երևանի մետրոպոլիտենի ենթակառուցվածքների կառուցում | E36: =E38 -> -838544
D37: այդ թվում` ըստ կատարողների
D38: ՀՀ տարածքային կառավարման և ենթակառուցվածքների նախարարություն | E38: ='2'!H55 -> -838544
C42: ՀԱՅԱՍՏԱՆԻ ՀԱՆՐԱՊԵՏՈՒԹՅԱՆ ՎԱՐՉԱՊԵՏԻ ԱՇԽԱՏԱԿԱԶՄԻ ՂԵԿԱՎԱՐ՝ Լ․ ՄԱԿՈՒՆՑ

Sheet 5
E1: Հավելված N 5
D2: ՀՀ կառավարության 2026 թվականի
D3: ______________ ի ___Ն որոշման
B5: ՀԱՅԱՍՏԱՆԻ ՀԱՆՐԱՊԵՏՈՒԹՅԱՆ ԿԱՌԱՎԱՐՈՒԹՅԱՆ 2025 ԹՎԱԿԱՆԻ ԴԵԿՏԵՄԲԵՐԻ 25-Ի N 1910-Ն ՈՐՈՇՄԱՆ N 8 ՀԱՎԵԼՎԱԾՈՒՄ ԿԱՏԱՐՎՈՂ ՓՈՓՈԽՈՒԹՅՈՒՆԸ
E6: հազար դրամներով
B7: Ծրագրային դասիչը | D7: Բյուջետային հատակացումների ծրագրերի, միջոցառումների անվանումները | E7: Ցուցանիշների փոփոխությունը (նվազեցումները նշված են փակագծերում)
B8: Ծրագիր | C8: Միջոցառում
D9: ԸՆԴԱՄԵՆԸ ԾԱԽՍԵՐ | E9: =E11 -> -838544
D10: այդ թվում՝
B11: 1157 | D11: Քաղաքային զարգացում | E11: =E12 -> -838544
C12: 21002 | D12: Երևանի մետրոպոլիտենի ենթակառուցվածքների կառուցում | E12: ='2'!H57 -> -838544
B16: ՀԱՅԱՍՏԱՆԻ ՀԱՆՐԱՊԵՏՈՒԹՅԱՆ
B17: ՎԱՐՉԱՊԵՏԻ ԱՇԽԱՏԱԿԱԶՄԻ
C18: ՂԵԿԱՎԱՐ ՝ Լ․ ՄԱԿՈՒՆՑ

Sheet 6
K1: Հավելված N 6
K2: ՀՀ կառավարության 2026 թվականի
K3: ______________ ի ___Ն որոշման
B5: ՀԱՅԱՍՏԱՆԻ ՀԱՆՐԱՊԵՏՈՒԹՅԱՆ ԿԱՌԱՎԱՐՈՒԹՅԱՆ 2025 ԹՎԱԿԱՆԻ ԴԵԿՏԵՄԲԵՐԻ 25-Ի № 1910-Ն ՈՐՈՇՄԱՆ № 9 ՀԱՎԵԼՎԱԾՈՒՄ ԿԱՏԱՐՎՈՂ ՓՈՓՈԽՈՒԹՅՈՒՆՆԵՐԸ ԵՎ ԼՐԱՑՈՒՄՆԵՐԸ
K7: հազար դրամներով
B8: ԲԳԿ | C8: Ծրագիր | E8: Միջոցառում | I8: Իրականացնողը/ ակտիվն օգտագործողը/ շահառուի ընտրության չափորոշիչը | J8: Արդյունքային չափորոշիչը | K8: Ցուցանիշների փոփոխությունը (ավելացումները նշված են դրական նշանով, իսկ նվազեցումները՝ փակագծերում)
C9: Դասիչը | D9: Անվանումը | E9: Դասիչը | F9: Անվանումը | G9: Նկարագրությունը | H9: Տեսակը | K9: Տարի
B10: ԸՆԴԱՄԵՆԸ | K10: =K11+K39 -> 0
B11: ՀՀ տարածքային կառավարման և ենթակառուցվածքների նախարարություն | K11: =K25+K12+K19+K31 -> 0
C12: 1049 | D12: Ճանապարհային ցանցի բարելավում | K12: =K13 -> 194276
E13: 1049 - 21001 | F13: Պետական նշանակության ավտոճանապարհների հիմնանորոգում | K13: ='2'!H24 -> 194276
G14: Միջպետական, հանրապետական և մարզային նշանակության ավտոճանապարհների քայքայված ծածկի վերանորոգում, մաշված ծածկի փոխարինում
H15: Հանրության կողմից անմիջականորեն օգտագործվող ակտիվների հետ կապված միջոցառումներ
I16: Միջոցառումն իրականացնողի անվանումը` Մասնագիտացված միավոր
J17: Պետական նշանակության ավտոճանապարհներ, կիլոմետր | K17: =K18 -> 2.185
J18: Մարզային նշանակության ավտոճանապարհներ, կիլոմետր | K18: 2.185
C19: 1049 | D19: Ճանապարհային ցանցի բարելավում | K19: =K20 -> 444268
E20: 1049 - 21020 | F20: Պետական նշանակության ավտոճանապարհների միջին նորոգում | K20: ='2'!H33 -> 444268
G21: Միջպետական, հանրապետական և մարզային նշանակության ավտոճանապարհների պատվածքի մաշված վերին շերտի վերականգնում և շինարարական նորմերով նախատեսված սկզբնական որակական ցուցանիշների ապահովում
H22: Հանրության կողմից անմիջականորեն օգտագործվող ակտիվների հետ կապված միջոցառումներ
I23: Միջոցառումն իրականացնողի անվանումը` ՀՀ տարածքային կառավարման և ենթակառուցվածքների նախարարություն, մրցութային կարգով ընտրված կազմակերպություններ
J24: Միջին նորոգման ենթակա ճանապարհների երկարությունը, կիլոմետր | K24: 10.7
C25: 1049 | D25: Ճանապարհային ցանցի բարելավում | K25: =K26 -> 200000
E26: 1049 - 21022 | F26: Այլ նշանակության ճանապարհների հիմնանորոգում | K26: ='2'!H42 -> 200000
G27: Միջպետական, հանրապետական և մարզային նշանակության ավտոճանապարհների քայքայված ծածկի վերանորոգում, մաշված ծածկի փոխարինում
H28: Հանրության կողմից անմիջականորեն օգտագործվող ակտիվների հետ կապված միջոցառումներ
I29: Միջոցառումն իրականացնողի անվանումը` Մասնագիտացված միավոր
J30: Գրունտային ճանապարհ/ (կմ) | K30: 3.7
C31: 1157 | D31: Քաղաքային զարգացում | K31: =K32 -> -838544
E32: 1157 - 21002 | F32: Երևանի մետրոպոլիտենի ենթակառուցվածքների կառուցում | K32: ='2'!H55 -> -838544
G33: Երևանի մետրոպոլիտենի ենթակառուցվածքների կառուցում
H34: Հանրության կողմից անմիջականորեն օգտագործվող ակտիվների հետ կապված միջոցառումներ
I35: Շահառուների ընտրության չափանիշները` ՀՀ բնակչություն
J36: Նախագծանախահաշվային փաստաթղթեր, հատ | K36: -1
J37: Հողի օտարման ծրագիր | K37: -1
J38: Մետրոպոլիտենի կայարանի կառուցում, հատ | K38: -1
B39: ՀՀ կառավարություն | K39: =K40 -> 0
C40: 1139 | D40: ՀՀ կառավարության պահուստային ֆոնդ | K40: =K41+K45 -> 0
E41: 1139 - 11001 | F41: ՀՀ կառավարության պահուստային ֆոնդ | K41: ='1'!H20 -> -200000
G42: ՀՀ պետական բյուջեում նախատեսված ելքերի լրացուցիչ ֆինանսավորման, պետական բյուջեում չկանխատեսված ելքերի, ինչպես նաև բյուջետային երաշխիքների ապահովման ելքերի ֆինանսավորման ապահովում
...

Sheet 7
K1: Հավելված N7
K2: ՀՀ կառավարության 2026 թվականի
K3: ______________ ի ___Ն որոշման
B5: ՀԱՅԱՍՏԱՆԻ ՀԱՆՐԱՊԵՏՈՒԹՅԱՆ ԿԱՌԱՎԱՐՈՒԹՅԱՆ 2025 ԹՎԱԿԱՆԻ ԴԵԿՏԵՄԲԵՐԻ 25-Ի № 1910-Ն ՈՐՈՇՄԱՆ № 9.1 ՀԱՎԵԼՎԱԾՈՒՄ ԿԱՏԱՐՎՈՂ ՓՈՓՈԽՈՒԹՅՈՒՆՆԵՐԸ ԵՎ ԼՐԱՑՈՒՄՆԵՐԸ
K6: հազար դրամներով
B7: ԲՍԿ | C7: Ծրագիր | E7: Միջոցառում | I7: Իրականացնողը/ ակտիվն օգտագործողը/ շահառուի ընտրության չափորոշիչը | J7: Արդյունքային չափորոշիչը | K7: Ցուցանիշների փոփոխությունը (ավելացումները նշված են դրական նշանով, իսկ նվազեցումները` փակագծերում)
C8: Դասիչը | D8: Անվանումը | E8: Դասիչը | F8: Անվանումը | G8: Նկարագրությունը | H8: Տեսակը | K8: Տարի
B9: ԸՆԴԱՄԵՆԸ | K9: =K19+K26+K34+K41+K10 -> 0
B10: ՀՀ տարածքային կառավարման և ենթակառուցվածքների նախարարություն | K10: =K11 -> -838544
C11: 1157 | D11: Քաղաքային զարգացում | K11: =K12 -> -838544
E12: 1157 - 21002 | F12: Երևանի մետրոպոլիտենի ենթակառուցվածքների կառուցում | K12: ='2'!H55 -> -838544
G13: Երևանի մետրոպոլիտենի ենթակառուցվածքների կառուցում
H14: Հանրության կողմից անմիջականորեն օգտագործվող ակտիվների հետ կապված միջոցառումներ
I15: Շահառուների ընտրության չափանիշները` ՀՀ բնակչություն
J16: Նախագծանախահաշվային փաստաթղթեր, հատ | K16: -1
J17: Հողի օտարման ծրագիր | K17: -1
J18: Մետրոպոլիտենի կայարանի կառուցում, հատ | K18: -1
B19: ՀՀ Գեղարքունիքի մարզպետի աշխատակազմ | K19: =K20 -> 444268
C20: 1049 | D20: Ճանապարհային ցանցի բարելավում | K20: =K21 -> 444268
E21: 1049 - 21020 | F21: Պետական նշանակության ավտոճանապարհների միջին նորոգում | K21: ='2'!H33 -> 444268
G22: Միջպետական, հանրապետական և մարզային նշանակության ավտոճանապարհների պատվածքի մաշված վերին շերտի վերականգնում և շինարարական նորմերով նախատեսված սկզբնական որակական ցուցանիշների ապահովում
H23: Հանրության կողմից անմիջականորեն օգտագործվող ակտիվների հետ կապված միջոցառումներ ընտրված կազմակերպություններ
I24: Միջոցառումն իրականացնողի անվանումը` ՀՀ տարածքային կառավարման և ենթակառուցվածքների նախարարություն, մրցութային կարգով ընտրված կազմակերպություններ
J25: Միջին նորոգման ենթակա ճանապարհների երկարությունը, կիլոմետր | K25: 10.7
B26: ՀՀ Շիրակի մարզպետի աշխատակազմ | K26: =K27 -> 194276
C27: 1049 | D27: Ճանապարհային ցանցի բարելավում | K27: =K28 -> 194276
E28: 1049 - 21001 | F28: Պետական նշանակության ավտոճանապարհների հիմնանորոգում | K28: ='2'!H28 -> 194276
G29: Միջպետական, հանրապետական և մարզային նշանակության ավտոճանապարհների քայքայված ծածկի վերանորոգում, մաշված ծածկի փոխարինում
H30: Հանրության կողմից անմիջականորեն օգտագործվող ակտիվների հետ կապված միջոցառումներ
I31: Միջոցառումն իրականացնողի անվանումը` Մասնագիտացված միավոր
J32: Պետական նշանակության ավտոճանապարհներ, կիլոմետր | K32: =K33 -> 2.185
J33: Մարզային նշանակության ավտոճանապարհներ, կիլոմետր | K33: 2.185
B34: ՀՀ Տավուշի մարզպետի աշխատակազմ | K34: =K35 -> 200000
C35: 1049 | D35: Ճանապարհային ցանցի բարելավում | K35: =K36 -> 200000
E36: 1049 - 21022 | F36: Այլ նշանակության ճանապարհների հիմնանորոգում | K36: ='2'!H44 -> 200000
G37: Միջպետական, հանրապետական և մարզային նշանակության ավտոճոնապարհների քայքայված ծածկի վերանորոգում, մաշված ծածկի փոխարինում
H38: Հանրության կողմից անմիջականորեն օգտագործվող ակտիվների հետ կապված միջոցառումներ
I39: Միջոցառումն իրականացնողի անվանումը` Մասնագիտացված միավոր
J40: Գրունտային ճանապարհ/ (կմ) | K40: 3.7
C41: 1139 | D41: ՀՀ կառավարության պահուստային ֆոնդ | K41: =K42+K46 -> 0
...

Sheet 8
I1: Հավելված N 8
I2: ՀՀ կառավարության 2026 թվականի
I3: ______________ ի ___Ն որոշման
C5: ՀԱՅԱՍՏԱՆԻ ՀԱՆՐԱՊԵՏՈՒԹՅԱՆ ԿԱՌԱՎԱՐՈՒԹՅԱՆ 2025 ԹՎԱԿԱՆԻ ԴԵԿՏԵՄԲԵՐԻ 25-Ի N 1910-Ն ՈՐՈՇՄԱՆ N 10 ՀԱՎԵԼՎԱԾՈՒՄ ԿԱՏԱՐՎՈՂ ԼՐԱՑՈՒՄՆԵՐԸ
C7: Կոդը | D7: Անվանումը | E7: Գնման ձևը | F7: Չափման միավորը | G7: Միավորի գինը | H7: Ցուցանիշների փոփոխությունը (ավելացումները նշված են դրական նշանով)
H8: Քանակը | I8: Գումարը (հազար դրամով)
C9: ԸՆԴԱՄԵՆԸ | I9: =+I30+I19+I13 -> 838544
C10: ՀՀ Գեղարքունիքի մարզպետի աշխատակազմ | I10: =I11 -> 444268
C11: Բաժին N 04 | D11: Խումբ N 05 | E11: Դաս N 01 | F11: Ճանապարհային տրանսպորտ | I11: =I12 -> 444268
C12: 1049/21020 | D12: Պետական նշանակության ավտոճանապարհների միջին նորոգում | I12: =I13 -> 444268
C13: ՄԱՍ II ԱՇԽԱՏԱՆՔՆԵՐ | I13: =I14+I15+I16+I17 -> 444268
C14: 45231177/504 | D14: ճանապարհների վերանորոգման աշխատանքներ | E14: ՀԲՄ | F14: դրամ | G14: =I14*1000 -> 188698000 | H14: 1 | I14: ='3'!G22 -> 188698
C15: 45231177/507 | D15: ճանապարհների վերանորոգման աշխատանքներ | E15: ՀԲՄ | F15: դրամ | G15: =I15*1000 -> 70170000 | H15: 1 | I15: ='3'!G23 -> 70170
C16: 45231177/506 | D16: ճանապարհների վերանորոգման աշխատանքներ | E16: ՀԲՄ | F16: դրամ | G16: =I16*1000 -> 77700000 | H16: 1 | I16: ='3'!G24 -> 77700
C17: 45231177/505 | D17: ճանապարհների վերանորոգման աշխատանքներ | E17: ՀԲՄ | F17: դրամ | G17: =I17*1000 -> 107700000 | H17: 1 | I17: ='3'!G25 -> 107700
C18: ՀՀ Շիրակի մարզպետի աշխատակազմ | I18: =I19 -> 194276
C19: Բաժին N 04 | D19: Խումբ N 05 | E19: Դաս N 01 | F19: Ճանապարհային տրանսպորտ | I19: =I20 -> 194276
C20: 1049/21001 | D20: Պետական նշանակության ավտոճանապարհների հիմնանորոգում | I20: =I21+I24 -> 194276
C21: ՄԱՍ II ԱՇԽԱՏԱՆՔՆԵՐ | I21: =I22+I23 -> 192300
C22: 45231177/507 | D22: ճանապարհների վերանորոգման աշխատանքներ | E22: ՀԲՄ | F22: դրամ | G22: =I22*1000 -> 147900000 | H22: 1 | I22: 147900
C23: 45231177/509 | D23: ճանապարհների վերանորոգման աշխատանքներ | E23: ՀԲՄ | F23: դրամ | G23: =I23*1000 -> 44400000 | H23: 1 | I23: 44400
C24: ՄԱՍ III. ԾԱՌԱՅՈՒԹՅՈՒՆՆԵՐ | I24: =I25+I26+I27+I28 -> 1976
C25: 71351540/510 | D25: տեխնիկական հսկողության ծառայություններ | E25: ԳՀ | F25: դրամ | G25: =I25*1000 -> 400000 | H25: 1 | I25: 400
C26: 71351540/513 | D26: տեխնիկական հսկողության ծառայություններ | E26: ԳՀ | F26: դրամ | G26: =I26*1000 -> 200000 | H26: 1 | I26: 200
C27: 98111140/ | D27: հեղինակային հսկողության ծառայություններ | E27: ՄԱ | F27: դրամ | G27: =I27*1000 -> 1094200 | H27: 1 | I27: 1094.2
C28: 98111140/ | D28: հեղինակային հսկողության ծառայություններ | E28: ՄԱ | F28: դրամ | G28: =I28*1000 -> 281800 | H28: 1 | I28: 281.8
C29: ՀՀ Տավուշի մարզպետի աշխատակազմ | I29: =I30 -> 200000
C30: Բաժին N 04 | D30: Խումբ N 05 | E30: Դաս N 01 | F30: Ճանապարհային տրանսպորտ | I30: =I31 -> 200000
C31: 1049/21022 | D31: Այլ նշանակության ճանապարհների հիմնանորոգում | I31: =I32+I34 -> 200000
C32: ՄԱՍ II ԱՇԽԱՏԱՆՔՆԵՐ | I32: =I33 -> 197747.6
C33: 45231177/501 | D33: ճանապարհների վերանորոգման աշխատանքներ | E33: ԲՄ | F33: դրամ | G33: =I33*1000 -> 197747600 | H33: 1 | I33: 197747.6
C34: ՄԱՍ III. ԾԱՌԱՅՈՒԹՅՈՒՆՆԵՐ | I34: =I35+I36 -> 2252.4
C35: 71351540/507 | D35: տեխնիկական հսկողության ծառայություններ | E35: ՀԲՄ | F35: դրամ | G35: =I35*1000 -> 423000 | H35: 1 | I35: 423
C36: 98111140/15 | D36: հեղինակային հսկողության ծառայություններ | E36: ՄԱ | F36: դրամ | G36: =I36*1000 -> 1829400 | H36: 1 | I36: 1829.4
C38: ՀԱՅԱՍՏԱՆԻ ՀԱՆՐԱՊԵՏՈՒԹՅԱՆ
C39: ՎԱՐՉԱՊԵՏԻ ԱՇԽԱՏԱԿԱԶՄԻ
D40: ՂԵԿԱՎԱՐ ՝ Լ․ՄԱԿՈՒՆՑ

Sheet 9
H1: Հավելված N9
H2: ՀՀ կառավարության 2026 թվականի
H3: ______________ ի ___Ն որոշման
B5: ՀԱՅԱՍՏԱՆԻ ՀԱՆՐԱՊԵՏՈՒԹՅԱՆ 2026 ԹՎԱԿԱՆԻ ՊԵՏԱԿԱՆ ԲՅՈՒՋԵՈՎ ՆԱԽԱՏԵՍՎԱԾ՝ ՀԱՅԱՍՏԱՆԻ ՀԱՆՐԱՊԵՏՈՒԹՅԱՆ ԿԱՌԱՎԱՐՈՒԹՅԱՆ ՊԱՀՈՒՍՏԱՅԻՆ ՖՈՆԴԻՑ ՀԱՏԿԱՑՈՒՄՆԵՐ ԿԱՏԱՐԵԼՈՒ ՎԵՐԱԲԵՐՅԱԼ
H7: հազար դրամներով
B8: Գործառական դասիչը | E8: Ծրագրային դասիչը | G8: Բյուջետային հատկացումների գլխավոր կարգադրիչների, ծրագրերի, միջոցառումների և միջոցառումները կատարող պետական մարմինների անվանումները | H8: Ցուցանիշների փոփոխությունը (ավելացումները նշված են դրական նշանով, իսկ նվազեցումները` փակագծերում)
B9: Բաժին | C9: Խումբ | D9: Դաս | E9: Ծրագիր | F9: Միջոցառում | H9: Տարի
G10: ԸՆԴԱՄԵՆԸ | H10: =H12+H33 -> 0
G11: այդ թվում`
G12: ՀՀ տարածքային կառավարման և ենթակառուցվածքների նախարարություն | H12: =H14 -> 200000
G13: այդ թվում`
B14: 04 | G14: ՏՆՏԵՍԱԿԱՆ ՀԱՐԱԲԵՐՈՒԹՅՈՒՆՆԵՐ | H14: =H16 -> 200000
G15: այդ թվում`
C16: 05 | G16: ՏՐԱՆՍՊՈՐՏ | H16: =H18 -> 200000
G17: այդ թվում`
D18: 01 | G18: Ճանապարհային տրանսպորտ | H18: =H20 -> 200000
G19: այդ թվում`
G20: ՀՀ տարածքային կառավարման և ենթակառուցվածքների նախարարություն | H20: =H22 -> 200000
G21: այդ թվում`
E22: 1049 | G22: Ճանապարհային ցանցի բարելավում | H22: =H24 -> 200000
G23: այդ թվում`
F24: 21022 | G24: Այլ նշանակության ճանապարհների հիմնանորոգում | H24: =H26 -> 200000
G25: այդ թվում` ըստ կատարողների
G26: ՀՀ Տավուշի մարզպետի աշխատակազմ | H26: =H28 -> 200000
G27: այդ թվում` բյուջետային ծախսերի տնտեսագիտական դասակարգման հոդվածներ
G28: ԸՆԴԱՄԵՆԸ ԾԱԽՍԵՐ | H28: =H29 -> 200000
G29: ՈՉ ՖԻՆԱՆՍԱԿԱՆ ԱԿՏԻՎՆԵՐԻ ԳԾՈՎ ԾԱԽՍԵՐ | H29: =H30 -> 200000
G30: ՀԻՄՆԱԿԱՆ ՄԻՋՈՑՆԵՐ | H30: =H31 -> 200000
G31: ՇԵՆՔԵՐ ԵՎ ՇԻՆՈՒԹՅՈՒՆՆԵՐ | H31: =H32 -> 200000
G32: - Շենքերի և շինությունների շինարարություն | H32: 200000
G33: ՀՀ կառավարություն | H33: =H45 -> -200000
G34: այդ թվում`
B35: 11 | G35: ՀԻՄՆԱԿԱՆ ԲԱԺԻՆՆԵՐԻՆ ՉԴԱՍՎՈՂ ՊԱՀՈՒՍՏԱՅԻՆ ՖՈՆԴԵՐ | H35: =H37 -> -200000
G36: այդ թվում`
C37: 01 | G37: ՀՀ կառավարության և համայնքների պահուստային ֆոնդ | H37: =H39 -> -200000
G38: այդ թվում`
D39: 01 | G39: ՀՀ կառավարության պահուստային ֆոնդ | H39: =H41 -> -200000
G40: այդ թվում`
G41: ՀՀ կառավարություն | H41: =H43 -> -200000
G42: այդ թվում`
...
