Workbook

Sheet  Հավելված 1
G1: Հավելված N 1
G2: ՀՀ կառավարության 2026 թվականի
G3: ___________ ___-ի N _______ որոշման
A4: «ՀԱՅԱՍՏԱՆԻ ՀԱՆՐԱՊԵՏՈՒԹՅԱՆ 2026 ԹՎԱԿԱՆԻ ՊԵՏԱԿԱՆ ԲՅՈՒՋԵԻ ՄԱՍԻՆ» ՀԱՅԱՍՏԱՆԻ ՀԱՆՐԱՊԵՏՈՒԹՅԱՆ ՕՐԵՆՔԻ N 1 ՀԱՎԵԼՎԱԾԻ N 2 ԱՂՅՈՒՍԱԿՈՒՄ ԿԱՏԱՐՎՈՂ ՎԵՐԱԲԱՇԽՈՒՄԸ, ՓՈՓՈԽՈՒԹՅՈՒՆՆԵՐԸ ԵՎ ՀԱՅԱՍՏԱՆԻ ՀԱՆՐԱՊԵՏՈՒԹՅԱՆ ԿԱՌԱՎԱՐՈՒԹՅԱՆ 2025 ԹՎԱԿԱՆԻ ԴԵԿՏԵՄԲԵՐԻ 25-Ի N 1910-Ն ՈՐՈՇՄԱՆ N 5 ՀԱՎԵԼՎԱԾԻ N 1 ԱՂՅՈՒՍԱԿՈՒՄ ԿԱՏԱՐՎՈՂ ՓՈՓՈԽՈՒԹՅՈՒՆՆԵՐԸ
G5: հազար դրամներով
A6: ԲԳԿ | B6: Ծրագրային դասիչը | D6: ԲԳԿ/Ծրագրի /միջոցառման անվանումը | E6: Ծրագրի նպատակը/Միջոցառման նկարագրությունը | F6: Վերջնական արդյունքի նկարագրությունը/Միջոցառման տեսակը | G6: Ցուցանիշների փոփոխությունը (ավելացումները նշված են դրական նշանով, իսկ նվազեցումները՝ փակագծերում)
B7: Ծրագիր | C7: Միջոցառում | G7: Տարի
A8: ԸՆԴԱՄԵՆԸ | G8: =+G9+G12 -> 0
A9: ՀՀ պետական եկամուտների կոմիտե | G9: =+G10 -> 2000000
B10: 1239 | D10: Հիպոթեքային վարկի վճարված տոկոսների գումարի վերադարձ | E10: Հիպոթեքային վարկի սպասարկման համար վճարված տոկոսների գումարների չափով վարձու աշխատողների, անհատ ձեռնարկատերերի և նոտարների կողմից վճարված եկամտային հարկի գումարների վերադարձ | F10: Շինարարության ոլորտում տնտեսական աճի խթանում, սոցիալական քաղաքականության շրջանակներում շահառուներին տրամադրվող բյուջետային աջակցություն | G10: =+G11 -> 2000000
C11: 1239 - 12001 | D11: Հիպոթեքային վարկի վճարված տոկոսների գումարների վերադարձ | E11: Հիպոթեքային վարկի սպասարկման համար վճարված տոկոսների գումարների չափով վարձու աշխատողների, անհատ ձեռնարկատերերի և նոտարների կողմից վճարված եկամտային հարկի գումարների վերադարձ | F11: Տրանսֆերտների տրամադրում | G11: =+'Հավելված 3'!G20 -> 2000000
A12: ՀՀ կառավարություն | G12: =G13 -> -2000000
B13: 1139 | D13: ՀՀ կառավարության պահուստային ֆոնդ | E13: Պետական բյուջեում չկանխատեսված, ինչպես նաև բյուջետային երաշխիքների ապահովման ծախսերի ֆինանսավորման ապահովում | F13: Պահուստային ֆոնդի կառավարման արդյունավետության և թափանցիկության ապահովում | G13: =SUM(G14:G16) -> -2000000
C14: 1139 - 11001 | D14: ՀՀ կառավարության պահուստային ֆոնդ | E14: ՀՀ պետական բյուջեում նախատեսված ելքերի լրացուցիչ ֆինանսավորման, պետական բյուջեում չկանխատեսված ելքերի, ինչպես նաև բյուջետային երաշխիքների ապահովման ելքերի ֆինանսավորման ապահովում | F14: Ծառայությունների մատուցում | G14: =+'Հավելված 3'!G39 -> -2000000
C15: 1139 - 11001 | D15: ՀՀ կառավարության պահուստային ֆոնդ | E15: ՀՀ պետական բյուջեում նախատեսված ելքերի լրացուցիչ ֆինանսավորման, պետական բյուջեում չկանխատեսված ելքերի, ինչպես նաև բյուջետային երաշխիքների ապահովման ելքերի ֆինանսավորման ապահովում | F15: Ծառայությունների մատուցում | G15: =+'Հավելված 3'!G47 -> 2000000
C16: 1139 - 11003 | D16: Հարկաբյուջետային ռիսկերի կառավարման պահուստ | E16: Հարկաբյուջետային ռիսկերի կառավարման նպատակով նախատեսված միջոցներ | F16: Ծառայությունների մատուցում | G16: =+'Հավելված 3'!G55 -> -2000000

Sheet Հավելված 2
H1: Հավելված N 2
H2: ՀՀ կառավարության 2026 թվականի
H3: ___________ ___-ի N _______ որոշման
A4: «ՀԱՅԱՍՏԱՆԻ ՀԱՆՐԱՊԵՏՈՒԹՅԱՆ 2026 ԹՎԱԿԱՆԻ ՊԵՏԱԿԱՆ ԲՅՈՒՋԵԻ ՄԱՍԻՆ» ՀԱՅԱՍՏԱՆԻ ՀԱՆՐԱՊԵՏՈՒԹՅԱՆ ՕՐԵՆՔԻ N 1 ՀԱՎԵԼՎԱԾԻ N 3 ԱՂՅՈՒՍԱԿՈՒՄ ԿԱՏԱՐՎՈՂ ՓՈՓՈԽՈՒԹՅՈՒՆՆԵՐԸ
H5: հազար դրամներով
A6: Ծրագրային դասիչ | C6: Բյուջետային գլխավոր կարգադրիչների, ծրագրերի, միջոցառումների և ուղղությունների անվանումները | D6: Ցուցանիշների փոփոխությունը (նվազեցումները նշված են փակագծերում)
D7: Ընդամենը | E7: այդ թվում՝
E8: Կառուցման աշխատանքներ | F8: Վերակառուցման, վերանորոգման և վերականգնման աշխատանքներ | G8: Նախագծահետազոտական, գեոդեզա-քարտեզագրական աշխատանքներ | H8: Ոչ ֆինանսական այլ ակտիվների ձեռքբերում
A9: Ծրագիր | B9: Միջոցառում
C10: ԸՆԴԱՄԵՆԸ | D10: =D11 -> -2000000 | E10: =E11 -> 0 | F10: =F11 -> -2000000 | G10: =G11 -> 0 | H10: =H11 -> 0
C11: ՀՀ կառավարություն | D11: =D13 -> -2000000 | E11: =E13 -> 0 | F11: =F13 -> -2000000 | G11: =G13 -> 0 | H11: =H13 -> 0
C12: այդ թվում՛
A13: 1139 | B13: 11003 | C13: Հարկաբյուջետային ռիսկերի կառավարման պահուստ | D13: =E13+F13+G13+H13 -> -2000000 | E13: 0 | F13: =+'Հավելված 3'!G55 -> -2000000 | G13: 0 | H13: 0

Sheet Հավելված 3
G1: Հավելված N 3
G2: ՀՀ կառավարության 2026 թվականի
G3: ___________ ___-ի N _______ որոշման
A4: ՀԱՅԱՍՏԱՆԻ ՀԱՆՐԱՊԵՏՈՒԹՅԱՆ ԿԱՌԱՎԱՐՈՒԹՅԱՆ 2025 ԹՎԱԿԱՆԻ ԴԵԿՏԵՄԲԵՐԻ 25-Ի N 1910-Ն ՈՐՈՇՄԱՆ NN 3 ԵՎ 4 ՀԱՎԵԼՎԱԾՆԵՐՈՒՄ ԿԱՏԱՐՎՈՂ ՓՈՓՈԽՈՒԹՅՈՒՆՆԵՐԸ
G5: հազար դրամներով
A6: Գործառնական դասիչը | D6: Ծրագրային դասիչը | F6: Բյուջետային ծախսերի գործառնական դասակարգման բաժինների, խմբերի և դասերի, բյուջետային ծրագրերի միջոցառումների, բյուջետային հատկացումների գլխավոր կարգադրիչների անվանումները | G6: Ցուցանիշների փոփոխությունը (ավելացումները նշված են դրական նշանով, իսկ նվազեցումները՝ փակագծերում)
A7: բաժին | B7: խումբ | C7: դաս | D7: ծրագիր | E7: միջոցառում | G7: Տարի
F8: ԸՆԴԱՄԵՆԸ ԾԱԽՍԵՐ | G8: =+G10+G29 -> 0
F9: այդ թվում՝
A10: 01 | F10: ԸՆԴՀԱՆՈՒՐ ԲՆՈՒՅԹԻ ՀԱՆՐԱՅԻՆ ԾԱՌԱՅՈՒԹՅՈՒՆՆԵՐ | G10: =+G12 -> 2000000
F11: այդ թվում՝
B12: 01 | F12: Օրենսդիր և գործադիր մարմիններ, պետական կառավարում, ֆինանսական և հարկաբյուջետային հարաբերություններ, արտաքին հարաբերություններ | G12: =G14 -> 2000000
F13: այդ թվում՝
C14: 02 | F14: Ֆինանսական և հարկաբյուջետային հարաբերություններ | G14: =G16 -> 2000000
F15: այդ թվում՝
F16: ՀՀ պետական եկամուտների կոմիտե | G16: =+G18 -> 2000000
F17: այդ թվում`
D18: 1239 | F18: Հիպոթեքային վարկի վճարված տոկոսների գումարի վերադարձ | G18: =+G20 -> 2000000
F19: այդ թվում`
E20: 12001 | F20: Հիպոթեքային վարկի վճարված տոկոսների գումարների վերադարձ | G20: =+G22 -> 2000000
F21: այդ թվում` ըստ կատարողների
F22: ՀՀ պետական եկամուտների կոմիտե | G22: =+G24 -> 2000000
F23: այդ թվում` բյուջետային ծախսերի տնտեսագիտական դասակարգման հոդվածներ
F24: ԸՆԴԱՄԵՆԸ ԾԱԽՍԵՐ | G24: =+G25 -> 2000000
F25: ԸՆԹԱՑԻԿ ԾԱԽՍԵՐ | G25: =+G26 -> 2000000
F26: ՍՈՑԻԱԼԱԿԱՆ ՆՊԱՍՏՆԵՐ ԵՎ ԿԵՆՍԱԹՈՇԱԿՆԵՐ | G26: =+G27 -> 2000000
F27: Սոցիալական օգնության դրամական արտահայտությամբ նպաստներ (բյուջեից) | G27: =+G28 -> 2000000
F28: - Այլ նպաստներ բյուջեից | G28: 2000000
A29: 11 | F29: ՀԻՄՆԱԿԱՆ ԲԱԺԻՆՆԵՐԻՆ ՉԴԱՍՎՈՂ ՊԱՀՈՒՍՏԱՅԻՆ ՖՈՆԴԵՐ | G29: =+G31 -> -2000000
F30: այդ թվում`
B31: 01 | F31: ՀՀ կառավարության և համայնքների պահուստային ֆոնդ | G31: =+G33 -> -2000000
F32: այդ թվում`
C33: 01 | F33: ՀՀ կառավարության պահուստային ֆոնդ | G33: =G35 -> -2000000
F34: այդ թվում`
F35: ՀՀ կառավարություն | G35: =G37 -> -2000000
F36: այդ թվում`
D37: 1139 | F37: ՀՀ կառավարության պահուստային ֆոնդ | G37: =G39+G47+G55 -> -2000000
F38: այդ թվում`
E39: 11001 | F39: ՀՀ կառավարության պահուստային ֆոնդ | G39: =+G41 -> -2000000
F40: այդ թվում` ըստ կատարողների
...

Sheet Հավելված 4
D1: Հավելված N 4
D2: ՀՀ կառավարության 2026 թվականի
D3: ___________ ___-ի N _______ որոշման
A4: ՀԱՅԱՍՏԱՆԻ ՀԱՆՐԱՊԵՏՈՒԹՅԱՆ ԿԱՌԱՎԱՐՈՒԹՅԱՆ 2025 ԹՎԱԿԱՆԻ ԴԵԿՏԵՄԲԵՐԻ 25-Ի N 1910-Ն ՈՐՈՇՄԱՆ N 5 ՀԱՎԵԼՎԱԾԻ N 2 ԱՂՅՈՒՍԱԿՈՒՄ ԿԱՏԱՐՎՈՂ ՓՈՓՈԽՈՒԹՅՈՒՆՆԵՐԸ
D5: հազար դրամներով
A6: Ծրագրային դասիչը | C6: Բյուջետային գլխավոր կարգադրիչների, ծրագրերի, միջոցառումների, միջոցառումները կատարող պետական մարմինների և ուղղությունների անվանումները | D6: Ցուցանիշների փոփոխությունը (նվազեցումները նշված են փակագծերում)
A7: Ծրագիրը | B7: Միջոցառումը | D7: Տարի
C8: ԸՆԴԱՄԵՆԸ | D8: =D10 -> -2000000
C9: այդ թվում՝
C10: ՀՀ կառավարություն | D10: =D12 -> -2000000
C11: այդ թվում՛
A12: 1139 | B12: 11003 | C12: Հարկաբյուջետային ռիսկերի կառավարման պահուստ | D12: =D14 -> -2000000
C13: այդ թվում` ըստ կատարողների
C14: ՀՀ կառավարություն | D14: =+'Հավելված 3'!G55 -> -2000000

Sheet Հավելված 5
J1: Հավելված N 5
J2: ՀՀ կառավարության 2026 թվականի
J3: ___________ ___-ի N _______ որոշման
A4: ՀԱՅԱՍՏԱՆԻ ՀԱՆՐԱՊԵՏՈՒԹՅԱՆ ԿԱՌԱՎԱՐՈՒԹՅԱՆ 2025 ԹՎԱԿԱՆԻ ԴԵԿՏԵՄԲԵՐԻ 25-Ի N 1910-Ն ՈՐՈՇՄԱՆ N 9 ՀԱՎԵԼՎԱԾՈՒՄ ԿԱՏԱՐՎՈՂ ՓՈՓՈԽՈՒԹՅՈՒՆՆԵՐԸ
J5: հազար դրամներով
A6: ԲԳԿ | B6: Ծրագիր | D6: Միջոցառում | H6: Իրականացնողը/ ակտիվն օգտագործողը/ շահառուի ընտրության չափորոշիչը | I6: Արդյունքային չափորոշիչը | J6: Ցուցանիշների փոփոխությունը (ավելացումները նշված են դրական նշանով, իսկ նվազեցումները՝ փակագծերում)
B7: Դասիչը | C7: Անվանումը | D7: Դասիչը | E7: Անվա-նումը | F7: Նկարագրու-թյունը | G7: Տեսակը | J7: Տարի
A8: ԸՆԴԱՄԵՆԸ | J8: =+J9+J16 -> 0
A9: ՀՀ պետական եկամուտների կոմիտե | J9: =J10 -> 2000000
B10: 1239 | C10: Հիպոթեքային վարկի վճարված տոկոսների գումարի վերադարձ | J10: =J11 -> 2000000
D11: 1239 - 12001 | E11: Հիպոթեքային վարկի վճարված տոկոսների գումարների վերադարձ | J11: =+'Հավելված 3'!G20 -> 2000000
F12: Հիպոթեքային վարկի սպասարկման համար վճարված տոկոսների գումարների չափով վարձու աշխատողների, անհատ ձեռնարկատերերի և նոտարների կողմից վճարված եկամտային հարկի գումարների վերադարձ
G13: Տրանսֆերտների տրամադրում
H14: Շահառուների ընտրության չափորոշիչները` ՀՀ պետական եկամուտների կոմիտե
I15: Տվյալ տարվա ընթացքում հիպոթեքային վարկի գծով փոխհատուցում ստացող անձանց թվաքանակ | J15: 4570.3839
A16: ՀՀ կառավարություն | J16: =+J17 -> -2000000
B17: 1139 | C17: ՀՀ կառավարության պահուստային ֆոնդ | J17: =J18 -> -2000000
D18: 1139 - 11001 | E18: ՀՀ կառավարության պահուստային ֆոնդ | J18: ='Հավելված 3'!G39 -> -2000000
F19: ՀՀ պետական բյուջեում նախատեսված ելքերի լրացուցիչ ֆինանսավորման, պետական բյուջեում չկանխատեսված ելքերի, ինչպես նաև բյուջետային երաշխիքների ապահովման ելքերի ֆինանսավորման ապահովում
G20: Ծառայությունների մատուցում
H21: Ծառայությունը մատուցողի անվանումը` ՀՀ կառավարություն
D22: 1139 - 11001 | E22: ՀՀ կառավարության պահուստային ֆոնդ | J22: =+'Հավելված 3'!G47 -> 2000000
F23: ՀՀ պետական բյուջեում նախատեսված ելքերի լրացուցիչ ֆինանսավորման, պետական բյուջեում չկանխատեսված ելքերի, ինչպես նաև բյուջետային երաշխիքների ապահովման ելքերի ֆինանսավորման ապահովում
G24: Ծառայությունների մատուցում
H25: Ծառայությունը մատուցողի անվանումը` ՀՀ կառավարություն
D26: 1139-11003 | E26: Հարկաբյուջետային ռիսկերի կառավարման պահուստ | J26: =+'Հավելված 3'!G55 -> -2000000
F27: Հարկաբյուջետայի ռիսկերի կառավարման նպատակով նախատեսված միջոցներ
G28: Ծառայությունների մատուցում
H29: Ծառայությունը մատուցողի անվանումը` ՀՀ կառավարություն

Sheet Հավելված 6
J1: Հավելված N 6
J2: ՀՀ կառավարության 2026 թվականի
J3: ___________ ___-ի N _______ որոշման
A4: ՀԱՅԱՍՏԱՆԻ ՀԱՆՐԱՊԵՏՈՒԹՅԱՆ ԿԱՌԱՎԱՐՈՒԹՅԱՆ 2025 ԹՎԱԿԱՆԻ ԴԵԿՏԵՄԲԵՐԻ 25-Ի N 1910-Ն ՈՐՈՇՄԱՆ N 9.1 ՀԱՎԵԼՎԱԾՈՒՄ ԿԱՏԱՐՎՈՂ ՓՈՓՈԽՈՒԹՅՈՒՆՆԵՐԸ
J5: հազար դրամներով
A6: ԲՍԿ | B6: Ծրագիր | D6: Միջոցառում | H6: Իրականացնողը/ ակտիվն օգտագործողը/ շահառուի ընտրության չափորոշիչը | I6: Արդյունքային չափորոշիչը | J6: Ցուցանիշների փոփոխությունը (ավելացումները նշված են դրական նշանով, իսկ նվազեցումները՝ փակագծերում)
B7: Դասիչը | C7: Անվանումը | D7: Դասիչը | E7: Անվա-նումը | F7: Նկարագրու-թյունը | G7: Տեսակը | J7: Տարի
A8: ԸՆԴԱՄԵՆԸ | J8: =+J9+J16 -> 0
A9: ՀՀ պետական եկամուտների կոմիտե | J9: =+J10 -> 2000000
B10: 1239 | C10: Հիպոթեքային վարկի վճարված տոկոսների գումարի վերադարձ | J10: =J11 -> 2000000
D11: 1239 - 12001 | E11: Հիպոթեքային վարկի վճարված տոկոսների գումարների վերադարձ | J11: =+'Հավելված 5'!J11 -> 2000000
F12: Հիպոթեքային վարկի սպասարկման համար վճարված տոկոսների գումարների չափով վարձու աշխատողների, անհատ ձեռնարկատերերի և նոտարների կողմից վճարված եկամտային հարկի գումարների վերադարձ
G13: Տրանսֆերտների տրամադրում
H14: Շահառուների ընտրության չափորոշիչները` ՀՀ պետական եկամուտների կոմիտե
I15: Տվյալ տարվա ընթացքում հիպոթեքային վարկի գծով փոխհատուցում ստացող անձանց թվաքանակ | J15: 4570.3839
A16: ՀՀ կառավարություն | J16: =+J17 -> -2000000
B17: 1139 | C17: ՀՀ կառավարության պահուստային ֆոնդ | J17: =J18 -> -2000000
D18: 1139 - 11001 | E18: ՀՀ կառավարության պահուստային ֆոնդ | J18: =+'Հավելված 5'!J18 -> -2000000
F19: ՀՀ պետական բյուջեում նախատեսված ելքերի լրացուցիչ ֆինանսավորման, պետական բյուջեում չկանխատեսված ելքերի, ինչպես նաև բյուջետային երաշխիքների ապահովման ելքերի ֆինանսավորման ապահովում
G20: Ծառայությունների մատուցում
H21: Ծառայությունը մատուցողի անվանումը` ՀՀ կառավարություն
D22: 1139 - 11001 | E22: ՀՀ կառավարության պահուստային ֆոնդ | J22: =+'Հավելված 5'!J22 -> 2000000
F23: ՀՀ պետական բյուջեում նախատեսված ելքերի լրացուցիչ ֆինանսավորման, պետական բյուջեում չկանխատեսված ելքերի, ինչպես նաև բյուջետային երաշխիքների ապահովման ելքերի ֆինանսավորման ապահովում
G24: Ծառայությունների մատուցում
H25: Ծառայությունը մատուցողի անվանումը` ՀՀ կառավարություն
D26: 1139-11003 | E26: Հարկաբյուջետային ռիսկերի կառավարման պահուստ | J26: =+'Հավելված 5'!J26 -> -2000000
F27: Հարկաբյուջետայի ռիսկերի կառավարման նպատակով նախատեսված միջոցներ
G28: Ծառայությունների մատուցում
H29: Ծառայությունը մատուցողի անվանումը` ՀՀ կառավարություն
