Workbook
Name _1__հայտարարվել_է_նախ_մրցույթ: #REF!
Name _1__հայտարարվել_է_նախ_մրցույթ: #REF!
Name _1__հայտարարվել_է_նախ_մրցույթ: #REF!
Name _tab10: #REF!
Name _tab10: #REF!
Name _tab10: #REF!
Name _tab10: #REF!
Name _tab11: #REF!
Name _tab11: #REF!
Name _tab11: #REF!
Name _tab11: #REF!
Name _tab12: #REF!
Name _tab12: #REF!
Name _tab12: #REF!
Name _tab12: #REF!
Name _tab13: #REF!
Name _tab13: #REF!
Name _tab13: #REF!
Name _tab13: #REF!
Name _tab14: #REF!
Name _tab14: #REF!
Name _tab14: #REF!
Name _tab14: #REF!
Name _tab15: #REF!
Name _tab15: #REF!
Name _tab15: #REF!
Name _tab15: #REF!
Name _tab16: #REF!
Name _tab16: #REF!
Name _tab16: #REF!
Name _tab16: #REF!
Name _tab17: #REF!
Name _tab17: #REF!
Name _tab17: #REF!
Name _tab17: #REF!
Name _tab18: #REF!
Name _tab18: #REF!
Name _tab18: #REF!
Name _tab18: #REF!
Name _tab19: #REF!
Name _tab19: #REF!
Name _tab19: #REF!
Name _tab19: #REF!
Name _tab20: #REF!
Name _tab20: #REF!
Name _tab20: #REF!
Name _tab20: #REF!
Name _tab21: #REF!
Name _tab21: #REF!
Name _tab21: #REF!
Name _tab21: #REF!
Name _tab22: #REF!
Name _tab22: #REF!
Name _tab22: #REF!
Name _tab22: #REF!
Name _tab22222: #REF!
Name _tab22222: #REF!
Name _tab22222: #REF!
Name _tab22222: #REF!
Name _tab23: #REF!

Sheet 1
A1: Հավելված № 1
A2: ՀՀ կառավարության 2026 թվականի
A3: __________ «____» -ի
A4: N_____ -Ն որոշման
A5: «ՀԱՅԱՍՏԱՆԻ ՀԱՆՐԱՊԵՏՈՒԹՅԱՆ 2026 ԹՎԱԿԱՆԻ ՊԵՏԱԿԱՆ ԲՅՈՒՋԵԻ ՄԱՍԻՆ» ՀԱՅԱՍՏԱՆԻ ՀԱՆՐԱՊԵՏՈՒԹՅԱՆ ՕՐԵՆՔԻ № 1 ՀԱՎԵԼՎԱԾԻ № 3 ԱՂՅՈՒՍԱԿՈՒՄ ԿԱՏԱՐՎՈՂ ՓՈՓՈԽՈՒԹՅՈՒՆՆԵՐԸ
A6: (հազար դրամներով)
A7: Ծրագրային դասիչ | C7: Բյուջետային գլխավոր կարգադրիչների, ծրագրերի, միջոցառումների և ուղղությունների անվանումները | D7: Ցուցանիշների փոփոխությունները (ավելացումները նշված են դրական նշանով, իսկ նվազեցումները՝ բացասական)
D8: Ընդամենը | E8: այդ թվում`
A9: Ծրագիր | B9: Միջոց առում | E9: Կառուցման աշխատանքներ | F9: Վերակառուցման, վերանորոգման և վերականգնման աշխատանքներ | G9: Նախագծահե- տազոտական, գեոդեզիա- քարտեզագրական աշխատանքներ | H9: Ոչ ֆինանսական այլ ակտիվների ձեռքբերում
C10: ԸՆԴԱՄԵՆԸ | D10: =+D11 -> 0 | E10: =+E11 -> -10344 | F10: =+F11 -> 1344 | G10: =+G11 -> 9000 | H10: =+H11 -> 0
C11: ՀՀ առողջապահության նախարարություն | D11: =+D13 -> 0 | E11: =+E13 -> -10344 | F11: =+F13 -> 1344 | G11: =+G13 -> 9000 | H11: =+H13 -> 0
C12: այդ թվում՛
A13: 1126 | B13: 31003 | C13: Առողջապահական կազմակերպությունների կառուցում, վերակառուցում | D13: =+D15+D17+D19+D21 -> 0 | E13: =+E15+E17+E19+E21 -> -10344 | F13: =+F15+F17+F19+F21 -> 1344 | G13: =+G15+G17+G19+G21 -> 9000 | H13: =+H15+H17+H19+H21 -> 0
C14: այդ թվում`
C15: ՀՀ Արարատի մարզ | D15: =SUM(D16:D16) -> 1344 | E15: =SUM(E16:E16) -> 0 | F15: =SUM(F16:F16) -> 1344 | G15: =SUM(G16:G16) -> 0 | H15: =SUM(H16:H16) -> 0
C16: ՀՀ ԱՆ «Արտաշատի բժշկական կենտրոն» ՓԲԸ | D16: =+E16+F16+G16+H16 -> 1344 | E16: 0 | F16: =+'3'!D16 -> 1344 | G16: 0 | H16: 0
C17: ՀՀ Կոտայքի մարզ | D17: =SUM(D18:D18) -> -1344 | E17: =SUM(E18:E18) -> -1344 | F17: =SUM(F18:F18) -> 0 | G17: =SUM(G18:G18) -> 0 | H17: =SUM(H18:H18) -> 0
C18: ՀՀ ԱՆ Եղվարդի «Նաիրիի բժշկական կենտրոն» ՓԲԸ | D18: =+E18+F18+G18+H18 -> -1344 | E18: =+'3'!D18 -> -1344 | F18: 0 | G18: 0 | H18: 0
C19: ՀՀ Լոռու մարզ | D19: =SUM(D20:D20) -> 0 | E19: =SUM(E20:E20) -> -4500 | F19: =SUM(F20:F20) -> 0 | G19: =SUM(G20:G20) -> 4500 | H19: =SUM(H20:H20) -> 0
C20: ՀՀ Լոռու մարզի «Տաշիրի բժշկական կենտրոն» ՓԲԸ | D20: =+E20+F20+G20+H20 -> 0 | E20: -4500 | G20: 4500
C21: ՀՀ Շիրակի մարզ | D21: =SUM(D22:D22) -> 0 | E21: =SUM(E22:E22) -> -4500 | F21: =SUM(F22:F22) -> 0 | G21: =SUM(G22:G22) -> 4500 | H21: =SUM(H22:H22) -> 0
C22: ՀՀ ԱՆ «Արթիկի բժշկական կենտրոն» ՓԲԸ | D22: =+E22+F22+G22+H22 -> 0 | E22: -4500 | G22: 4500

Sheet 2
A1: Հավելված № 2
A2: ՀՀ կառավարության 2026 թվականի
A3: __________ «____» -ի
A4: N_____ -Ն որոշման
A5: ՀԱՅԱՍՏԱՆԻ ՀԱՆՐԱՊԵՏՈՒԹՅԱՆ ԿԱՌԱՎԱՐՈՒԹՅԱՆ 2025 ԹՎԱԿԱՆԻ ԴԵԿՏԵՄԲԵՐԻ 25-Ի № 1910-Ն ՈՐՈՇՄԱՆ №№ 3 ԵՎ 4 ՀԱՎԵԼՎԱԾՆԵՐՈՒՄ ԿԱՏԱՐՎՈՂ ՓՈՓՈԽՈՒԹՅՈՒՆՆԵՐԸ
A6: (հազար դրամներով)
A7: Գործառական դասիչը | D7: Ծրագրային դասիչը | F7: Բյուջետային հատկացումների գլխավոր կարգադրիչների, ծրագրերի, միջոցառումների և միջոցառումները կատարող պետական մարմինների անվանումները | G7: Ցուցանիշների փոփոխությունները (ավելացումը նշված է դրական նշանով, իսկ նվազեցումը` փակագծերում)
A8: բաժին | B8: խումբ | C8: դաս | D8: Ծրագիր | E8: Միջոցառում | G8: Տարի
A9: ԸՆԴԱՄԵՆԸ | G9: =+G10 -> 0
A10: 07 | F10: ԱՌՈՂՋԱՊԱՀՈՒԹՅՈՒՆ | G10: =+G12 -> 0
F11: այդ թվում՝
B12: 06 | F12: Առողջապահություն (այլ դասերին չպատկանող) | G12: =+G14 -> 0
F13: այդ թվում՝
C14: 02 | F14: Առողջապահություն (այլ դասերին չպատկանող) | G14: =+G16 -> 0
F15: այդ թվում՝
D16: 1126 | F16: Առողջապահության ոլորտում պետական քաղաքականության մշակում, ծրագրերի համակարգում և մոնիտորինգ | G16: =+G20 -> 0
F17: այդ թվում՝
F18: ՀՀ առողջապահության նախարարություն | G18: =+G20 -> 0
F19: այդ թվում`
E20: 31003 | F20: Առողջապահական կազմակերպությունների կառուցում, վերակառուցում | G20: =+G22 -> 0
F21: այդ թվում ըստ կատարողների
F22: ՀՀ քաղաքաշինության կոմիտե | G22: =+G24 -> 0
F23: այդ թվում` բյուջետային ծախսերի տնտեսագիտական դասակարգման հոդվածներ
F24: ԸՆԴԱՄԵՆԸ ԾԱԽՍԵՐ | G24: =+G25 -> 0
F25: ՈՉ ՖԻՆԱՆՍԱԿԱՆ ԱԿՏԻՎՆԵՐԻ ԳԾՈՎ ԾԱԽՍԵՐ | G25: =+G26 -> 0
F26: ՀԻՄՆԱԿԱՆ ՄԻՋՈՑՆԵՐ | G26: =+G27+G30 -> 0
F27: ՇԵՆՔԵՐ ԵՎ ՇԻՆՈՒԹՅՈՒՆՆԵՐ | G27: =+G28+G29 -> -9000
F28: - Շենքերի և շինությունների շինարարություն | G28: =+'3'!D18-9000 -> -10344
F29: - Շենքերի և շինությունների կապիտալ վերանորոգում | G29: =+'3'!D16 -> 1344
F30: ԱՅԼ ՀԻՄՆԱԿԱՆ ՄԻՋՈՑՆԵՐ | G30: =+G31 -> 9000
F31: - Նախագծահետազոտական ծախսեր | G31: 9000

Sheet 3
A1: Հավելված № 3
A2: ՀՀ կառավարության 2026 թվականի
A3: __________ «____» -ի
A4: N_____ -Ն որոշման
A5: ՀԱՅԱՍՏԱՆԻ ՀԱՆՐԱՊԵՏՈՒԹՅԱՆ ԿԱՌԱՎԱՐՈՒԹՅԱՆ 2025 ԹՎԱԿԱՆԻ ԴԵԿՏԵՄԲԵՐԻ 25-Ի № 1910-Ն ՈՐՈՇՄԱՆ № 5 ՀԱՎԵԼՎԱԾԻ № 2 ԱՂՅՈՒՍԱԿՈՒՄ ԿԱՏԱՐՎՈՂ ՓՈՓՈԽՈՒԹՅՈՒՆՆԵՐԸ
A6: (հազար դրամներով)
A7: Ծրագրային դասիչ | C7: Բյուջետային գլխավոր կարգադրիչների, ծրագրերի, միջոցառումների և ուղղությունների անվանումները | D7: Ցուցանիշների փոփոխությունները (ավելացումը նշված է դրական նշանով, իսկ նվազեցումը` փակագծերում)
A8: Ծրագիր | B8: Միջոցառում | D8: Տարի
C9: ՀՀ ԱՌՈՂՋԱՊԱՀՈՒԹՅԱՆ ՆԱԽԱՐԱՐՈՒԹՅՈՒՆ | D9: =+D11 -> 0
C10: այդ թվում՝
A11: 1126 | B11: 31003 | C11: Առողջապահական կազմակերպությունների կառուցում, վերակառուցում | D11: =+D13 -> 0
C12: այդ թվում` ըստ կատարողների
C13: ՀՀ քաղաքաշինության կոմիտե | D13: =+D15+D17 -> 0
C14: այդ թվում` ըստ ուղղությունների
C15: ՀՀ Արարատի մարզ | D15: =SUM(D16:D16) -> 1344
C16: ՀՀ ԱՆ «Արտաշատի բժշկական կենտրոն» ՓԲԸ | D16: =+-D18 -> 1344
C17: ՀՀ Կոտայքի մարզ | D17: =+D18 -> -1344
C18: ՀՀ ԱՆ Եղվարդի «Նաիրիի բժշկական կենտրոն» ՓԲԸ | D18: -1344

Sheet 4
B1: Հավելված № 4
B2: ՀՀ կառավարության 2025 թվականի
B3: __________ «____» -ի
B4: N_____ -Ն որոշման
B5: ՀԱՅԱՍՏԱՆԻ ՀԱՆՐԱՊԵՏՈՒԹՅԱՆ ԿԱՌԱՎԱՐՈՒԹՅԱՆ 2025 ԹՎԱԿԱՆԻ ԴԵԿՏԵՄԲԵՐԻ 25-Ի № 1910-Ն ՈՐՈՇՄԱՆ № 9 ՀԱՎԵԼՎԱԾՈՒՄ ԿԱՏԱՐՎՈՂ ՓՈՓՈԽՈՒԹՅՈՒՆՆԵՐԸ
A6: (հազար դրամներով)
A7: ԲԳԿ | B7: Ծրագիր | D7: Միջոցառում | H7: Իրականացնողը/ ակտիվն օգտագործողը/ շահառուի ընտրության չափորոշիչը | I7: Արդյունքային չափորոշիչը | J7: Ցուցանիշների փոփոխությունները (ավելացումները նշված են դրական նշանով)
B8: Դասիչը | C8: Անվանումը | D8: Դասիչը | E8: Անվանումը | F8: Նկարագրությունը | G8: Տեսակը | J8: Տարի
A9: ԸՆԴԱՄԵՆԸ | J9: =+J10 -> 0
A10: ՀՀ առողջապահության նախարարություն | J10: =+J11 -> 0
B11: 1126 | C11: Առողջապահության ոլորտում պետական քաղաքականության մշակում, ծրագրերի համակարգում և մոնիտորինգ | J11: =+J12 -> 0
D12: 1126-31003 | E12: Առողջապահական կազմակերպությունների կառուցում, վերակառուցում | J12: =+'3'!D9 -> 0
F13: Բնակչությանը որակյալ բժշկական օգնության և սպասարկման ծառայություններ մատուցելու նպատակով առողջապահական կազմակերպությունների կառուցում, վերակառուցում
G14: Պետական մարմինների կողմից օգտագործվող ոչ ֆինանսական ակտիվների հետ գործառնություններ
H15: Ակտիվն օգտագործող կազմակերպության անվանումը` Բժշկական կազմակերպություններ
H16: Նախագծանախահաշվային փաստաթղթերի քանակ, հատ | J16: 2

Sheet 5
B1: Հավելված № 5
B2: ՀՀ կառավարության 2026 թվականի
B3: __________ «____» -ի
B4: N_____ -Ն որոշման
B5: ՀԱՅԱՍՏԱՆԻ ՀԱՆՐԱՊԵՏՈՒԹՅԱՆ ԿԱՌԱՎԱՐՈՒԹՅԱՆ 2025 ԹՎԱԿԱՆԻ ԴԵԿՏԵՄԲԵՐԻ 25-Ի № 1910-Ն ՈՐՈՇՄԱՆ № 9.1 ՀԱՎԵԼՎԱԾՈՒՄ ԿԱՏԱՐՎՈՂ ՓՈՓՈԽՈՒԹՅՈՒՆՆԵՐԸ
A6: (հազար դրամներով)
A7: ԲՍԿ | B7: Ծրագիր | D7: Միջոցառում | H7: Իրականացնողը/ ակտիվն օգտագործողը/ շահառուի ընտրության չափորոշիչը | I7: Արդյունքային չափորոշիչը | J7: Ցուցանիշների փոփոխությունները (ավելացումները նշված են դրական նշանով)
B8: Դասիչը | C8: Անվանումը | D8: Դասիչը | E8: Անվանումը | F8: Նկարագրությունը | G8: Տեսակը | J8: Տարի
A9: ԸՆԴԱՄԵՆԸ | J9: =+J10+J16 -> 0
A10: ՀՀ առողջապահության նախարարություն | J10: =+J11 -> 0
B11: 1126 | C11: Առողջապահության ոլորտում պետական քաղաքականության մշակում, ծրագրերի համակարգում և մոնիտորինգ | J11: =+J12 -> 0
D12: 1126 - 31003 | E12: Առողջապահական կազմակերպությունների կառուցում, վերակառուցում | J12: 0
F13: Բնակչությանը որակյալ բժշկական օգնության և սպասարկման ծառայություններ մատուցելու նպատակով առողջապահական կազմակերպությունների կառուցում, վերակառուցում
G14: Պետական մարմինների կողմից օգտագործվող ոչ ֆինանսական ակտիվների հետ գործառնություններ
H15: Ակտիվն օգտագործող կազմակերպության անվանումը` Բժշկական կազմակերպություններ
A16: ՀՀ քաղաքաշինության կոմիտե | J16: =+J18 -> 0
B17: 1126 | C17: Առողջապահության ոլորտում պետական քաղաքականության մշակում, ծրագրերի համակարգում և մոնիտորինգ | J17: =+J18 -> 0
D18: 1126 - 31003 | E18: Առողջապահական կազմակերպությունների կառուցում, վերակառուցում | J18: 0
F19: Բնակչությանը որակյալ բժշկական օգնության և սպասարկման ծառայություններ մատուցելու նպատակով առողջապահական կազմակերպությունների կառուցում, վերակառուցում
G20: Պետական մարմինների կողմից օգտագործվող ոչ ֆինանսական ակտիվների հետ գործառնություններ
H21: Ակտիվն օգտագործող կազմակերպության անվանումը` Բժշկական կազմակերպություններ
H22: Նախագծանախահաշվային փաստաթղթերի քանակ, հատ | J22: 2

Sheet 6
A1: Հավելված № 6
A2: ՀՀ կառավարության 2026 թվականի
A3: __________ «____» -ի
A4: N_____ -Ն որոշման
A5: ՀԱՅԱՍՏԱՆԻ ՀԱՆՐԱՊԵՏՈՒԹՅԱՆ ԿԱՌԱՎԱՐՈՒԹՅԱՆ 2025 ԹՎԱԿԱՆԻ ԴԵԿՏԵՄԲԵՐԻ 25-Ի № 1910-Ն ՈՐՈՇՄԱՆ № 10 ՀԱՎԵԼՎԱԾՈՒՄ ԿԱՏԱՐՎՈՂ ՓՈՓՈԽՈՒԹՅՈՒՆՆԵՐԸ ԵՎ ԼՐԱՑՈՒՄՆԵՐԸ
A6: Կոդը | B6: Անվանումը | E6: Գնման ձևը | F6: Չափման միավորը | G6: Միավորի գինը | H6: Քանակը | I6: Ցուցանիշների փոփոխությունները (ավելացումները նշված են դրական նշանով, իսկ նվազեցումները` փակագծերում)
I7: (հազար դրամներով)
A8: ԸՆԴԱՄԵՆԸ | I8: =+I9 -> 0
A9: ՀՀ քաղաքաշինության կոմիտե | I9: =+I10 -> 0
A10: Բաժին 07 | B10: Խումբ 06 | C10: Դաս 02 | D10: Առողջապահություն (այլ դասերին չպատկանող) | I10: =+I11 -> 0
A11: 1126 31003 | B11: Առողջապահական կազմակերպությունների կառուցում, վերակառուցում | I11: =+I12+I16 -> 0
B12: ՄԱՍ II. ԱՇԽԱՏԱՆՔՆԵՐ | I12: =SUM(I13:I15) -> -10344
A13: 45211250-4 | B13: առողջապահության հետ կապված շենքերի կառուցման աշխատանքներ | E13: ԲՄ | F13: դրամ | I13: =+'3'!D18 -> -1344
A14: 45211250/6 | B14: առողջապահության հետ կապված շենքերի կառուցման աշխատանքներ | E14: ԲՄ | F14: դրամ | I14: -4500
A15: 45211250/5 | B15: առողջապահության հետ կապված շենքերի կառուցման աշխատանքներ | E15: ԲՄ | F15: դրամ | I15: -4500
B16: ՄԱՍ III. ԾԱՌԱՅՈՒԹՅՈՒՆՆԵՐ | I16: =SUM(I17:I20) -> 10344
A17: 71351540-43 | B17: տեխնիկական հսկողության ծառայություններ | E17: ՀՄԱ | F17: դրամ | I17: 1090.2
A18: 98111140-27 | B18: հեղինակային հսկողության ծառայություններ | E18: ՄԱ | F18: դրամ | I18: 253.8
A19: 71241200 | B19: նախագծերի պատրաստում, ծախսերի գնահատում | E19: ՄԱ | F19: դրամ | G19: 4500000 | H19: 1 | I19: =+G19*H19/1000 -> 4500
A20: 71241200/501 | B20: նախագծերի պատրաստում, ծախսերի գնահատում | E20: ՀՄԱ | F20: դրամ | G20: 4500000 | H20: 1 | I20: =+G20*H20/1000 -> 4500
