Workbook

Sheet 1
G2: Հավելված N 1
G3: ՀՀ կառավարության 2026 թվականի
G4: ___________ ___-ի N _______ որոշման
A5: «ՀԱՅԱՍՏԱՆԻ ՀԱՆՐԱՊԵՏՈՒԹՅԱՆ 2026 ԹՎԱԿԱՆԻ ՊԵՏԱԿԱՆ ԲՅՈՒՋԵԻ ՄԱՍԻՆ» ՀՀ ՕՐԵՆՔԻ N 1 ՀԱՎԵԼՎԱԾԻ N 2 ԱՂՅՈՒՍԱԿՈՒՄ ԿԱՏԱՐՎՈՂ ՎԵՐԱԲԱՇԽՈՒՄՆԵՐԸ, ԼՐԱՑՈՒՄԸ ԵՎ ՀԱՅԱՍՏԱՆԻ ՀԱՆՐԱՊԵՏՈՒԹՅԱՆ ԿԱՌԱՎԱՐՈՒԹՅԱՆ 2025 ԹՎԱԿԱՆԻ ԴԵԿՏԵՄԲԵՐԻ 25-Ի N 1910-Ն ՈՐՈՇՄԱՆ N 5 ՀԱՎԵԼՎԱԾԻ N1 ԱՂՅՈՒՍԱԿՈՒՄ ԿԱՏԱՐՎՈՂ ՓՈՓՈԽՈՒԹՅՈՒՆՆԵՐԸ ԵՎ ԼՐԱՑՈՒՄՆԵՐԸ
A8: ԲԳԿ | B8: Ծրագրային դասիչը | D8: ԲԳԿ/Ծրագրի /միջոցառման անվանումը | E8: Ծրագրի նպատակը/Միջոցառման նկարագրությունը | F8: Վերջնական արդյունքի նկարագրությունը/Միջոցառման տեսակը | G8: Ցուցանիշների փոփոխությունը (ավելացումները նշված են դրական նշանով, իսկ նվազեցումները՝ փակագծերում)
B9: Ծրագիր | C9: Միջոցառում | G9: Տարի
A10: ԸՆԴԱՄԵՆԸ | G10: =+G11 -> 0
A11: ՀՀ քաղաքաշինության կոմիտե | G11: =+G12 -> 0
B12: 1103 | D12: Քաղաքաշինության և ճարտարապետության բնագավառում պետական քաղաքականության իրականացում և կանոնակարգում | E12: Քաղաքաշինության և ճարտարապետության բնագավառում պետական քաղաքականության մշակմանն աջակցություն և իրականացման ապահովում | F12: Քաղաքաշինության գործունեության կանոնակարգում, քաղաքաշինական տեղեկատվական համակարգի ձևավորում և քաղաքաշինության բնագավառում պետական ծրագրերի իրականացման ապահովում | G12: =+G14+G16+G15+G13 -> 0
C13: 1103 - 11001 | D13: Քաղաքաշինության և ճարտարապետության բնագավառում պետական քաղաքականության մշակման, իրականացման, համակարգման, պլանավորման, մոնիտորինգի, կապիտալ ծրագրերի կատարման, պետական գնումների իրականացման ծառայություն | E13: Քաղաքաշինության և ճարտարապետության բնագավառում քաղաքականության մշակում, կատարման համակարգում, պլանավորում, իրականացում, մոնիտորինգ, լիցենզավորում, հաշվետվողականություն, աուդիտ, պետական գնումների իրականացում, հասարակությանը ոլորտի ծրագրերի իրազեկում | F13: Ծառայությունների մատուցում | G13: 7750
C14: 1103 - 11013 | D14: Շինարարական օբյեկտների չափագրման, վերաչափագրման և փաստագրման ծառայություններ | E14: Չափագրման, վերաչափագրման և փաստագրման ծառայություններ ձեռք բերելու վճարների ապահովում | F14: Ծառայությունների մատուցում | G14: 1300.1
C15: 1103 - 21001 | D15: Քաղաքաշինության բնագավառում պետական ծրագրերի իրականացման ապահովում | E15: Նախագծանախահաշվային փաստաթղթերի, ինչպես նաեւ հիմնանորոգման, վերակառուցման, կառուցման աշխատանքների ձեռքբերում | F15: Հանրության կողմից անմիջականորեն օգտագործվող ակտիվների հետ կապված միջոցառումներ | G15: 9100
C16: 1103 - 11002 | D16: Նորմատիվատեխնիկական փաստաթղթերի մշակում և տեղայնացում | E16: Միջպետական (տարածաշրջանային), միջազգային և եվրոպական նորմերին ու ստանդարտներին համահունչ ազգային քաղաքաշինական նորմատիվ փաստաթղթերի մշակում, տեղայնացում, արդիականացում և բազայի համալրում | F16: Ծառայությունների մատուցում | G16: =-10400.1-7750 -> -18150.1
A17: ՀՀ կառավարություն | G17: =+G18 -> 0
B18: 1139 | D18: ՀՀ կառավարության պահուստային ֆոնդ | E18: Պետական բյուջեում չկանխատեսված, ինչպես նաեւ բյուջետային երաշխիքների ապահովման ծախսերի ֆինանսավորման ապահովում | F18: Պահուստային ֆոնդի կառավարման արդյունավետության և թափանցիկության ապահովում | G18: =+G19+G20 -> 0
C19: 1139 - 11001 | D19: ՀՀ կառավարության պահուստային ֆոնդ | E19: ՀՀ պետական բյուջեում նախատեսված ելքերի լրացուցիչ ֆինանսավորման, պետական բյուջեում չկանխատեսված ելքերի, ինչպես նաև բյուջետային երաշխիքների ապահովման ելքերի ֆինանսավորման ապահովում | F19: Ծառայությունների մատուցում | G19: 9100
C20: 1139 - 11001 | D20: ՀՀ կառավարության պահուստային ֆոնդ | E20: ՀՀ պետական բյուջեում նախատեսված ելքերի լրացուցիչ ֆինանսավորման, պետական բյուջեում չկանխատեսված ելքերի, ինչպես նաև բյուջետային երաշխիքների ապահովման ելքերի ֆինանսավորման ապահովում | F20: Ծառայությունների մատուցում | G20: -9100

Sheet 2.
H1: Հավելված № 2
H2: ՀՀ կառավարության 2026 թվականի ----------
H3: № ---------- որոշման
A6: «ՀԱՅԱՍՏԱՆԻ ՀԱՆՐԱՊԵՏՈՒԹՅԱՆ 2026 ԹՎԱԿԱՆԻ ՊԵՏԱԿԱՆ ԲՅՈՒՋԵԻ ՄԱՍԻՆ» ՀՀ ՕՐԵՆՔԻ N 1 ՀԱՎԵԼՎԱԾԻ N 3 ԱՂՅՈՒՍԱԿՈՒՄ ԿԱՏԱՐՎՈՂ ՓՈՓՈԽՈՒԹՅՈՒՆԸ ԵՎ ԼՐԱՑՈՒՄԸ
G7: հազար դրամ
A8: Ծրագրային դասիչը | C8: Բյուջետային գլխավոր կարգադրիչների, ծրագրերի և միջոցառումների և ուղղությունների անվանումները | D8: Ընդամենը | E8: Ցուցանիշների փոփոխությունը ( ավելացումները նշված են դրական նշանով, իսկ նվազեցումները նշված են փակագծերում)
E9: այդ թվում
A10: Ծրագիր | B10: Միջոցառում | E10: Կառուցման աշխատանքներ | F10: Վերակառուցման, վերանորոգման և վերականգնման աշխատանքներ | G10: Նախագծահե- տազոտական, գեոդեզիա- քարտեզագրա- կան աշխա- տանքներ | H10: Ոչ ֆինանսական այլ ակտիվների ձեռքբերում
C11: Ընդամենը | D11: =D13 -> -9050.1 | E11: =E13 -> 0 | F11: =F13 -> 0 | G11: =G13 -> -9050.1 | H11: =H13 -> 0
C12: այդ թվում`
C13: ՀՀ քաղաքաշինության կոմիտե | D13: =SUM(E13:H13) -> -9050.1 | E13: =+E15 -> 0 | F13: =+F15 -> 0 | G13: =+G15+G19 -> -9050.1 | H13: =H15 -> 0
C14: այդ թվում`
A15: 1103 | B15: 11002 | C15: Նորմատիվատեխնիկական փաստաթղթերի մշակում և տեղայնացում | D15: =SUM(E15:H15) -> -18150.1 | E15: =+E17 -> 0 | F15: =+F17 -> 0 | G15: =+G17+G18 -> -18150.1 | H15: =+H17 -> 0
C16: այդ թվում՝
C17: Օդանավակայաններ (ԵՄ նորմերի թարգմանություն և տեղայնացում) | D17: =SUM(E17:H17) -> -10400.1 | E17: 0 | G17: -10400.1
C18: Քրեակատարողական հիմնարկների շենքեր․ Նախագծման նորմեր | D18: =SUM(E18:H18) -> -7750 | E18: 0 | G18: -7750
A19: 1103 | B19: 21001 | C19: Քաղաքաշինության բնագավառում պետական ծրագրերի իրականացման ապահովում | D19: =SUM(D21:D22) -> 9100 | E19: =SUM(E21:E22) -> 0 | F19: =SUM(F21:F22) -> 0 | G19: =SUM(G21) -> 9100 | H19: =SUM(H21:H22) -> 0
C20: այդ թվում՝
C21: Նախագծանախահաշվային փաստաթղթերի լրամշակման /144,200 և 432 տեղ-հզորությամբ/ խորհրդատվական ծառայության մատուցում | D21: =SUM(E21:H21) -> 9100 | E21: 0 | G21: 9100

Sheet 3.
G1: Հավելված N3
G2: ՀՀ կառավարության 2026 թվականի
G3: ___________ ___-ի N _______ որոշման
A6: ՀԱՅԱՍՏԱՆԻ ՀԱՆՐԱՊԵՏՈՒԹՅԱՆ ԿԱՌԱՎԱՐՈՒԹՅԱՆ 2025 ԹՎԱԿԱՆԻ ԴԵԿՏԵՄԲԵՐԻ 25-Ի N 1910-Ն ՈՐՈՇՄԱՆ N 3 և N 4 ՀԱՎԵԼՎԱԾՆԵՐՈՒՄ ԿԱՏԱՐՎՈՂ ՓՈՓՈԽՈՒԹՅՈՒՆՆԵՐԸ ԵՎ ԼՐԱՑՈՒՄՆԵՐԸ
G8: հազ․ դրամ
A9: Գործառական դասիչը | D9: Ծրագրային դասիչը | F9: Բյուջետային ծախսերի գործառական դասակարգման բաժինների, խմբերի և դասերի, բյուջետային ծրագրերի, միջոցառումների բյուջետային հատկացումների գլխավոր կարգադրիչների անվանումները | G9: Ցուցանիշների փոփոխությունը (ավելացումները նշված են դրական նշանով, իսկ նվազեցումները՝ փակագծերում)
A10: Բաժին | B10: Խումբ | C10: Դաս | D10: Ծրագիր | E10: Միջոցառում | G10: Տարի
F11: ԸՆԴԱՄԵՆԸ | G11: =+G13+G58 -> 0
F12: այդ թվում`
A13: 06 | F13: ԲՆԱԿԱՐԱՆԱՅԻՆ ՇԻՆԱՐԱՐՈՒԹՅՈՒՆ ԵՎ ԿՈՄՈՒՆԱԼ ԾԱՌԱՅՈՒԹՅՈՒՆՆԵՐ | G13: =+G15+G32 -> 18150.1
F14: այդ թվում`
B15: 01 | F15: Բնակարանային շինարարություն | G15: =G17 -> 9100
F16: այդ թվում՝
C17: 01 | F17: Բնակարանային շինարարություն | G17: =G21 -> 9100
F18: այդ թվում՝
F19: ՀՀ քաղաքաշինության կոմիտե | G19: =G21 -> 9100
F20: այդ թվում՝
D21: 1103 | F21: Քաղաքաշինության և ճարտարապետության բնագավառում պետական քաղաքականության իրականացում և կանոնակարգում | G21: =+G23 -> 9100
F22: այդ թվում`
E23: 21001 | F23: Քաղաքաշինության բնագավառում պետական ծրագրերի իրականացման ապահովում | G23: =G25 -> 9100
F24: այդ թվում ըստ կատարողների
F25: ՀՀ քաղաքաշինության կոմիտե | G25: =G27 -> 9100
F26: այդ թվում` բյուջետային ծախսերի տնտեսագիտական դասակարգման հոդվածներ
F27: ԸՆԴԱՄԵՆԸ ԾԱԽՍԵՐ | G27: =G28 -> 9100
F28: ՈՉ ՖԻՆԱՆՍԱԿԱՆ ԱԿՏԻՎՆԵՐԻ ԳԾՈՎ ԾԱԽՍԵՐ | G28: =+G29 -> 9100
F29: ՀԻՄՆԱԿԱՆ ՄԻՋՈՑՆԵՐ | G29: =+G30 -> 9100
F30: ԱՅԼ ՀԻՄՆԱԿԱՆ ՄԻՋՈՑՆԵՐ | G30: =+G31 -> 9100
F31: - Նախագծահետազոտական ծախսեր | G31: =+'1'!G15 -> 9100
B32: 06 | F32: Բնակարանային շինարարության և կոմունալ ծառայություններ (այլ դասերին չպատկանող) | G32: =G34 -> 9050.1
F33: այդ թվում`
C34: 01 | F34: Բնակարանային շինարարության և կոմունալ ծառայություններ (այլ դասերին չպատկանող) | G34: =G38 -> 9050.1
F35: այդ թվում`
F36: ՀՀ քաղաքաշինության կոմիտե | G36: =G38 -> 9050.1
F37: այդ թվում`
D38: 1103 | F38: Քաղաքաշինության և ճարտարապետության բնագավառում պետական քաղաքականության իրականացում և կանոնակարգում | G38: =G49+G40 -> 9050.1
F39: այդ թվում`
E40: 11001 | F40: Քաղաքաշինության և ճարտարապետության բնագավառում պետական քաղաքականության մշակման, իրականացման, համակարգման, պլանավորման, մոնիտորինգի, կապիտալ ծրագրերի կատարման, պետական գնումների իրականացման ծառայություն | G40: =G42 -> 7750
F41: այդ թվում ըստ կատարողների
F42: ՀՀ քաղաքաշինության կոմիտե | G42: =G44 -> 7750
F43: այդ թվում` բյուջետային ծախսերի տնտեսագիտական դասակարգման հոդվածներ
...

Sheet 4.
D1: Հավելված N4
D2: ՀՀ կառավարության 2026 թվականի
D3: ___________ ___-ի N _______ որոշման
A5: ՀԱՅԱՍՏԱՆԻ ՀԱՆՐԱՊԵՏՈՒԹՅԱՆ ԿԱՌԱՎԱՐՈՒԹՅԱՆ 2025 ԹՎԱԿԱՆԻ ԴԵԿՏԵՄԲԵՐԻ 25-Ի N 1910-Ն ՈՐՈՇՄԱՆ N5 ՀԱՎԵԼՎԱԾԻ N2 ԱՂՅՈՒՍԱԿՈՒՄ ԿԱՏԱՐՎՈՂ ՓՈՓՈԽՈՒԹՅՈՒՆՆԵՐԸ, ԼՐԱՑՈՒՄԸ
D7: հազար դրամ
A8: Ծրագրային դասիչ | C8: Բյուջետային գլխավոր կարգադրիչների, ծրագրերի, միջոցառումների, միջոցառումները կատարող պետական մարմինների և ուղղությունների անվանումները | D8: Ցուցանիշների փոփոխությունը (ավելացումները նշված են դրական նշանով, իսկ նվազեցումները նշված են փակագծերում)
A9: Ծրագիր | B9: Միջոցառում | D9: Տարի
C10: ԸՆԴԱՄԵՆԸ | D10: =+D13+D19 -> -9050.1
C11: ՀՀ ՔԱՂԱՔԱՇԻՆՈՒԹՅԱՆ ԿՈՄԻՏԵ | D11: =+D13+D19 -> -9050.1
C12: այդ թվում`
A13: 1103 | B13: 11002 | C13: Նորմատիվատեխնիկական փաստաթղթերի մշակում և տեղայնացում | D13: =+D15 -> -18150.1
C14: այդ թվում` ըստ կատարողների
C15: ՀՀ քաղաքաշինության կոմիտե | D15: =+D17+D18 -> -18150.1
C16: այդ թվում` ըստ ուղղությունների
C17: Օդանավակայաններ (ԵՄ նորմերի թարգմանություն և տեղայնացում) | D17: =+'2.'!G17 -> -10400.1
C18: Քրեակատարողական հիմնարկների շենքեր․ Նախագծման նորմեր | D18: =+'2.'!G18 -> -7750
A19: 1103 | B19: 21001 | C19: Քաղաքաշինության բնագավառում պետական ծրագրերի իրականացման ապահովում | D19: =+D21 -> 9100
C20: այդ թվում` ըստ կատարողների
C21: ՀՀ քաղաքաշինության կոմիտե | D21: =+D23 -> 9100
C22: այդ թվում` ըստ ուղղությունների
C23: Նախագծանախահաշվային փաստաթղթերի լրամշակման /144,200 և 432 տեղ-հզորությամբ/ խորհրդատվական ծառայության մատուցում | D23: =+'3.'!G31 -> 9100

Sheet 5.
J1: Հավելված N 5
J2: ՀՀ կառավարության 2026թվականի
J3: ___________ ___-ի N _______ որոշման
A8: ՀԱՅԱՍՏԱՆԻ ՀԱՆՐԱՊԵՏՈՒԹՅԱՆ ԿԱՌԱՎԱՐՈՒԹՅԱՆ 2025 ԹՎԱԿԱՆԻ ԴԵԿՏԵՄԲԵՐԻ 25-Ի ԹԻՎ 1910-Ն ՈՐՈՇՄԱՆ N 9 ՀԱՎԵԼՎԱԾՈՒՄ ԿԱՏԱՐՎՈՂ ՓՈՓՈԽՈՒԹՅՈՒՆՆԵՐԸ ԵՎ ԼՐԱՑՈՒՄՆԵՐԸ
J11: հազար դրամներով
A12: ԲԳԿ | B12: Ծրագիր | D12: Միջոցառում | H12: Իրականացնողը/ ակտիվն օգտագործողը/ շահառուի ընտրության չափորոշիչը | I12: Արդյունքային չափորոշիչը | J12: Ցուցանիշների փոփոխությունը (ավելացումները նշված են դրական նշանով, իսկ նվազեցումները՝ փակագծերում)
B13: Դասիչը | C13: Անվա-նումը | D13: Դասիչը | E13: Անվա-նումը | F13: Նկարագրու-թյունը | G13: Տեսակը | J13: Տարի
A14: ԸՆԴԱՄԵՆԸ | J14: =+J15 -> 0
A15: ՀՀ քաղաքաշինության կոմիտե | J15: =J16 -> 0
B16: 1103 | C16: Քաղաքաշինության և ճարտարապետության բնագավառում պետական քաղաքականության իրականացում և կանոնակարգում | J16: =++J21+J29+J25+J17 -> 0
D17: 1103 -11001 | E17: Քաղաքաշինության և ճարտարապետության բնագավառում պետական քաղաքականության մշակման, իրականացման, համակարգման, պլանավորման, մոնիտորինգի, կապիտալ ծրագրերի կատարման, պետական գնումների իրականացման ծառայություն | J17: =+'1'!G13 -> 7750
F18: Քաղաքաշինության և ճարտարապետության բնագավառում քաղաքականության մշակում, կատարման համակարգում, պլանավորում, իրականացում, մոնիտորինգ, լիցենզավորում, հաշվետվողականություն, աուդիտ, պետական գնումների իրականացում, հասարակությանը ոլորտի ծրագրերի իրազեկում
G19: Ծառայությունների մատուցում
H20: Ծառայությունը մատուցողի անվանումը` ՀՀ քաղաքաշինության կոմիտե
D21: 1103-11013 | E21: =+'1'!D14 -> Շինարարական օբյեկտների չափագրման, վերաչափագրման և փաստագրման ծառայություններ | J21: ='1'!G14 -> 1300.1
F22: =+'1'!E14 -> Չափագրման, վերաչափագրման և փաստագրման ծառայություններ ձեռք բերելու վճարների ապահովում
G23: =+'1'!F14 -> Ծառայությունների մատուցում
H24: Միջոցառումն իրականացնողի անվանումը` ՀՀ քաղաքաշինության կոմիտե
D25: 1103 - 11002 | E25: Նորմատիվատեխնիկական փաստաթղթերի մշակում և տեղայնացում | J25: =+'3.'!G68 -> -18150.1
F26: Միջպետական (տարածաշրջանային), միջազգային և եվրոպական նորմերին ու ստանդարտներին համահունչ ազգային քաղաքաշինական նորմատիվ փաստաթղթերի մշակում, տեղայնացում, արդիականացում և բազայի համալրում
G27: Ծառայությունների մատուցում
H28: Ծառայությունը մատուցողի անվանումը` Մասնագիտացված կազմակերպություն
D29: 1103 - 21001 | E29: Քաղաքաշինության բնագավառում պետական ծրագրերի իրականացման ապահովում | J29: =+'3.'!G23 -> 9100
F30: Նախագծանախահաշվային փաստաթղթերի, ինչպես նաեւ հիմնանորոգման, վերակառուցման, կառուցման աշխատանքների ձեռքբերում
G31: Հանրության կողմից անմիջականորեն օգտագործվող ակտիվների հետ կապված միջոցառումներ
H32: ՀՀ քաղաքաշինության կոմիտե
I33: Նախագծանախահաշվային փաստաթղթերի քանակ, հատ | J33: 1
A34: ՀՀ կառավարություն | J34: =+J35 -> 0
B35: 1139 | C35: ՀՀ կառավարության պահուստային ֆոնդ | J35: =+J36+J40 -> 0
D36: 1139 - 11001 | E36: ՀՀ կառավարության պահուստային ֆոնդ | J36: 9100
F37: ՀՀ պետական բյուջեում նախատեսված ելքերի լրացուցիչ ֆինանսավորման, պետական բյուջեում չկանխատեսված ելքերի, ինչպես նաև բյուջետային երաշխիքների ապահովման ելքերի ֆինանսավորման ապահովում
G38: Ծառայությունների մատուցում
H39: Ծառայությունը մատուցողի անվանումը` ՀՀ կառավարություն
D40: 1139 - 11001 | E40: ՀՀ կառավարության պահուստային ֆոնդ | J40: -9100
F41: ՀՀ պետական բյուջեում նախատեսված ելքերի լրացուցիչ ֆինանսավորման, պետական բյուջեում չկանխատեսված ելքերի, ինչպես նաև բյուջետային երաշխիքների ապահովման ելքերի ֆինանսավորման ապահովում
G42: Ծառայությունների մատուցում
H43: Ծառայությունը մատուցողի անվանումը` ՀՀ կառավարություն

Sheet 6
J1: Հավելված N 6
J2: ՀՀ կառավարության 2026 թվականի
J3: ___________ ___-ի N _______ որոշման
A8: ՀԱՅԱՍՏԱՆԻ ՀԱՆՐԱՊԵՏՈՒԹՅԱՆ ԿԱՌԱՎԱՐՈՒԹՅԱՆ 2025 ԹՎԱԿԱՆԻ ԴԵԿՏԵՄԲԵՐԻ 25-Ի ԹԻՎ 1910-Ն ՈՐՈՇՄԱՆ N 9.1 ՀԱՎԵԼՎԱԾՈՒՄ ԿԱՏԱՐՎՈՂ ՓՈՓՈԽՈՒԹՅՈՒՆՆԵՐԸ ԵՎ ԼՐԱՑՈՒՄՆԵՐԸ
J11: հազար դրամներով
A12: ԲՍԿ | B12: Ծրագիր | D12: Միջոցառում | H12: Իրականացնողը/ ակտիվն օգտագործողը/ շահառուի ընտրության չափորոշիչը | I12: Արդյունքային չափորոշիչը | J12: Ցուցանիշների փոփոխությունը (ավելացումները նշված են դրական նշանով, իսկ նվազեցումները՝ փակագծերում)
B13: Դասիչը | C13: Անվա-նումը | D13: Դասիչը | E13: Անվա-նումը | F13: Նկարագրու-թյունը | G13: Տեսակը | J13: Տարի
A14: ԸՆԴԱՄԵՆԸ | J14: =+J15 -> 0
A15: ՀՀ քաղաքաշինության կոմիտե | J15: =J16 -> 0
B16: 1103 | C16: Քաղաքաշինության և ճարտարապետության բնագավառում պետական քաղաքականության իրականացում և կանոնակարգում | J16: =+J25+J29+J21+J17 -> 0
D17: 1103 -11001 | E17: Քաղաքաշինության և ճարտարապետության բնագավառում պետական քաղաքականության մշակման, իրականացման, համակարգման, պլանավորման, մոնիտորինգի, կապիտալ ծրագրերի կատարման, պետական գնումների իրականացման ծառայություն | J17: =+'1'!G13 -> 7750
F18: Քաղաքաշինության և ճարտարապետության բնագավառում քաղաքականության մշակում, կատարման համակարգում, պլանավորում, իրականացում, մոնիտորինգ, լիցենզավորում, հաշվետվողականություն, աուդիտ, պետական գնումների իրականացում, հասարակությանը ոլորտի ծրագրերի իրազեկում
G19: Ծառայությունների մատուցում
H20: Ծառայությունը մատուցողի անվանումը` ՀՀ քաղաքաշինության կոմիտե
D21: 1103-11013 | E21: =+'1'!D14 -> Շինարարական օբյեկտների չափագրման, վերաչափագրման և փաստագրման ծառայություններ | J21: =+'1'!G14 -> 1300.1
F22: =+'1'!E14 -> Չափագրման, վերաչափագրման և փաստագրման ծառայություններ ձեռք բերելու վճարների ապահովում
G23: =+'1'!F14 -> Ծառայությունների մատուցում
H24: Միջոցառումն իրականացնողի անվանումը` ՀՀ քաղաքաշինության կոմիտե
D25: 1103 - 11002 | E25: Նորմատիվատեխնիկական փաստաթղթերի մշակում և տեղայնացում | J25: =+'3.'!G76 -> -18150.1
F26: Միջպետական (տարածաշրջանային), միջազգային և եվրոպական նորմերին ու ստանդարտներին համահունչ ազգային քաղաքաշինական նորմատիվ փաստաթղթերի մշակում, տեղայնացում, արդիականացում և բազայի համալրում
G27: Ծառայությունների մատուցում
H28: Ծառայությունը մատուցողի անվանումը` Մասնագիտացված կազմակերպություն
D29: 1103 - 21001 | E29: Քաղաքաշինության բնագավառում պետական ծրագրերի իրականացման ապահովում | J29: =+'5.'!J29 -> 9100
F30: Նախագծանախահաշվային փաստաթղթերի, ինչպես նաեւ հիմնանորոգման, վերակառուցման, կառուցման աշխատանքների ձեռքբերում
G31: Հանրության կողմից անմիջականորեն օգտագործվող ակտիվների հետ կապված միջոցառումներ
H32: ՀՀ քաղաքաշինության կոմիտե
I33: Նախագծանախահաշվային փաստաթղթերի քանակ, հատ | J33: 1
A34: ՀՀ կառավարություն | J34: =+J35 -> 0
B35: 1139 | C35: ՀՀ կառավարության պահուստային ֆոնդ | J35: =+J36+J40 -> 0
D36: 1139 - 11001 | E36: ՀՀ կառավարության պահուստային ֆոնդ | J36: 9100
F37: ՀՀ պետական բյուջեում նախատեսված ելքերի լրացուցիչ ֆինանսավորման, պետական բյուջեում չկանխատեսված ելքերի, ինչպես նաև բյուջետային երաշխիքների ապահովման ելքերի ֆինանսավորման ապահովում
G38: Ծառայությունների մատուցում
H39: Ծառայությունը մատուցողի անվանումը` ՀՀ կառավարություն
D40: 1139 - 11001 | E40: ՀՀ կառավարության պահուստային ֆոնդ | J40: -9100
F41: ՀՀ պետական բյուջեում նախատեսված ելքերի լրացուցիչ ֆինանսավորման, պետական բյուջեում չկանխատեսված ելքերի, ինչպես նաև բյուջետային երաշխիքների ապահովման ելքերի ֆինանսավորման ապահովում
G42: Ծառայությունների մատուցում
H43: Ծառայությունը մատուցողի անվանումը` ՀՀ կառավարություն

Sheet 7
G1: Հավելված № 7
G2: ՀՀ կառավարության
G3: 2026 թվականի __________ N -Ն որոշման
A6: ՀԱՅԱՍՏԱՆԻ ՀԱՆՐԱՊԵՏՈՒԹՅԱՆ ԿԱՌԱՎԱՐՈՒԹՅԱՆ 2025 ԹՎԱԿԱՆԻ ԴԵԿՏԵՄԲԵՐԻ 25-Ի N 1910-Ն ՈՐՈՇՄԱՆ N 10 ՀԱՎԵԼՎԱԾՈՒՄ ԿԱՏԱՐՎՈՂ ՓՈՓՈԽՈՒԹՅՈՒՆՆԵՐԸ ԵՎ ԼՐԱՑՈՒՄՆԵՐԸ
I7: (հազ. դրամ)
A8: կոդը | B8: անվանումը | E8: Գնման ձևը | F8: Չափի միավորը | G8: Միավորի գինը | H8: Ցուցանիշների փոփոխությունը (ավելացումները նշված են դրական նշանով, իսկ նվազեցումները՝ փակագծում)
H9: Քանակը | I9: Գումարը (հազար դրամ)
A10: 1 | B10: 2 | E10: 3 | F10: 4 | G10: 5 | H10: 6 | I10: 7
A11: ՀՀ Քաղաքաշինության կոմիտե | I11: =I16+I23:I23+I12 -> 0
A12: Բաժին N 06 | B12: Խումբ N 01 | E12: Դաս N 01 | F12: Բնակարանային շինարարություն | I12: =I13 -> 9100
A13: 1103 21001 | B13: Քաղաքաշինության բնագավառում պետական ծրագրերի իրականացման ապահովում | I13: =I15 -> 9100
B14: ՄԱՍ III. ԾԱՌԱՅՈՒԹՅՈՒՆՆԵՐ | I14: =SUM(I15:I15) -> 9100
A15: 71241210-501 | B15: Նախագծանախահաշվային փաստաթղթերի լրամշակում | E15: ՄԱ | F15: դրամ | G15: 9100000 | H15: 1 | I15: =+G15/1000 -> 9100
A16: Բաժին N 06 | B16: Խումբ N 06 | E16: Դաս N 01 | F16: Բնակարանային շինարարություն և կոմունալ ծառայություններ (այլ դասերին չպատկանող) | I16: =I20+I17 -> 9050.1
A17: 1103 11001 | B17: Քաղաքաշինության և ճարտարապետության բնագավառում պետական քաղաքականության մշակման, իրականացման, համակարգման, պլանավորման, մոնիտորինգի, կապիտալ ծրագրերի կատարման, պետական գնումների իրականացման ծառայություն | I17: =+I18 -> 7750
B18: ՄԱՍ III. ԾԱՌԱՅՈՒԹՅՈՒՆՆԵՐ | I18: =SUM(I19:I19) -> 7750
A19: 75241210 | B19: պահնորդական ծառայություններ | E19: ՀՄԱ | F19: դրամ | G19: 7750000 | H19: 1 | I19: 7750
A20: 1103 11013 | B20: Շինարարական օբյեկտների չափագրման, վերաչափագրման և փաստագրման ծառայություններ | I20: =+I21 -> 1300.1
B21: ՄԱՍ III. ԾԱՌԱՅՈՒԹՅՈՒՆՆԵՐ | I21: =SUM(I22:I22) -> 1300.1
A22: 71311360-501 | B22: շենքերի չափագրման ծառայություններ | E22: ԳՀ | F22: դրամ | I22: 1300.1
A23: Բաժին N 04 | B23: Խումբ N 04 | C23: Դաս N 03 | D23: Շինարարություն | I23: =I24 -> -18150.1
A24: 1103 11002 | B24: Նորմատիվատեխնիկական փաստաթղթերի մշակում և տեղայնացում | G24: =+G25 -> 0 | I24: =+I26+I27 -> -18150.1
B25: ՄԱՍ III. ԾԱՌԱՅՈՒԹՅՈՒՆՆԵՐ | I25: =+I26+I27 -> -18150.1
A26: 71241200-10 | B26: նախագծերի պատրաստում, ծախսերի գնահատում | E26: ԳՀ | F26: դրամ | I26: -10400.1
A27: 71241200-38 | B27: նախագծերի պատրաստում, ծախսերի գնահատում | E27: ԳՀ | F27: դրամ | I27: -7750
