Workbook
Name _1__հայտարարվել_է_նախ_մրցույթ: #REF!
Name _tab10: #REF!
Name _tab10: #REF!
Name _tab10: #REF!
Name _tab10: #REF!
Name _tab10: #REF!
Name _tab11: #REF!
Name _tab11: #REF!
Name _tab11: #REF!
Name _tab11: #REF!
Name _tab11: #REF!
Name _tab12: #REF!
Name _tab12: #REF!
Name _tab12: #REF!
Name _tab12: #REF!
Name _tab12: #REF!
Name _tab13: #REF!
Name _tab13: #REF!
Name _tab13: #REF!
Name _tab13: #REF!
Name _tab13: #REF!
Name _tab14: #REF!
Name _tab14: #REF!
Name _tab14: #REF!
Name _tab14: #REF!
Name _tab14: #REF!
Name _tab15: #REF!
Name _tab15: #REF!
Name _tab15: #REF!
Name _tab15: #REF!
Name _tab15: #REF!
Name _tab16: #REF!
Name _tab16: #REF!
Name _tab16: #REF!
Name _tab16: #REF!
Name _tab16: #REF!
Name _tab17: #REF!
Name _tab17: #REF!
Name _tab17: #REF!
Name _tab17: #REF!
Name _tab17: #REF!
Name _tab18: #REF!
Name _tab18: #REF!
Name _tab18: #REF!
Name _tab18: #REF!
Name _tab18: #REF!
Name _tab19: #REF!
Name _tab19: #REF!
Name _tab19: #REF!
Name _tab19: #REF!
Name _tab19: #REF!
Name _tab20: #REF!
Name _tab20: #REF!
Name _tab20: #REF!
Name _tab20: #REF!
Name _tab20: #REF!
Name _tab21: #REF!
Name _tab21: #REF!
Name _tab21: #REF!
Name _tab21: #REF!

Sheet 1
B1: Հավելված № 1
B2: ՀՀ կառավարության 2026 թվականի
B3: __________ «____» -ի
B4: N_____ -Ն որոշման
A5: «ՀԱՅԱՍՏԱՆԻ ՀԱՆՐԱՊԵՏՈՒԹՅԱՆ 2026 ԹՎԱԿԱՆԻ ՊԵՏԱԿԱՆ ԲՅՈՒՋԵԻ ՄԱՍԻՆ» ՀԱՅԱՍՏԱՆԻ ՀԱՆՐԱՊԵՏՈՒԹՅԱՆ ՕՐԵՆՔԻ № 1 ՀԱՎԵԼՎԱԾԻ № 1 ԱՂՅՈՒՍԱԿՈՒՄ ԿԱՏԱՐՎՈՂ ԿԱՏԱՐՎՈՂ ՓՈՓՈԽՈՒԹՅՈՒՆՆԵՐԸ
C6: (հազար դրամներով)
A7: Ծրագրային դասիչը | B7: Ծրագրի անվանումը | C7: Ցուցանիշների փոփոխությունները (ավելացումը նշված է դրական նշանով, իսկ նվազեցումը` փակագծերում)
A8: ԸՆԴԱՄԵՆԸ | C8: =+C9+C10 -> 0
A9: 1053 | B9: Առողջապահության համակարգի արդիականացման և արդյունավետության բարձրացման ծրագիր | C9: =+'2'!G11 -> 18000
A10: 1126 | B10: Առողջապահության ոլորտում պետական քաղաքականության մշակում, ծրագրերի համակարգում և մոնիտորինգ | C10: =+'2'!G13 -> -18000

Sheet 2
A1: Հավելված № 2
A2: ՀՀ կառավարության 2026 թվականի
A3: __________ «____» -ի
A4: N_____ -Ն որոշման
A5: «ՀԱՅԱՍՏԱՆԻ ՀԱՆՐԱՊԵՏՈՒԹՅԱՆ 2026 ԹՎԱԿԱՆԻ ՊԵՏԱԿԱՆ ԲՅՈՒՋԵԻ ՄԱՍԻՆ» ՀԱՅԱՍՏԱՆԻ ՀԱՆՐԱՊԵՏՈՒԹՅԱՆ ՕՐԵՆՔԻ № 1 ՀԱՎԵԼՎԱԾԻ № 2 ԱՂՅՈՒՍԱԿՈՒՄ ԿԱՏԱՐՎՈՂ ՎԵՐԱԲԱՇԽՈՒՄԸ ԵՎ ՀԱՅԱՍՏԱՆԻ ՀԱՆՐԱՊԵՏՈՒԹՅԱՆ ԿԱՌԱՎԱՐՈՒԹՅԱՆ 2025 ԹՎԱԿԱՆԻ ԴԵԿՏԵՄԲԵՐԻ 25-Ի № 1910-Ն ՈՐՈՇՄԱՆ № 5 ՀԱՎԵԼՎԱԾԻ № 1 ԱՂՅՈՒՍԱԿՈՒՄ ԿԱՏԱՐՎՈՂ ՓՈՓՈԽՈՒԹՅՈՒՆՆԵՐԸ
A6: (հազար դրամներով)
A7: ԲԳԿ | B7: Ծրագրային դասիչը | D7: ԲԳԿ/Ծրագրի /միջոցառման անվանումը | E7: Ծրագրի նպատակը/Միջոցառման նկարագրությունը | F7: Վերջնական արդյունքի նկարագրությունը/Միջոցառման տեսակը | G7: Ցուցանիշների փոփոխությունները (ավելացումը նշված է դրական նշանով, իսկ նվազեցումը` փակագծերում)
B8: Ծրագիր | C8: Միջոցառում | G8: Տարի
A9: ԸՆԴԱՄԵՆԸ | G9: =+G10 -> 0
A10: ՀՀ առողջապահության նախարարություն | G10: =+G11+G13 -> 0
B11: 1053 | D11: Առողջապահության համակարգի արդիականացման և արդյունավետության բարձրացման ծրագիր | E11: Առողջապահության համակարգի արդիականացում և զարգացում | F11: Առողջապահական ենթակառուցվածքների բարելավում, կարողությունների զարգացում | G11: =+G12 -> 18000
C12: 1053 - 32007 | D12: ՀՀ կայունացման և զարգացման Եվրասիական հիմնադրամի միջոցներից ֆինանսավորվող «ՀՀ-ում COVID-19 համավարակի պատրաստվածությանմակարդակի բարձրացում. կորոնավիրուսից առաջացող սպառնալիքի հայտնաբերում և արձագանքում» ծրագրի շրջանակներում շենքային պայմանների բարելավում | E12: Հիվանդությունների վերահսկման և կանխարգելման ազգային կենտրոնի Արմավիրի մարզային մասնաճյուղի վերակառուցման աշխատանքներ | F12: Այլ պետական կազմակերպությունների կողմից օգտագործվող ոչ ֆինանսական ակտիվների հետ գործառնություններ | G12: 18000
B13: 1126 | D13: Առողջապահության ոլորտում պետական քաղաքականության մշակում, ծրագրերի համակարգում և մոնիտորինգ | E13: Մարդու և հանրության առողջության պահպանում, բնակչության առողջության բարելավում, հիվանդությունների կանխարգելում, հաշմանդամության և մահացության ցուցանիշների նվազեցում | F13: Առողջապահության ոլորտում իրականացվող ծրագրերի ազդեցության և արդյունավետության բարելավում | G13: =+G14+G15 -> -18000
C14: 1126 - 31002 | D14: Առողջապահական կազմակերպությունների վերազինում | E14: Բնակչությանը որակյալ բժշկական օգնության և սպասարկման ծառայություններ մատուցելու նպատակով՛ առողջապահական կազմակերպությունների անհրաժեշտ սարքավորումներով վերազինում | F14: Պետական մարմինների կողմից օգտագործվող ոչ ֆինանսական ակտիվների հետ գործառնություններ | G14: =+'5'!G35 -> -19998
C15: 1126 - 31003 | D15: Առողջապահական կազմակերպությունների կառուցում, վերակառուցում | E15: Բնակչությանը որակյալ բժշկական օգնության և սպասարկման ծառայություններ մատուցելու նպատակով առողջապահական կազմակերպությունների կառուցում, վերակառուցում | F15: Պետական մարմինների կողմից օգտագործվող ոչ ֆինանսական ակտիվների հետ գործառնություններ | G15: =+'5'!G44 -> 1998

Sheet 3
A1: Հավելված № 3
A2: ՀՀ կառավարության 2026 թվականի
A3: __________ «____» -ի
A4: N_____ -Ն որոշման
A5: «ՀԱՅԱՍՏԱՆԻ ՀԱՆՐԱՊԵՏՈՒԹՅԱՆ 2026 ԹՎԱԿԱՆԻ ՊԵՏԱԿԱՆ ԲՅՈՒՋԵԻ ՄԱՍԻՆ» ՀԱՅԱՍՏԱՆԻ ՀԱՆՐԱՊԵՏՈՒԹՅԱՆ ՕՐԵՆՔԻ № 1 ՀԱՎԵԼՎԱԾԻ № 3 ԱՂՅՈՒՍԱԿՈՒՄ ԿԱՏԱՐՎՈՂ ՓՈՓՈԽՈՒԹՅՈՒՆՆԵՐԸ
A6: (հազար դրամներով)
A7: Ծրագրային դասիչ | C7: Բյուջետային գլխավոր կարգադրիչների, ծրագրերի, միջոցառումների և ուղղությունների անվանումները | D7: Ցուցանիշների փոփոխությունները (ավելացումները նշված են դրական նշանով, իսկ նվազեցումները՝ բացասական)
D8: Ընդամենը | E8: այդ թվում`
A9: Ծրագիր | B9: Միջոց առում | E9: Կառուցման աշխատանքներ | F9: Վերակառուցման, վերանորոգման և վերականգնման աշխատանքներ | G9: Նախագծահե- տազոտական, գեոդեզիա- քարտեզագրական աշխատանքներ | H9: Ոչ ֆինանսական այլ ակտիվների ձեռքբերում
C10: ԸՆԴԱՄԵՆԸ | D10: =+D11 -> -18000 | E10: =+E11 -> 0 | F10: =+F11 -> 0 | G10: =+G11 -> 1998 | H10: =+H11 -> -19998
C11: ՀՀ առողջապահության նախարարություն | D11: =+D17+D13 -> -18000 | E11: =+E17+E13 -> 0 | F11: =+F17+F13 -> 0 | G11: =+G17+G13 -> 1998 | H11: =+H17+H13 -> -19998
C12: այդ թվում՛
A13: 1126 | B13: 31002 | C13: Առողջապահական կազմակերպությունների վերազինում | D13: =+D15 -> -19998 | E13: =+E15 -> 0 | F13: =+F15 -> 0 | G13: =+G15 -> 0 | H13: =+H15 -> -19998
C14: այդ թվում`
C15: ՀՀ Արմավիրի մարզ | D15: =+D16 -> -19998 | E15: =+E16 -> 0 | F15: =+F16 -> 0 | G15: =+G16 -> 0 | H15: =+H16 -> -19998
C16: ՀՀ ԱՆ «Հիվանդությունների վերահսկման և կանխարգելման ազգային կենտրոն» ՊՈԱԿ Արմավիրի մարզի մասնաճյուղ | D16: =+E16+F16+G16+H16 -> -19998 | E16: 0 | F16: 0 | G16: 0 | H16: =+'6'!D16 -> -19998
A17: 1126 | B17: 31003 | C17: Առողջապահական կազմակերպությունների կառուցում, վերակառուցում | D17: =+D19 -> 1998 | E17: =+E19 -> 0 | F17: =+F19 -> 0 | G17: =+G19 -> 1998 | H17: =+H19 -> 0
C18: այդ թվում`
C19: ՀՀ Գեղարքունիքի մարզ | D19: =SUM(D20:D20) -> 1998 | E19: =SUM(E20:E20) -> 0 | F19: =SUM(F20:F20) -> 0 | G19: =SUM(G20:G20) -> 1998 | H19: =SUM(H20:H20) -> 0
C20: ՀՀ ԱՆ «Վարդենիսի բժշկական կենտրոն» ՓԲԸ | D20: =+E20+F20+G20+H20 -> 1998 | E20: 0 | F20: 0 | G20: =+'6'!D22 -> 1998 | H20: 0

Sheet 4
B1: Հավելված № 4
B2: ՀՀ կառավարության 2026 թվականի
B3: __________ «____» -ի
B4: N_____ -Ն որոշման
A6: «ՀԱՅԱՍՏԱՆԻ ՀԱՆՐԱՊԵՏՈՒԹՅԱՆ 2026 ԹՎԱԿԱՆԻ ՊԵՏԱԿԱՆ ԲՅՈՒՋԵԻ ՄԱՍԻՆ» ՀԱՅԱՍՏԱՆԻ ՀԱՆՐԱՊԵՏՈՒԹՅԱՆ ՕՐԵՆՔԻ № 1 ՀԱՎԵԼՎԱԾԻ № 5 ԱՂՅՈՒՍԱԿՈՒՄ ԿԱՏԱՐՎՈՂ ԿԱՏԱՐՎՈՂ ՓՈՓՈԽՈՒԹՅՈՒՆՆԵՐԸ
D7: (հազար դրամներով)
A8: Ծրագրային դասիչը | C8: Բյուջետային գլխավոր կարգադրիչների, ծրագրերի և միջոցառումների անվանումները | D8: Ընդամենը | E8: այդ թվում`
A9: Ծրագիր | B9: Միջոցառում | E9: Դրամաշնորհային միջոցներ | F9: Համաֆինանսավորում
C10: ԸՆԴԱՄԵՆԸ | D10: =+E10+F10 -> 18000 | E10: =+E11 -> 0 | F10: =+F11 -> 18000
C11: ՀՀ առողջապահության նախարարություն | D11: =+E11+F11 -> 18000 | E11: =+E12 -> 0 | F11: =+F12 -> 18000
A12: 1053 | C12: Առողջապահության համակարգի արդիականացման և արդյունավետության բարձրացման ծրագիր | D12: =+E12+F12 -> 18000 | E12: =+E14 -> 0 | F12: =+F14 -> 18000
A13: այդ թվում՛
B14: 32007 | C14: ՀՀ կայունացման և զարգացման Եվրասիական հիմնադրամի միջոցներից ֆինանսավորվող «ՀՀ-ում COVID-19 համավարակի պատրաստվածությանմակարդակի բարձրացում. կորոնավիրուսից առաջացող սպառնալիքի հայտնաբերում և արձագանքում» ծրագրի շրջանակներում շենքային պայմանների բարելավում | D14: =+E14+F14 -> 18000 | E14: 0 | F14: 18000

Sheet 5
A1: Հավելված № 5
A2: ՀՀ կառավարության 2026 թվականի
A3: __________ «____» -ի
A4: N_____ -Ն որոշման
A5: ՀԱՅԱՍՏԱՆԻ ՀԱՆՐԱՊԵՏՈՒԹՅԱՆ ԿԱՌԱՎԱՐՈՒԹՅԱՆ 2025 ԹՎԱԿԱՆԻ ԴԵԿՏԵՄԲԵՐԻ 25-Ի № 1910-Ն ՈՐՈՇՄԱՆ №№ 3 ԵՎ 4 ՀԱՎԵԼՎԱԾՆԵՐՈՒՄ ԿԱՏԱՐՎՈՂ ՓՈՓՈԽՈՒԹՅՈՒՆՆԵՐԸ
A6: (հազար դրամներով)
A7: Գործառական դասիչը | D7: Ծրագրային դասիչը | F7: Բյուջետային հատկացումների գլխավոր կարգադրիչների, ծրագրերի, միջոցառումների և միջոցառումները կատարող պետական մարմինների անվանումները | G7: Ցուցանիշների փոփոխությունները (ավելացումը նշված է դրական նշանով, իսկ նվազեցումը` փակագծերում)
A8: բաժին | B8: խումբ | C8: դաս | D8: Ծրագիր | E8: Միջոցառում | G8: Տարի
A9: ԸՆԴԱՄԵՆԸ | G9: =+G10 -> 0
A10: 07 | F10: ԱՌՈՂՋԱՊԱՀՈՒԹՅՈՒՆ | G10: =+G12 -> 0
F11: այդ թվում՝
B12: 06 | F12: Առողջապահություն (այլ դասերին չպատկանող) | G12: =+G14+G29 -> 0
F13: այդ թվում՝
C14: 01 | F14: Առողջապահական հարակից ծառայություններ և ծրագրեր | G14: =+G16 -> 18000
F15: այդ թվում`
D16: 1053 | F16: Առողջապահության համակարգի արդիականացման և արդյունավետության բարձրացման ծրագիր | G16: =+G20 -> 18000
F17: այդ թվում՝
F18: ՀՀ առողջապահության նախարարություն | G18: =+G20 -> 18000
F19: այդ թվում՝
E20: 32007 | F20: ՀՀ կայունացման և զարգացման Եվրասիական հիմնադրամի միջոցներից ֆինանսավորվող «ՀՀ-ում COVID-19 համավարակի պատրաստվածության մակարդակի բարձրացում. կորոնավիրուսից առաջացող սպառնալիքի հայտնաբերում և արձագանքում» ծրագրի շրջանակներում շենքային պայմանների բարելավում | G20: =+G22 -> 18000
F21: այդ թվում ըստ կատարողների
F22: ՀՀ առողջապահության նախարարություն | G22: =+G24 -> 18000
F23: այդ թվում` բյուջետային ծախսերի տնտեսագիտական դասակարգման հոդվածներ
F24: ԸՆԴԱՄԵՆԸ ԾԱԽՍԵՐ | G24: =+G25 -> 18000
F25: ՈՉ ՖԻՆԱՆՍԱԿԱՆ ԱԿՏԻՎՆԵՐԻ ԳԾՈՎ ԾԱԽՍԵՐ | G25: =+G26 -> 18000
F26: ՀԻՄՆԱԿԱՆ ՄԻՋՈՑՆԵՐ | G26: =+G27 -> 18000
F27: ՇԵՆՔԵՐ ԵՎ ՇԻՆՈՒԹՅՈՒՆՆԵՐ | G27: =+G28 -> 18000
F28: - Շենքերի և շինությունների շինարարություն | G28: 18000
C29: 02 | F29: Առողջապահություն (այլ դասերին չպատկանող) | G29: =+G31 -> -18000
F30: այդ թվում՝
D31: 1126 | F31: Առողջապահության ոլորտում պետական քաղաքականության մշակում, ծրագրերի համակարգում և մոնիտորինգ | G31: =+G35+G44 -> -18000
F32: այդ թվում՝
F33: ՀՀ առողջապահության նախարարություն | G33: =+G35 -> -19998
F34: այդ թվում`
E35: 31002 | F35: Առողջապահական կազմակերպությունների վերազինում | G35: =+G37 -> -19998
F36: այդ թվում` ըստ կատարողների
F37: ՀՀ առողջապահության նախարարություն | G37: =+G39 -> -19998
F38: այդ թվում` բյուջետային ծախսերի տնտեսագիտական դասակարգման հոդվածներ
F39: ԸՆԴԱՄԵՆԸ ԾԱԽՍԵՐ | G39: =+G40 -> -19998
F40: ՈՉ ՖԻՆԱՆՍԱԿԱՆ ԱԿՏԻՎՆԵՐԻ ԳԾՈՎ ԾԱԽՍԵՐ | G40: =+G41 -> -19998
F41: ՀԻՄՆԱԿԱՆ ՄԻՋՈՑՆԵՐ | G41: =+G42 -> -19998
F42: ՄԵՔԵՆԱՆԵՐ ԵՎ ՍԱՐՔԱՎՈՐՈՒՄՆԵՐ | G42: =+G43 -> -19998
F43: - Այլ մեքենաներ և սարքավորումներ | G43: =+'6'!D16 -> -19998
E44: 31003 | F44: Առողջապահական կազմակերպությունների կառուցում, վերակառուցում | G44: =+G46 -> 1998
F45: այդ թվում ըստ կատարողների
F46: ՀՀ առողջապահության նախարարություն | G46: =+G48 -> 1998
F47: այդ թվում` բյուջետային ծախսերի տնտեսագիտական դասակարգման հոդվածներ
F48: ԸՆԴԱՄԵՆԸ ԾԱԽՍԵՐ | G48: =+G49 -> 1998
F49: ՈՉ ՖԻՆԱՆՍԱԿԱՆ ԱԿՏԻՎՆԵՐԻ ԳԾՈՎ ԾԱԽՍԵՐ | G49: =+G50 -> 1998
F50: ՀԻՄՆԱԿԱՆ ՄԻՋՈՑՆԵՐ | G50: =+G51 -> 1998
F51: ԱՅԼ ՀԻՄՆԱԿԱՆ ՄԻՋՈՑՆԵՐ | G51: =+G52 -> 1998
F52: - Նախագծահետազոտական ծախսեր | G52: =+'6'!D22 -> 1998

Sheet 6
A1: Հավելված № 6
A2: ՀՀ կառավարության 2026 թվականի
A3: __________ «____» -ի
A4: N_____ -Ն որոշման
A5: ՀԱՅԱՍՏԱՆԻ ՀԱՆՐԱՊԵՏՈՒԹՅԱՆ ԿԱՌԱՎԱՐՈՒԹՅԱՆ 2025 ԹՎԱԿԱՆԻ ԴԵԿՏԵՄԲԵՐԻ 25-Ի № 1910-Ն ՈՐՈՇՄԱՆ № 5 ՀԱՎԵԼՎԱԾԻ № 2 ԱՂՅՈՒՍԱԿՈՒՄ ԿԱՏԱՐՎՈՂ ՓՈՓՈԽՈՒԹՅՈՒՆՆԵՐԸ
A6: (հազար դրամներով)
A7: Ծրագրային դասիչ | C7: Բյուջետային գլխավոր կարգադրիչների, ծրագրերի, միջոցառումների և ուղղությունների անվանումները | D7: Ցուցանիշների փոփոխությունները (ավելացումները նշված են դրական նշանով, իսկ նվազեցումները` փակագծերում)
A8: Ծրագիր | B8: Միջոցառում | D8: Տարի
C9: ՀՀ ԱՌՈՂՋԱՊԱՀՈՒԹՅԱՆ ՆԱԽԱՐԱՐՈՒԹՅՈՒՆ | D9: =+D11+D17 -> -18000
C10: այդ թվում՝
A11: 1126 | B11: 31002 | C11: Առողջապահական կազմակերպությունների վերազինում | D11: =+D13 -> -19998
C12: այդ թվում` ըստ կատարողների
C13: ՀՀ առողջապահության նախարարություն | D13: =+D15 -> -19998
C14: այդ թվում՝ ըստ ուղղությունների
C15: ՀՀ Արմավիրի մարզ | D15: =+D16 -> -19998
C16: ՀՀ ԱՆ «Հիվանդությունների վերահսկման և կանխարգելման ազգային կենտրոն» ՊՈԱԿ Արմավիրի մարզի մասնաճյուղ | D16: -19998
A17: 1126 | B17: 31003 | C17: Առողջապահական կազմակերպությունների կառուցում, վերակառուցում | D17: =+D19 -> 1998
C18: այդ թվում` ըստ կատարողների
C19: ՀՀ առողջապահության նախարարություն | D19: =+D21 -> 1998
C20: այդ թվում` ըստ ուղղությունների
C21: ՀՀ Գեղարքունիքի մարզ | D21: =SUM(D22:D22) -> 1998
C22: ՀՀ ԱՆ «Վարդենիսի բժշկական կենտրոն» ՓԲԸ | D22: 1998

Sheet 7
A1: Հավելված № 7
A2: ՀՀ կառավարության 2026 թվականի
A3: __________ «____» -ի
A4: N_____ -Ն որոշման
A5: ՀԱՅԱՍՏԱՆԻ ՀԱՆՐԱՊԵՏՈՒԹՅԱՆ ԿԱՌԱՎԱՐՈՒԹՅԱՆ 2025 ԹՎԱԿԱՆԻ ԴԵԿՏԵՄԲԵՐԻ 25-Ի № 1910-Ն ՈՐՈՇՄԱՆ № 5 ՀԱՎԵԼՎԱԾԻ № 4 ԱՂՅՈՒՍԱԿՈՒՄ ԿԱՏԱՐՎՈՂ ՓՈՓՈԽՈՒԹՅՈՒՆՆԵՐԸ
A6: հազար դրամներով
D7: Ցուցանիշների փոփոխությունները (ավելացումները նշված են դրական նշանով)
A8: Ծրագրային դասիչը | C8: Բյուջետային հատկացումների գլխավոր կարգադրիչների, ծրագրերի, միջոցառումների և միջոցառումները կատարող պետական մարմինների անվանումները | D8: Տարի
D9: Ընդամենը | E9: այդ թվում`
A10: Ծրագիր | B10: Միջոցառում | E10: Դրամաշնորհային միջոցներ | F10: Համաֆինանսավորում
C11: ԸՆԴԱՄԵՆԸ | D11: =+D13+D14 -> 18000 | E11: =+E13+E14 -> 0 | F11: =+F13+F14 -> 18000
C12: այդ թվում`
C13: ԸՆԹԱՑԻԿ ԾԱԽՍԵՐ
C14: ՈՉ ՖԻՆԱՆՍԱԿԱՆ ԱԿՏԻՎՆԵՐԻ ԳԾՈՎ ԾԱԽՍԵՐ | D14: =+D24 -> 18000 | E14: =+E24 -> 0 | F14: =+F24 -> 18000
C15: ՀՀ առողջապահության նախարարություն | D15: =+D17 -> 18000 | E15: =+E17 -> 0 | F15: =+F17 -> 18000
C16: այդ թվում`
A17: 1053 | C17: Առողջապահության համակարգի արդիականացման և արդյունավետության բարձրացման ծրագիր | D17: =+D19 -> 18000 | E17: =+E19 -> 0 | F17: =+F19 -> 18000
C18: այդ թվում`
B19: 32007 | C19: ՀՀ կայունացման և զարգացման Եվրասիական հիմնադրամի միջոցներից ֆինանսավորվող «ՀՀ-ում COVID-19 համավարակի պատրաստվածությանմակարդակի բարձրացում. կորոնավիրուսից առաջացող սպառնալիքի հայտնաբերում և արձագանքում» ծրագրի շրջանակներում շենքային պայմանների բարելավում | D19: =+E19+F19 -> 18000 | E19: =+E21 -> 0 | F19: =+F21 -> 18000
C20: այդ թվում` ըստ կատարողների
C21: ՀՀ առողջապահության նախարարություն | D21: =+E21+F21 -> 18000 | E21: =+E23 -> 0 | F21: =+F23 -> 18000
C22: այդ թվում` բյուջետային ծախսերի տնտեսագիտական դասակարգման հոդվածներ
C23: ԸՆԴԱՄԵՆԸ ԾԱԽՍԵՐ | D23: =+E23+F23 -> 18000 | E23: =+E24 -> 0 | F23: =+F24 -> 18000
C24: ՈՉ ՖԻՆԱՆՍԱԿԱՆ ԱԿՏԻՎՆԵՐԻ ԳԾՈՎ ԾԱԽՍԵՐ | D24: =+E24+F24 -> 18000 | E24: =+E25 -> 0 | F24: =+F25 -> 18000
C25: ՀԻՄՆԱԿԱՆ ՄԻՋՈՑՆԵՐ | D25: =+E25+F25 -> 18000 | E25: =+E26 -> 0 | F25: =+F26 -> 18000
C26: ՇԵՆՔԵՐ ԵՎ ՇԻՆՈՒԹՅՈՒՆՆԵՐ | D26: =+E26+F26 -> 18000 | E26: =+E27 -> 0 | F26: =+F27 -> 18000
C27: - Շենքերի և շինությունների շինարարություն | D27: =+E27+F27 -> 18000 | E27: 0 | F27: 18000

Sheet 8
B1: Հավելված № 8
B2: ՀՀ կառավարության 2025 թվականի
B3: __________ «____» -ի
B4: N_____ -Ն որոշման
B5: ՀԱՅԱՍՏԱՆԻ ՀԱՆՐԱՊԵՏՈՒԹՅԱՆ ԿԱՌԱՎԱՐՈՒԹՅԱՆ 2025 ԹՎԱԿԱՆԻ ԴԵԿՏԵՄԲԵՐԻ 25-Ի № 1910-Ն ՈՐՈՇՄԱՆ № 9 ՀԱՎԵԼՎԱԾՈՒՄ ԿԱՏԱՐՎՈՂ ՓՈՓՈԽՈՒԹՅՈՒՆՆԵՐԸ
A6: (հազար դրամներով)
A7: ԲԳԿ | B7: Ծրագիր | D7: Միջոցառում | H7: Իրականացնողը/ ակտիվն օգտագործողը/ շահառուի ընտրության չափորոշիչը | I7: Արդյունքային չափորոշիչը | J7: Ցուցանիշների փոփոխությունները (ավելացումը նշված է դրական նշանով, իսկ նվազեցումը` փակագծերում)
B8: Դասիչը | C8: Անվանումը | D8: Դասիչը | E8: Անվանումը | F8: Նկարագրությունը | G8: Տեսակը | J8: Տարի
A9: ԸՆԴԱՄԵՆԸ | J9: =+J10 -> 0
A10: ՀՀ առողջապահության նախարարություն | J10: =+J11+J16 -> 0
B11: 1053 | C11: Առողջապահության համակարգի արդիականացման և արդյունավետության բարձրացման ծրագիր | J11: =+J12 -> 18000
D12: 1053 - 32007 | E12: ՀՀ կայունացման և զարգացման Եվրասիական հիմնադրամի միջոցներից ֆինանսավորվող «ՀՀ-ում COVID-19 համավարակի պատրաստվածությանմակարդակի բարձրացում. կորոնավիրուսից առաջացող սպառնալիքի հայտնաբերում և արձագանքում» ծրագրի շրջանակներում շենքային պայմանների բարելավում | J12: =+'2'!G12 -> 18000
F13: Հիվանդությունների վերահսկման և կանխարգելման ազգային կենտրոնի Արմավիրի մարզային մասնաճյուղի վերակառուցման աշխատանքներ
G14: Այլ պետական կազմակերպությունների կողմից օգտագործվող ոչ ֆինանսական ակտիվների հետ գործառնություններ
H15: Ակտիվն օգտագործող կազմակերպության անվանումը` Մասնագիտացված միավոր
B16: 1126 | C16: Առողջապահության ոլորտում պետական քաղաքականության մշակում, ծրագրերի համակարգում և մոնիտորինգ | J16: =+J17+J21 -> -18000
D17: 1126-31002 | E17: Առողջապահական կազմակերպությունների վերազինում | J17: =+'2'!G14 -> -19998
F18: Բնակչությանը որակյալ բժշկական օգնության և սպասարկման ծառայություններ մատուցելու նպատակով՛ առողջապահական կազմակերպությունների անհրաժեշտ սարքավորումներով վերազինում
G19: Պետական մարմինների կողմից օգտագործվող ոչ ֆինանսական ակտիվների հետ գործառնություններ
H20: Ակտիվն օգտագործող կազմակերպության անվանումը` Բժշկական կազմակերպություններ
D21: 1126-31003 | E21: Առողջապահական կազմակերպությունների կառուցում, վերակառուցում | J21: =+'2'!G15 -> 1998
F22: Բնակչությանը որակյալ բժշկական օգնության և սպասարկման ծառայություններ մատուցելու նպատակով առողջապահական կազմակերպությունների կառուցում, վերակառուցում
G23: Պետական մարմինների կողմից օգտագործվող ոչ ֆինանսական ակտիվների հետ գործառնություններ
H24: Ակտիվն օգտագործող կազմակերպության անվանումը` Բժշկական կազմակերպություններ

Sheet 9
B1: Հավելված № 9
B2: ՀՀ կառավարության 2026 թվականի
B3: __________ «____» -ի
B4: N_____ -Ն որոշման
B5: ՀԱՅԱՍՏԱՆԻ ՀԱՆՐԱՊԵՏՈՒԹՅԱՆ ԿԱՌԱՎԱՐՈՒԹՅԱՆ 2025 ԹՎԱԿԱՆԻ ԴԵԿՏԵՄԲԵՐԻ 25-Ի № 1910-Ն ՈՐՈՇՄԱՆ № 9.1 ՀԱՎԵԼՎԱԾՈՒՄ ԿԱՏԱՐՎՈՂ ՓՈՓՈԽՈՒԹՅՈՒՆՆԵՐԸ
A6: (հազար դրամներով)
A7: ԲՍԿ | B7: Ծրագիր | D7: Միջոցառում | H7: Իրականացնողը/ ակտիվն օգտագործողը/ շահառուի ընտրության չափորոշիչը | I7: Արդյունքային չափորոշիչը | J7: Ցուցանիշների փոփոխությունները (ավելացումը նշված է դրական նշանով, իսկ նվազեցումը` փակագծերում)
B8: Դասիչը | C8: Անվանումը | D8: Դասիչը | E8: Անվանումը | F8: Նկարագրությունը | G8: Տեսակը | J8: Տարի
A9: ԸՆԴԱՄԵՆԸ | J9: =+J10 -> 0
A10: ՀՀ առողջապահության նախարարություն | J10: =+J11+J16 -> 0
B11: 1053 | C11: Առողջապահության համակարգի արդիականացման և արդյունավետության բարձրացման ծրագիր | J11: =+J12 -> 18000
D12: 1053 - 32007 | E12: ՀՀ կայունացման և զարգացման Եվրասիական հիմնադրամի միջոցներից ֆինանսավորվող «ՀՀ-ում COVID-19 համավարակի պատրաստվածությանմակարդակի բարձրացում. կորոնավիրուսից առաջացող սպառնալիքի հայտնաբերում և արձագանքում» ծրագրի շրջանակներում շենքային պայմանների բարելավում | J12: =+'5'!G20 -> 18000
F13: Հիվանդությունների վերահսկման և կանխարգելման ազգային կենտրոնի Արմավիրի մարզային մասնաճյուղի վերակառուցման աշխատանքներ
G14: Այլ պետական կազմակերպությունների կողմից օգտագործվող ոչ ֆինանսական ակտիվների հետ գործառնություններ
H15: Ակտիվն օգտագործող կազմակերպության անվանումը` Մասնագիտացված միավոր
B16: 1126 | C16: Առողջապահության ոլորտում պետական քաղաքականության մշակում, ծրագրերի համակարգում և մոնիտորինգ | J16: =+J17+J21 -> -18000
D17: 1126 - 31002 | E17: Առողջապահական կազմակերպությունների վերազինում | J17: =+'2'!G14 -> -19998
F18: Բնակչությանը որակյալ բժշկական օգնության և սպասարկման ծառայություններ մատուցելու նպատակով՛ առողջապահական կազմակերպությունների անհրաժեշտ սարքավորումներով վերազինում
G19: Պետական մարմինների կողմից օգտագործվող ոչ ֆինանսական ակտիվների հետ գործառնություններ
H20: Ակտիվն օգտագործող կազմակերպության անվանումը` Բժշկական կազմակերպություններ
D21: 1126 - 31003 | E21: Առողջապահական կազմակերպությունների կառուցում, վերակառուցում | J21: =+'6'!D19 -> 1998
F22: Բնակչությանը որակյալ բժշկական օգնության և սպասարկման ծառայություններ մատուցելու նպատակով առողջապահական կազմակերպությունների կառուցում, վերակառուցում
G23: Պետական մարմինների կողմից օգտագործվող ոչ ֆինանսական ակտիվների հետ գործառնություններ
H24: Ակտիվն օգտագործող կազմակերպության անվանումը` Բժշկական կազմակերպություններ

Sheet 10
A1: Հավելված № 10
A2: ՀՀ կառավարության 2026 թվականի
A3: __________ «____» -ի
A4: N_____ -Ն որոշման
A5: ՀԱՅԱՍՏԱՆԻ ՀԱՆՐԱՊԵՏՈՒԹՅԱՆ ԿԱՌԱՎԱՐՈՒԹՅԱՆ 2025 ԹՎԱԿԱՆԻ ԴԵԿՏԵՄԲԵՐԻ 25-Ի № 1910-Ն ՈՐՈՇՄԱՆ № 10 ՀԱՎԵԼՎԱԾՈՒՄ ԿԱՏԱՐՎՈՂ ՓՈՓՈԽՈՒԹՅՈՒՆՆԵՐԸ ԵՎ ԼՐԱՑՈՒՄՆԵՐԸ
A6: Կոդը | B6: Անվանումը | E6: Գնման ձևը | F6: Չափման միավորը | G6: Միավորի գինը | H6: Քանակը | I6: Ցուցանիշների փոփոխությունները (ավելացումները նշված են դրական նշանով, իսկ նվազեցումները` փակագծերում)
I7: (հազար դրամներով)
A8: ԸՆԴԱՄԵՆԸ | I8: =+I9 -> -18000
A9: ՀՀ առողջապահության նախարարություն | I9: =+I10 -> -18000
A10: Բաժին 07 | B10: Խումբ 06 | C10: Դաս 02 | D10: Առողջապահություն (այլ դասերին չպատկանող) | I10: =+I11+I14 -> -18000
A11: 1126 31002 | B11: Առողջապահական կազմակերպությունների վերազինում | I11: =+I12 -> -19998
B12: ՄԱՍ I. Ա Պ Ր Ա Ն Ք Ն Ե Ր | I12: =SUM(I13:I13) -> -19998
A13: 33141174/21 | B13: բժշկական սարքերի հավաքածուներ | E13: ԷԱՃ | F13: հատ | I13: =+'6'!D16 -> -19998
A14: 1126 31003 | B14: Առողջապահական կազմակերպությունների կառուցում, վերակառուցում | I14: =+I15 -> 1998
B15: ՄԱՍ III. ԾԱՌԱՅՈՒԹՅՈՒՆՆԵՐ | I15: =+I16 -> 1998
A16: 71311260/501 | B16: Շրջակա միջավայրի վրա ազդեցության գնահատման (ՇՄԱԳ) ծառայություններ շինարարության համար | E16: ԳՀ | F16: դրամ | I16: =+'6'!D22 -> 1998
