Workbook
Name _tab10: #REF!
Name _tab10: #REF!
Name _tab11: #REF!
Name _tab11: #REF!
Name _tab12: #REF!
Name _tab12: #REF!
Name _tab13: #REF!
Name _tab13: #REF!
Name _tab14: #REF!
Name _tab14: #REF!
Name _tab15: #REF!
Name _tab15: #REF!
Name _tab16: #REF!
Name _tab16: #REF!
Name _tab17: #REF!
Name _tab17: #REF!
Name _tab18: #REF!
Name _tab18: #REF!
Name _tab19: #REF!
Name _tab19: #REF!
Name _tab20: #REF!
Name _tab20: #REF!
Name _tab21: #REF!
Name _tab21: #REF!
Name _tab22: #REF!
Name _tab22: #REF!
Name _tab23: #REF!
Name _tab23: #REF!
Name _tab24: #REF!
Name _tab24: #REF!
Name _tab5: #REF!
Name _tab5: #REF!
Name _tab6: #REF!
Name _tab6: #REF!
Name _tab7: #REF!
Name _tab7: #REF!
Name _tab8: #REF!
Name _tab8: #REF!
Name _tab9: #REF!
Name _tab9: #REF!
Name AgencyCode: #REF!
Name AgencyCode: #REF!
Name AgencyName: #REF!
Name AgencyName: #REF!
Name åû: #REF!
Name åû: #REF!
Name davit: #REF!
Name davit: #REF!
Name Functional1: #REF!
Name Functional1: #REF!
Name ggg: #REF!
Name ggg: #REF!
Name hav: #REF!
Name hav: #REF!
Name havelvac: #REF!
Name havelvac: #REF!
Name mas: #REF!
Name mas: #REF!
Name mass: #REF!
Name mass: #REF!

Sheet 1
G1: Հավելված N 1
F2: ՀՀ կառավարության 2026 թվականի
F3: -----------------ի N -----------Ն որոշման
A5: «ՀԱՅԱՍՏԱՆԻ ՀԱՆՐԱՊԵՏՈՒԹՅԱՆ 2026 ԹՎԱԿԱՆԻ ՊԵՏԱԿԱՆ ԲՅՈՒՋԵԻ ՄԱՍԻՆ» ՕՐԵՆՔԻ N 1 ՀԱՎԵԼՎԱԾԻ N 2 ԱՂՅՈՒՍԱԿՈՒՄ ԿԱՏԱՐՎՈՂ ՎԵՐԱԲԱՇԽՈՒՄԸ ԵՎ ՀԱՅԱՍՏԱՆԻ ՀԱՆՐԱՊԵՏՈՒԹՅԱՆ ԿԱՌԱՎԱՐՈՒԹՅԱՆ 2025 ԹՎԱԿԱՆԻ ԴԵԿՏԵՄԲԵՐԻ 25-Ի N 1910-Ն ՈՐՈՇՄԱՆ N 5 ՀԱՎԵԼՎԱԾԻ N 1 ԱՂՅՈՒՍԱԿՈՒՄ ԿԱՏԱՐՎՈՂ ՓՈՓՈԽՈՒԹՅՈՒՆՆԵՐԸ ԵՎ ԼՐԱՑՈՒՄՆԵՐԸ
G6: հազար դրամներով
A7: ԲԳԿ | B7: Ծրագրային դասիչը | D7: ԲԳԿ/Ծրագրի /միջոցառման անվանումը | E7: Ծրագրի նպատակը/Միջոցառման նկարագրույունը | F7: Վերջնական արդյունքի նկարագրությունը/Միջոցառման տեսակը | G7: Ցուցանիշների փոփոխությունները ավելացումները նշված են դրական նշանով, իսկ նվազեցումները՝ փակագծերում
B8: Ծրագիր | C8: Միջոցառում | G8: Տարի
A9: ԸՆԴԱՄԵՆԸ | G9: =G10 -> 0
A10: ՀՀ աշխատանքի և բարեկեցության նախարարություն | G10: =G11+G13+G15 -> 0
B11: 1011 | D11: Անապահով և կյանքի դժվարին իրավիճակում սոցիալական խմբերին աջակցություն | E11: Օժանդակել անապահով ընտանիքների կենսամակարդակի բարձրացմանը | F11: Աղքատության մեղմում և ծայրահեղ աղքատության կրճատում | G11: =G12 -> -425300
C12: 1011 - 12001 | D12: Ընտանիքի կենսամակարդակի բարձրացմանն ուղղված նպաստներ | E12: Ընտանիքների անապահովության գնահատման համակարգում հաշվառված, անապահով ճանաչված ընտանիքներին նպաստի, սոցիալական նպաստի և հրատապ օգնության տրամադրում | F12: Տրանսֆերտների տրամադրում | G12: =-151000-151000-110000-13300 -> -425300
B13: 1117 | D13: Սոցիալական պաշտպանության բնագավառում պետական քաղաքականության մշակում, ծրագրերի համակարգում և մոնիթորինգ | E13: Աղքատության մեղմման և անհավասարության նվազեցման, աշխատաշուկայի պահանջարկի և գործազրկության անհմպ. կրճատման, զբաղվածության աճի, ժողովրդագրական իրավիճակի բարելավման և քաղաքացիների սոց.իրավունքի իրացմանն ուղղված քաղաքականության մշակմ. և իրականացմ. ապահովում | F13: Սոցիալական պաշտպանության ոլորտում իրականացվող ծրագրերի ազդեցության և արդյունավետության բարելավում | G13: =G14 -> 412000
C14: 1117 - 11004 | D14: Սոցիալական պաշտպանության ոլորտի տեղեկատվական համակարգի սպասարկման (կատարելագործման), շահագործման և տեղեկատվության տրամադրման ծառայություններ | E14: Սոցիալական պաշտպանության ոլորտի տեղեկատվական բազաների սպասարկում և շահագործում | F14: Ծառայությունների մատուցում | G14: =110000+151000+151000 -> 412000
B15: 1141 | D15: Երեխաների հիմնահարցեր | E15: Կյանքի դժվարին իրավիճակում հայտնված երեխաների հիմնական պահանջմունքների և սոցիալական կարիքների բավարարում և ինտեգրում հասարակություն | F15: Երեխաներին մատուցվող սոցիալական ծառայությունների և դրանց հասցեականության բարելավումե կյանքի դժվարին իրավիճակում հայտնված երեխաների ինտեգրում հասարկություն | G15: =G16+G17 -> 13300
C16: 1141 - 12004 | D16: Խնամատար ընտանիքում երեխայի խնամքի և դաստիարակության աջակցության տրամադրում | E16: Երեխաների շուրջօրյա խնամքի բնակչության սոցիալական պաշտպանության հաստատություններում խնամվող առանց ծնողական խնամքի մնացած երեխաների խնամքի և դաստիարակության բարենպաստ պայմանների ստեղծում` նրանց խնամատար ընտանիքներ տեղավորելու միջոցով | F16: Տրանսֆերտների տրամադրում | G16: 13300

Sheet 2
G1: Հավելված N 2
F2: ՀՀ կառավարության 2026 թվականի
F3: -----------------ի N -----------Ն որոշման
A5: ՀԱՅԱՍՏԱՆԻ ՀԱՆՐԱՊԵՏՈՒԹՅԱՆ ԿԱՌԱՎԱՐՈՒԹՅԱՆ 2025 ԹՎԱԿԱՆԻ ԴԵԿՏԵՄԲԵՐԻ 25-Ի N 1910-Ն ՈՐՈՇՄԱՆ N N 3 ԵՎ 4 ՀԱՎԵԼՎԱԾՆԵՐՈՒՄ ԿԱՏԱՐՎՈՂ ՓՈՓՈԽՈՒԹՅՈՒՆՆԵՐԸ ԵՎ ԼՐԱՑՈՒՄՆԵՐԸ
G6: հազար դրամներով
A7: Գործառական դասիչը | D7: Ծրագրային դասիչը | F7: Բյուջետային ծախսերի գործառական դասակարգման բաժինների, խմբերի և դասերի, բյուջետային ծրագրերի միջոցառումների, բյուջետային հատկացումների գլխավոր կարգադրիչների անվանումները | G7: Ցուցանիշների փոփոխությունները ավելացումները նշված են դրական նշանով, իսկ նվազեցումները՝ փակագծերում
A8: Բաժինը | B8: Խումբը | C8: Դասը | D8: Ծրագիր | E8: Միջոցառում | G8: Տարի
F9: ԸՆԴԱՄԵՆԸ ԾԱԽՍԵՐ | G9: =G11 -> 0
F10: այդ թվում`
F11: ՀՀ աշխատանքի և բարեկեցության նախարարություն | G11: =G13 -> 0
F12: այդ թվում՝
A13: 10 | F13: ՍՈՑԻԱԼԱԿԱՆ ՊԱՇՏՊԱՆՈՒԹՅՈՒՆ | G13: =G15+G46 -> 0
F14: այդ թվում՝
B15: 04 | F15: Ընտանիքի անդամներ և զավակներ | G15: =G17 -> -412000
F16: այդ թվում՝
C17: 01 | F17: Ընտանիքի անդամներ և զավակներ | G17: =G19 -> -412000
F18: այդ թվում`
F19: ՀՀ աշխատանքի և բարեկեցության նախարարություն | G19: =G21+G35 -> -412000
F20: այդ թվում`
D21: ='1'!B15 -> 1141 | F21: ='1'!D15 -> Երեխաների հիմնահարցեր | G21: =G23 -> 13300
F22: այդ թվում՝
E23: 12004 | F23: ='1'!D16 -> Խնամատար ընտանիքում երեխայի խնամքի և դաստիարակության աջակցության տրամադրում | G23: =G25 -> 13300
F24: այդ թվում` ըստ կատարողների
F25: ՀՀ աշխատանքի և բարեկեցության նախարարություն | G25: =G27 -> 13300
F26: այդ թվում` բյուջետային ծախսերի տնտեսագիտական դասակարգման հոդվածներ
F27: ԸՆԴԱՄԵՆԸ ԾԱԽՍԵՐ | G27: =G28 -> 13300
F28: ԸՆԹԱՑԻԿ ԾԱԽՍԵՐ | G28: =G29+G32 -> 13300
F29: ԱՇԽԱՏԱՆՔԻ ՎԱՐՁԱՏՐՈՒԹՅՈՒՆ | G29: =G30 -> 7600
F30: Դրամով վճարվող աշխատավարձեր և հավելավճարներ | G30: =G31 -> 7600
F31: - Աշխատողների աշխատավարձեր և հավելավճարներ | G31: 7600
F32: ՍՈՑԻԱԼԱԿԱՆ ՆՊԱՍՏՆԵՐ ԵՎ ԿԵՆՍԱԹՈՇԱԿՆԵՐ | G32: =G33 -> 5700
F33: Սոցիալական օգնության դրամական արտահայտությամբ նպաստներ (բյուջեից) | G33: =G34 -> 5700
F34: - Այլ նպաստներ բյուջեից | G34: 5700
D35: 1011 | F35: ='1'!D11 -> Անապահով և կյանքի դժվարին իրավիճակում սոցիալական խմբերին աջակցություն | G35: =G37 -> -425300
F36: այդ թվում՝
E37: 12001 | F37: ='1'!D12 -> Ընտանիքի կենսամակարդակի բարձրացմանն ուղղված նպաստներ | G37: =G39 -> -425300
F38: այդ թվում` ըստ կատարողների
F39: ՀՀ աշխատանքի և բարեկեցության նախարարության միասնական սոցիալական ծառայություն | G39: =G41 -> -425300
F40: այդ թվում` բյուջետային ծախսերի տնտեսագիտական դասակարգման հոդվածներ
F41: ԸՆԴԱՄԵՆԸ ԾԱԽՍԵՐ | G41: =G42 -> -425300
F42: ԸՆԹԱՑԻԿ ԾԱԽՍԵՐ | G42: =G43 -> -425300
F43: ՍՈՑԻԱԼԱԿԱՆ ՆՊԱՍՏՆԵՐ ԵՎ ԿԵՆՍԱԹՈՇԱԿՆԵՐ | G43: =G44 -> -425300
F44: Սոցիալական օգնության դրամական արտահայտությամբ նպաստներ (բյուջեից) | G44: =G45 -> -425300
F45: - Երեխաների կամ ընտանեկան նպաստներ բյուջեից | G45: ='1'!G12 -> -425300
B46: 09 | F46: Սոցիալական պաշտպանություն (այլ դասերին չպատկանող) | G46: =G48 -> 412000
F47: այդ թվում՝
C48: 02 | F48: Սոցիալական պաշտպանությանը տրամադրվող օժանդակ ծառայություններ (այլ դասերին չպատկանող) | G48: =G50 -> 412000
F49: այդ թվում՝
F50: ՀՀ աշխատանքի և բարեկեցության նախարարություն | G50: =G51 -> 412000
F51: այդ թվում՝ | G51: =G52 -> 412000
D52: ='1'!B13 -> 1117 | F52: ='1'!D13 -> Սոցիալական պաշտպանության բնագավառում պետական քաղաքականության մշակում, ծրագրերի համակարգում և մոնիթորինգ | G52: =G54 -> 412000
F53: այդ թվում`
E54: 11004 | F54: ='1'!D14 -> Սոցիալական պաշտպանության ոլորտի տեղեկատվական համակարգի սպասարկման (կատարելագործման), շահագործման և տեղեկատվության տրամադրման ծառայություններ | G54: =G56 -> 412000
F55: այդ թվում` ըստ կատարողների
F56: ՀՀ աշխատանքի և բարեկեցության նախարարություն | G56: =G58 -> 412000
F57: այդ թվում` բյուջետային ծախսերի տնտեսագիտական դասակարգման հոդվածներ
F58: ԸՆԴԱՄԵՆԸ ԾԱԽՍԵՐ | G58: =G59 -> 412000
F59: ԸՆԹԱՑԻԿ ԾԱԽՍԵՐ | G59: =G60 -> 412000
F60: ԴՐԱՄԱՇՆՈՐՀՆԵՐ | G60: =G61 -> 412000
F61: Ընթացիկ դրամաշնորհներ պետական հատվածի այլ մակարդակներին | G61: =G62 -> 412000
F62: - Այլ ընթացիկ դրամաշնորհներ | G62: ='1'!G14 -> 412000

Sheet 3
G1: Հավելված N 3
G2: ՀՀ կառավարության 2026 թվականի
G3: -----------------ի N -----------Ն որոշման
A5: ՀԱՅԱՍՏԱՆԻ ՀԱՆՐԱՊԵՏՈՒԹՅԱՆ ԿԱՌԱՎԱՐՈՒԹՅԱՆ 2025 ԹՎԱԿԱՆԻ ԴԵԿՏԵՄԲԵՐԻ 25-Ի N 1910-Ն ՈՐՈՇՄԱՆ N 5 ՀԱՎԵԼՎԱԾԻ N 7 ԱՂՅՈՒՍԱԿՈՒՄ ԿԱՏԱՐՎՈՂ ԼՐԱՑՈՒՄԸ
G6: հազար դրամներով
A7: Ծրագրային դասիչ | C7: Բյուջետային գլխավոր կարգադրիչների, ծրագրերի, միջոցառումների, միջոցառումները կատարող պետական մարմինների և ուղղությունների անվանումները | F7: Միջոցառումները կատարող պետական մարմինների և դրամաշնորհ ստացող տնտեսավարող սուբյեկտների անվանումները | G7: Ցուցանիշների փոփոխությունները ավելացումները նշված են դրական նշանով
A8: Ծրագիր | B8: Միջոցառում | G8: Տարի
A10: 1 | B10: 2 | C10: 3 | F10: 4 | G10: 5
A11: ՀՀ աշխատանքի և բարեկեցության նախարարություն | G11: =G12 -> 412000
A12: ='[1]1'!B11 -> 1117 | B12: ='[1]1'!D11 -> Սոցիալական պաշտպանության բնագավառում պետական քաղաքականության մշակում, ծրագրերի համակարգում և մոնիթորինգ | G12: =G13 -> 412000
B13: ='[1]1'!C12 -> 1117 - 11004 | C13: ='[1]1'!D12 -> Սոցիալական պաշտպանության ոլորտի տեղեկատվական համակարգի սպասարկման (կատարելագործման), շահագործման և տեղեկատվության տրամադրման ծառայություններ | F13: ՀՀ աշխատանքի և բարեկեցության նախարարություն | G13: =G14 -> 412000
F14: «Բարեկեցության տեղեկատվական համակարգերի ձեռնարկություն» հիմնադրամ | G14: ='2'!G54 -> 412000

Sheet 4
J1: Հավելված N 4
J2: ՀՀ կառավարության 2026 թվականի
J3: -----------------ի N -----------Ն որոշման
A5: ՀԱՅԱՍՏԱՆԻ ՀԱՆՐԱՊԵՏՈՒԹՅԱՆ ԿԱՌԱՎԱՐՈՒԹՅԱՆ 2025 ԹՎԱԿԱՆԻ ԴԵԿՏԵՄԲԵՐԻ 25-Ի N 1910-Ն ՈՐՈՇՄԱՆ N 9 ՀԱՎԵԼՎԱԾՈՒՄ ԿԱՏԱՐՎՈՂ ՓՈՓՈԽՈՒԹՅՈՒՆՆԵՐԸ ԵՎ ԼՐԱՑՈՒՄՆԵՐԸ
J6: հազար դրամներով
A7: ԲԳԿ | B7: Ծրագիր | D7: Միջոցառում | H7: Իրականացնողը/ ակտիվն օգտագործողը/ շահառուի ընտրության չափորոշիչը | I7: Արդյունքային չափորոշիչը | J7: Ցուցանիշների փոփոխությունները ավելացումները նշված են դրական նշանով, իսկ նվազեցումները՝ փակագծերում
B8: Դասիչը | C8: Անվանումը | D8: Դասիչը | E8: Անվանումը | F8: Նկարագրությունը | G8: Տեսակը | J8: Տարի
A9: ԸՆԴԱՄԵՆԸ | J9: =J10 -> 0
A10: ՀՀ աշխատանքի և բարեկեցության նախարարություն | J10: =J11+J19+J26 -> 0
B11: ='1'!B11 -> 1011 | C11: ='1'!D11 -> Անապահով և կյանքի դժվարին իրավիճակում սոցիալական խմբերին աջակցություն | J11: =J12 -> -425300
D12: ='1'!C12 -> 1011 - 12001 | E12: ='1'!D12 -> Ընտանիքի կենսամակարդակի բարձրացմանն ուղղված նպաստներ | J12: ='1'!G12 -> -425300
F13: ='1'!E12 -> Ընտանիքների անապահովության գնահատման համակարգում հաշվառված, անապահով ճանաչված ընտանիքներին նպաստի, սոցիալական նպաստի և հրատապ օգնության տրամադրում
G14: Տրանսֆերտների տրամադրում
H15: Շահառուների ընտրության չափորոշիչները` Ընտանիքների անապահովության գնահատման համակարգում հաշվառված ընտանիք (ընտանիքի անապահովության միավորի հիման վրա) | I15: 0
I16: Ընտանիքի կենսամակարդակի բարձրացմանն ուղղված նպաստներ ստացող ընտանիքների միջին թիվ, հատ, այդ թվում` | J16: -752
I17: Նպաստ ստացող անդամների միջին թիվ, այդ թվում` | J17: -2030
B19: ='1'!B13 -> 1117 | C19: ='1'!D13 -> Սոցիալական պաշտպանության բնագավառում պետական քաղաքականության մշակում, ծրագրերի համակարգում և մոնիթորինգ | J19: =J20 -> 412000
D20: ='1'!C14 -> 1117 - 11004 | E20: ='1'!D14 -> Սոցիալական պաշտպանության ոլորտի տեղեկատվական համակարգի սպասարկման (կատարելագործման), շահագործման և տեղեկատվության տրամադրման ծառայություններ | J20: ='1'!G14 -> 412000
F21: ='1'!E14 -> Սոցիալական պաշտպանության ոլորտի տեղեկատվական բազաների սպասարկում և շահագործում
G22: ='1'!F14 -> Ծառայությունների մատուցում
H23: Ծառայությունը մատուցողի անվանումը` Մասնագիտացված կազմակերպություն
I24: Սպասարկող բազաների թիվ, հատ | J24: 1
B26: ='1'!B15 -> 1141 | C26: ='1'!D15 -> Երեխաների հիմնահարցեր | J26: =J27 -> 13300
D27: ='1'!C16 -> 1141 - 12004 | E27: ='1'!D16 -> Խնամատար ընտանիքում երեխայի խնամքի և դաստիարակության աջակցության տրամադրում | J27: ='1'!G16 -> 13300
F28: ='1'!E16 -> Երեխաների շուրջօրյա խնամքի բնակչության սոցիալական պաշտպանության հաստատություններում խնամվող առանց ծնողական խնամքի մնացած երեխաների խնամքի և դաստիարակության բարենպաստ պայմանների ստեղծում` նրանց խնամատար ընտանիքներ տեղավորելու միջոցով
G29: ='1'!F16 -> Տրանսֆերտների տրամադրում
H30: Շահառուների ընտրության չափորոշիչները` Երեխաներին ընտանիք վերադարձնելու համար ընտանիքների պայմանական բարենպաստ լինելը (ընտանիքի սոցիալ-տնտեսական, բնակարանային-կենցաղային պայմանները և բարոյահոգեբանական մթնոլորտը)
I31: Հաշվառված խնամատար ծնող դառնալ ցանկացող անձանց թվաքանակը, անձ | J31: 8
I32: Խնամատար ընտանիքներում խնամք ստացող երեխաների թիվ,երեխա այդ թվում` | J32: 20

Sheet 5
J1: Հավելված N 5
J2: ՀՀ կառավարության 2026 թվականի
J3: -----------------ի N -----------Ն որոշման
A5: ՀԱՅԱՍՏԱՆԻ ՀԱՆՐԱՊԵՏՈՒԹՅԱՆ ԿԱՌԱՎԱՐՈՒԹՅԱՆ 2025 ԹՎԱԿԱՆԻ ԴԵԿՏԵՄԲԵՐԻ 25-Ի N 1910-Ն ՈՐՈՇՄԱՆ N 9.1 ՀԱՎԵԼՎԱԾՈՒՄ ԿԱՏԱՐՎՈՂ ՓՈՓՈԽՈՒԹՅՈՒՆՆԵՐԸ ԵՎ ԼՐԱՑՈՒՄՆԵՐԸ
J6: հազար դրամներով
A7: ԲՍԿ | B7: Ծրագիր | D7: Միջոցառում | H7: Իրականացնողը/ ակտիվն օգտագործողը/ շահառուի ընտրության չափորոշիչը | I7: Արդյունքային չափորոշիչը | J7: Ցուցանիշների փոփոխությունները ավելացումները նշված են դրական նշանով, իսկ նվազեցումները՝ փակագծերում
B8: Դասիչը | C8: Անվանումը | D8: Դասիչը | E8: Անվանումը | F8: Նկարագրությունը | G8: Տեսակը | J8: Տարի
A9: ԸՆԴԱՄԵՆԸ | J9: =J10+J26 -> 0
A10: ՀՀ աշխատանքի և բարեկեցության նախարարություն | J10: =J11+J18 -> 425300
B11: ='1'!B13 -> 1117 | C11: ='1'!D13 -> Սոցիալական պաշտպանության բնագավառում պետական քաղաքականության մշակում, ծրագրերի համակարգում և մոնիթորինգ | J11: =J12 -> 412000
D12: ='1'!C14 -> 1117 - 11004 | E12: ='1'!D14 -> Սոցիալական պաշտպանության ոլորտի տեղեկատվական համակարգի սպասարկման (կատարելագործման), շահագործման և տեղեկատվության տրամադրման ծառայություններ | J12: ='1'!G14 -> 412000
F13: ='1'!E14 -> Սոցիալական պաշտպանության ոլորտի տեղեկատվական բազաների սպասարկում և շահագործում
G14: ='1'!F14 -> Ծառայությունների մատուցում
H15: Ծառայությունը մատուցողի անվանումը` Մասնագիտացված կազմակերպություն
I16: Սպասարկող բազաների թիվ, հատ | J16: 1
B18: ='1'!B15 -> 1141 | C18: ='1'!D15 -> Երեխաների հիմնահարցեր | J18: =J19 -> 13300
D19: ='1'!C16 -> 1141 - 12004 | E19: ='1'!D16 -> Խնամատար ընտանիքում երեխայի խնամքի և դաստիարակության աջակցության տրամադրում | J19: ='1'!G16 -> 13300
F20: ='1'!E16 -> Երեխաների շուրջօրյա խնամքի բնակչության սոցիալական պաշտպանության հաստատություններում խնամվող առանց ծնողական խնամքի մնացած երեխաների խնամքի և դաստիարակության բարենպաստ պայմանների ստեղծում` նրանց խնամատար ընտանիքներ տեղավորելու միջոցով
G21: ='1'!F16 -> Տրանսֆերտների տրամադրում
H22: Շահառուների ընտրության չափորոշիչները` Երեխաներին ընտանիք վերադարձնելու համար ընտանիքների պայմանական բարենպաստ լինելը (ընտանիքի սոցիալ-տնտեսական, բնակարանային-կենցաղային պայմանները և բարոյահոգեբանական մթնոլորտը)
I23: Հաշվառված խնամատար ծնող դառնալ ցանկացող անձանց թվաքանակը, անձ | J23: 8
I24: Խնամատար ընտանիքներում խնամք ստացող երեխաների թիվ,երեխա այդ թվում` | J24: 20
A26: ՀՀ աշխատանքի և բարեկեցության նախարարության միասնական սոցիալական ծառայություն | J26: =J27 -> -425300
B27: ='1'!B11 -> 1011 | C27: ='1'!D11 -> Անապահով և կյանքի դժվարին իրավիճակում սոցիալական խմբերին աջակցություն | J27: =J28 -> -425300
D28: ='1'!C12 -> 1011 - 12001 | E28: ='1'!D12 -> Ընտանիքի կենսամակարդակի բարձրացմանն ուղղված նպաստներ | J28: ='1'!G12 -> -425300
F29: ='1'!E12 -> Ընտանիքների անապահովության գնահատման համակարգում հաշվառված, անապահով ճանաչված ընտանիքներին նպաստի, սոցիալական նպաստի և հրատապ օգնության տրամադրում
G30: Տրանսֆերտների տրամադրում
H31: Շահառուների ընտրության չափորոշիչները` Ընտանիքների անապահովության գնահատման համակարգում հաշվառված ընտանիք (ընտանիքի անապահովության միավորի հիման վրա) | I31: 0
I32: Ընտանիքի կենսամակարդակի բարձրացմանն ուղղված նպաստներ ստացող ընտանիքների միջին թիվ, հատ, այդ թվում` | J32: ='4'!J16 -> -752
I33: Նպաստ ստացող անդամների միջին թիվ, այդ թվում` | J33: ='4'!J17 -> -2030
