Workbook
Name \A: #REF!
Name _tab10: #REF!
Name _tab10: #REF!
Name _tab11: #REF!
Name _tab12: #REF!
Name _tab13: #REF!
Name _tab14: #REF!
Name _tab15: #REF!
Name _tab16: #REF!
Name _tab17: #REF!
Name _tab18: #REF!
Name _tab19: #REF!
Name _tab20: #REF!
Name _tab21: #REF!
Name _tab22: #REF!
Name _tab23: #REF!
Name _tab24: #REF!
Name _tab5: #REF!
Name _tab6: #REF!
Name _tab7: #REF!
Name _tab8: #REF!
Name _tab9: #REF!
Name aaa: #REF!
Name aaaa: #REF!
Name aaaaa: #REF!
Name AgencyCode: #REF!
Name AgencyCode: #REF!
Name AgencyName: #REF!
Name alis: #REF!
Name alisa: #REF!
Name als: #REF!
Name ampop_krchat: #REF!
Name Armata: #REF!
Name asd: #REF!
Name åû: #REF!
Name BOP: #REF!
Name BOPfoot: #REF!
Name davit: #REF!
Name DebtCG: '[1]Fis-Debt'!#REF!
Name DebtGG: #REF!
Name fff: #REF!
Name Functional1: #REF!
Name ggg: #REF!
Name h: #REF!
Name Hav: #REF!,#REF!
Name havelvac: #REF!
Name mas: #REF!
Name mass: #REF!
Name MonExo: #REF!
Name MonGrow: [2]BM!#REF!
Name PANature: #REF!
Name PANature: #REF!
Name par_count: #REF!,#REF!,#REF!,#REF!,#REF!,#REF!,#REF!,#REF!,#REF!,#REF!,#REF!,#REF!,#REF!,#REF!,#REF!
Name par_count: #REF!,#REF!,#REF!,#REF!,#REF!,#REF!,#REF!,#REF!,#REF!,#REF!,#REF!,#REF!,#REF!,#REF!,#REF!
Name par_qual: #REF!,#REF!,#REF!,#REF!,#REF!
Name par_qual: #REF!,#REF!,#REF!,#REF!,#REF!
Name par_time: #REF!,#REF!,#REF!,#REF!
Name par_time: #REF!,#REF!,#REF!,#REF!
Name par2.12s: #REF!
Name par2.12s: #REF!

Sheet Հավելված 1
A1: Հավելված N 1 ՀՀ կառավարության 2026 թվականի ____________ի N _____-Ն որոշման
A3: «ՀԱՅԱՍՏԱՆԻ ՀԱՆՐԱՊԵՏՈՒԹՅԱՆ 2026 ԹՎԱԿԱՆԻ ՊԵՏԱԿԱՆ ԲՅՈՒՋԵԻ ՄԱՍԻՆ» ՕՐԵՆՔԻ N 1 ՀԱՎԵԼՎԱԾԻ N 2 ԱՂՅՈՒՍԱԿՈՒՄ ԿԱՏԱՐՎՈՂ ՎԵՐԱԲԱՇԽՈՒՄԸ, ՀԱՅԱՍՏԱՆԻ ՀԱՆՐԱՊԵՏՈՒԹՅԱՆ ԿԱՌԱՎԱՐՈՒԹՅԱՆ 2025 ԹՎԱԿԱՆԻ ԴԵԿՏԵՄԲԵՐԻ 25-Ի N 1910-Ն ՈՐՈՇՄԱՆ N 5 ՀԱՎԵԼՎԱԾԻ N 1 ԱՂՅՈՒՍԱԿՈՒՄ ԿԱՏԱՐՎՈՂ ՓՈՓՈԽՈՒԹՅՈՒՆՆԵՐԸ
G4: հազար դրամներով
A5: ԲԳԿ | B5: Ծրագրային դասիչը | D5: ԲԳԿ/Ծրագրի /միջոցառման անվանումը | E5: Ծրագրի նպատակը/Միջոցառման նկարագրությունը | F5: Վերջնական արդյունքի նկարագրությունը/Միջոցառման տեսակը | G5: Ցուցանիշների փոփոխությունները (ավելացումները նշված են դրական նշանով, նվազեցումները՝ փակագծերում)
B6: Ծրագիր | C6: Միջոցառում | G6: Տարի
A7: ԸՆԴԱՄԵՆԸ | G7: =+G8 -> 0
A8: ՀՀ էկոնոմիկայի նախարարություն | G8: =+G9+G12 -> 0
B9: 1022 | D9: Գյուղատնտեսության խթանման ծրագիր | E9: Գյուղատնտեսական մթերքի և դրանց վերամշակումից ստացվող սննդամթերքի ծավալների ավելացում | F9: Գյուղատնտեսական մթերքների ծավալների ավելացում: Օգտագործվող վարելահողերի ավելացում: Պտուղբանջարեղենի և խաղողի վերամշակումից ստացված արտադրանքի ծավալների աճ | G9: =+G10+G11 -> 285050
C10: 1022 - 12013 | D10: Հայաստանի Հանրապետությունում արդյունաբերական խեցգետնաբուծության զարգացման ծրագիր | E10: Բնական պաշարների խնայողաբար օգտագործման, արտադրական գործընթացների արդյունավետության բարձրացման և շահառուների եկամուտների ավելացման նպատակով ՀՀ-ում խեցգետինների արհեստական բուծման և աճեցման տնտեսությունների հիմնման գործընթացի խթանում պետական աջակցությամբ | F10: Տրանսֆերտների տրամադրում | G10: -64950
C11: 1022-12015 | D11: Կոնյակի սպիրտի արտահանման աջակցության ծրագրի շրջանակներում տրամադրվող աջակցություն | E11: Կոնյակի և բրենդիի սպիրտ արտադրողի կողմից 100000 (100 % սպիրտի հաշվարկով) լիտրից հետո այլ խմբաքանակի իրացման իրավունքի ձեռքբերման համար վճարված լրացուցիչ 100 դրամ պետական տուրքի շրջանակում արտահան- ված կոնյակի սպիրտին համարժեք տուրքի չափով աջակցություն | F11: Տրանսֆերտների տրամադրում | G11: 350000
B12: 1104 | D12: Գիտելիքահենք, նորարարական տնտեսությանը և փոքր ու միջին ձեռնարկատիրությանը աջակցություն | E12: Արտադրողականության բարձրացման նպատակով տնտեսության թվայնացման, նորարարական էլեկտրոնային կառավարման համակարգերի ներդրման, գիտելիքահենք գործարարությանը և փոքր ու միջին ձեռնարկատիրությանը աջակցություն | F12: Արտադրողականության աճ, նորարարական և թվայնացված տնտեսություն, ՓՄՁ սուբյեկտների թվաքանակի ավելացու | G12: =+G13 -> -285050
C13: 1104-12004 | D13: Բարձր որակավորում ունեցող մասնագետների ներգրավման նպատակով նախարարության միջոցով տնտեսավարողներին սուբսիդավորում | E13: Հայաստանի Հանրապետության տարածքում գործող ընկերությունների արտադրողականության բարձրացման նպատակով բարձր որակավորում ունեցող մասնագետների ներգրավմանը աջակցություն | F13: Տրանսֆերտների տրամադրում | G13: =+G9*-1 -> -285050

Sheet Հավելված 2
F1: Հավելված 2 ՀՀ կառավարության 2026 թվականի ____________ի N _____-Ն որոշման
A3: ՀԱՅԱՍՏԱՆԻ ՀԱՆՐԱՊԵՏՈՒԹՅԱՆ ԿԱՌԱՎԱՐՈՒԹՅԱՆ 2025 ԹՎԱԿԱՆԻ ԴԵԿՏԵՄԲԵՐԻ 25-Ի N 1910-Ն ՈՐՈՇՄԱՆ NN 3 ԵՎ 4 ՀԱՎԵԼՎԱԾՆԵՐՈՒՄ ԿԱՏԱՐՎՈՂ ՓՈՓՈԽՈՒԹՅՈՒՆՆԵՐԸ
G4: հազար դրամներով
A5: Գործառնական դասիչ | D5: Ծրագրային դասիչը | F5: Բյուջետային ծախսերի գործառական դասակարգման բաժինների, խմբերի և դասերի, բյուջետային ծրագրերի միջոցառումների, բյուջետային հատկացումների գլխավոր կարգադրիչների անվանումները | G5: Ցուցանիշների փոփոխությունները (ավելացումները նշված են դրական նշանով, նվազեցումները՝ փակագծերում)
A6: Բաժին | B6: Խումբ | C6: Դաս | D6: Ծրագիր | E6: Միջոցառում | G6: Տարի
F7: ԸՆԴԱՄԵՆԸ ԾԱԽՍԵՐ | G7: =+G9 -> 0
F8: այդ թվում`
F9: ՀՀ էկոնոմիկայի նախարարություն | G9: =+G11 -> 0
F10: այդ թվում`
A11: 04 | F11: ՏՆՏԵՍԱԿԱՆ ՀԱՐԱԲԵՐՈՒԹՅՈՒՆՆԵՐ | G11: =+G12+G29 -> 0
B12: 01 | F12: Ընդհանուր բնույթի տնտեսական, առևտրային և աշխատանքի գծով հարաբերություններ | G12: =+G14 -> -285050
F13: այդ թվում`
C14: 01 | F14: Ընդհանուր բնույթի տնտեսական և առևտրային հարաբերություններ | G14: =+G18 -> -285050
F15: այդ թվում`
F16: ՀՀ էկոնոմիկայի նախարարություն | G16: =+G18 -> -285050
F17: այդ թվում`
D18: 1104 | F18: Գիտելիքահենք, նորարարական տնտեսությանը և փոքր ու միջին ձեռնարկատիրությանը աջակցություն | G18: =+G24 -> -285050
F19: այդ թվում` ըստ կատարողների
E20: 12004 | F20: Բարձր որակավորում ունեցող մասնագետների ներգրավման նպատակով նախարարության միջոցով տնտեսավարողներին սուբսիդավորում | G20: =+G22 -> -285050
F21: այդ թվում` ըստ կատարողների
F22: ՀՀ էկոնոմիկայի նախարարություն | G22: =+G24 -> -285050
F23: այդ թվում` բյուջետային ծախսերի տնտեսագիտական դասակարգման հոդվածներ
F24: ԸՆԴԱՄԵՆԸ ԾԱԽՍԵՐ | G24: =+G26 -> -285050
F25: ԸՆԹԱՑԻԿ ԾԱԽՍԵՐ | G25: =+G26 -> -285050
F26: ՍՈՒԲՍԻԴԻԱՆԵՐ | G26: =+G27 -> -285050
F27: Սուբսիդիաներ ոչ պետական կազմակերպություններին | G27: =+G28 -> -285050
F28: - Սուբսիդիաներ ոչ պետական ոչ ֆինանսական կազմակերպություններին | G28: =+'Հավելված 1'!G13 -> -285050
B29: 02 | F29: Գյուղատնտեսություն, անտառային տնտեսություն, ձկնորսություն և որսորդություն | G29: =+G31 -> 285050
F30: այդ թվում`
C31: 01 | F31: Գյուղատնտեսություն | G31: =+G33 -> 285050
F32: այդ թվում`
F33: ՀՀ էկոնոմիկայի նախարարություն | G33: =+G35 -> 285050
F34: այդ թվում`
D35: 1022 | F35: =+'Հավելված 1'!D9 -> Գյուղատնտեսության խթանման ծրագիր | G35: =+G37+G46 -> 285050
F36: այդ թվում`
E37: 12013 | F37: Հայաստանի Հանրապետությունում արդյունաբերական խեցգետնաբուծության զարգացման ծրագիր | G37: =+G39 -> -64950
F38: այդ թվում` ըստ կատարողների
F39: ՀՀ էկոնոմիկայի նախարարություն | G39: =+G41 -> -64950
F40: այդ թվում` բյուջետային ծախսերի տնտեսագիտական դասակարգման հոդվածներ
F41: ԸՆԴԱՄԵՆԸ ԾԱԽՍԵՐ | G41: =+G42 -> -64950
F42: ԸՆԹԱՑԻԿ ԾԱԽՍԵՐ | G42: =+G43 -> -64950
F43: ՍՈՒԲՍԻԴԻԱՆԵՐ | G43: =G44 -> -64950
F44: Սուբսիդիաներ ոչ պետական կազմակերպություններին | G44: =G45 -> -64950
F45: - Սուբսիդիաներ ոչ պետական ոչ ֆինանսական կազմակերպություններին | G45: =+'Հավելված 1'!G10 -> -64950
E46: 12015 | F46: =+'Հավելված 1'!D11 -> Կոնյակի սպիրտի արտահանման աջակցության ծրագրի շրջանակներում տրամադրվող աջակցություն | G46: =+G48 -> 350000
F47: այդ թվում` ըստ կատարողների
F48: ՀՀ էկոնոմիկայի նախարարություն | G48: =+G50 -> 350000
F49: այդ թվում` բյուջետային ծախսերի տնտեսագիտական դասակարգման հոդվածներ
F50: ԸՆԴԱՄԵՆԸ ԾԱԽՍԵՐ | G50: =+G51 -> 350000
F51: ԸՆԹԱՑԻԿ ԾԱԽՍԵՐ | G51: =+G52 -> 350000
F52: ԴՐԱՄԱՇՆՈՐՀՆԵՐ | G52: =G53 -> 350000
F53: Ընթացիկ դրամաշնորհներ պետական հատվածի այլ մակարդակներին | G53: =G54 -> 350000
F54: - Այլ ընթացիկ դրամաշնորհներ | G54: =+'Հավելված 1'!G11 -> 350000

Sheet Հավելված 3
D1: Հավելված 3
C2: ՀՀ կառավարության 2026 թվականի
C3: ___________ ___-ի N _______ -Ն որոշման
A6: ՀԱՅԱՍՏԱՆԻ ՀԱՆՐԱՊԵՏՈՒԹՅԱՆ ԿԱՌԱՎԱՐՈՒԹՅԱՆ 2025 ԹՎԱԿԱՆԻ ԴԵԿՏԵՄԲԵՐԻ25-Ի N 1910-Ն ՈՐՈՇՄԱՆ N 5 ՀԱՎԵԼՎԱԾԻ 7 ԱՂՅՈՒՍԱԿՈՒՄ ԿԱՏԱՐՎՈՂ ՓՈՓՈԽՈՒԹՅՈՒՆԸ
G7: հազար դրամներով
A8: Ծրագրային դասիչ | C8: Բյուջետային հատկացումների գլխավոր կարգադրիչների, ծրագրերի, միջոցառումների, ծախսային ուղղությունների անվանումները | F8: Միջոցառումները կատարող պետական մարմինների և դրամաշնորհ ստացող տնտեսվարող սուբյեկտների անվանումները | G8: Ցուցանիշների փոփոխությունները (ավելացումները նշված են դրական նշանով)
A9: Ծրագիր | B9: Միջոցառում | G9: Տարի
A10: 1 | B10: 2 | C10: 3 | F10: 4 | G10: 5
A11: Ընդամենը | G11: =+G12 -> 350000
A12: ՀՀ էկոնոմիկայի նախարարություն | G12: =+G13 -> 350000
A13: 1022 | B13: =+'Հավելված 1'!D9 -> Գյուղատնտեսության խթանման ծրագիր | G13: =G14 -> 350000
B14: 12015 | C14: =+'Հավելված 2'!F46 -> Կոնյակի սպիրտի արտահանման աջակցության ծրագրի շրջանակներում տրամադրվող աջակցություն | F14: ՀՀ էկոնոմիկայի նախարարություն | G14: =+G15 -> 350000
F15: ՀՀ կառավարության կողմից հաստատված համապատասխան ծրագրի չափանիշները բավարարող շահառուներ | G15: =+'Հավելված 2'!G46 -> 350000

Sheet Հավելված 4
A1: Հավելված 4 ՀՀ կառավարության 2026 թվականի ____________ի N _____-Ն որոշման
A2: ՀԱՅԱՍՏԱՆԻ ՀԱՆՐԱՊԵՏՈՒԹՅԱՆ ԿԱՌԱՎԱՐՈՒԹՅԱՆ 2025 ԹՎԱԿԱՆԻ ԴԵԿՏԵՄԲԵՐԻ 25-Ի N 1910-Ն ՈՐՈՇՄԱՆ N N 9 ԵՎ 9.1 ՀԱՎԵԼՎԱԾՆԵՐՈՒՄ ԿԱՏԱՐՎՈՂ ՓՈՓՈԽՈՒԹՅՈՒՆՆԵՐԸ
J3: հազար դրամներով
A4: ԲԳԿ/ԲՍԿ | B4: Ծրագիր | D4: Միջոցառում | H4: Իրականացնողը/ ակտիվն օգտագործողը/ շահառուի ընտրության չափորոշիչը | I4: Արդյունքային չափորոշիչը | J4: Ցուցանիշների փոփոխությունը (ավելացումները նշված են դրական նշանով, իսկ նվազեցումները՝ փակագծերում)
B5: Դասիչը | C5: Անվա-նումը | D5: Դասիչը | E5: Անվա-նումը | F5: Նկարագրու-թյունը | G5: Տեսակը | J5: Տարի
A6: ԸՆԴԱՄԵՆԸ | J6: =+J7 -> 0
A7: ՀՀ էկոնոմիկայի նախարարություն | J7: =+J8+J20 -> 0
B8: 1022 | C8: Գյուղատնտեսության խթանման ծրագիր | J8: =+J9+J14 -> 285050
D9: 1022 - 12013 | E9: =+'Հավելված 2'!F37 -> Հայաստանի Հանրապետությունում արդյունաբերական խեցգետնաբուծության զարգացման ծրագիր | J9: -64950
F10: Բնական պաշարների խնայողաբար օգտագործման, արտադրական գործընթացների արդյունավետության բարձրացման և շահառուների եկամուտների ավելացման նպատակով ՀՀ-ում խեցգետինների արհեստական բուծման և աճեցման տնտեսությունների հիմնման գործընթացի խթանում պետական աջակցությամբ
G11: Տրանսֆերտների տրամադրում
H12: Շահառուների ընտրության չափորոշիչները` ՀՀ տնտեսավարողներ՛ ընտրված ՀՀ կառավարության 13.04.2023թ. թիվ 532-Լ որոշմամբ հաստատված ծրագրի չափանիշներին համապատասխան
I13: Ծրագրի շրջանակներում հիմնվող միջին խեցգետնաբուծական համալիրներ, հատ | J13: -1
D14: 1022 - 12015 | E14: =+'Հավելված 1'!D11 -> Կոնյակի սպիրտի արտահանման աջակցության ծրագրի շրջանակներում տրամադրվող աջակցություն | J14: =+'Հավելված 1'!G11 -> 350000
F15: =+'Հավելված 1'!E11 -> Կոնյակի և բրենդիի սպիրտ արտադրողի կողմից 100000 (100 % սպիրտի հաշվարկով) լիտրից հետո այլ խմբաքանակի իրացման իրավունքի ձեռքբերման համար վճարված լրացուցիչ 100 դրամ պետական տուրքի շրջանակում արտահան- ված կոնյակի սպիրտին համարժեք տուրքի չափով աջակցություն
G16: Տրանսֆերտների տրամադրում
H17: ՀՀ կառավարության 2024 թվականի հունիսի 27-ի N 971-Լ որոշմամբ հաստատված ծրագրի չափանիշները բավարարող շահառուներ
I18: 100 հազար լիտրը գերազանցող չափով արտահանված կոնյակի սպիրտ, հազար բացարձակ լիտր | J18: =3500000/1000 -> 3500
I19: Աջակցություն ստացող տնտեսավարողներ | J19: 1
B20: 1104 | C20: Գիտելիքահենք, նորարարական տնտեսությանը և փոքր ու միջին ձեռնարկատիրությանը աջակցություն | J20: =+J21+J25 -> -285050
D21: 1104 - 12004 | E21: Բարձր որակավորում ունեցող մասնագետների ներգրավման նպատակով նախարարության միջոցով տնտեսավարողներին սուբսիդավորում | J21: =+'Հավելված 1'!G13 -> -285050
F22: Հայաստանի Հանրապետության տարածքում գործող ընկերությունների արտադրողականության բարձրացման նպատակով բարձր որակավորում ունեցող մասնագետների ներգրավմանը աջակցություն
G23: Տրանսֆերտների տրամադրում
H24: Շահառուների ընտրության չափորոշիչները` ՀՀ կառավարության 2020թ. մարտի 26-ի N 355-Լ որոշման պահանջներին համապատասխանող շահառուներ
