Workbook

Sheet  Հավելված 1
G1: Հավելված N 1
G2: ՀՀ կառավարության 2026 թվականի
G3: ___________ ___-ի N _______ որոշման
A4: «ՀԱՅԱՍՏԱՆԻ ՀԱՆՐԱՊԵՏՈՒԹՅԱՆ 2026 ԹՎԱԿԱՆԻ ՊԵՏԱԿԱՆ ԲՅՈՒՋԵԻ ՄԱՍԻՆ» ՀԱՅԱՍՏԱՆԻ ՀԱՆՐԱՊԵՏՈՒԹՅԱՆ ՕՐԵՆՔԻ N 1 ՀԱՎԵԼՎԱԾԻ N 2 ԱՂՅՈՒՍԱԿՈՒՄ ԿԱՏԱՐՎՈՂ ՎԵՐԱԲԱՇԽՈՒՄԸ, ՓՈՓՈԽՈՒԹՅՈՒՆՆԵՐԸ ԵՎ ՀԱՅԱՍՏԱՆԻ ՀԱՆՐԱՊԵՏՈՒԹՅԱՆ ԿԱՌԱՎԱՐՈՒԹՅԱՆ 2025 ԹՎԱԿԱՆԻ ԴԵԿՏԵՄԲԵՐԻ 25-Ի N 1910-Ն ՈՐՈՇՄԱՆ N 5 ՀԱՎԵԼՎԱԾԻ N 1 ԱՂՅՈՒՍԱԿՈՒՄ ԿԱՏԱՐՎՈՂ ՓՈՓՈԽՈՒԹՅՈՒՆՆԵՐԸ
G5: հազար դրամներով
A6: ԲԳԿ | B6: Ծրագրային դասիչը | D6: ԲԳԿ/Ծրագրի /միջոցառման անվանումը | E6: Ծրագրի նպատակը/Միջոցառման նկարագրությունը | F6: Վերջնական արդյունքի նկարագրությունը/Միջոցառման տեսակը | G6: Ցուցանիշների փոփոխությունը (ավելացումները նշված են դրական նշանով, իսկ նվազեցումները՝ փակագծերում)
B7: Ծրագիր | C7: Միջոցառում | G7: Տարի
A8: ԸՆԴԱՄԵՆԸ | G8: =+G9+G15+G18 -> 0
A9: ՀՀ պետական եկամուտների կոմիտե | G9: =G10+G13 -> 2488800
B10: 1023 | D10: Հարկային և մաքսային ծառայություններ | E10: Հարկային և մաքսային միասնական պետական քաղաքականության իրականացում, հարկային և մաքսային օրենսդրության ամբողջական և համահավասար կիրառում | F10: Արդյունավետ հարկային և մաքսային հսկողության իրականացում, պետական բյուջեի եկամուտների ապահովում | G10: =SUM(G11:G12) -> 88800
C11: 1023 - 11001 | D11: Հարկային և մաքսային ծառայություններ | E11: Հարկային և մաքսային քաղաքականության մշակման, պլանավորման, մոնիտորինգի, ծրագրերի համակարգման, գանձման, վերահսկողության և աջակցության ծառայություններ | F11: Ծառայությունների մատուցում | G11: =+'Հավելված 3'!G20 -> 79375.4
C12: 1023 - 31001 | D12: ՀՀ պետական եկամուտների կոմիտեի տեխնիկական հագեցվածության բարելավում | E12: ՀՀ պետական եկամուտների կոմիտեի տեխնիկական հագեցվածության բարելավում | F12: Պետական մարմինների կողմից օգտագործվող ոչ ֆինանսական ակտիվների հետ գործառնություններ | G12: =+'Հավելված 3'!G32 -> 9424.6
B13: 1239 | D13: Հիպոթեքային վարկի վճարված տոկոսների գումարի վերադարձ | E13: Հիպոթեքային վարկի սպասարկման համար վճարված տոկոսների գումարների չափով վարձու աշխատողների, անհատ ձեռնարկատերերի և նոտարների կողմից վճարված եկամտային հարկի գումարների վերադարձ | F13: Շինարարության ոլորտում տնտեսական աճի խթանում, սոցիալական քաղաքականության շրջանակներում շահառուներին տրամադրվող բյուջետային աջակցություն | G13: =+G14 -> 2400000
C14: 1239 - 12001 | D14: Հիպոթեքային վարկի վճարված տոկոսների գումարների վերադարձ | E14: Հիպոթեքային վարկի սպասարկման համար վճարված տոկոսների գումարների չափով վարձու աշխատողների, անհատ ձեռնարկատերերի և նոտարների կողմից վճարված եկամտային հարկի գումարների վերադարձ | F14: Տրանսֆերտների տրամադրում | G14: =+'Հավելված 3'!G46 -> 2400000
A15: ՀՀ բարձր տեխնոլոգիական արդյունաբերության նախարարություն | G15: =+G16 -> -88800
B16: 1235 | D16: Թվային փոխակերպման գործընթացի իրականացում | E16: Պետական մարմինների կողմից իրականացվող թվային փոխակերպման միջոցառումների ֆինանսավորում | F16: Թվային ծառայությունների և համակարգերի ներդրում | G16: =+G17 -> -88800
C17: 1235 - 31001 | D17: Միասնական թվային միջավայրի ձևավորում | E17: Թվային փոխակերպման գործընթացի շրջանակներում թվայնացման համակարգերի ներդրում և կայքերի արդիականացում | F17: Պետական մարմինների կողմից օգտագործվող ոչ ֆինանսական ակտիվների հետ գործառնություններ | G17: =+'Հավելված 3'!G63 -> -88800
A18: ՀՀ կառավարություն | G18: =G19 -> -2400000
B19: 1139 | D19: ՀՀ կառավարության պահուստային ֆոնդ | E19: Պետական բյուջեում չկանխատեսված, ինչպես նաև բյուջետային երաշխիքների ապահովման ծախսերի ֆինանսավորման ապահովում | F19: Պահուստային ֆոնդի կառավարման արդյունավետության և թափանցիկության ապահովում | G19: =SUM(G20:G22) -> -2400000
C20: 1139 - 11001 | D20: ՀՀ կառավարության պահուստային ֆոնդ | E20: ՀՀ պետական բյուջեում նախատեսված ելքերի լրացուցիչ ֆինանսավորման, պետական բյուջեում չկանխատեսված ելքերի, ինչպես նաև բյուջետային երաշխիքների ապահովման ելքերի ֆինանսավորման ապահովում | F20: Ծառայությունների մատուցում | G20: =+'Հավելված 3'!G82 -> -2400000
C21: 1139 - 11001 | D21: ՀՀ կառավարության պահուստային ֆոնդ | E21: ՀՀ պետական բյուջեում նախատեսված ելքերի լրացուցիչ ֆինանսավորման, պետական բյուջեում չկանխատեսված ելքերի, ինչպես նաև բյուջետային երաշխիքների ապահովման ելքերի ֆինանսավորման ապահովում | F21: Ծառայությունների մատուցում | G21: =+'Հավելված 3'!G90 -> 2464000
C22: 1139 - 11003 | D22: Հարկաբյուջետային ռիսկերի կառավարման պահուստ | E22: Հարկաբյուջետային ռիսկերի կառավարման նպատակով նախատեսված միջոցներ | F22: Ծառայությունների մատուցում | G22: =+'Հավելված 3'!G98 -> -2464000

Sheet Հավելված 2
H1: Հավելված N 2
H2: ՀՀ կառավարության 2026 թվականի
H3: ___________ ___-ի N _______ որոշման
A4: «ՀԱՅԱՍՏԱՆԻ ՀԱՆՐԱՊԵՏՈՒԹՅԱՆ 2026 ԹՎԱԿԱՆԻ ՊԵՏԱԿԱՆ ԲՅՈՒՋԵԻ ՄԱՍԻՆ» ՀԱՅԱՍՏԱՆԻ ՀԱՆՐԱՊԵՏՈՒԹՅԱՆ ՕՐԵՆՔԻ N 1 ՀԱՎԵԼՎԱԾԻ N 3 ԱՂՅՈՒՍԱԿՈՒՄ ԿԱՏԱՐՎՈՂ ՓՈՓՈԽՈՒԹՅՈՒՆՆԵՐԸ
H5: հազար դրամներով
A6: Ծրագրային դասիչ | C6: Բյուջետային գլխավոր կարգադրիչների, ծրագրերի, միջոցառումների և ուղղությունների անվանումները | D6: Ցուցանիշների փոփոխությունը (ավելացումները նշված են դրական նշանով, իսկ նվազեցումները՝ փակագծերում)
D7: Ընդամենը | E7: այդ թվում՝
E8: Կառուցման աշխատանքներ | F8: Վերակառուցման, վերանորոգման և վերականգնման աշխատանքներ | G8: Նախագծահետազոտական, գեոդեզա-քարտեզագրական աշխատանքներ | H8: Ոչ ֆինանսական այլ ակտիվների ձեռքբերում
A9: Ծրագիր | B9: Միջոցառում
C10: ԸՆԴԱՄԵՆԸ | D10: =D11+D14 -> -79375.4 | E10: =E11+E14 -> 0 | F10: =F11+F14 -> 0 | G10: =G11+G14 -> 0 | H10: =H11+H14 -> -79375.4
C11: ՀՀ բարձր տեխնոլոգիական արդյունաբերության նախարարություն | D11: =+D13 -> -88800 | E11: =+E13 -> 0 | F11: =+F13 -> 0 | G11: =+G13 -> 0 | H11: =+H13 -> -88800
C12: այդ թվում՛
A13: 1235 | B13: 31001 | C13: Միասնական թվային միջավայրի ձևավորում | D13: =E13+F13+G13+H13 -> -88800 | E13: 0 | F13: 0 | G13: 0 | H13: =+'Հավելված 4'!D12 -> -88800
C14: ՀՀ պետական եկամուտների կոմիտե | D14: =D16 -> 9424.6 | E14: =E16 -> 0 | F14: =F16 -> 0 | G14: =G16 -> 0 | H14: =H16 -> 9424.6
C15: այդ թվում`
A16: 1023 | B16: 31001 | C16: ՀՀ պետական եկամուտների կոմիտեի տեխնիկական հագեցվածության բարելավում | D16: =E16+F16+G16+H16 -> 9424.6 | E16: 0 | F16: 0 | G16: 0 | H16: =+'Հավելված 4'!D17 -> 9424.6

Sheet Հավելված 3
G1: Հավելված N 3
G2: ՀՀ կառավարության 2026 թվականի
G3: ___________ ___-ի N _______ որոշման
A4: ՀԱՅԱՍՏԱՆԻ ՀԱՆՐԱՊԵՏՈՒԹՅԱՆ ԿԱՌԱՎԱՐՈՒԹՅԱՆ 2025 ԹՎԱԿԱՆԻ ԴԵԿՏԵՄԲԵՐԻ 25-Ի N 1910-Ն ՈՐՈՇՄԱՆ NN 3 ԵՎ 4 ՀԱՎԵԼՎԱԾՆԵՐՈՒՄ ԿԱՏԱՐՎՈՂ ՓՈՓՈԽՈՒԹՅՈՒՆՆԵՐԸ
G5: հազար դրամներով
A6: Գործառնական դասիչը | D6: Ծրագրային դասիչը | F6: Բյուջետային ծախսերի գործառնական դասակարգման բաժինների, խմբերի և դասերի, բյուջետային ծրագրերի միջոցառումների, բյուջետային հատկացումների գլխավոր կարգադրիչների անվանումները | G6: Ցուցանիշների փոփոխությունը (ավելացումները նշված են դրական նշանով, իսկ նվազեցումները՝ փակագծերում)
A7: բաժին | B7: խումբ | C7: դաս | D7: ծրագիր | E7: միջոցառում | G7: Տարի
F8: ԸՆԴԱՄԵՆԸ ԾԱԽՍԵՐ | G8: =+G10+G72 -> 0
F9: այդ թվում՝
A10: 01 | F10: ԸՆԴՀԱՆՈՒՐ ԲՆՈՒՅԹԻ ՀԱՆՐԱՅԻՆ ԾԱՌԱՅՈՒԹՅՈՒՆՆԵՐ | G10: =+G12+G55 -> 2400000
F11: այդ թվում՝
B12: 01 | F12: Օրենսդիր և գործադիր մարմիններ, պետական կառավարում, ֆինանսական և հարկաբյուջետային հարաբերություններ, արտաքին հարաբերություններ | G12: =G14 -> 2488800
F13: այդ թվում՝
C14: 02 | F14: Ֆինանսական և հարկաբյուջետային հարաբերություններ | G14: =G16 -> 2488800
F15: այդ թվում՝
F16: ՀՀ պետական եկամուտների կոմիտե | G16: =G18+G44 -> 2488800
F17: այդ թվում`
D18: 1023 | F18: Հարկային և մաքսային ծառայություններ | G18: =+G20+G32 -> 88800
F19: այդ թվում՝
E20: 11001 | F20: Հարկային և մաքսային ծառայություններ | G20: =G22 -> 79375.4
F21: այդ թվում` ըստ կատարողների
F22: ՀՀ պետական եկամուտների կոմիտե | G22: =G24 -> 79375.4
F23: այդ թվում` բյուջետային ծախսերի տնտեսագիտական դասակարգման հոդվածներ
F24: ԸՆԴԱՄԵՆԸ ԾԱԽՍԵՐ | G24: =G25 -> 79375.4
F25: ԸՆԹԱՑԻԿ ԾԱԽՍԵՐ | G25: =G26 -> 79375.4
F26: ԾԱՌԱՅՈՒԹՅՈՒՆՆԵՐԻ ԵՎ ԱՊՐԱՆՔՆԵՐԻ ՁԵՌՔԲԵՐՈՒՄ | G26: =+G27+G29 -> 79375.4
F27: Շարունակական ծախսեր | G27: =+G28 -> -4624.6
F28: - Կապի ծառայություններ | G28: =-G40-G43 -> -4624.6
F29: Պայմանագրային այլ ծառայությունների ձեռքբերում | G29: =G30+G31 -> 84000
F30: - Համակարգչային ծառայություններ | G30: 88800
F31: - Ընդհանուր բնույթի այլ ծառայություններ | G31: =+-G41 -> -4800
E32: 31001 | F32: ՀՀ պետական եկամուտների կոմիտեի տեխնիկական հագեցվածության բարելավում | G32: =G34 -> 9424.6
F33: այդ թվում` ըստ կատարողների
F34: ՀՀ պետական եկամուտների կոմիտե | G34: =G36 -> 9424.6
F35: այդ թվում` բյուջետային ծախսերի տնտեսագիտական դասակարգման հոդվածներ
F36: ԸՆԴԱՄԵՆԸ ԾԱԽՍԵՐ | G36: =G37 -> 9424.6
F37: ՈՉ ՖԻՆԱՆՍԱԿԱՆ ԱԿՏԻՎՆԵՐԻ ԳԾՈՎ ԾԱԽՍԵՐ | G37: =G38 -> 9424.6
F38: ՀԻՄՆԱԿԱՆ ՄԻՋՈՑՆԵՐ | G38: =G39+G42 -> 9424.6
F39: ՄԵՔԵՆԱՆԵՐ ԵՎ ՍԱՐՔԱՎՈՐՈՒՄՆԵՐ | G39: =+G40+G41 -> 8219
F40: - Վարչական սարքավորումներ | G40: =2880+539 -> 3419
F41: - Այլ մեքենաներ և սարքավորումներ | G41: 4800
F42: ԱՅԼ ՀԻՄՆԱԿԱՆ ՄԻՋՈՑՆԵՐ | G42: =+G43 -> 1205.6
F43: - Ոչ նյութական հիմնական միջոցներ | G43: 1205.6
D44: 1239 | F44: Հիպոթեքային վարկի վճարված տոկոսների գումարի վերադարձ | G44: =+G46 -> 2400000
F45: այդ թվում`
E46: 12001 | F46: Հիպոթեքային վարկի վճարված տոկոսների գումարների վերադարձ | G46: =+G48 -> 2400000
F47: այդ թվում` ըստ կատարողների
F48: ՀՀ պետական եկամուտների կոմիտե | G48: =+G50 -> 2400000
F49: այդ թվում` բյուջետային ծախսերի տնտեսագիտական դասակարգման հոդվածներ
F50: ԸՆԴԱՄԵՆԸ ԾԱԽՍԵՐ | G50: =+G51 -> 2400000
F51: ԸՆԹԱՑԻԿ ԾԱԽՍԵՐ | G51: =+G52 -> 2400000
F52: ՍՈՑԻԱԼԱԿԱՆ ՆՊԱՍՏՆԵՐ ԵՎ ԿԵՆՍԱԹՈՇԱԿՆԵՐ | G52: =+G53 -> 2400000
F53: Սոցիալական օգնության դրամական արտահայտությամբ նպաստներ (բյուջեից) | G53: =+G54 -> 2400000
F54: - Այլ նպաստներ բյուջեից | G54: 2400000
B55: 03 | F55: Ընդհանուր բնույթի ծառայություններ | G55: =+G57 -> -88800
F56: այդ թվում`
C57: 02 | F57: Ծրագրման և վիճակագրական ընդհանուր ծառայություններ | G57: =+G59 -> -88800
F58: այդ թվում`
F59: ՀՀ բարձր տեխնոլոգիական արդյունաբերության նախարարություն | G59: =+G61 -> -88800
F60: այդ թվում`
D61: 1235 | F61: Թվային փոխակերպման գործընթացի իրականացում | G61: =+G63 -> -88800
F62: այդ թվում`
E63: 31001 | F63: Միասնական թվային միջավայրի ձևավորում | G63: =+G65 -> -88800
F64: այդ թվում` ըստ կատարողների
F65: ՀՀ կառավարություն | G65: =+G67 -> -88800
F66: այդ թվում` բյուջետային ծախսերի տնտեսագիտական դասակարգման հոդվածներ
F67: ԸՆԴԱՄԵՆԸ ԾԱԽՍԵՐ | G67: =G68 -> -88800
F68: ՈՉ ՖԻՆԱՆՍԱԿԱՆ ԱԿՏԻՎՆԵՐԻ ԳԾՈՎ ԾԱԽՍԵՐ | G68: =G69 -> -88800
F69: ՀԻՄՆԱԿԱՆ ՄԻՋՈՑՆԵՐ | G69: =G70 -> -88800
F70: ԱՅԼ ՀԻՄՆԱԿԱՆ ՄԻՋՈՑՆԵՐ | G70: =G71 -> -88800
F71: - Ոչ նյութական հիմնական միջոցներ | G71: =-G30 -> -88800
A72: 11 | F72: ՀԻՄՆԱԿԱՆ ԲԱԺԻՆՆԵՐԻՆ ՉԴԱՍՎՈՂ ՊԱՀՈՒՍՏԱՅԻՆ ՖՈՆԴԵՐ | G72: =+G74 -> -2400000
F73: այդ թվում`
B74: 01 | F74: ՀՀ կառավարության և համայնքների պահուստային ֆոնդ | G74: =+G76 -> -2400000
F75: այդ թվում`
C76: 01 | F76: ՀՀ կառավարության պահուստային ֆոնդ | G76: =G78 -> -2400000
F77: այդ թվում`
F78: ՀՀ կառավարություն | G78: =G80 -> -2400000
F79: այդ թվում`
D80: 1139 | F80: ՀՀ կառավարության պահուստային ֆոնդ | G80: =G82+G90+G98 -> -2400000
F81: այդ թվում`
E82: 11001 | F82: ՀՀ կառավարության պահուստային ֆոնդ | G82: =+G84 -> -2400000
F83: այդ թվում` ըստ կատարողների
F84: ՀՀ կառավարություն | G84: =+G86 -> -2400000
F85: այդ թվում` բյուջետային ծախսերի տնտեսագիտական դասակարգման հոդվածներ
F86: ԸՆԴԱՄԵՆԸ ԾԱԽՍԵՐ | G86: =+G87 -> -2400000
F87: ԸՆԹԱՑԻԿ ԾԱԽՍԵՐ | G87: =+G88 -> -2400000
F88: ԱՅԼ ԾԱԽՍԵՐ | G88: =+G89 -> -2400000
F89: Պահուստային միջոցներ | G89: =-G54 -> -2400000
E90: 11001 | F90: ՀՀ կառավարության պահուստային ֆոնդ | G90: =+G92 -> 2464000
F91: այդ թվում` ըստ կատարողների
F92: ՀՀ կառավարություն | G92: =+G94 -> 2464000
F93: այդ թվում` բյուջետային ծախսերի տնտեսագիտական դասակարգման հոդվածներ
F94: ԸՆԴԱՄԵՆԸ ԾԱԽՍԵՐ | G94: =+G95 -> 2464000
F95: ԸՆԹԱՑԻԿ ԾԱԽՍԵՐ | G95: =+G96 -> 2464000
F96: ԱՅԼ ԾԱԽՍԵՐ | G96: =+G97 -> 2464000
F97: Պահուստային միջոցներ | G97: 2464000
E98: 11003 | F98: Հարկաբյուջետային ռիսկերի կառավարման պահուստ | G98: =+G100 -> -2464000
F99: այդ թվում` ըստ կատարողների
F100: ՀՀ կառավարություն | G100: =+G102 -> -2464000
...

Sheet Հավելված 4
D1: Հավելված N 4
D2: ՀՀ կառավարության 2026 թվականի
D3: ___________ ___-ի N _______ որոշման
A4: ՀԱՅԱՍՏԱՆԻ ՀԱՆՐԱՊԵՏՈՒԹՅԱՆ ԿԱՌԱՎԱՐՈՒԹՅԱՆ 2025 ԹՎԱԿԱՆԻ ԴԵԿՏԵՄԲԵՐԻ 25-Ի N 1910-Ն ՈՐՈՇՄԱՆ N 5 ՀԱՎԵԼՎԱԾԻ N 2 ԱՂՅՈՒՍԱԿՈՒՄ ԿԱՏԱՐՎՈՂ ՓՈՓՈԽՈՒԹՅՈՒՆՆԵՐԸ
D5: հազար դրամներով
A6: Ծրագրային դասիչը | C6: Բյուջետային գլխավոր կարգադրիչների, ծրագրերի, միջոցառումների, միջոցառումները կատարող պետական մարմինների և ուղղությունների անվանումները | D6: Ցուցանիշների փոփոխությունը (ավելացումները նշված են դրական նշանով, իսկ նվազեցումները՝ փակագծերում)
A7: Ծրագիրը | B7: Միջոցառումը | D7: Տարի
C8: ԸՆԴԱՄԵՆԸ | D8: =D10+D15 -> -79375.4
C9: այդ թվում՝
C10: ՀՀ բարձր տեխնոլոգիական արդյունաբերության նախարարություն | D10: =D12 -> -88800
C11: այդ թվում՛
A12: 1235 | B12: 31001 | C12: Միասնական թվային միջավայրի ձևավորում | D12: =D13 -> -88800
C13: ՀՀ կառավարություն | D13: =+'Հավելված 3'!G63 -> -88800
C14: այդ թվում` ըստ կատարողների
C15: ՀՀ պետական եկամուտների կոմիտե | D15: =D17 -> 9424.6
C16: այդ թվում`
A17: 1023 | B17: 31001 | C17: ՀՀ պետական եկամուտների կոմիտեի տեխնիկական հագեցվածության բարելավում | D17: =D19 -> 9424.6
C18: այդ թվում` ըստ կատարողների
C19: ՀՀ պետական եկամուտների կոմիտե | D19: =+'Հավելված 3'!G32 -> 9424.6

Sheet Հավելված 5 
J1: Հավելված N 5
J2: ՀՀ կառավարության 2026 թվականի
J3: ___________ ___-ի N _______ որոշման
A4: ՀԱՅԱՍՏԱՆԻ ՀԱՆՐԱՊԵՏՈՒԹՅԱՆ ԿԱՌԱՎԱՐՈՒԹՅԱՆ 2025 ԹՎԱԿԱՆԻ ԴԵԿՏԵՄԲԵՐԻ 25-Ի N 1910-Ն ՈՐՈՇՄԱՆ N 9 ՀԱՎԵԼՎԱԾՈՒՄ ԿԱՏԱՐՎՈՂ ՓՈՓՈԽՈՒԹՅՈՒՆՆԵՐԸ ԵՎ ԼՐԱՑՈՒՄՆԵՐԸ
J5: հազար դրամներով
A6: ԲԳԿ | B6: Ծրագիր | D6: Միջոցառում | H6: Իրականացնողը/ ակտիվն օգտագործողը/ շահառուի ընտրության չափորոշիչը | I6: Արդյունքային չափորոշիչը | J6: Ցուցանիշների փոփոխությունը (ավելացումները նշված են դրական նշանով, իսկ նվազեցումները՝ փակագծերում)
B7: Դասիչը | C7: Անվանումը | D7: Դասիչը | E7: Անվա-նումը | F7: Նկարագրու-թյունը | G7: Տեսակը | J7: Տարի
A8: ԸՆԴԱՄԵՆԸ | J8: =+J9+J27+J33 -> 0
A9: ՀՀ պետական եկամուտների կոմիտե | J9: =J10+J21 -> 2488800
B10: 1023 | C10: Հարկային և մաքսային ծառայություններ | J10: =+J11+J15 -> 88800
D11: 1023 - 11001 | E11: Հարկային և մաքսային ծառայություններ | J11: =+'Հավելված 3'!G20 -> 79375.4
F12: Հարկային և մաքսային քաղաքականության մշակման, պլանավորման, մոնիտորինգի, ծրագրերի համակարգման, գանձման, վերահսկողության և աջակցության ծառայություններ
G13: Ծառայությունների մատուցում
H14: Ծառայությունը մատուցողի անվանումը` ՀՀ պետական եկամուտների կոմիտե
D15: 1023 - 31001 | E15: ՀՀ պետական եկամուտների կոմիտեի տեխնիկական հագեցվածության բարելավում | J15: =+'Հավելված 3'!G32 -> 9424.6
F16: ՀՀ պետական եկամուտների կոմիտեի տեխնիկական հագեցվածության բարելավում
G17: Պետական մարմինների կողմից օգտագործվող ոչ ֆինանսական ակտիվների հետ գործառնություններ
H18: Ակտիվն օգտագործող կազմակերպության անվանումը` ՀՀ պետական եկամուտների կոմիտե
I19: Այլ սարքավորումների քանակ, հատ | J19: =2+4 -> 6
I20: Էլեկտրոնային համակարգի ձեռքբերում, հատ | J20: 1
B21: 1239 | C21: Հիպոթեքային վարկի վճարված տոկոսների գումարի վերադարձ | J21: =J22 -> 2400000
D22: 1239 - 12001 | E22: Հիպոթեքային վարկի վճարված տոկոսների գումարների վերադարձ | J22: =+'Հավելված 3'!G46 -> 2400000
F23: Հիպոթեքային վարկի սպասարկման համար վճարված տոկոսների գումարների չափով վարձու աշխատողների, անհատ ձեռնարկատերերի և նոտարների կողմից վճարված եկամտային հարկի գումարների վերադարձ
G24: Տրանսֆերտների տրամադրում
H25: Շահառուների ընտրության չափորոշիչները` ՀՀ պետական եկամուտների կոմիտե
I26: Տվյալ տարվա ընթացքում հիպոթեքային վարկի գծով փոխհատուցում ստացող անձանց թվաքանակ | J26: 5484
A27: ՀՀ բարձր տեխնոլոգիական արդյունաբերության նախարարություն | J27: =J28 -> -88800
B28: 1235 | C28: Թվային փոխակերպման գործընթացի իրականացում | J28: =J29 -> -88800
D29: 1235 - 31001 | E29: Միասնական թվային միջավայրի ձևավորում | J29: =+'Հավելված 3'!G63 -> -88800
F30: Թվային փոխակերպման գործընթացի շրջանակներում թվայնացման համակարգերի ներդրում և կայքերի արդիականացում
G31: Պետական մարմինների կողմից օգտագործվող ոչ ֆինանսական ակտիվների հետ գործառնություններ
H32: Ակտիվն օգտագործող կազմակերպության անվանումը` Հանրային իշխանության մարմիններ
A33: ՀՀ կառավարություն | J33: =+J34 -> -2400000
B34: 1139 | C34: ՀՀ կառավարության պահուստային ֆոնդ | J34: =J35 -> -2400000
D35: 1139 - 11001 | E35: ՀՀ կառավարության պահուստային ֆոնդ | J35: ='Հավելված 3'!G82 -> -2400000
F36: ՀՀ պետական բյուջեում նախատեսված ելքերի լրացուցիչ ֆինանսավորման, պետական բյուջեում չկանխատեսված ելքերի, ինչպես նաև բյուջետային երաշխիքների ապահովման ելքերի ֆինանսավորման ապահովում
G37: Ծառայությունների մատուցում
H38: Ծառայությունը մատուցողի անվանումը` ՀՀ կառավարություն
D39: 1139 - 11001 | E39: ՀՀ կառավարության պահուստային ֆոնդ | J39: =+'Հավելված 3'!G90 -> 2464000
F40: ՀՀ պետական բյուջեում նախատեսված ելքերի լրացուցիչ ֆինանսավորման, պետական բյուջեում չկանխատեսված ելքերի, ինչպես նաև բյուջետային երաշխիքների ապահովման ելքերի ֆինանսավորման ապահովում
G41: Ծառայությունների մատուցում
H42: Ծառայությունը մատուցողի անվանումը` ՀՀ կառավարություն
D43: 1139-11003 | E43: Հարկաբյուջետային ռիսկերի կառավարման պահուստ | J43: =+'Հավելված 3'!G98 -> -2464000
F44: Հարկաբյուջետայի ռիսկերի կառավարման նպատակով նախատեսված միջոցներ
G45: Ծառայությունների մատուցում
H46: Ծառայությունը մատուցողի անվանումը` ՀՀ կառավարություն

Sheet Հավելված 6
J1: Հավելված N 6
J2: ՀՀ կառավարության 2026 թվականի
J3: ___________ ___-ի N _______ որոշման
A4: ՀԱՅԱՍՏԱՆԻ ՀԱՆՐԱՊԵՏՈՒԹՅԱՆ ԿԱՌԱՎԱՐՈՒԹՅԱՆ 2025 ԹՎԱԿԱՆԻ ԴԵԿՏԵՄԲԵՐԻ 27-Ի N 1910-Ն ՈՐՈՇՄԱՆ N 9.1 ՀԱՎԵԼՎԱԾՈՒՄ ԿԱՏԱՐՎՈՂ ՓՈՓՈԽՈՒԹՅՈՒՆՆԵՐԸ ԵՎ ԼՐԱՑՈՒՄՆԵՐԸ
J5: հազար դրամներով
A6: ԲՍԿ | B6: Ծրագիր | D6: Միջոցառում | H6: Իրականացնողը/ ակտիվն օգտագործողը/ շահառուի ընտրության չափորոշիչը | I6: Արդյունքային չափորոշիչը | J6: Ցուցանիշների փոփոխությունը (ավելացումները նշված են դրական նշանով, իսկ նվազեցումները՝ փակագծերում)
B7: Դասիչը | C7: Անվանումը | D7: Դասիչը | E7: Անվա-նումը | F7: Նկարագրու-թյունը | G7: Տեսակը | J7: Տարի
A8: ԸՆԴԱՄԵՆԸ | J8: =+J9+J27 -> 0
A9: ՀՀ պետական եկամուտների կոմիտե | J9: =J10+J21 -> 2488800
B10: 1023 | C10: Հարկային և մաքսային ծառայություններ | J10: =+J11+J15 -> 88800
D11: 1023 - 11001 | E11: Հարկային և մաքսային ծառայություններ | J11: =+'Հավելված 5 '!J11 -> 79375.4
F12: Հարկային և մաքսային քաղաքականության մշակման, պլանավորման, մոնիտորինգի, ծրագրերի համակարգման, գանձման, վերահսկողության և աջակցության ծառայություններ
G13: Ծառայությունների մատուցում
H14: Ծառայությունը մատուցողի անվանումը` ՀՀ պետական եկամուտների կոմիտե
D15: 1023 - 31001 | E15: ՀՀ պետական եկամուտների կոմիտեի տեխնիկական հագեցվածության բարելավում | J15: =+'Հավելված 5 '!J15 -> 9424.6
F16: ՀՀ պետական եկամուտների կոմիտեի տեխնիկական հագեցվածության բարելավում
G17: Պետական մարմինների կողմից օգտագործվող ոչ ֆինանսական ակտիվների հետ գործառնություններ
H18: Ակտիվն օգտագործող կազմակերպության անվանումը` ՀՀ պետական եկամուտների կոմիտե
I19: =+'Հավելված 5 '!I19 -> Այլ սարքավորումների քանակ, հատ | J19: =+'Հավելված 5 '!J19 -> 6
I20: Էլեկտրոնային համակարգի ձեռքբերում, հատ | J20: =+'Հավելված 5 '!J20 -> 1
B21: 1239 | C21: Հիպոթեքային վարկի վճարված տոկոսների գումարի վերադարձ | J21: =J22 -> 2400000
D22: 1239 - 12001 | E22: Հիպոթեքային վարկի վճարված տոկոսների գումարների վերադարձ | J22: =+'Հավելված 5 '!J22 -> 2400000
F23: Հիպոթեքային վարկի սպասարկման համար վճարված տոկոսների գումարների չափով վարձու աշխատողների, անհատ ձեռնարկատերերի և նոտարների կողմից վճարված եկամտային հարկի գումարների վերադարձ
G24: Տրանսֆերտների տրամադրում
H25: Շահառուների ընտրության չափորոշիչները` ՀՀ պետական եկամուտների կոմիտե
I26: Տվյալ տարվա ընթացքում հիպոթեքային վարկի գծով փոխհատուցում ստացող անձանց թվաքանակ | J26: 5484
A27: ՀՀ կառավարություն | J27: =J41+J28 -> -2488800
B28: 1139 | C28: ՀՀ կառավարության պահուստային ֆոնդ | J28: =J29 -> -2400000
D29: 1139 - 11001 | E29: ՀՀ կառավարության պահուստային ֆոնդ | J29: =+'Հավելված 5 '!J35 -> -2400000
F30: ՀՀ պետական բյուջեում նախատեսված ելքերի լրացուցիչ ֆինանսավորման, պետական բյուջեում չկանխատեսված ելքերի, ինչպես նաև բյուջետային երաշխիքների ապահովման ելքերի ֆինանսավորման ապահովում
G31: Ծառայությունների մատուցում
H32: Ծառայությունը մատուցողի անվանումը` ՀՀ կառավարություն
D33: 1139 - 11001 | E33: ՀՀ կառավարության պահուստային ֆոնդ | J33: =+'Հավելված 5 '!J39 -> 2464000
F34: ՀՀ պետական բյուջեում նախատեսված ելքերի լրացուցիչ ֆինանսավորման, պետական բյուջեում չկանխատեսված ելքերի, ինչպես նաև բյուջետային երաշխիքների ապահովման ելքերի ֆինանսավորման ապահովում
G35: Ծառայությունների մատուցում
H36: Ծառայությունը մատուցողի անվանումը` ՀՀ կառավարություն
D37: 1139-11003 | E37: Հարկաբյուջետային ռիսկերի կառավարման պահուստ | J37: =+'Հավելված 5 '!J43 -> -2464000
F38: Հարկաբյուջետայի ռիսկերի կառավարման նպատակով նախատեսված միջոցներ
G39: Ծառայությունների մատուցում
H40: Ծառայությունը մատուցողի անվանումը` ՀՀ կառավարություն
B41: 1235 | C41: Թվային փոխակերպման գործընթացի իրականացում | J41: =J42 -> -88800
D42: 1235 - 31001 | E42: Միասնական թվային միջավայրի ձևավորում | J42: =+'Հավելված 5 '!J29 -> -88800
F43: Թվային փոխակերպման գործընթացի շրջանակներում թվայնացման համակարգերի ներդրում և կայքերի արդիականացում
G44: Պետական մարմինների կողմից օգտագործվող ոչ ֆինանսական ակտիվների հետ գործառնություններ
H45: Ակտիվն օգտագործող կազմակերպության անվանումը` Հանրային իշխանության մարմիններ

Sheet Հավելված 7
G1: Հավելված N 7
G2: ՀՀ կառավարության 2026 թվականի
G3: ___________ ___-ի N _______ որոշման
A5: ՀԱՅԱՍՏԱՆԻ ՀԱՆՐԱՊԵՏՈՒԹՅԱՆ ԿԱՌԱՎԱՐՈՒԹՅԱՆ 2025 ԹՎԱԿԱՆԻ ԴԵԿՏԵՄԲԵՐԻ 25-Ի N 1910-Ն ՈՐՈՇՄԱՆ N 10 ՀԱՎԵԼՎԱԾՈՒՄ ԿԱՏԱՐՎՈՂ ՓՈՓՈԽՈՒԹՅՈՒՆՆԵՐԸ ԵՎ ԼՐԱՑՈՒՄՆԵՐԸ
A7: Գնման առարկայի | E7: Ցուցանիշների փոփոխությունը (ավելացումները նշված են դրական նշանով, իսկ նվազեցումները՝ փակագծերում)
A8: կոդը | B8: անվանումը | C8: գնման ձևը | D8: չափի միավորը | E8: միավորի գինը | F8: քանակը | G8: Գումարը (հազար դրամ)
A9: ՀՀ պետական եկամուտների կոմիտե | G9: =+G10 -> 88800
A10: Բաժին N 01 | B10: Խումբ N 01 | C10: Դաս N 02 | D10: Ֆինանսական և հարկաբյուջետային հարաբերություններ | G10: =+G11+G16 -> 88800
A11: 1023 11001 | B11: Հարկային և մաքսային ծառայություններ | G11: =+G12 -> 79375.4
B12: ՄԱՍ III. ԾԱՌԱՅՈՒԹՅՈՒՆՆԵՐ | G12: =+G13+G14+G15 -> 79375.4
A13: 50341500-501 | B13: տեսագրման սարքերի վերանորոգման ― պահպանման ծառայություններ | C13: ԲՄ | D13: դրամ | E13: 88800000 | F13: 1 | G13: =E13*F13/1000 -> 88800
A14: 90911100-1 | B14: բնակտարածությունների մաքրման ծառայություններ | C14: ԲՄ | D14: դրամ | G14: =-4800000/1000 -> -4800
A15: 64211100-1 | B15: հանրային հեռախոսային ծառայություններ | C15: ԷԱՃ | D15: դրամ | G15: =-4624600/1000 -> -4624.6
A16: 1023 31001 | B16: ՀՀ պետական եկամուտների կոմիտեի տեխնիկական հագեցվածության բարելավում | G16: =+G17+G21 -> 9424.6
B17: ՄԱՍ I. Ա Պ Ր Ա Ն Ք Ն Ե Ր | G17: =SUM(G18:G20) -> 8219
A18: 32321150-501 | B18: տեսամոնիտորներ | C18: ԷԱՃ | D18: հատ | E18: 2880000 | F18: 1 | G18: =E18*F18/1000 -> 2880
A19: 42961111-501 | B19: մուտքը կասեցնող սարքեր | C19: ԷԱՃ | D19: հատ | E19: 539000 | F19: 1 | G19: =E19*F19/1000 -> 539
A20: 42121150 | B20: պոմպեր | C20: ԷԱՃ | D20: հատ | E20: 1200000 | F20: 4 | G20: =E20*F20/1000 -> 4800
B21: ՄԱՍ III. ԾԱՌԱՅՈՒԹՅՈՒՆՆԵՐ | G21: =+G22 -> 1205.6
A22: 72261110 | B22: ծրագրային ապահովման մշակման ծառայություններ | C22: ՄԱ | D22: դրամ | E22: 1205600 | F22: 1 | G22: =E22*F22/1000 -> 1205.6

Sheet Հավելված 8
G1: Հավելված N 8
G2: ՀՀ կառավարության 2026 թվականի
G3: ___________ ___-ի N _______ որոշման
A4: ՀԱՅԱՍՏԱՆԻ ՀԱՆՐԱՊԵՏՈՒԹՅԱՆ ԿԱՌԱՎԱՐՈՒԹՅԱՆ 2026 ԹՎԱԿԱՆԻ ՊԵՏԱԿԱՆ ԲՅՈՒՋԵՈՎ ՆԱԽԱՏԵՍՎԱԾ ՀԱՅԱՍՏԱՆԻ ՀԱՆՐԱՊԵՏՈՒԹՅԱՆ ԿԱՌԱՎԱՐՈՒԹՅԱՆ ՊԱՀՈՒՍՏԱՅԻՆ ՖՈՆԴԻՑ ՀԱՏԿԱՑՈՒՄՆԵՐ ԿԱՏԱՐԵԼՈՒ ՎԵՐԱԲԵՐՅԱԼ
G5: հազար դրամներով
A6: Գործառնական դասիչը | D6: Ծրագրային դասիչը | F6: Բյուջետային ծախսերի գործառնական դասակարգման բաժինների, խմբերի և դասերի, բյուջետային ծրագրերի միջոցառումների, բյուջետային հատկացումների գլխավոր կարգադրիչների անվանումները | G6: Ցուցանիշների փոփոխությունը (ավելացումները նշված են դրական նշանով, իսկ նվազեցումները՝ փակագծերում)
A7: բաժին | B7: խումբ | C7: դաս | D7: ծրագիր | E7: միջոցառում | G7: Տարի
F8: ԸՆԴԱՄԵՆԸ ԾԱԽՍԵՐ | G8: =+G11+G30 -> 0
F9: այդ թվում՝
F10: ՀՀ պետական եկամուտների կոմիտե
A11: 01 | F11: ԸՆԴՀԱՆՈՒՐ ԲՆՈՒՅԹԻ ՀԱՆՐԱՅԻՆ ԾԱՌԱՅՈՒԹՅՈՒՆՆԵՐ | G11: =+G13 -> 2400000
F12: այդ թվում՝
B13: 01 | F13: Օրենսդիր և գործադիր մարմիններ, պետական կառավարում, ֆինանսական և հարկաբյուջետային հարաբերություններ, արտաքին հարաբերություններ | G13: =G15 -> 2400000
F14: այդ թվում՝
C15: 02 | F15: Ֆինանսական և հարկաբյուջետային հարաբերություններ | G15: =G17 -> 2400000
F16: այդ թվում՝
F17: ՀՀ պետական եկամուտների կոմիտե | G17: =+G19 -> 2400000
F18: այդ թվում`
D19: 1239 | F19: Հիպոթեքային վարկի վճարված տոկոսների գումարի վերադարձ | G19: =+G21 -> 2400000
F20: այդ թվում`
E21: 12001 | F21: Հիպոթեքային վարկի վճարված տոկոսների գումարների վերադարձ | G21: =+G23 -> 2400000
F22: այդ թվում` ըստ կատարողների
F23: ՀՀ պետական եկամուտների կոմիտե | G23: =+G25 -> 2400000
F24: այդ թվում` բյուջետային ծախսերի տնտեսագիտական դասակարգման հոդվածներ
F25: ԸՆԴԱՄԵՆԸ ԾԱԽՍԵՐ | G25: =+G26 -> 2400000
F26: ԸՆԹԱՑԻԿ ԾԱԽՍԵՐ | G26: =+G27 -> 2400000
F27: ՍՈՑԻԱԼԱԿԱՆ ՆՊԱՍՏՆԵՐ ԵՎ ԿԵՆՍԱԹՈՇԱԿՆԵՐ | G27: =+G28 -> 2400000
F28: Սոցիալական օգնության դրամական արտահայտությամբ նպաստներ (բյուջեից) | G28: =+G29 -> 2400000
F29: - Այլ նպաստներ բյուջեից | G29: 2400000
A30: 11 | F30: ՀԻՄՆԱԿԱՆ ԲԱԺԻՆՆԵՐԻՆ ՉԴԱՍՎՈՂ ՊԱՀՈՒՍՏԱՅԻՆ ՖՈՆԴԵՐ | G30: =+G32 -> -2400000
F31: այդ թվում`
B32: 01 | F32: ՀՀ կառավարության և համայնքների պահուստային ֆոնդ | G32: =+G34 -> -2400000
F33: այդ թվում`
C34: 01 | F34: ՀՀ կառավարության պահուստային ֆոնդ | G34: =G36 -> -2400000
F35: այդ թվում`
F36: ՀՀ կառավարություն | G36: =G38 -> -2400000
F37: այդ թվում`
D38: 1139 | F38: ՀՀ կառավարության պահուստային ֆոնդ | G38: =G40 -> -2400000
F39: այդ թվում`
E40: 11001 | F40: ՀՀ կառավարության պահուստային ֆոնդ | G40: =+G42 -> -2400000
F41: այդ թվում` ըստ կատարողների
F42: ՀՀ կառավարություն | G42: =+G44 -> -2400000
F43: այդ թվում` բյուջետային ծախսերի տնտեսագիտական դասակարգման հոդվածներ
F44: ԸՆԴԱՄԵՆԸ ԾԱԽՍԵՐ | G44: =+G45 -> -2400000
F45: ԸՆԹԱՑԻԿ ԾԱԽՍԵՐ | G45: =+G46 -> -2400000
F46: ԱՅԼ ԾԱԽՍԵՐ | G46: =+G47 -> -2400000
F47: Պահուստային միջոցներ | G47: =-G29 -> -2400000
