Workbook

Sheet ծրագիր միջոցառում
F1: Հավելված 1 ՀՀ կառավարության 2026 թվականի « » « »-ի N _____-Ն որոշման
A3: «ՀԱՅԱՍՏԱՆԻ ՀԱՆՐԱՊԵՏՈՒԹՅԱՆ 2026 ԹՎԱԿԱՆԻ ՊԵՏԱԿԱՆ ԲՅՈՒՋԵԻ ՄԱՍԻՆ» ՕՐԵՆՔԻ N 1 ՀԱՎԵԼՎԱԾԻ N 2 ԱՂՅՈՒՍԱԿՈՒՄ ՎԵՐԱԲԱՇԽՈՒՄ ԵՎ ՀԱՅԱՍՏԱՆԻ ՀԱՆՐԱՊԵՏՈՒԹՅԱՆ ԿԱՌԱՎԱՐՈՒԹՅԱՆ 2025 ԹՎԱԿԱՆԻ ԴԵԿՏԵՄԲԵՐԻ 25-Ի N 1910-Ն ՈՐՈՇՄԱՆ N 5 ՀԱՎԵԼՎԱԾԻ N 1 ԱՂՅՈՒՍԱԿՈՒՄ ԿԱՏԱՐՎՈՂ ՓՈՓՈԽՈՒԹՅՈՒՆՆԵՐԸ
G5: հազար դրամներով
A6: ԲԳԿ | B6: Ծրագրային դասիչը | D6: ԲԳԿ/Ծրագրի /միջոցառման անվանումը | E6: Ծրագրի նպատակը/Միջոցառման նկարագրությունը | F6: Վերջնական արդյունքի նկարագրությունը/Միջոցառման տեսակը | G6: Ցուցանիշների փոփոխությունը (ավելացումները նշված են դրական նշանով, իսկ նվազեցումները` փակագծերում)
B7: Ծրագիր | C7: Միջոցառում | G7: Տարի
A8: ԸՆԴԱՄԵՆԸ | G8: =G9+G12 -> 0
A9: ՀՀ շրջակա միջավայրի նախարարություն | G9: =G10 -> 1695658.4
B10: 1071 | D10: Շրջակա միջավայրի ոլորտում պետական քաղաքականության մշակում, ծրագրերի համակարգում և մոնիտորինգ | E10: Շրջակա միջավայրի պահպանությանն ուղղված պետական քաղաքականության մշակում և իրականացում | F10: Շրջակա միջավայրի պահպանությանն ուղղված օրենսդրական դաշտի բարելավում, իրականացվող ծրագրերի ազդեցության և արդյունավետության աճ | G10: =G11 -> 1695658.4
C11: 1071 - 11005 | D11: Կենսաբազմազանության մասին կոնվենցիայի կողմերի 17-րդ համաժողովի (COP 17) կազմակերպում և անցկացում | E11: Կենսաբազմազանության մասին կոնվենցիայի կողմերի 17-րդ համաժողովի (COP 17) կազմակերպման և անցկացման աշխատանքներ | F11: Ծառայությունների մատուցում | G11: =106566.18+32982+19800+105414.504+83449.106+103248+598118.527+642000+4080+0.083 -> 1695658.4
A12: ՀՀ կառավարություն | G12: =G13 -> -1695658.4
B13: 1139 | D13: ՀՀ կառավարության պահուստային ֆոնդ | E13: Պետական բյուջեում չկանխատեսված, ինչպես նաեւ բյուջետային երաշխիքների ապահովման ծախսերի ֆինանսավորման ապահովում | F13: Պահուստային ֆոնդի կառավարման արդյունավետության և թափանցիկության ապահովում | G13: =G14 -> -1695658.4
C14: 1139 - 11001 | D14: ՀՀ կառավարության պահուստային ֆոնդ | E14: ՀՀ պետական բյուջեում նախատեսված ելքերի լրացուցիչ ֆինանսավորման, պետական բյուջեում չկանխատեսված ելքերի, ինչպես նաև բյուջետային երաշխիքների ապահովման ելքերի ֆինանսավորման ապահովում | F14: Ծառայությունների մատուցում | G14: =-G9 -> -1695658.4
C15: 1139 - 11001 | D15: ՀՀ կառավարության պահուստային ֆոնդ | E15: ՀՀ պետական բյուջեում նախատեսված ելքերի լրացուցիչ ֆինանսավորման, պետական բյուջեում չկանխատեսված ելքերի, ինչպես նաև բյուջետային երաշխիքների ապահովման ելքերի ֆինանսավորման ապահովում | F15: Ծառայությունների մատուցում | G15: =-G16 -> 1695658.4
C16: 1139 - 11003 | D16: Հարկաբյուջետային ռիսկերի կառավարման պահուստ | E16: Հարկաբյուջետային ռիսկերի կառավարման նպատակով նախատեսված միջոցներ | F16: Ծառայությունների մատուցում | G16: =-G11 -> -1695658.4

Sheet Տնտեսագիտական ծրագիր միջոցառում
F1: Հավելված 2 ՀՀ կառավարության 2026 թվականի « » « »-ի N _____-Ն որոշման
A3: ՀԱՅԱՍՏԱՆԻ ՀԱՆՐԱՊԵՏՈՒԹՅԱՆ ԿԱՌԱՎԱՐՈՒԹՅԱՆ 2025 ԹՎԱԿԱՆԻ ԴԵԿՏԵՄԲԵՐԻ 25-Ի N 1910-Ն ՈՐՈՇՄԱՆ N 3 ԵՎ N 4 ՀԱՎԵԼՎԱԾՆԵՐՈՒՄ ԿԱՏԱՐՎՈՂ ՓՈՓՈԽՈՒԹՅՈՒՆՆԵՐԸ
G4: հազար դրամներով
A5: Գործառական դասիչը | D5: Ծրագրային դասիչը | F5: Բյուջետային հատկացումների գլխավոր կարգադրիչների, ծրագրերի, միջոցառումների և միջոցառումները կատարող պետական մարմինների անվանումները | G5: Ցուցանիշների փոփոխությունը (ավելացումները նշված են դրական նշանով, իսկ նվազեցումները` փակագծերում)
A6: Բաժին | B6: Խումբ | C6: Դաս | D6: Ծրագիր | E6: Միջոցառում | G6: Տարի
F7: ԸՆԴԱՄԵՆԸ | G7: =G9+G28 -> 0
F8: այդ թվում`
A9: 05 | F9: ՇՐՋԱԿԱ ՄԻՋԱՎԱՅՐԻ ՊԱՇՏՊԱՆՈՒԹՅՈՒՆ | G9: =G11 -> 1695658.4
F10: այդ թվում`
B11: 04 | F11: Կենսաբազմազանության և բնության պաշտպանություն | G11: =G13 -> 1695658.4
F12: այդ թվում`
C13: 01 | F13: Կենսաբազմազանության և բնության պաշտպանություն | G13: =G15 -> 1695658.4
F14: այդ թվում`
F15: ՀՀ շրջակա միջավայրի նախարարություն | G15: =G17 -> 1695658.4
F16: այդ թվում`
D17: 1071 | F17: Շրջակա միջավայրի ոլորտում պետական քաղաքականության մշակում, ծրագրերի համակարգում և մոնիտորինգ | G17: =G19 -> 1695658.4
F18: այդ թվում`
E19: 11005 | F19: Կենսաբազմազանության մասին կոնվենցիայի կողմերի 17-րդ համաժողովի (COP 17) կազմակերպում և անցկացում | G19: =G21 -> 1695658.4
F20: այդ թվում` ըստ կատարողների
F21: ՀՀ շրջակա միջավայրի նախարարություն | G21: =G23 -> 1695658.4
F22: այդ թվում` բյուջետային ծախսերի տնտեսագիտական դասակարգման հոդվածներ
F23: ԸՆԴԱՄԵՆԸ ԾԱԽՍԵՐ | G23: =G24 -> 1695658.4
F24: ԸՆԹԱՑԻԿ ԾԱԽՍԵՐ | G24: =G25 -> 1695658.4
F25: ԾԱՌԱՅՈՒԹՅՈՒՆՆԵՐԻ ԵՎ ԱՊՐԱՆՔՆԵՐԻ ՁԵՌՔԲԵՐՈՒՄ | G25: =G26 -> 1695658.4
F26: Պայմանագրային այլ ծառայությունների ձեռքբերում | G26: =G27 -> 1695658.4
F27: - Ընդհանուր բնույթի այլ ծառայություններ | G27: ='ծրագիր միջոցառում'!G11 -> 1695658.4
A28: 11 | F28: ՀԻՄՆԱԿԱՆ ԲԱԺԻՆՆԵՐԻՆ ՉԴԱՍՎՈՂ ՊԱՀՈՒՍՏԱՅԻՆ ՖՈՆԴԵՐ | G28: =G30 -> -1695658.4
F29: այդ թվում`
B30: 01 | F30: ՀՀ կառավարության և համայնքների պահուստային ֆոնդ | G30: =G32 -> -1695658.4
F31: այդ թվում`
C32: 01 | F32: ՀՀ կառավարության պահուստային ֆոնդ | G32: =G34 -> -1695658.4
F33: այդ թվում`
F34: ՀՀ կառավարություն | G34: =G36 -> -1695658.4
F35: այդ թվում`
D36: 1139 | F36: ՀՀ կառավարության պահուստային ֆոնդ | G36: =G38 -> -1695658.4
F37: այդ թվում`
E38: 11001 | F38: ՀՀ կառավարության պահուստային ֆոնդ | G38: =G40 -> -1695658.4
F39: այդ թվում` ըստ կատարողների
F40: ՀՀ կառավարություն | G40: =G42 -> -1695658.4
F41: այդ թվում` բյուջետային ծախսերի տնտեսագիտական դասակարգման հոդվածներ
...

Sheet Արդյունքային ԲՍԿ
I1: Հավելված 3 ՀՀ կառավարության 2026 թվականի « » « »-ի N _____-Ն որոշման
A3: ՀԱՅԱՍՏԱՆԻ ՀԱՆՐԱՊԵՏՈՒԹՅԱՆ ԿԱՌԱՎԱՐՈՒԹՅԱՆ 2025 ԹՎԱԿԱՆԻ ԴԵԿՏԵՄԲԵՐԻ 25-Ի N 1910-Ն ՈՐՈՇՄԱՆ NN 9 ԵՎ 9.1 ՀԱՎԵԼՎԱԾՆԵՐՈՒՄ ԿԱՏԱՐՎՈՂ ՓՈՓՈԽՈՒԹՅՈՒՆՆԵՐԸ
J4: հազար դրամներով
A5: ԲԳԿ/ԲՍԿ | B5: Ծրագիր | D5: Միջոցառում | H5: Իրականացնողը/ ակտիվն օգտագործողը/ շահառուի ընտրության չափորոշիչը | I5: Արդյունքային չափորոշիչը | J5: Ցուցանիշների փոփոխությունը (ավելացումները նշված են դրական նշանով, իսկ նվազեցումները` փակագծերում)
B6: Դասիչը | C6: Անվա-նումը | D6: Դասիչը | E6: Անվա-նումը | F6: Նկարագրու-թյունը | G6: Տեսակը | J6: Տարի
A7: ԸՆԴԱՄԵՆԸ | J7: =J8+J14 -> 0
A8: ՀՀ շրջակա միջավայրի նախարարություն | J8: =J9 -> 1695658.4
B9: 1071 | C9: Շրջակա միջավայրի ոլորտում պետական քաղաքականության մշակում, ծրագրերի համակարգում և մոնիտորինգ | J9: =J10 -> 1695658.4
D10: 1071 - 11005 | E10: Կենսաբազմազանության մասին կոնվենցիայի կողմերի 17-րդ համաժողովի (COP 17) կազմակերպում և անցկացում | J10: ='ծրագիր միջոցառում'!G11 -> 1695658.4
F11: Կենսաբազմազանության մասին կոնվենցիայի կողմերի 17-րդ համաժողովի (COP 17) կազմակերպման և անցկացման աշխատանքներ
G12: Ծառայությունների մատուցում
H13: Ծառայությունը մատուցողի անվանումը` Մասնագիտացված միավոր
A14: ՀՀ կառավարություն | J14: =J15 -> -1695658.4
B15: 1139 | C15: ՀՀ կառավարության պահուստային ֆոնդ | J15: =J16 -> -1695658.4
D16: 1139 - 11001 | E16: ՀՀ կառավարության պահուստային ֆոնդ | J16: =-J20 -> -1695658.4
F17: ՀՀ պետական բյուջեում նախատեսված ելքերի լրացուցիչ ֆինանսավորման, պետական բյուջեում չկանխատեսված ելքերի, ինչպես նաև բյուջետային երաշխիքների ապահովման ելքերի ֆինանսավորման ապահովում
G18: Ծառայությունների մատուցում
H19: Ծառայությունը մատուցողի անվանումը` ՀՀ կառավարություն
D20: 1139 - 11001 | E20: ՀՀ կառավարության պահուստային ֆոնդ | J20: =-J24 -> 1695658.4
F21: ՀՀ պետական բյուջեում նախատեսված ելքերի լրացուցիչ ֆինանսավորման, պետական բյուջեում չկանխատեսված ելքերի, ինչպես նաև բյուջետային երաշխիքների ապահովման ելքերի ֆինանսավորման ապահովում
G22: Ծառայությունների մատուցում
H23: Ծառայությունը մատուցողի անվանումը` ՀՀ կառավարություն
D24: 1139 - 11003 | E24: Հարկաբյուջետային ռիսկերի կառավարման պահուստ | J24: ='ծրագիր միջոցառում'!G16 -> -1695658.4
F25: Հարկաբյուջետային ռիսկերի կառավարման նպատակով նախատեսված միջոցներ
G26: Ծառայությունների մատուցում
H27: Ծառայությունը մատուցողի անվանումը` ՀՀ կառավարություն

Sheet Գնումներ
D1: Հավելված 4 ՀՀ կառավարության 2026 թվականի « » « »-ի N _____-Ն որոշման
A3: ՀԱՅԱՍՏԱՆԻ ՀԱՆՐԱՊԵՏՈՒԹՅԱՆ ԿԱՌԱՎԱՐՈՒԹՅԱՆ 2025 ԹՎԱԿԱՆԻ ԴԵԿՏԵՄԲԵՐԻ 25-Ի N 1910-Ն ՈՐՈՇՄԱՆ N10 ՀԱՎԵԼՎԱԾՈՒՄ ԿԱՏԱՐՎՈՂ ՓՈՓՈԽՈՒԹՅՈՒՆՆԵՐԸ
A5: Կոդը | B5: Անվանումը | E5: Գնման ձևը | F5: Չափման միավորը | G5: Ցուցանիշների փոփոխությունը (ավելացումները նշված են դրական նշանով)
G6: Միավորի գինը | H6: Քանակը | I6: Գումարը (հազար դրամով)
A7: ՀՀ շրջակա միջավայրի նախարարություն | I7: =I8 -> 1695658.4
A8: Բաժին N 05 | B8: Խումբ N 04 | C8: Դաս N 01 | D8: Կենսաբազմազանության և բնության պաշտպանություն | I8: =I9 -> 1695658.4
A9: 1071 11005 | B9: Կենսաբազմազանության մասին կոնվենցիայի կողմերի 17-րդ համաժողովի (COP 17) կազմակերպում և անցկացում | I9: =I10 -> 1695658.4
B10: ՄԱՍ III. ԾԱՌԱՅՈՒԹՅՈՒՆՆԵՐ | I10: =I11 -> 1695658.4
A11: 79951112-1 | B11: համաժողովների կազմակերպման ծառայություններ | E11: ՄԱ | F11: դրամ | G11: ='ծրագիր միջոցառում'!G11*1000 -> 1.6956584e+09 | H11: 1 | I11: =G11*H11/1000 -> 1695658.4
