Workbook

Sheet 1
G1: Հավելված N 1
G2: ՀՀ կառավարության 2026 թվականի
G3: ___________ ___-ի N _______ որոշման
A5: «ՀԱՅԱՍՏԱՆԻ ՀԱՆՐԱՊԵՏՈՒԹՅԱՆ 2026 ԹՎԱԿԱՆԻ ՊԵՏԱԿԱՆ ԲՅՈՒՋԵԻ ՄԱՍԻՆ» ՀՀ ՕՐԵՆՔԻ N 1 ՀԱՎԵԼՎԱԾԻ N 2 ԱՂՅՈՒՍԱԿՈՒՄ ԿԱՏԱՐՎՈՂ ՎԵՐԱԲԱՇԽՈՒՄԸ ԵՎ ՀԱՅԱՍՏԱՆԻ ՀԱՆՐԱՊԵՏՈՒԹՅԱՆ ԿԱՌԱՎԱՐՈՒԹՅԱՆ 2025 ԹՎԱԿԱՆԻ ԴԵԿՏԵՄԲԵՐԻ 25-Ի N 1910-Ն ՈՐՈՇՄԱՆ N 5 ՀԱՎԵԼՎԱԾԻ N1 ԱՂՅՈՒՍԱԿՈՒՄ ԿԱՏԱՐՎՈՂ ՓՈՓՈԽՈՒԹՅՈՒՆԸ ԵՎ ԼՐԱՑՈՒՄԸ
G7: հազար դրամներով
A8: ԲԳԿ | B8: Ծրագրային դասիչը | D8: ԲԳԿ/Ծրագրի /միջոցառման անվանումը | E8: Ծրագրի նպատակը/Միջոցառման նկարագրությունը | F8: Վերջնական արդյունքի նկարագրությունը/Միջոցառման տեսակը | G8: Ցուցանիշների փոփոխությունը (ավելացումները նշված են դրական նշանով, իսկ նվազեցումները՝ փակագծերում)
B9: Ծրագիր | C9: Միջոցառում | G9: Տարի
A10: ԸՆԴԱՄԵՆԸ | G10: =+G11 -> 0
A11: ՀՀ քաղաքաշինության կոմիտե | G11: =+G12 -> 0
B12: 1103 | D12: Քաղաքաշինության և ճարտարապետության բնագավառում պետական քաղաքականության իրականացում և կանոնակարգում | E12: Քաղաքաշինության և ճարտարապետության բնագավառում պետական քաղաքականության մշակմանն աջակցություն և իրականացման ապահովում | F12: Քաղաքաշինության գործունեության կանոնակարգում, քաղաքաշինական տեղեկատվական համակարգի ձևավորում և քաղաքաշինության բնագավառում պետական ծրագրերի իրականացման ապահովում | G12: =+G13+G14 -> 0
C13: 1103 - 21003 | D13: Շենքերի և շինությունների մատչելիություն և անձնագրավորում | E13: Շենքերի և շինությունների ինժեներատեխնիկական վիճակի հետազննությունների իրականացում, մասնագիտական եզրակացությունների, նախագծանախահաշվային փաստաթղթերի ձեռքբերում, շենքերի և շինությունների անձնագրավորում, շինարարություն | F13: Հանրության կողմից անմիջականորեն օգտագործվող ակտիվների հետ կապված միջոցառումներ | G13: 144543.5
C14: 1103 - 21001 | D14: Քաղաքաշինության բնագավառում պետական ծրագրերի իրականացման ապահովում | E14: Նախագծանախահաշվային փաստաթղթերի, ինչպես նաեւ հիմնանորոգման, վերակառուցման, կառուցման աշխատանքների ձեռքբերում | F14: Հանրության կողմից անմիջականորեն օգտագործվող ակտիվների հետ կապված միջոցառումներ | G14: -144543.5

Sheet 2
H1: Հավելված № 2
H2: ՀՀ կառավարության 2026 թվականի ----------
H3: № ---------- որոշման
A6: «ՀԱՅԱՍՏԱՆԻ ՀԱՆՐԱՊԵՏՈՒԹՅԱՆ 2026 ԹՎԱԿԱՆԻ ՊԵՏԱԿԱՆ ԲՅՈՒՋԵԻ ՄԱՍԻՆ» ՀԱՅԱՍՏԱՆԻ ՀԱՆՐԱՊԵՏՈՒԹՅԱՆ ՕՐԵՆՔԻ N 1 ՀԱՎԵԼՎԱԾԻ N 3 ԱՂՅՈՒՍԱԿՈՒՄ ԿԱՏԱՐՎՈՂ ՓՈՓՈԽՈՒԹՅՈՒՆՆԵՐԸ ԵՎ ԼՐԱՑՈՒՄԸ
G7: հազար դրամ
A8: Ծրագրային դասիչը | C8: Բյուջետային գլխավոր կարգադրիչների, ծրագրերի և միջոցառումների և ուղղությունների անվանումները | D8: Ընդամենը | E8: Ցուցանիշների փոփոխությունը (ավելացումները նշված են դրական նշանով, իսկ նվազեցումները՝ փակագծերում)
E9: այդ թվում
A10: Ծրագիր | B10: Միջոցառում | E10: Կառուցման աշխատանքներ | F10: Վերակառուցման, վերանորոգման և վերականգնման աշխատանքներ | G10: Նախագծահե- տազոտական, գեոդեզիա- քարտեզագրա- կան աշխա- տանքներ | H10: Ոչ ֆինանսական այլ ակտիվների ձեռքբերում
C11: Ընդամենը | D11: =+E11+F11+G11+H11 -> 0 | E11: =+E13 -> -144543.5 | F11: =+F13 -> 144543.5 | G11: =+G13 -> 0 | H11: =+H13 -> 0
C12: այդ թվում`
C13: ՀՀ քաղաքաշինության կոմիտե | D13: =+E13+F13+G13+H13 -> 0 | E13: =+E16+E19 -> -144543.5 | F13: =+F16 -> 144543.5 | G13: =+G16 -> 0 | H13: =+H16 -> 0
C14: այդ թվում`
A16: 1103 | B16: 21003 | C16: Շենքերի և շինությունների մատչելիություն և անձնագրավորում | D16: =SUM(E16:H16) -> 144543.5 | E16: =+E18 -> 0 | F16: =+F18 -> 144543.5 | G16: =+G18 -> 0 | H16: =+H18 -> 0
C17: այդ թվում՝
C18: Կարեն Դեմիրճյանի անվան Երևանի մարզահամերգային համալիրի շենքի հաշմանդամություն ունեցող անձանց համար մատչելիության պահանջների ապահովման համապատասխան շինարարական աշխատանքներ | D18: =SUM(E18:H18) -> 144543.5 | F18: =+'1'!G13 -> 144543.5
A19: 1103 | B19: 21001 | C19: Քաղաքաշինության բնագավառում պետական ծրագրերի իրականացման ապահովում | D19: =SUM(D21:D22) -> -144543.5 | E19: =SUM(E21:E22) -> -144543.5 | F19: =SUM(F22) -> 0 | G19: =SUM(G22) -> 0 | H19: =SUM(H22) -> 0
C20: այդ թվում՝
C21: ՀՀ Լոռու մարզի Ստեփանավան համայնքի Աշոտաբերդ թաղամասի կառուցապատման աշխատանքներ | D21: =SUM(E21:H21) -> -56543.5 | E21: -56543.5
C22: «Հարսնաքար» հանգստի գոտուց մինչև Սևանի թերակղզի հատվածի ճեմուղու կառուցում | D22: =SUM(E22:H22) -> -88000 | E22: -88000

Sheet 3
G1: Հավելված № 3
G2: ՀՀ կառավարության 2026 թվականի ----------
G3: № ---------- որոշման
A6: ՀԱՅԱՍՏԱՆԻ ՀԱՆՐԱՊԵՏՈՒԹՅԱՆ ԿԱՌԱՎԱՐՈՒԹՅԱՆ 2025 ԹՎԱԿԱՆԻ ԴԵԿՏԵՄԲԵՐԻ 25-Ի N 1910-Ն ՈՐՈՇՄԱՆ N 3 և N 4 ՀԱՎԵԼՎԱԾՆԵՐՈՒՄ ԿԱՏԱՐՎՈՂ ՓՈՓՈԽՈՒԹՅՈՒՆԸ ԵՎ ԼՐԱՑՈՒՄԸ
G7: հազար դրամներով
A8: Գործառական դասիչը | D8: Ծրագրային դասիչը | F8: Բյուջետային ծախսերի գործառական դասակարգման բաժինների, խմբերի և դասերի, բյուջետային ծրագրերի, միջոցառումների բյուջետային հատկացումների գլխավոր կարգադրիչների անվանումները | G8: Ցուցանիշների փոփոխությունը (ավելացումները նշված են դրական նշանով, իսկ նվազեցումները՝ փակագծերում)
A9: Բաժին | B9: Խումբ | C9: Դաս | D9: Ծրագիր | E9: Միջոցառում | G9: Տարի
F10: ԸՆԴԱՄԵՆԸ | G10: =+G12 -> 0
F11: այդ թվում`
A12: 06 | F12: ԲՆԱԿԱՐԱՆԱՅԻՆ ՇԻՆԱՐԱՐՈՒԹՅՈՒՆ ԵՎ ԿՈՄՈՒՆԱԼ ԾԱՌԱՅՈՒԹՅՈՒՆՆԵՐ | G12: =+G14 -> 0
F13: այդ թվում`
B14: 01 | F14: Բնակարանային շինարարություն | G14: =+G16 -> 0
F15: այդ թվում`
C16: 01 | F16: Բնակարանային շինարարություն | G16: =+G19 -> 0
F17: այդ թվում`
D19: 1103 | F19: ՀՀ քաղաքաշինության կոմիտե | G19: =+G21+G32 -> 0
F20: այդ թվում`
F21: Քաղաքաշինության և ճարտարապետության բնագավառում պետական քաղաքականության իրականացում և կանոնակարգում | G21: =+G23 -> 144543.5
F22: այդ թվում`
E23: 21003 | F23: Շենքերի և շինությունների մատչելիություն և անձնագրավորում | G23: =+G25 -> 144543.5
F24: այդ թվում` ըստ կատարողների
F25: ՀՀ քաղաքաշինության կոմիտե | G25: =+G27 -> 144543.5
F26: այդ թվում` բյուջետային ծախսերի տնտեսագիտական դասակարգման հոդվածներ
F27: ԸՆԴԱՄԵՆԸ ԾԱԽՍԵՐ | G27: =+G28 -> 144543.5
F28: ՈՉ ՖԻՆԱՆՍԱԿԱՆ ԱԿՏԻՎՆԵՐԻ ԳԾՈՎ ԾԱԽՍԵՐ | G28: =+G29 -> 144543.5
F29: ՀԻՄՆԱԿԱՆ ՄԻՋՈՑՆԵՐ | G29: =+G30 -> 144543.5
F30: ՇԵՆՔԵՐ ԵՎ ՇԻՆՈՒԹՅՈՒՆՆԵՐ | G30: =+G31 -> 144543.5
F31: - Շենքերի և շինությունների կապիտալ վերանորոգում | G31: =+'1'!G13 -> 144543.5
E32: 21001 | F32: Քաղաքաշինության բնագավառում պետական ծրագրերի իրականացման ապահովում | G32: =G34 -> -144543.5
F33: այդ թվում ըստ կատարողների
F34: ՀՀ քաղաքաշինության կոմիտե | G34: =G36 -> -144543.5
F35: այդ թվում` բյուջետային ծախսերի տնտեսագիտական դասակարգման հոդվածներ
F36: ԸՆԴԱՄԵՆԸ ԾԱԽՍԵՐ | G36: =+G37 -> -144543.5
F37: ՈՉ ՖԻՆԱՆՍԱԿԱՆ ԱԿՏԻՎՆԵՐԻ ԳԾՈՎ ԾԱԽՍԵՐ | G37: =+G38 -> -144543.5
F38: ՀԻՄՆԱԿԱՆ ՄԻՋՈՑՆԵՐ | G38: =+G39 -> -144543.5
F39: ՇԵՆՔԵՐ ԵՎ ՇԻՆՈՒԹՅՈՒՆՆԵՐ | G39: =+G40 -> -144543.5
F40: - Շենքերի և շինությունների շինարարություն | G40: =+'2'!E19 -> -144543.5

Sheet 4
D1: Հավելված № 4
C2: ՀՀ կառավարության 2026 թվականի
C3: ______________ ի ___Ն որոշման
A5: ՀԱՅԱՍՏԱՆԻ ՀԱՆՐԱՊԵՏՈՒԹՅԱՆ ԿԱՌԱՎԱՐՈՒԹՅԱՆ 2025 ԹՎԱԿԱՆԻ ԴԵԿՏԵՄԲԵՐԻ 25-Ի N 1910-Ն ՈՐՈՇՄԱՆ N5 ՀԱՎԵԼՎԱԾԻ N2 ԱՂՅՈՒՍԱԿՈՒՄ ԿԱՏԱՐՎՈՂ ՓՈՓՈԽՈՒԹՅՈՒՆՆԵՐԸ ԵՎ ԼՐԱՑՈՒՄԸ
D7: հազար դրամ
A8: Ծրագրային դասիչ | C8: Բյուջետային գլխավոր կարգադրիչների, ծրագրերի, միջոցառումների, միջոցառումները կատարող պետական մարմինների և ուղղությունների անվանումները | D8: Ցուցանիշների փոփոխությունը (ավելացումները նշված են դրական նշանով, իսկ նվազեցումները՝ փակագծերում)
A9: Ծրագիր | B9: Միջոցառում | D9: Տարի
C10: ԸՆԴԱՄԵՆԸ | D10: =+D11 -> 0
C11: ՀՀ ՔԱՂԱՔԱՇԻՆՈՒԹՅԱՆ ԿՈՄԻՏԵ | D11: =+D13+D18 -> 0
C12: այդ թվում`
A13: 1103 | B13: 21003 | C13: Շենքերի և շինությունների մատչելիություն և անձնագրավորում | D13: =+D15 -> 144543.5
C14: այդ թվում` ըստ կատարողների
C15: ՀՀ քաղաքաշինության կոմիտե | D15: =+D17 -> 144543.5
C16: այդ թվում` ըստ ուղղությունների
C17: Կարեն Դեմիրճյանի անվան Երևանի մարզահամերգային համալիրի շենքի հաշմանդամություն ունեցող անձանց համար մատչելիության պահանջների ապահովման համապատասխան շինարարական աշխատանքներ | D17: =+'1'!G13 -> 144543.5
A18: 1103 | B18: 21001 | C18: Քաղաքաշինության բնագավառում պետական ծրագրերի իրականացման ապահովում | D18: =+D20 -> -144543.5
C19: այդ թվում` ըստ կատարողների
C20: ՀՀ քաղաքաշինության կոմիտե | D20: =+D22+D23 -> -144543.5
C21: այդ թվում` ըստ ուղղությունների
C22: ՀՀ Լոռու մարզի Ստեփանավան համայնքի Աշոտաբերդ թաղամասի կառուցապատման աշխատանքներ | D22: =+'2'!E21 -> -56543.5
C23: «Հարսնաքար» հանգստի գոտուց մինչև Սևանի թերակղզի հատվածի ճեմուղու կառուցում | D23: =+'2'!E22 -> -88000

Sheet 5
J1: Հավելված N 5
J2: ՀՀ կառավարության 2026թվականի
J3: ___________ ___-ի N _______ որոշման
A5: ՀԱՅԱՍՏԱՆԻ ՀԱՆՐԱՊԵՏՈՒԹՅԱՆ ԿԱՌԱՎԱՐՈՒԹՅԱՆ 2025 ԹՎԱԿԱՆԻ ԴԵԿՏԵՄԲԵՐԻ 25-Ի ԹԻՎ 1910-Ն ՈՐՈՇՄԱՆ N 9 ՀԱՎԵԼՎԱԾՈՒՄ ԿԱՏԱՐՎՈՂ ՓՈՓՈԽՈՒԹՅՈՒՆԸ ԵՎ ԼՐԱՑՈՒՄԸ
J8: հազար դրամներով
A9: ԲԳԿ | B9: Ծրագիր | D9: Միջոցառում | H9: Իրականացնողը/ ակտիվն օգտագործողը/ շահառուի ընտրության չափորոշիչը | I9: Արդյունքային չափորոշիչը | J9: Ցուցանիշների փոփոխությունը (ավելացումները նշված են դրական նշանով,իսկ նվազեցումները՝ փակագծերում)
B10: Դասիչը | C10: Անվա-նումը | D10: Դասիչը | E10: Անվանումը | F10: Նկարագրու-թյունը | G10: Տեսակը | J10: Տարի
A11: ԸՆԴԱՄԵՆԸ | J11: =+J12 -> 0
A12: ՀՀ քաղաքաշինության կոմիտե | J12: =+J13 -> 0
B13: 1103 | C13: Քաղաքաշինության և ճարտարապետության բնագավառում պետական քաղաքականության իրականացում և կանոնակարգում | J13: =+J14+J19 -> 0
D14: 1103 - 21003 | E14: Շենքերի և շինությունների մատչելիություն և անձնագրավորում | J14: =+'1'!G13 -> 144543.5
F15: Շենքերի և շինությունների ինժեներատեխնիկական վիճակի հետազննությունների իրականացում, մասնագիտական եզրակացությունների, նախագծանախահաշվային փաստաթղթերի ձեռքբերում, շենքերի և շինությունների անձնագրավորում, շինարարություն
G16: Հանրության կողմից անմիջականորեն օգտագործվող ակտիվների հետ կապված միջոցառումներ
H17: Միջոցառումն իրականացնողի անվանումը ` ՀՀ քաղաքաշինության կոմիտե
H18: Կարեն Դեմիրճյանի անվան Երևանի մարզահամերգային համալիրի շենքի հաշմանդամություն ունեցող անձանց համար մատչելիության պահանջների ապահովման համապատասխան շինարարական աշխատանքներ
D19: 1103 - 21001 | E19: Քաղաքաշինության բնագավառում պետական ծրագրերի իրականացման ապահովում | J19: =+'2'!E19 -> -144543.5
F20: Նախագծանախահաշվային փաստաթղթերի, ինչպես նաեւ հիմնանորոգման, վերակառուցման, կառուցման աշխատանքների ձեռքբերում
G21: Հանրության կողմից անմիջականորեն օգտագործվող ակտիվների հետ կապված միջոցառումներ
H22: ՀՀ քաղաքաշինության կոմիտե
I23: Աշոտաբերդ թաղամասի աշխատանքների ավարտվածության աստիճանը, տոկոս | J23: -2

Sheet 6
J1: Հավելված N 6
J2: ՀՀ կառավարության 2026 թվականի
J3: ___________ ___-ի N _______ որոշման
A6: ՀԱՅԱՍՏԱՆԻ ՀԱՆՐԱՊԵՏՈՒԹՅԱՆ ԿԱՌԱՎԱՐՈՒԹՅԱՆ 2025 ԹՎԱԿԱՆԻ ԴԵԿՏԵՄԲԵՐԻ 25-Ի ԹԻՎ 1910-Ն ՈՐՈՇՄԱՆ N 9.1 ՀԱՎԵԼՎԱԾՈՒՄ ԿԱՏԱՐՎՈՂ ՓՈՓՈԽՈՒԹՅՈՒՆԸ ԵՎ ԼՐԱՑՈՒՄԸ
J10: հազար դրամներով
A11: ԲՍԿ | B11: Ծրագիր | D11: Միջոցառում | H11: Իրականացնողը/ ակտիվն օգտագործողը/ շահառուի ընտրության չափորոշիչը | I11: Արդյունքային չափորոշիչը | J11: Ցուցանիշների փոփոխությունը (ավելացումները նշված են դրական նշանով,իսկ նվազեցումները՝ փակագծերում)
B12: Դասիչը | C12: Անվանումը | D12: Դասիչը | E12: Անվանումը | F12: Նկարագրությունը | G12: Տեսակը | J12: Տարի
A13: ԸՆԴԱՄԵՆԸ | J13: =+J15 -> 0
A14: ՀՀ քաղաքաշինության կոմիտե | J14: =J15 -> 0
B15: 1103 | C15: Քաղաքաշինության և ճարտարապետության բնագավառում պետական քաղաքականության իրականացում և կանոնակարգում | J15: =+J16+J21 -> 0
D16: 1103 - 21003 | E16: =+'5'!E14:I14 -> Շենքերի և շինությունների մատչելիություն և անձնագրավորում | J16: =+'5'!J14 -> 144543.5
F17: =+'5'!F15:J15 -> Շենքերի և շինությունների ինժեներատեխնիկական վիճակի հետազննությունների իրականացում, մասնագիտական եզրակացությունների, նախագծանախահաշվային փաստաթղթերի ձեռքբերում, շենքերի և շինությունների անձնագրավորում, շինարարություն
G18: =+'5'!G16:J16 -> Հանրության կողմից անմիջականորեն օգտագործվող ակտիվների հետ կապված միջոցառումներ
H19: =+'5'!H17:J17 -> Միջոցառումն իրականացնողի անվանումը ` ՀՀ քաղաքաշինության կոմիտե
H20: =+'5'!H18:I18 -> Կարեն Դեմիրճյանի անվան Երևանի մարզահամերգային համալիրի շենքի հաշմանդամություն ունեցող անձանց համար մատչելիության պահանջների ապահովման համապատասխան շինարարական աշխատանքներ
D21: 1103 - 21001 | E21: Քաղաքաշինության բնագավառում պետական ծրագրերի իրականացման ապահովում | J21: ='5'!J19 -> -144543.5
F22: Նախագծանախահաշվային փաստաթղթերի, ինչպես նաեւ հիմնանորոգման, վերակառուցման, կառուցման աշխատանքների ձեռքբերում
G23: Հանրության կողմից անմիջականորեն օգտագործվող ակտիվների հետ կապված միջոցառումներ
H24: ՀՀ քաղաքաշինության կոմիտե
I25: Աշոտաբերդ թաղամասի աշխատանքների ավարտվածության աստիճանը, տոկոս | J25: -2

Sheet 7
E1: Հավելված № 7
E2: ՀՀ կառավարության
E3: 2026 թվականի __________ N -Ն որոշման
A5: ՀԱՅԱՍՏԱՆԻ ՀԱՆՐԱՊԵՏՈՒԹՅԱՆ ԿԱՌԱՎԱՐՈՒԹՅԱՆ 2025 ԹՎԱԿԱՆԻ ԴԵԿՏԵՄԲԵՐԻ 25-Ի N 1910-Ն ՈՐՈՇՄԱՆ N 10 ՀԱՎԵԼՎԱԾՈՒՄ ԿԱՏԱՐՎՈՂ ՓՈՓՈԽՈՒԹՅՈՒՆՆԵՐԸ ԵՎ ԼՐԱՑՈՒՄՆԵՐԸ
A7: Կոդը | B7: Անվանումը | C7: Գնման ձևը | D7: Չափի միավորը | E7: 7 | F7: Ցուցանիշների փոփոխությունը (ավելացումները նշված են դրական նշանով, իսկ նվազեցումները՝ փակագծերում)
F8: քանակը | G8: գումարը (հազար դրամով)
A9: 1 | B9: 2 | C9: 3 | D9: 4 | E9: 5 | F9: 6 | G9: 7
A10: ՀՀ քաղաքաշինության կոմիտե | G10: 0
A11: Բաժին N 06 | B11: Խումբ N 01 | C11: Դաս N 01 | D11: Բնակարանային շինարարություն | G11: =+G12 -> 144543.45
A12: 1103 21003 | B12: Շենքերի և շինությունների մատչելիություն և անձնագրավորում | G12: =+G13+G15 -> 144543.45
B13: ՄԱՍ II. ԱՇԽԱՏԱՆՔՆԵՐ | G13: =+G14 -> 143553.45
A14: 45221142-501 | B14: ընդհանուր շինարարական աշխատանքներ | C14: ՀԲՄ | D14: դրամ | E14: 0 | F14: 0 | G14: 143553.45
B15: ՄԱՍ III. ԾԱՌԱՅՈՒԹՅՈՒՆՆԵՐ | G15: =+G16 -> 990
A16: 98111140 | B16: հեղինակային հսկողության ծառայություններ | C16: ՄԱ | D16: դրամ | E16: 990000 | F16: 1 | G16: =+E16*F16/1000 -> 990
A17: 1103 21001 | B17: Քաղաքաշինության բնագավառում պետական ծրագրերի իրականացման ապահովում
B18: ՄԱՍ II. ԱՇԽԱՏԱՆՔՆԵՐ | G18: =+G19+G20 -> -144543.5
A19: 45221142-1 | B19: ընդհանուր շինարարական աշխատանքներ | C19: ԲՄ | D19: դրամ | G19: -56543.5
A20: 45221142-2 | B20: ընդհանուր շինարարական աշխատանքներ | C20: ՀԲՄ | D20: դրամ | G20: ='2'!E22 -> -88000
