Workbook
Name AgencyCode: #REF!
Name AgencyCode: #REF!
Name AgencyName: #REF!
Name AgencyName: #REF!
Name åû: #REF!
Name davit: #REF!
Name Functional1: #REF!
Name Functional1: #REF!
Name ggg: #REF!
Name mas: #REF!
Name mass: #REF!
Name PANature: #REF!
Name PANature: #REF!
Name PAType: #REF!
Name PAType: #REF!
Name Performance2: #REF!
Name Performance2: #REF!
Name PerformanceType: #REF!
Name PerformanceType: #REF!
Name x: #REF!
Name Հավելված: #REF!
Name Մաս: #REF!
Name շախմատիստ: #REF!

Sheet H1
G1: Հավելված N 1
G2: ՀՀ կառավարության 2026 թվականի
G3: ______________ ի ___Ն որոշման
A4: ՀԱՅԱՍՏԱՆԻ ՀԱՆՐԱՊԵՏՈՒԹՅԱՆ 2026 ԹՎԱԿԱՆԻ ՊԵՏԱԿԱՆ ԲՅՈՒՋԵԻ ՄԱՍԻՆ» ՕՐԵՆՔԻ N 1 ՀԱՎԵԼՎԱԾԻ N 2 ԱՂՅՈՒՍԱԿՈՒՄ ԿԱՏԱՐՎՈՂ ՎԵՐԱԲԱՇԽՈՒՄԸ ԵՎ ՀԱՅԱՍՏԱՆԻ ՀԱՆՐԱՊԵՏՈՒԹՅԱՆ ԿԱՌԱՎԱՐՈՒԹՅԱՆ 2025 ԹՎԱԿԱՆԻ ԴԵԿՏԵՄԲԵՐԻ 25-Ի N 1910-Ն ՈՐՈՇՄԱՆ N 5 ՀԱՎԵԼՎԱԾԻ N 1 ԱՂՅՈՒՍԱԿՈՒՄ ԿԱՏԱՐՎՈՂ ՓՈՓՈԽՈՒԹՅՈՒՆՆԵՐԸ ԵՎ ԼՐԱՑՈՒՄՆԵՐԸ
H7: հազար դրամ
B8: ԲԳԿ | C8: Ծրագրային դասիչը | E8: ԲԳԿ/Ծրագրի /միջոցառման անվանումը | F8: Ծրագրի նպատակը/Միջոցառման նկարագրությունը | G8: Վերջնական արդյունքի նկարագրությունը/Միջոցառման տեսակը | H8: Ցուցանիշների փոփոխությունը (ավելացումները նշված են դրական նշանով, իսկ նվազեցումները` փակագծերում)
C9: Ծրագիր | D9: Միջոցառում | H9: Տարի
B10: ԸՆԴԱՄԵՆԸ | H10: =H11+H15 -> 0
B11: ՀՀ Տավուշի մարզպետի աշխատակազմ | H11: =H12 -> 0
C12: 1055 | E12: ՀՀ Տավուշի մարզում տարածքային պետական կառավարում | F12: ՀՀ Տավուշի մարզում պետական քաղաքականության իրականացման ապահովում | G12: ՀՀ Տավուշի մարզում իրականացվող պետական ծրագրերի արդյունավետության և հասցեականության բարելավում, հետադարձ կապի ապահովում | H12: =H13+H14 -> 0
D13: 1055 - 11001 | E13: ՀՀ Տավուշի մարզպետի աշխատակազմի կողմից տարածքային պետական կառավարման ապահովում | F13: Մարզպետի աշխատակազմի ենթակայության հիմնարկների կառավարում, կրթության, ճանապարհաշինության, քաղաքաշինության և այլ ոլորտներում հասարակական պատվերի տեղաբաշխում, տնտեսության և սոցիալական տարբեր ոլորտներում մարզային միջոցառումների համակարգում | G13: Ծառայությունների մատուցում | H13: ='H3'!G24 -> -1200
D14: 1025 - 31001 | E14: ՀՀ Տավուշի մարզպետի աշխատակազմի տեխնիկական հագեցվածության բարելավում | F14: ՀՀ Տավոևշի մարզպետի աշխատակազմի աշխատանքային պայմանների բարելավման համար վարչական սարքավորումների ձեռքբերում | G14: Պետական մարմինների կողմից օգտագործվող ոչ ֆինանսական ակտիվների հետ գործառնություններ | H14: ='H3'!G35 -> 1200
B15: ՀՀ կառավարություն | H15: =+H16 -> 0
C16: 1139 | E16: ՀՀ կառավարության պահուստային ֆոնդ | F16: Պետական բյուջեում չկանխատեսված, ինչպես նաեւ բյուջետային երաշխիքների ապահովման ծախսերի ֆինանսավորման ապահովում | G16: Պահուստային ֆոնդի կառավարման արդյունավետության և թափանցիկության ապահովում | H16: =+H17+H18 -> 0
D17: 1139 - 11001 | E17: ՀՀ կառավարության պահուստային ֆոնդ | F17: ՀՀ պետական բյուջեում նախատեսված ելքերի լրացուցիչ ֆինանսավորման, պետական բյուջեում չկանխատեսված ելքերի, ինչպես նաև բյուջետային երաշխիքների ապահովման ելքերի ֆինանսավորման ապահովում | G17: Ծառայությունների մատուցում | H17: ='H3'!G56 -> 1200
D18: 1139 - 11001 | E18: ՀՀ կառավարության պահուստային ֆոնդ | F18: ՀՀ պետական բյուջեում նախատեսված ելքերի լրացուցիչ ֆինանսավորման, պետական բյուջեում չկանխատեսված ելքերի, ինչպես նաև բյուջետային երաշխիքների ապահովման ելքերի ֆինանսավորման ապահովում | G18: Ծառայությունների մատուցում | H18: ='H3'!G64 -> -1200
D20: ՀԱՅԱՍՏԱՆԻ ՀԱՆՐԱՊԵՏՈՒԹՅԱՆ ՎԱՐՉԱՊԵՏԻ ԱՇԽԱՏԱԿԱԶՄԻ ՂԵԿԱՎԱՐ՝ | G20: Լ. ՄԱԿՈՒՆՑ

Sheet H2
I1: Հավելված N 2
I2: ՀՀ կառավարության 2026 թվականի
I3: N ------------ -Ն որոշման
B4: «ՀԱՅԱՍՏԱՆԻ ՀԱՆՐԱՊԵՏՈՒԹՅԱՆ 2026 ԹՎԱԿԱՆԻ ՊԵՏԱԿԱՆ ԲՅՈՒՋԵԻ ՄԱՍԻՆ» ՕՐԵՆՔԻ N 1 ՀԱՎԵԼՎԱԾԻ N 3 ԱՂՅՈՒՍԱԿՈՒՄ ԿԱՏԱՐՎՈՂ ԼՐԱՑՈՒՄԸ
H5: հազար դրամ
B6: Ծրագրային դասիչ | D6: Բյուջետային գլխավոր կարգադրիչների ծրագրերի միջոցառումների և ուղղությունների անվանումները | E6: Ընդամենը | F6: Ցուցանիշների փոփոխությունը (ավելացումները նշված են դրական նշանով)
F7: այդ թվում
B8: Ծրագիր | C8: Միջոցառում | F8: Կառուցման աշխատանքներ | G8: Վերակառուցման, վերանորոգման և վերականգնման աշխատանքներ | H8: Նախագծահե- տազոտական, գեոդեզիա- քարտեզագրա- կան աշխա- տանքներ | I8: Ոչ ֆինանսական այլ ակտիվների ձեռքբերում
D9: ԸՆԴԱՄԵՆԸ | E9: =F9+G9+H9+I9 -> 1200 | F9: =F11 -> 0 | G9: =G11 -> 0 | H9: =H11 -> 0 | I9: =I11 -> 1200
D10: այդ թվում՝
D11: ՀՀ Տավուշի մարզպետի աշխատակազմ | E11: =F11+G11+H11+I11 -> 1200 | G11: =G13 -> 0 | H11: =+H13 -> 0 | I11: =I13 -> 1200
D12: այդ թվում՛
B13: 1055 | C13: 31001 | D13: ՀՀ Տավուշի մարզպետի աշխատակազմի տեխնիկական հագեցվածության բարելավում | E13: =F13+G13+H13+I13 -> 1200 | I13: ='H3'!G35 -> 1200
D16: ՀԱՅԱՍՏԱՆԻ ՀԱՆՐԱՊԵՏՈՒԹՅԱՆ
D17: ՎԱՐՉԱՊԵՏԻ ԱՇԽԱՏԱԿԱԶՄԻ
D18: ՂԵԿԱՎԱՐ ՝ | E18: Լ. ՄԱԿՈՒՆՑ

Sheet H3
A1: Հավելված N 3
A2: ՀՀ կառավարության 2026 թվականի
A3: ______________ ի ___Ն որոշման
A5: ՀԱՅԱՍՏԱՆԻ ՀԱՆՐԱՊԵՏՈՒԹՅԱՆ ԿԱՌԱՎԱՐՈՒԹՅԱՆ 2025 ԹՎԱԿԱՆԻ ԴԵԿՏԵՄԲԵՐԻ 25-Ի N 1910-Ն ՈՐՈՇՄԱՆ N 3 ԵՎ N 4 ՀԱՎԵԼՎԱԾՆԵՐՈՒՄ ԿԱՏԱՐՎՈՂ ՓՈՓՈԽՈՒԹՅՈՒՆՆԵՐԸ ԵՎ ԼՐԱՑՈՒՄՆԵՐԸ
G7: հազար դրամով
A8: Գործառական դասիչը | D8: Ծրագրային դասիչը | F8: Բյուջետային հատկացումների գլխավոր կարգադրիչների, ծրագրերի, միջոցառումների և միջոցառումները կատարող պետական մարմինների անվանումները | G8: Ցուցանիշների փոփոխությունը (ավելացումները նշված են դրական նշանով, իսկ նվազեցումները` փակագծերում)
A9: Բաժին | B9: Խումբ | C9: Դաս | D9: Ծրագիր | E9: Միջոցառում | G9: Տարի
F10: ԸՆԴԱՄԵՆԸ | G10: =G12+G44 -> 0
F11: այդ թվում
F12: ՀՀ Տավուշի մարզպետի աշխատակազմ | G12: =G14 -> 0
F13: այդ թվում`
A14: 01 | F14: ԸՆԴՀԱՆՈՒՐ ԲՆՈՒՅԹԻ ՀԱՆՐԱՅԻՆ ԾԱՌԱՅՈՒԹՅՈՒՆՆԵՐ | G14: =G16 -> 0
F15: այդ թվում`
B16: 01 | F16: Օրենսդիր և գործադիր մարմիններ, պետական կառավարում, ֆինանսական և հարկաբյուջետային հարաբերություններ, արտաքին հարաբերություններ | G16: =G18 -> 0
F17: այդ թվում`
C18: 01 | F18: Օրենսդիր և գործադիր մարմիններ, պետական կառավարում | G18: =G20 -> 0
F19: այդ թվում`
F20: ՀՀ Տավուշի մարզպետի աշխատակազմ | G20: =G22 -> 0
F21: այդ թվում`
D22: 1055 | F22: ՀՀ Տավուշի մարզում տարածքային պետական կառավարում | G22: =+G24+G35 -> 0
F23: այդ թվում`
E24: 11001 | F24: ՀՀ Տավուշի մարզպետի աշխատակազմի կողմից տարածքային պետական կառավարման ապահովում | G24: =G26 -> -1200
F25: այդ թվում` ըստ կատարողների
F26: ՀՀ Տավուշի մարզպետի աշխատակազմ | G26: =G28 -> -1200
F27: այդ թվում` բյուջետային ծախսերի տնտեսագիտական դասակարգման հոդվածներ
F28: ԸՆԴԱՄԵՆԸ ԾԱԽՍԵՐ | G28: =G29 -> -1200
F29: ԸՆԹԱՑԻԿ ԾԱԽՍԵՐ | G29: =G30 -> -1200
F30: ԾԱՌԱՅՈՒԹՅՈՒՆՆԵՐԻ ԵՎ ԱՊՐԱՆՔՆԵՐԻ ՁԵՌՔԲԵՐՈՒՄ | G30: =G31+G33 -> -1200
F31: Շարունակական ծախսեր | G31: =G32 -> -700
F32: - Կապի ծառայություններ | G32: =-700 -> -700
F33: Ծառայողական գործուղումների գծով ծախսեր | G33: =G34 -> -500
F34: - Արտասահմանյան գործուղումների գծով ծախսեր | G34: =-500 -> -500
E35: 31001 | F35: ՀՀ Տավուշի մարզպետի աշխատակազմի տեխնիկական հագեցվածության բարելավում | G35: =G37 -> 1200
F36: այդ թվում` ըստ կատարողների
F37: ՀՀ Տավուշի մարզպետի աշխատակազմ | G37: =G39 -> 1200
F38: այդ թվում` բյուջետային ծախսերի տնտեսագիտական դասակարգման հոդվածներ
F39: ԸՆԴԱՄԵՆԸ ԾԱԽՍԵՐ | G39: =G40 -> 1200
F40: ՈՉ ՖԻՆԱՆՍԱԿԱՆ ԱԿՏԻՎՆԵՐԻ ԳԾՈՎ ԾԱԽՍԵՐ | G40: =G41 -> 1200
F41: ՀԻՄՆԱԿԱՆ ՄԻՋՈՑՆԵՐ | G41: =G42 -> 1200
F42: ՄԵՔԵՆԱՆԵՐ ԵՎ ՍԱՐՔԱՎՈՐՈՒՄՆԵՐ | G42: =G43 -> 1200
F43: - Վարչական սարքավորումներ | G43: 1200
F44: ՀՀ կառավարություն | G44: =+G46 -> 0
F45: այդ թվում`
A46: 11 | F46: ՀԻՄՆԱԿԱՆ ԲԱԺԻՆՆԵՐԻՆ ՉԴԱՍՎՈՂ ՊԱՀՈՒՍՏԱՅԻՆ ՖՈՆԴԵՐ | G46: =+G48 -> 0
F47: այդ թվում`
B48: 01 | F48: ՀՀ կառավարության և համայնքների պահուստային ֆոնդ | G48: =+G50 -> 0
F49: այդ թվում`
C50: 01 | F50: ՀՀ կառավարության պահուստային ֆոնդ | G50: =+G52 -> 0
F51: այդ թվում`
F52: ՀՀ կառավարություն | G52: =+G54 -> 0
F53: այդ թվում`
D54: 1139 | F54: ՀՀ կառավարության պահուստային ֆոնդ | G54: =G56+G64 -> 0
F55: այդ թվում`
E56: 11001 | F56: ՀՀ կառավարության պահուստային ֆոնդ | G56: =+G58 -> 1200
F57: այդ թվում` ըստ կատարողների
F58: ՀՀ կառավարություն | G58: =G60 -> 1200
F59: այդ թվում` բյուջետային ծախսերի տնտեսագիտական դասակարգման հոդվածների
F60: ԸՆԴԱՄԵՆԸ ԾԱԽՍԵՐ | G60: =G61 -> 1200
F61: ԸՆԹԱՑԻԿ ԾԱԽՍԵՐ | G61: =G62 -> 1200
F62: ԱՅԼ ԾԱԽՍԵՐ | G62: =G63 -> 1200
F63: Պահուստային միջոցներ | G63: =G35 -> 1200
E64: 11001 | F64: ՀՀ կառավարության պահուստային ֆոնդ | G64: =G66 -> -1200
F65: այդ թվում` ըստ կատարողների
F66: ՀՀ կառավարություն | G66: =G68 -> -1200
F67: այդ թվում` բյուջետային ծախսերի տնտեսագիտական դասակարգման հոդվածների
F68: ԸՆԴԱՄԵՆԸ ԾԱԽՍԵՐ | G68: =G69 -> -1200
F69: ԸՆԹԱՑԻԿ ԾԱԽՍԵՐ | G69: =G70 -> -1200
F70: ԱՅԼ ԾԱԽՍԵՐ | G70: =G71 -> -1200
F71: Պահուստային միջոցներ | G71: =G26 -> -1200
D72: ՀԱՅԱՍՏԱՆԻ ՀԱՆՐԱՊԵՏՈՒԹՅԱՆ ՎԱՐՉԱՊԵՏԻ ԱՇԽԱՏԱԿԱԶՄԻ ՂԵԿԱՎԱՐ՝ | G72: Լ. Մակունց

Sheet H4
E1: Հավելված N 4
E2: ՀՀ կառավարության 2026 թվականի
E3: № ------------ -Ն որոշման
B5: ՀԱՅԱՍՏԱՆԻ ՀԱՆՐԱՊԵՏՈՒԹՅԱՆ ԿԱՌԱՎԱՐՈՒԹՅԱՆ 2025 ԹՎԱԿԱՆԻ ԴԵԿՏԵՄԲԵՐԻ 25-Ի N 1910-Ն ՈՐՈՇՄԱՆ N 5 ՀԱՎԵԼՎԱԾԻ N 2 ԱՂՅՈՒՍԱԿՈՒՄ ԿԱՏԱՐՎՈՂ ԼՐԱՑՈՒՄԸ
E6: հազար դրամ
B7: Ծրագրային դասիչը | D7: Բյուջետային հատկացումների գլխավոր կարգադրիչների, ծրագրերի, միջոցառումների և միջոցառումները կատարող պետական մարմինների անվանումները | E7: Ցուցանիշների փոփոխությունը (ավելացումները նշված են դրական նշանով)
B8: Ծրագիր | C8: Միջոցառում | E8: Տարի
D9: ԸՆԴԱՄԵՆԸ | E9: =E10 -> 1200
D10: ՀՀ Տավուշի մարզպետի աշխատակազմ | E10: =+E12 -> 1200
D11: այդ թվում`
B12: 1055 | C12: 31001 | D12: ՀՀ Տավուշի մարզպետի աշխատակազմի տեխնիկական հագեցվածության բարելավում | E12: =+E14 -> 1200
D13: այդ թվում` ըստ կատարողների
D14: ՀՀ Տավուշի մարզպետի աշխատակազմ | E14: ='H3'!G35 -> 1200
D17: ՀԱՅԱՍՏԱՆԻ ՀԱՆՐԱՊԵՏՈՒԹՅԱՆ
D18: ՎԱՐՉԱՊԵՏԻ ԱՇԽԱՏԱԿԱԶՄԻ
D19: ՂԵԿԱՎԱՐ ՝ | E19: Լ.Մակունց

Sheet H5
D1: Հավելված N 5
A2: ՀՀ կառավարության 2026 թվականի
C3: № ------------ -Ն որոշման
C6: ՀԱՅԱՍՏԱՆԻ ՀԱՆՐԱՊԵՏՈՒԹՅԱՆ ԿԱՌԱՎԱՐՈՒԹՅԱՆ 2025 ԹՎԱԿԱՆԻ ԴԵԿՏԵՄԲԵՐԻ 25-Ի N 1910-Ն ՈՐՈՇՄԱՆ N 9 ԵՎ 9.1 ՀԱՎԵԼՎԱԾՆԵՐՈՒՄ ԿԱՏԱՐՎՈՂ ՓՈՓՈԽՈՒԹՅՈՒՆՆԵՐԸ ԵՎ ԼՐԱՑՈՒՄՆԵՐԸ
K7: հազար դրամ
B8: ԲԳԿ/ԲՍԿ | C8: Ծրագիր | E8: Միջոցառում | I8: Իրականացնողը/ ակտիվն օգտագործողը/ շահառուի ընտրության չափորոշիչը | J8: Արդյունքային չափորոշիչը | K8: Ցուցանիշների փոփոխությունը (ավելացումները նշված են դրական նշանով, իսկ նվազեցումները` փակագծերում)
C9: Դասիչը | D9: Անվանումը | E9: Դասիչը | F9: Անվանումը | G9: Նկարագրությունը | H9: Տեսակը | K9: Տարի
B10: ԸՆԴԱՄԵՆԸ | K10: =K11+K22 -> 0
B11: ՀՀ Տավուշի մարզպետի աշխատակազմ | K11: =K12 -> 0
C12: 1055 | D12: ՀՀ Տավուշի մարզում տարածքային պետական կառավարում | K12: =K13+K17 -> 0
E13: 1055- 11001 | F13: ՀՀ Տավուշի մարզպետի աշխատակազմի կողմից տարածքային պետական կառավարման ապահովում | K13: ='H3'!G24 -> -1200
G14: Մարզպետի աշխատակազմի ենթակայության հիմնարկների կառավարում, կրթության, ճանապարհաշինության, քաղաքաշինության և այլ ոլորտներում հասարակական պատվերի տեղաբաշխում, տնտեսության և սոցիալական տարբեր ոլորտներում մարզային միջոցառումների համակարգում
H15: Ծառայությունների մատուցում
I16: Ծառայությունը մատուցողի անվանումը` ՀՀ Տավուշի մարզպետի աշխատակազմ
E17: 1055 - 31001 | F17: ՀՀՏավուշի մարզպետի աշխատակազմի տեխնիկական հագեցվածության բարելավում | K17: ='H3'!G43 -> 1200
G18: ՀՀ Տավուշի մարզպետի աշխատակազմի աշխատանքային պայմանների բարելավման համար վարչական սարքավորումների ձեռքբերում
H19: Պետական մարմինների կողմից օգտագործվող ոչ ֆինանսական ակտիվների հետ գործառնություններ
I20: Ակտիվն օգտագործող կազմակերպության անվանումը` ՀՀ Տավուշի մարզպետի աշխատակազմ
J21: թվային լուսանկարչական ապարատ, հատ | K21: 1
B22: ՀՀ ԿԱՌԱՎԱՐՈՒԹՅՈՒՆ | K22: =K23 -> 0
C23: 1139 | D23: ՀՀ կառավարության պահուստային ֆոնդ | K23: =K24+K28 -> 0
E24: 1139 - 11001 | F24: ՀՀ կառավարության պահուստային ֆոնդ | K24: ='H3'!G56 -> 1200
G25: ՀՀ պետական բյուջեում նախատեսված ելքերի լրացուցիչ ֆինանսավորման, պետական բյուջեում չկանխատեսված ելքերի, ինչպես նաև բյուջետային երաշխիքների ապահովման ելքերի ֆինանսավորման ապահովում
H26: Ծառայությունների մատուցում
I27: Ծառայությունը մատուցողի անվանումը` ՀՀ կառավարություն
E28: 1139 - 11001 | F28: ՀՀ կառավարության պահուստային ֆոնդ | K28: ='H3'!G64 -> -1200
G29: ՀՀ պետական բյուջեում նախատեսված ելքերի լրացուցիչ ֆինանսավորման, պետական բյուջեում չկանխատեսված ելքերի, ինչպես նաև բյուջետային երաշխիքների ապահովման ելքերի ֆինանսավորման ապահովում
H30: Ծառայությունների մատուցում
I31: Ծառայությունը մատուցողի անվանումը` ՀՀ կառավարություն
B33: ՀԱՅԱՍՏԱՆԻ ՀԱՆՐԱՊԵՏՈՒԹՅԱՆ ՎԱՐՉԱՊԵՏԻ ԱՇԽԱՏԱԿԱԶՄԻ ՂԵԿԱՎԱՐ՝ | J33: Լ. ՄԱԿՈՒՆՑ

Sheet H6
I1: Հավելված N 6
I2: ՀՀ կառավարության 2026 թվականի
I3: ______________ ի ___Ն որոշման
A5: ՀԱՅԱՍՏԱՆԻ ՀԱՆՐԱՊԵՏՈՒԹՅԱՆ ԿԱՌԱՎԱՐՈՒԹՅԱՆ 2025 ԹՎԱԿԱՆԻ ԴԵԿՏԵՄԲԵՐԻ 25-Ի N 1910-Ն ՈՐՈՇՄԱՆ N 10 ՀԱՎԵԼՎԱԾՈՒՄ ԿԱՏԱՐՎՈՂ ՓՈՓՈԽՈՒԹՅՈՒՆՆԵՐԸ
A7: Կոդը | B7: Անվանումը | E7: Գնման ձևը | F7: Չափման միավորը | G7: Միավորի գինը | H7: Ցուցանիշների փոփոխությունը (ավելացումները նշված են դրական նշանով, իսկ նվազեցումները` փակագծերում)
H8: Քանակը | I8: Գումարը (հազար դրամով)
B9: ԸՆԴԱՄԵՆԸ | I9: =I10 -> 500
A10: ՀՀ Տավուշի մարզպետի աշխատակազմ | I10: =I11 -> 500
A11: Բաժին N 01 | B11: Խումբ N 01 | C11: Դաս N 01 | D11: Օրենսդիր և գործադիր մարմիններ, պետական կառավարում | I11: =I12+I15 -> 500
A12: 1055/11001 | B12: ՀՀ Տավուշի մարզպետի աշխատակազմի կողմից տարածքային պետական կառավարման ապահովում | I12: =I13 -> -700
B13: ՄԱՍ III. ԾԱՌԱՅՈՒԹՅՈՒՆՆԵՐ | I13: =I14 -> -700
A14: 64211120-1 | B14: միջքաղաքային հեռախոսային ծառայություններ | E14: ՄԱ | F14: դրամ | I14: =-700 -> -700
A15: 1055/31001 | B15: ՀՀ Տավուշի մարզպետի աշխատակազմի տեխնիկական հագեցվածության բարելավում | I15: =I16 -> 1200
B16: ՄԱՍ I. ԱՊՐԱՆՔՆԵՐ | I16: =I17 -> 1200
A17: 38651160-1 | B17: թվային լուսանկարչական ապարատ | E17: ԷԱՃ | F17: հատ | G17: 1200000 | H17: 1 | I17: =G17*H17/1000 -> 1200
B20: ՀԱՅԱՍՏԱՆԻ ՀԱՆՐԱՊԵՏՈՒԹՅԱՆ ՎԱՐՉԱՊԵՏԻ ԱՇԽԱՏԱԿԱԶՄԻ ՂԵԿԱՎԱՐ՝ | G20: Լ. ՄԱԿՈՒՆՑ
