Workbook
Name AgencyCode: #REF!
Name AgencyCode: #REF!
Name AgencyName: #REF!
Name AgencyName: #REF!
Name Functional1: #REF!
Name Functional1: #REF!
Name PANature: #REF!
Name PANature: #REF!
Name PAType: #REF!
Name PAType: #REF!
Name Performance2: #REF!
Name Performance2: #REF!
Name PerformanceType: #REF!
Name PerformanceType: #REF!

Sheet 1
A1: Հավելված 1
A2: ՀՀ կառավարության 2019 թվականի
A3: ______________ ի ___Ն որոշման
A5: «ՀԱՅԱUՏԱՆԻ ՀԱՆՐԱՊԵՏՈՒԹՅԱՆ 2019 ԹՎԱԿԱՆԻ ՊԵՏԱԿԱՆ ԲՅՈՒՋԵԻ ՄԱUԻՆ» ՀԱՅԱUՏԱՆԻ ՀԱՆՐԱՊԵՏՈՒԹՅԱՆ OՐԵՆՔԻ N 1 ՀԱՎԵԼՎԱԾԻ N 2 ԱՂՅՈՒՍԱԿՈՒՄ ԿԱՏԱՐՎՈՂ ՎԵՐԱԲԱՇԽՈՒՄԸ ԵՎ ՀԱՅԱՍՏԱՆԻ ՀԱՆՐԱՊԵՏՈՒԹՅԱՆ ԿԱՌԱՎԱՐՈՒԹՅԱՆ 2018 ԹՎԱԿԱՆԻ ԴԵԿՏԵՄԲԵՐԻ 27-Ի N 1515-Ն ՈՐՈՇՄԱՆ N 5 ՀԱՎԵԼՎԱԾԻ N 1 ԱՂՅՈՒՍԱԿՈՒՄ ԿԱՏԱՐՎՈՂ ՓՈՓՈԽՈՒԹՅՈՒՆՆԵՐԸ ԵՎ ԼՐԱՑՈՒՄՆԵՐԸ
A8: Ծրագրային դասիչը | C8: Բյուջետային հատկացումների գլխավոր կարգադրիչների, ծրագրերի և միջոցառումների անվանումները | D8: Ցուցանիշների փոփոխությունը (ավելացումները նշված են դրական նշանով, իսկ նվազեցումները` փակագծերում)
A9: Ծրագիր | B9: Միջոցառում | D9: Տարի
C10: ԸՆԴԱՄԵՆԸ | D10: =SUM(D11+D25+D45) -> 0
C11: ՀՀ կրթության, գիտության, մշակույթի և սպորտի նախարարություն | D11: =SUM(D12) -> 2000
A12: 1075 | C12: Ծրագրի անվանումը` | D12: =D19 -> 2000
C13: Մշակութային ժառանգության ծրագիր
C14: Ծրագրի նպատակը`
C15: Մշակութային ժառանգության պահպանում՝ օգտագործում՝ համալրում և հանրահռչակում
C16: Վերջնական արդյունքի նկարագրությունը`
C17: Մշակութային ժառանգության շարունակական պահպանում՝ մշակութային զբոսաշրջության զարգացում և խթանում
A18: Ծրագրի միջոցառումներ
B19: 21002 | C19: Միջոցառման անվանումը` | D19: 2000
C20: Հայաստանի Հանրապետությունում պետական և հասարակական նշանավոր գործիչներին նվիրված հուշարձանների իրականացում
C21: Միջոցառման նկարագրությունը`
C22: Հայաստանի Հանրապետությունում պետական և հասարակական նշանավոր գործիչների հիշատակը հավերժացնելու նպատակով պետական և համայնքների տարածքներում ու հասարակական վայրերում հուշարձանների (վեհարձան, կոթող, անդրի, կիսանդրի, հուշաքար, հուշատախտակ) իրականացում (նախագծում և կառուցում)
C23: Միջոցառման տեսակը
C24: Հանրության կողմից ամնիջականորեն օգտագործվող ակտիվների հետ կապված միջոցառումներ
C25: ՀՀ կառավարություն | D25: =D26 -> 0
A26: 1139 | C26: Ծրագրի անվանումը` | D26: =SUM(D33+D39) -> 0
C27: ՀՀ կառավարության պահուստային ֆոնդ
C28: Ծրագրի նպատակը`
C29: Պետական բյուջեում չկանխատեսված՝ ինչպես նաեւ բյուջետային երաշխիքների ապահովման ծախսերի ֆինանսավորման ապահովում
C30: Վերջնական արդյունքի նկարագրությունը`
C31: Պահուստային ֆոնդի կառավարման արդյունավետության և թափանցիկության
A32: Ծրագրի միջոցառումներ
B33: 11001 | C33: Միջոցառման անվանումը` | D33: -2000
C34: ՀՀ կառավարության պահուստային ֆոնդ
C35: Միջոցառման նկարագրությունը`
C36: ՀՀ պետական բյուջեում նախատեսված ելքերի լրացուցիչ ֆինանսավորման՝ պետական բյուջեում չկանխատեսված ելքերի՝ ինչպես նաև բյուջետային երաշխիքների ապահովման ելքերի ֆինանսավորման ապահովում
C37: Միջոցառման տեսակը
C38: Ծառայությունների մատուցում
B39: 11001 | C39: Միջոցառման անվանումը` | D39: =SUM(D19) -> 2000
C40: ՀՀ կառավարության պահուստային ֆոնդ
C41: Միջոցառման նկարագրությունը`
C42: ՀՀ պետական բյուջեում նախատեսված ելքերի լրացուցիչ ֆինանսավորման՝ պետական բյուջեում չկանխատեսված ելքերի՝ ինչպես նաև բյուջետային երաշխիքների ապահովման ելքերի ֆինանսավորման ապահովում
C43: Միջոցառման տեսակը
...

Sheet 2
A1: Հավելված 2
A2: ՀՀ կառավարության 2019 թվականի
A3: ______________ ի ___Ն որոշման
A5: «ՀԱՅԱUՏԱՆԻ ՀԱՆՐԱՊԵՏՈՒԹՅԱՆ 2019 ԹՎԱԿԱՆԻ ՊԵՏԱԿԱՆ ԲՅՈՒՋԵԻ ՄԱUԻՆ» ՀԱՅԱUՏԱՆԻ ՀԱՆՐԱՊԵՏՈՒԹՅԱՆ OՐԵՆՔԻ N 1 ՀԱՎԵԼՎԱԾԻ N 7 ԱՂՅՈՒՍԱԿՈՒՄ ԵՎ ՀԱՅԱՍՏԱՆԻ ՀԱՆՐԱՊԵՏՈՒԹՅԱՆ ԿԱՌԱՎԱՐՈՒԹՅԱՆ 2018 ԹՎԱԿԱՆԻ ԴԵԿՏԵՄԲԵՐԻ 27-Ի N 1515-Ն ՈՐՈՇՄԱՆ N 5 ՀԱՎԵԼՎԱԾԻ N 6 ԱՂՅՈՒՍԱԿՈՒՄ ԿԱՏԱՐՎՈՂ ԼՐԱՑՈՒՄՆԵՐԸ
A8: Ծրագրային դասիչը | C8: Հատկացումների տրամադրման նպատակները և բյուջետային գլխավոր կարգադրիչների, ծրագրերի, միջոցառումների և կատարող պետական մարմնի անվանումները | D8: Ցուցանիշների փոփոխությունը (ավելացումները նշված են դրական նշանով)
A9: Ծրագիր | B9: Միջոցառում | D9: Տարի
C10: Ընդամենը | D10: =D12 -> 2000
A11: այդ թվում`
A12: ՀՀ կրթության, գիտության, մշակույթի և սպորտի նախարարություն | D12: =D14 -> 2000
A13: այդ թվում`
A14: 1075 | B14: Մշակութային ժառանգության ծրագիր | D14: =D15 -> 2000
B15: 21002 | C15: Հայաստանի Հանրապետությունում պետական և հասարակական նշանավոր գործիչներին նվիրված հուշարձանների իրականացում | D15: =D16 -> 2000
C16: ՀՀ տարածքային կառավարման և ենթակառուցվածքների նախարարություն | D16: =SUM('1'!D19) -> 2000

Sheet 3
A1: Հավելված 3
A2: ՀՀ կառավարության 2019 թվականի
A3: ______________ ի ___Ն որոշման
A5: ՀԱՅԱՍՏԱՆԻ ՀԱՆՐԱՊԵՏՈՒԹՅԱՆ ԿԱՌԱՎԱՐՈՒԹՅԱՆ 2018 ԹՎԱԿԱՆԻ ԴԵԿՏԵՄԲԵՐԻ 27-Ի N 1515-Ն ՈՐՈՇՄԱՆ N 3 ԵՎ N 4 ՀԱՎԵԼՎԱԾՆԵՐՈՒՄ ԿԱՏԱՐՎՈՂ ՓՈՓՈԽՈՒԹՅՈՒՆՆԵՐԸ ԵՎ ԼՐԱՑՈՒՄՆԵՐԸ
A8: Գործառական դասիչը | D8: Ծրագրային դասիչը | F8: Բյուջետային ծախսերի գործառական դասակարգման բաժինների, խմբերի և դասերի, բյուջետային հատկացումների գլխավոր կարգադրիչների, ծրագրերի, միջոցառումների և միջոցառումները կատարող պետական մարմինների անվանումները | G8: Ցուցանիշների փոփոխությունը (ավելացումները նշված են դրական նշանով, իսկ նվազեցումները` փակագծերում)
A9: Բաժին | B9: Խումբ | C9: Դաս | D9: Ծրագիր | E9: Միջոցա ռում | G9: Տարի
F10: ԸՆԴԱՄԵՆԸ ԾԱԽՍԵՐ | G10: =SUM(G12+G27+G47) -> 0
F11: այդ թվում`
A12: 08 | F12: ՀԱՆԳԻՍՏ, ՄՇԱԿՈՒՅԹ ԵՎ ԿՐՈՆ | G12: =G14 -> 2000
F13: այդ թվում`
B14: 02 | F14: Մշակութային ծառայություններ | G14: =G16 -> 2000
F15: այդ թվում`
C16: 07 | F16: Հուշարձանների և մշակութային արժեքների վերականգնում և պահպանում | G16: =G18 -> 2000
F17: այդ թվում`
F18: ՀՀ կրթության, գիտության, մշակույթի և սպորտի նախարարություն | G18: =G20 -> 2000
F19: այդ թվում`
D20: 1075 | F20: Մշակութային ժառանգության ծրագիր | G20: =G22 -> 2000
F21: այդ թվում`
E22: 21002 | F22: Հայաստանի Հանրապետությունում պետական և հասարակական նշանավոր գործիչներին նվիրված հուշարձանների իրականացում | G22: =G24 -> 2000
F23: այդ թվում` ըստ կատարողների
F24: ՀՀ տարածքային կառավարման և ենթակառուցվածքների նախարարություն | G24: =G26 -> 2000
F25: այդ թվում` բյուջետային ծախսերի տնտեսագիտական դասակարգման հոդվածների
F26: - Կապիտալ սուբվենցիաներ համայնքներին | G26: =SUM('1'!D19) -> 2000
A27: 11 | F27: ՀԻՄՆԱԿԱՆ ԲԱԺԻՆՆԵՐԻՆ ՉԴԱՍՎՈՂ ՊԱՀՈՒՍՏԱՅԻՆ ՖՈՆԴԵՐ | G27: =G29 -> 0
F28: այդ թվում`
B29: 01 | F29: ՀՀ կառավարության և համայնքների պահուստային ֆոնդ | G29: =G31 -> 0
F30: այդ թվում`
C31: 01 | F31: ՀՀ կառավարության պահուստային ֆոնդ | G31: =G33 -> 0
F32: այդ թվում`
F33: ՀՀ կառավարություն | G33: =G35 -> 0
F34: այդ թվում`
D35: 1139 | F35: ՀՀ կառավարության պահուստային ֆոնդ | G35: =SUM(G37+G42) -> 0
F36: այդ թվում`
E37: 11001 | F37: ՀՀ կառավարության պահուստային ֆոնդ | G37: -2000
F38: այդ թվում` ըստ կատարողների
F39: ՀՀ կառավարություն | G39: =G41 -> -2000
F40: այդ թվում` բյուջետային ծախսերի տնտեսագիտական դասակարգման հոդվածների
F41: - Պահուստային միջոցներ | G41: -2000
E42: 11001 | F42: ՀՀ կառավարության պահուստային ֆոնդ | G42: 2000
F43: այդ թվում` ըստ կատարողների
...

Sheet 4
A1: Հավելված 4
A2: ՀՀ կառավարության 2019 թվականի
A3: ______________ ի ___Ն որոշման
A5: ՀԱՅԱՍՏԱՆԻ ՀԱՆՐԱՊԵՏՈՒԹՅԱՆ ԿԱՌԱՎԱՐՈՒԹՅԱՆ 2018ԹՎԱԿԱՆԻ ԴԵԿՏԵՄԲԵՐԻ 27-Ի N 1515-Ն ՈՐՈՇՄԱՆ N 11 ՀԱՎԵԼՎԱԾԻ N 11.17 ԱՂՅՈՒՍԱԿՈՒՄ ԿԱՏԱՐՎՈՂ ԼՐԱՑՈՒՄՆԵՐ
A8: ՀՀ կրթության, գիտության, մշակույթի և սպորտի նախարարություն
A9: ՄԱՍ 2. ՊԵՏԱԿԱՆ ՄԱՐՄՆԻ ԳԾՈՎ ԱՐԴՅՈՒՆՔԱՅԻՆ (ԿԱՏԱՐՈՂԱԿԱՆ) ՑՈՒՑԱՆԻՇՆԵՐԸ
A11: Ծրագրի դասիչը | B11: Ծրագրի անվանումը
A12: 1075 | B12: Մշակութային ժառանգության ծրագիր
A14: Ծրագրի միջոցառումները
A16: Ծրագրի դասիչը` | B16: 1075 | C16: Ցուցանիշների փոփոխությունը (ավելացումները նշված են դրական նշանով)
A17: Միջոցառման դասիչը` | B17: 21002 | C17: Տարի
A18: Միջոցառման անվանումը` | B18: Հայաստանի Հանրապետությունում պետական և հասարակական նշանավոր գործիչներին նվիրված հուշարձանների իրականացում
A19: Նկարագրությունը` | B19: Հայաստանի Հանրապետությունում պետական և հասարակական նշանավոր գործիչների հիշատակը հավերժացնելու նպատակով պետական և համայնքների տարածքներում ու հասարակական վայրերում հուշարձանների (վեհարձան, կոթող, անդրի, կիսանդրի, հուշաքար, հուշատախտակ) իրականացում (նախագծում և կառուցում)
A20: Միջոցառման տեսակը` | B20: Հանրության կողմից ամնիջականորեն օգտագործվող ակտիվների հետ կապված միջոցառումներ
A21: Արդյունքի չափորոշիչներ
A22: Նախագծվող հուշարձանի քանակը (հատ) | C22: 1
A23: Միջոցառման վրա կատարվող ծախսը (հազար դրամ) | C23: =SUM('3'!G24) -> 2000
A26: ՀԱՅԱՍՏԱՆԻ ՀԱՆՐԱՊԵՏՈՒԹՅԱՆ ԿԱՌԱՎԱՐՈՒԹՅԱՆ 2018 ԹՎԱԿԱՆԻ ԴԵԿՏԵՄԲԵՐԻ 27Ի N 1515-Ն ՈՐՈՇՄԱՆ N 11 ՀԱՎԵԼՎԱԾԻ N 11.52 ԱՂՅՈՒՍԱԿՈՒՄ ԿԱՏԱՐՎՈՂ ՓՈՓՈԽՈՒԹՅՈՒՆԸ
A28: ՀՀ կառավարություն
A29: ՄԱՍ 2. ՊԵՏԱԿԱՆ ՄԱՐՄՆԻ ԳԾՈՎ ԱՐԴՅՈՒՆՔԱՅԻՆ (ԿԱՏԱՐՈՂԱԿԱՆ) ՑՈՒՑԱՆԻՇՆԵՐԸ
A31: Ծրագրի դասիչը | B31: Ծրագրի անվանումը
A32: 1139 | B32: ՀՀ կառավարության պահուստային ֆոնդ
A34: Ծրագրի միջոցառումները
A36: Ծրագրի դասիչը` | B36: 1139 | C36: Ցուցանիշների փոփոխությունը (նվազեցումները նշված են փակագծերում)
A37: Միջոցառման դասիչը` | B37: 11001 | C37: Տարի
A38: Միջոցառման անվանումը` | B38: ՀՀ կառավարության պահուստային ֆոնդ
A39: Նկարագրությունը` | B39: ՀՀ պետական բյուջեում նախատեսված ելքերի լրացուցիչ ֆինանսավորման՝ պետական բյուջեում չկանխատեսված ելքերի՝ ինչպես նաև բյուջետային երաշխիքների ապահովման ելքերի ֆինանսավորման ապահովում
A40: Միջոցառման տեսակը` | B40: Ծառայությունների մատուցում
A41: Միջոցառումն իրականացնողի անվանումը | B41: ՀՀ կառավարություն
A42: Արդյունքի չափորոշիչներ
A43: Միջոցառման վրա կատարվող ծախսը (հազար դրամ) | C43: =SUM('1'!D26) -> 0
A46: ՀԱՅԱՍՏԱՆԻ ՀԱՆՐԱՊԵՏՈՒԹՅԱՆ ԿԱՌԱՎԱՐՈՒԹՅԱՆ 2018ԹՎԱԿԱՆԻ ԴԵԿՏԵՄԲԵՐԻ 27-Ի N 1515-Ն ՈՐՈՇՄԱՆ N 11 ՀԱՎԵԼՎԱԾԻ N 11.8 ԱՂՅՈՒՍԱԿՈՒՄ ԿԱՏԱՐՎՈՂ ԼՐԱՑՈՒՄՆԵՐ
A47: ՀՀ տարածքային կառավարման և ենթակառուցվածքների նախարարություն
A48: ՄԱՍ 2. ՊԵՏԱԿԱՆ ՄԱՐՄՆԻ ԳԾՈՎ ԱՐԴՅՈՒՆՔԱՅԻՆ (ԿԱՏԱՐՈՂԱԿԱՆ) ՑՈՒՑԱՆԻՇՆԵՐԸ
A50: Ծրագրի դասիչը | B50: Ծրագրի անվանումը
A51: 1038 | B51: Տարածքային կառավարման և տեղական ինքնակառավարման մարմինների ներկայացուցիչների մասնագիտական վերապատրաստում և հատուկ ուսուցում
A52: Ծրագրի միջոցառումները
A53: Ծրագրի դասիչը` | B53: 1038
A54: Միջոցառման դասիչը` | B54: 11001
A55: Միջոցառման անվանումը` | B55: Վերապատրաստման ծառայություններ
...

Sheet 5
A1: Հավելված 5
A2: ՀՀ կառավարության 2019 թվականի
A3: ______________ ի ___Ն որոշման
A5: ՀԱՅԱՍՏԱՆԻ ՀԱՆՐԱՊԵՏՈՒԹՅԱՆ ԿԱՌԱՎԱՐՈՒԹՅԱՆ 2018ԹՎԱԿԱՆԻ ԴԵԿՏԵՄԲԵՐԻ 27-Ի N 1515-Ն ՈՐՈՇՄԱՆ N 11.1 ՀԱՎԵԼՎԱԾԻ N 11.1.8 ԱՂՅՈՒՍԱԿՈՒՄ ԿԱՏԱՐՎՈՂ ԼՐԱՑՈՒՄՆԵՐ
A7: ՀՀ տարածքային կառավարման և ենթակառուցվածքների նախարարություն
A8: ՄԱՍ 2. ՊԵՏԱԿԱՆ ՄԱՐՄՆԻ ԳԾՈՎ ԱՐԴՅՈՒՆՔԱՅԻՆ (ԿԱՏԱՐՈՂԱԿԱՆ) ՑՈՒՑԱՆԻՇՆԵՐԸ
A10: Ծրագրի դասիչը | B10: Ծրագրի անվանումը
A11: 1075 | B11: Մշակութային ժառանգության ծրագիր
A13: Ծրագրի միջոցառումները
A15: Ծրագրի դասիչը` | B15: 1075 | C15: Ցուցանիշների փոփոխությունը (ավելացումները նշված են դրական նշանով)
A16: Միջոցառման դասիչը` | B16: 21002 | C16: Տարի
A17: Միջոցառման անվանումը` | B17: Հայաստանի Հանրապետությունում պետական և հասարակական նշանավոր գործիչներին նվիրված հուշարձանների իրականացում
A18: Նկարագրությունը` | B18: Հայաստանի Հանրապետությունում պետական և հասարակական նշանավոր գործիչների հիշատակը հավերժացնելու նպատակով պետական և համայնքների տարածքներում ու հասարակական վայրերում հուշարձանների (վեհարձան, կոթող, անդրի, կիսանդրի, հուշաքար, հուշատախտակ) իրականացում (նախագծում և կառուցում)
A19: Միջոցառման տեսակը` | B19: Հանրության կողմից ամնիջականորեն օգտագործվող ակտիվների հետ կապված միջոցառումներ
A20: Արդյունքի չափորոշիչներ
A21: Նախագծվող հուշարձանի քանակը (հատ) | C21: 1
A22: Միջոցառման վրա կատարվող ծախսը (հազար դրամ) | C22: =SUM('4'!C23) -> 2000
A24: Ծրագրի դասիչը | B24: Ծրագրի անվանումը
A25: 1038 | B25: Տարածքային կառավարման և տեղական ինքնակառավարման մարմինների ներկայացուցիչների մասնագիտական վերապատրաստում և հատուկ ուսուցում
A27: Ծրագրի դասիչը` | B27: 1038
A28: Միջոցառման դասիչը` | B28: 11001
A29: Միջոցառման անվանումը` | B29: Վերապատրաստման ծառայություններ
A30: Նկարագրությունը` | B30: Տարածքային կառավարման մարմինների աշխատակիցների՝ տեղական ինքնակառավարման մարմինների՝ ինչպես նաև համայնքային ծառայողների վերապատրաստման կազմակերպում
A31: Միջոցառման տեսակը` | B31: Ծառայությունների մաստուցում
A32: Միջոցառումն իրականացնողի անվանումը՛ | B32: «Գնումների մասին» ՀՀ օրենքի համաձայն ընտրված կազմակերպություն
A33: Արդյունքի չափորոշիչներ
A34: Վերապատրաստման ենթակա ծառայողների թիվը` այդ թվում
A35: 1©Համայնքային ծառայողներ
A36: 2©Տեղական ինքնակառավարման մարմիններ
A37: 3©Տարածքային կառավարման մարմիններ
A38: Ավարտական փաստաթուղթ ստացած անձանց թվաքանակի տեսակարար կշիռը վերապատրաստմանը մասնակցած անձանց ընդհանուր թվաքանակում առնվազն (%)
A39: Շահառուների բավարարվածությունը (գնահատման հարցաթերթիկների արդյունքները 5 բալային համակարգում) (միջին բալ)
A40: Դասընթացի միջին տևողությունը (ժամ/օր)
A41: Միջոցառման վրա կատարվող ծախսը (հազար դրամ) | C41: =SUM('4'!C67) -> -2000
A44: ՀԱՅԱՍՏԱՆԻ ՀԱՆՐԱՊԵՏՈՒԹՅԱՆ ԿԱՌԱՎԱՐՈՒԹՅԱՆ 2018ԹՎԱԿԱՆԻ ԴԵԿՏԵՄԲԵՐԻ 27-Ի N 1515-Ն ՈՐՈՇՄԱՆ N 11.1 ՀԱՎԵԼՎԱԾԻ N 11.1.66 ԱՂՅՈՒՍԱԿՈՒՄ ԿԱՏԱՐՎՈՂ ԼՐԱՑՈՒՄՆԵՐ
A46: ՀՀ կառավարություն
A47: ՄԱՍ 2. ՊԵՏԱԿԱՆ ՄԱՐՄՆԻ ԳԾՈՎ ԱՐԴՅՈՒՆՔԱՅԻՆ (ԿԱՏԱՐՈՂԱԿԱՆ) ՑՈՒՑԱՆԻՇՆԵՐԸ
A49: Ծրագրի դասիչը | B49: Ծրագրի անվանումը
A50: 1139 | B50: ՀՀ կառավարության պահուստային ֆոնդ
A51: Ծրագրի միջոցառումները
...

Sheet 6
H2: Հավելված N 6
G3: ՀՀ կառավարության 2019 թվականի
G4: ------------ N ------------ որոշման
A6: ՀԱՅԱՍՏԱՆԻ ՀԱՆՐԱՊԵՏՈՒԹՅԱՆ ԿԱՌԱՎԱՐՈՒԹՅԱՆ 2018 ԹՎԱԿԱՆԻ ԴԵԿՏԵՄԲԵՐԻ 27-Ի N 1515-Ն ՈՐՈՇՄԱՆ N 12 ՀԱՎԵԼՎԱԾՈՒՄ ԿԱՏԱՐՎՈՂ ՓՈՓՈԽՈՒԹՅՈՒՆԸ
A8: Գնման առարկայի | I8: Գումարը (հազար դրամով) Ցուցանիշների փոփոխությունները (ծախսերի ավելացումները նշված են դրական նշանով)
A9: Կոդը | B9: Անվանումը | E9: Գնման ձևը | F9: Չափման միավորը | G9: Միավորի գինը | H9: Քանակը
A10: ՀՀ տարածքային կառավարման և ենթակառուցվածքներ նախարարություն | I10: =+I11 -> -2000
A11: Բաժին N 09 | B11: Խումբ N 05 | C11: Դաս N 02 | D11: Լրացուցիչ կրթություն | I11: =I12 -> -2000
A12: 1038 11001 Վերապատրաստման ծառայություններ | I12: =SUM(I13) -> -2000
B13: ՄԱՍ III. ԾԱՌԱՅՈՒԹՅՈՒՆՆԵՐ | I13: =SUM(I14) -> -2000
A14: 79631200-4 | B14: Աշխատակիցների վերապատրաստման ծառայություններ | E14: ԳՀ | F14: դրամ | I14: =SUM('5'!C41) -> -2000
