Workbook

Sheet 1
H1: Հավելված 1
H2: ՀՀ կառավարության 2026 թվականի
H3: ______________ ի ___Ն որոշման
B5: «ՀԱՅԱUՏԱՆԻ ՀԱՆՐԱՊԵՏՈՒԹՅԱՆ 2026 ԹՎԱԿԱՆԻ ՊԵՏԱԿԱՆ ԲՅՈՒՋԵԻ ՄԱUԻՆ» OՐԵՆՔԻ N 1 ՀԱՎԵԼՎԱԾԻ N 2 ԱՂՅՈՒՍԱԿՈՒՄ ԿԱՏԱՐՎՈՂ ՎԵՐԱԲԱՇԽՈՒՄԸ ԵՎ ՀԱՅԱՍՏԱՆԻ ՀԱՆՐԱՊԵՏՈՒԹՅԱՆ ԿԱՌԱՎԱՐՈՒԹՅԱՆ 2025 ԹՎԱԿԱՆԻ ԴԵԿՏԵՄԲԵՐԻ 25-Ի N 1910-Ն ՈՐՈՇՄԱՆ N 5 ՀԱՎԵԼՎԱԾԻ N 1 ԱՂՅՈՒՍԱԿՈՒՄ ԿԱՏԱՐՎՈՂ ՓՈՓՈԽՈՒԹՅՈՒՆՆԵՐԸ ԵՎ ԼՐԱՑՈՒՄՆԵՐԸ
B7: ԲԳԿ | C7: Ծրագրային դասիչը | E7: ԲԳԿ/Ծրագրի /միջոցառման անվանումը | F7: Ծրագրի նպատակը/Միջոցառման նկարագրությունը | G7: Վերջնական արդյունքի նկարագրությունը/Միջոցառման տեսակը | H7: Ցուցանիշների փոփոխությունը (ավելացումները նշված են դրական նշանով, իսկ նվազեցումները՝ փակագծերում)
H8: Տարի
C9: Ծրագիր | D9: Միջոցառում
B10: ԸՆԴԱՄԵՆԸ | H10: 0
B11: ՀՀ տարածքային կառավարման և ենթակառուցվածքների նախարարություն | H11: 8896075.8
C12: 1049 | E12: Ճանապարհային ցանցի բարելավում | F12: Ճանապարհային ցանցի բարելավում և անվտանգ երթևեկության ապահովում | G12: Ճանապարհների ծածկի որակի և փոխադրումների արդյունավետության բարելավում, ճանապարհների վիճակով պայմանավորված պատահարների նվազում | H12: 8896075.8
D13: 1049 - 21020 | E13: Պետական նշանակության ավտոճանապարհների միջին նորոգում | F13: Միջպետական, հանրապետական և մարզային նշանակության ավտոճանապարհների պատվածքի մաշված վերին շերտի վերականգնում և շինարարական նորմերով նախատեսված սկզբնական որակական ցուցանիշների ապահովում | G13: Հանրության կողմից անմիջականորեն օգտագործվող ակտիվների հետ կապված միջոցառումներ | H13: 8896075.8
B14: ՀՀ կառավարություն | H14: -8896075.8
C15: 1139 | E15: ՀՀ կառավարության պահուստային ֆոնդ | F15: Պետական բյուջեում չկանխատեսված, ինչպես նաեւ բյուջետային երաշխիքների ապահովման ծախսերի ֆինանսավորման ապահովում | G15: Պահուստային ֆոնդի կառավարման արդյունավետության և թափանցիկության ապահովում | H15: -8896075.8
D16: 1139 - 11001 | E16: ՀՀ կառավարության պահուստային ֆոնդ | F16: ՀՀ պետական բյուջեում նախատեսված ելքերի լրացուցիչ ֆինանսավորման, պետական բյուջեում չկանխատեսված ելքերի, ինչպես նաև բյուջետային երաշխիքների ապահովման ելքերի ֆինանսավորման ապահովում | G16: Ծառայությունների մատուցում | H16: -8896075.8
D17: 1139 - 11001 | E17: ՀՀ կառավարության պահուստային ֆոնդ | F17: ՀՀ պետական բյուջեում նախատեսված ելքերի լրացուցիչ ֆինանսավորման, պետական բյուջեում չկանխատեսված ելքերի, ինչպես նաև բյուջետային երաշխիքների ապահովման ելքերի ֆինանսավորման ապահովում | G17: Ծառայությունների մատուցում | H17: 8896075.8
D18: 1139 - 11003 | E18: Հարկաբյուջետային ռիսկերի կառավարման պահուստ | F18: Հարկաբյուջետային ռիսկերի կառավարման նպատակով նախատեսված միջոցներ | G18: Ծառայությունների մատուցում | H18: -8896075.8
E20: ՀԱՅԱՍՏԱՆԻ ՀԱՆՐԱՊԵՏՈՒԹՅԱՆ ՎԱՐՉԱՊԵՏԻ ԱՇԽԱՏԱԿԱԶՄԻ ՂԵԿԱՎԱՐ` Լ․ ՄԱԿՈՒՆՑ

Sheet 2
H1: Հավելված N2
H2: ՀՀ կառավարության 2026 թվականի
H3: ______________ ի ___Ն որոշման
B5: ՀԱՅԱՍՏԱՆԻ ՀԱՆՐԱՊԵՏՈՒԹՅԱՆ ԿԱՌԱՎԱՐՈՒԹՅԱՆ 2025 ԹՎԱԿԱՆԻ ԴԵԿՏԵՄԲԵՐԻ 25-Ի N 1910-Ն ՈՐՈՇՄԱՆ NN 3 ԵՎ 4 ՀԱՎԵԼՎԱԾՆԵՐՈՒՄ ԿԱՏԱՐՎՈՂ ՓՈՓՈԽՈՒԹՅՈՒՆՆԵՐԸ ԵՎ ԼՐԱՑՈՒՄՆԵՐԸ
H7: հազար դրամներով
B8: Գործառական դասիչը | E8: Ծրագրային դասիչը | G8: Բյուջետային հատկացումների գլխավոր կարգադրիչների, ծրագրերի, միջոցառումների և միջոցառումները կատարող պետական մարմինների անվանումները | H8: Ցուցանիշների փոփոխությունը (ավելացումները նշված են դրական նշանով, իսկ նվազեցումները` փակագծերում)
B9: Բաժին | C9: Խումբ | D9: Դաս | E9: Ծրագիր | F9: Միջոցառում | H9: Տարի
G10: ԸՆԴԱՄԵՆԸ | H10: =H12+H33 -> 0
G11: այդ թվում`
G12: ՀՀ տարածքային կառավարման և ենթակառուցվածքների նախարարություն | H12: 8896075.8
G13: այդ թվում`
B14: 04 | G14: ՏՆՏԵՍԱԿԱՆ ՀԱՐԱԲԵՐՈՒԹՅՈՒՆՆԵՐ | H14: 8896075.8
G15: այդ թվում`
C16: 05 | G16: ՏՐԱՆՍՊՈՐՏ | H16: 8896075.8
G17: այդ թվում`
D18: 01 | G18: Ճանապարհային տրանսպորտ | H18: 8896075.8
G19: այդ թվում`
G20: ՀՀ տարածքային կառավարման և ենթակառուցվածքների նախարարություն | H20: 8896075.8
G21: այդ թվում`
E22: 1049 | G22: Ճանապարհային ցանցի բարելավում | H22: 8896075.8
G23: այդ թվում`
F24: 21020 | G24: Պետական նշանակության ավտոճանապարհների միջին նորոգում | H24: 8896075.8
G25: այդ թվում` ըստ կատարողների
G26: ՀՀ տարածքային կառավարման և ենթակառուցվածքների նախարարություն | H26: 8896075.8
G27: այդ թվում` բյուջետային ծախսերի տնտեսագիտական դասակարգման հոդվածներ
G28: ԸՆԴԱՄԵՆԸ ԾԱԽՍԵՐ | H28: 8896075.8
G29: ՈՉ ՖԻՆԱՆՍԱԿԱՆ ԱԿՏԻՎՆԵՐԻ ԳԾՈՎ ԾԱԽՍԵՐ | H29: 8896075.8
G30: ՀԻՄՆԱԿԱՆ ՄԻՋՈՑՆԵՐ | H30: 8896075.8
G31: ՇԵՆՔԵՐ ԵՎ ՇԻՆՈՒԹՅՈՒՆՆԵՐ | H31: 8896075.8
G32: - Շենքերի և շինությունների կապիտալ վերանորոգում | H32: 8896075.8
G33: ՀՀ կառավարություն | H33: -8896075.8
G34: այդ թվում`
B35: 11 | G35: ՀԻՄՆԱԿԱՆ ԲԱԺԻՆՆԵՐԻՆ ՉԴԱՍՎՈՂ ՊԱՀՈՒՍՏԱՅԻՆ ՖՈՆԴԵՐ | H35: -8896075.8
G36: այդ թվում`
C37: 01 | G37: ՀՀ կառավարության և համայնքների պահուստային ֆոնդ | H37: -8896075.8
G38: այդ թվում`
D39: 01 | G39: ՀՀ կառավարության պահուստային ֆոնդ | H39: -8896075.8
G40: այդ թվում`
G41: ՀՀ կառավարություն | H41: -8896075.8
G42: այդ թվում`
...

Sheet 3
I1: Հավելված N3
I2: ՀՀ կառավարության 2026 թվականի
I3: ______________ ի ___Ն որոշման
B5: «ՀԱՅԱՍՏԱՆԻ ՀԱՆՐԱՊԵՏՈՒԹՅԱՆ 2026 ԹՎԱԿԱՆԻ ՊԵՏԱԿԱՆ ԲՅՈՒՋԵԻ ՄԱՍԻՆ» ՕՐԵՆՔԻ N 1 ՀԱՎԵԼՎԱԾԻ N 3 ԱՂՅՈՒՍԱԿՈՒՄ ԿԱՏԱՐՎՈՂ ՓՈՓՈԽՈՒԹՅՈՒՆԸ ԵՎ ԼՐԱՑՈՒՄՆԵՐԸ
H6: հազար դրամներով
B7: Ծրագրային դասիչ | D7: Բյուջետային գլխավոր կարգադրիչների, ծրագրերի, միջոցառումների և ուղղությունների անվանումները | E7: Ցուցանիշների փոփոխությունը (ավելացումները նշված են դրական նշանով, իսկ նվազեցումները` փակագծերում)
E8: Ընդամենը, | F8: այդ թվում՝
B9: Ծրագիր | C9: Միջոցառում | F9: Կառուցման աշխատանքներ | G9: Վերակառուցման, վերանորոգման և վերականգնման աշխատանքներ | H9: Նախագծահե- տազոտական, գեոդեզիա- քարտեզագրական աշխատանքներ | I9: Ոչ ֆինանսական այլ ակտիվների ձեռքբերում
D10: ԸՆԴԱՄԵՆԸ | E10: =F10+G10+H10+I10 -> 0 | F10: =F12+F37 -> 0 | G10: =G12+G37 -> 0 | H10: =H12+H37 -> 0 | I10: =I12+I37 -> 0
D11: այդ թվում՝
D12: ՀՀ ՏԱՐԱԾՔԱՅԻՆ ԿԱՌԱՎԱՐՄԱՆ ԵՎ ԵՆԹԱԿԱՌՈՒՑՎԱԾՔՆԵՐԻ ՆԱԽԱՐԱՐՈՒԹՅՈՒՆ | E12: 8896075.8 | F12: 0 | G12: 8896075.8 | H12: 0 | I12: 0
D13: այդ թվում`
B14: 1049 | C14: 21020 | D14: Պետական նշանակության ավտոճանապարհների միջին նորոգում | E14: 8896075.8 | F14: 0 | G14: 8896075.8 | H14: 0 | I14: 0
D15: այդ թվում`
D16: Մ-3,ՀՀ սահման (Մարգարա)-Վանաձոր-Տաշիր-ՀՀ սահման միջպետական նշանակության ավտոճանապարհի կմ 75+460-կմ 86+000 հատվածի միջին նորոգման աշխատանքներ | E16: 468000 | F16: 0 | G16: 468000
D17: Մ-3,ՀՀ սահման (Մարգարա)-Վանաձոր-Տաշիր-ՀՀ սահման միջպետական նշանակության ավտոճանապարհի կմ 86+000-կմ 97+020 հատվածի միջին նորոգման աշխատանքներ | E17: 481002 | F17: 0 | G17: 481002 | H17: 0 | I17: 0
D18: Մ-5,Երևան-Արմավիր-ՀՀ սահման միջպետական նշանակության ավտոճանապարհի կմ10+430 - կմ11+274, կմ17+530 - կմ17+621, կմ29+869-կմ30+319 (աջ և ձախ գոտիներ) հատվածների միջին նորոգման աշխատանքներ | E18: 168900 | F18: 0 | G18: 168900 | H18: 0 | I18: 0
D19: Մ-6,Վանաձոր(Մ-3 հատման կետ)-Ալավերդի-ՀՀ սահման (Բագրատաշեն) միջպետական նշանակության ավտոճանապարհի կմ6+580-կմ17+625 հատվածի միջին նորոգման աշխատանքներ | E19: 498000 | F19: 0 | G19: 498000 | H19: 0 | I19: 0
D20: Մ-6,Վանաձոր(Մ-3 հատման կետ)-Ալավերդի-ՀՀ սահման (Բագրատաշեն) միջպետական նշանակության ավտոճանապարհի կմ20+640-կմ31+620 հատվածի միջին նորոգման աշխատանքներ | E20: 483000 | F20: 0 | G20: 483000 | H20: 0 | I20: 0
D21: Մ-9,/Մ-2/ (Նորավանի խաչմերուկ) - Գորիս-Տեղ-Կոռնիձոր - ՀՀ սահման միջպետական նշանակության ավտոճանապարհի կմ0+000-կմ15+500 հատված | E21: 976800 | F21: 0 | G21: 976800 | H21: 0 | I21: 0
D22: Հ-20, /Մ-1/ -Ագարակ- Բյուրական-/Մ-3/ հանրապետական նշանակության ավտոճանապարհի կմ2+380-կմ5+093 հատվածի միջին նորոգման աշխատանքներ | E22: 104499 | F22: 0 | G22: 104499 | H22: 0 | I22: 0
D23: Հ-62 /Մ-1/-Թալին-Քարակերտ-Շենիկ-Բագարան- ՀՀ սահման հանրապետական նշանակության ավտոճանապարհի կմ 7+706-կմ18+972 հատվածի միջին նորոգման աշխատանքներ | E23: 458001 | F23: 0 | G23: 458001 | H23: 0 | I23: 0
D24: Մ-4 Երևան - Սևան - Իջևան – ՀՀ սահման միջպետական նշանակության ավտոճանապարհի կմ74+600 ÷ կմ80+702 հատվածի միջին նորոգման աշխատանքներ | E24: 287400 | F24: 0 | G24: 287400 | H24: 0 | I24: 0
D25: Արմավիր քաղաքից դեպի զորամաս տանող ճանապարհի կմ0+000-կմ1+973 հատվածի միջին նորոգման աշխատանքներ | E25: 72000 | F25: 0 | G25: 72000 | H25: 0 | I25: 0
D26: Տ-7-58,/Մ-1/ (Գյումրի)-Ախուրյան-Կառնուտ-Բասեն-Ջրառատ կմ4+800 ÷ կմ17+000 հատված և 0.57 կմ դեպի գերեզմաններ հատվածի միջին նորոգման աշխատանքներ | E26: 417000 | F26: 0 | G26: 417000 | H26: 0 | I26: 0
D27: Տ-6-17,/Տ-6-57/ -Հրազդան- /Հ-55/մարզային (տեղական) նշանակության ավտոմոբիլային ճանապարհի կմ 3+300 - կմ 7+406 (աջ և ձախ գոտիներ) հատվածի միջին նորոգման աշխատանքներ | E27: 392700 | F27: 0 | G27: 392700 | H27: 0 | I27: 0
D28: Մ-10 Սևան-Մարտունի-Վարդենիս- ՀՀ սահման միջպետական նշանակության ավտոճանապարհի կմ 17+000-կմ24+550 հատվածի միջին նորոգման աշխատանքներ | E28: 333000 | F28: 0 | G28: 333000 | H28: 0 | I28: 0
... D36: Գյումրու Արևմտյան շրջանցիկ ճանապարհի կմ 0+000-կմ3+445 և Գործարանային փողոցի կմ0+000-կմ2+888 հատվածների միջին նորոգման աշխատանքներ | E36: 498221.1 | F36: 0 | G36: 498221.1 | H36: 0 | I36: 0
D37: ՀՀ կառավարություն | E37: =+G37 -> -8896075.8 | F37: 0 | G37: =G39 -> -8896075.8 | H37: 0 | I37: 0
D38: այդ թվում՝
B39: 1139 | C39: 11003 | D39: Հարկաբյուջետային ռիսկերի կառավարման պահուստ | E39: =+G39 -> -8896075.8 | F39: 0 | G39: ='2'!H61 -> -8896075.8 | H39: 0 | I39: 0
E42: ՀԱՅԱՍՏԱՆԻ ՀԱՆՐԱՊԵՏՈՒԹՅԱՆ ՎԱՐՉԱՊԵՏԻ ԱՇԽԱՏԱԿԱԶՄԻ ՂԵԿԱՎԱՐ` Լ․ ՄԱԿՈՒՆՑ

Sheet 4.
E1: Հավելված N 4
E2: ՀՀ կառավարության 2026 թվականի
E3: ______________ ի ___Ն որոշման
B5: ՀԱՅԱՍՏԱՆԻ ՀԱՆՐԱՊԵՏՈՒԹՅԱՆ ԿԱՌԱՎԱՐՈՒԹՅԱՆ 2025 ԹՎԱԿԱՆԻ ԴԵԿՏԵՄԲԵՐԻ 25-Ի N 1910-Ն ՈՐՈՇՄԱՆ N 5 ՀԱՎԵԼՎԱԾԻ N 2 ԱՂՅՈՒՍԱԿՈՒՄ ԿԱՏԱՐՎՈՂ ՓՈՓՈԽՈՒԹՅՈՒՆԸ ԵՎ ԼՐԱՑՈՒՄՆԵՐԸ
E7: հազար դրամներով
B8: Ծրագրային դասիչը | D8: Հատկացումների տրամադրման նպատակները և բյուջետային գլխավոր կարգադրիչների, ծրագրերի, միջոցառումների և կատարող պետական մարմնի անվանումները | E8: Ցուցանիշների փոփոխությունը (ավելացումները նշված են դրական նշանով, իսկ նվազեցումները` փակագծերում)
B9: Ծրագիր | C9: Միջոցառում | E9: Տարի
D10: ԸՆԴԱՄԵՆԸ | E10: =E12+E38 -> 0
D11: այդ թվում՝
D12: ՀՀ ՏԱՐԱԾՔԱՅԻՆ ԿԱՌԱՎԱՐՄԱՆ ԵՎ ԵՆԹԱԿԱՌՈՒՑՎԱԾՔՆԵՐԻ ՆԱԽԱՐԱՐՈՒԹՅՈՒՆ | E12: 8896075.8
D13: այդ թվում`
B14: 1049 | C14: 21020 | D14: Պետական նշանակության ավտոճանապարհների միջին նորոգում | E14: 8896075.8
D15: այդ թվում` ըստ կատարողների
D16: ՀՀ տարածքային կառավարման և ենթակառուցվածքների նախարարություն | E16: 8896075.8
D17: Մ-3,ՀՀ սահման (Մարգարա)-Վանաձոր-Տաշիր-ՀՀ սահման միջպետական նշանակության ավտոճանապարհի կմ 75+460-կմ 86+000 հատվածի միջին նորոգման աշխատանքներ | E17: 468000
D18: Մ-3,ՀՀ սահման (Մարգարա)-Վանաձոր-Տաշիր-ՀՀ սահման միջպետական նշանակության ավտոճանապարհի կմ 86+000-կմ 97+020 հատվածի միջին նորոգման աշխատանքներ | E18: 481002
D19: Մ-5,Երևան-Արմավիր-ՀՀ սահման միջպետական նշանակության ավտոճանապարհի կմ10+430 - կմ11+274, կմ17+530 - կմ17+621, կմ29+869-կմ30+319 (աջ և ձախ գոտիներ) հատվածների միջին նորոգման աշխատանքներ | E19: 168900
D20: Մ-6,Վանաձոր(Մ-3 հատման կետ)-Ալավերդի-ՀՀ սահման (Բագրատաշեն) միջպետական նշանակության ավտոճանապարհի կմ6+580-կմ17+625 հատվածի միջին նորոգման աշխատանքներ | E20: 498000
D21: Մ-6,Վանաձոր(Մ-3 հատման կետ)-Ալավերդի-ՀՀ սահման (Բագրատաշեն) միջպետական նշանակության ավտոճանապարհի կմ20+640-կմ31+620 հատվածի միջին նորոգման աշխատանքներ | E21: 483000
D22: Մ-9,/Մ-2/ (Նորավանի խաչմերուկ) - Գորիս-Տեղ-Կոռնիձոր - ՀՀ սահման միջպետական նշանակության ավտոճանապարհի կմ0+000-կմ15+500 հատված | E22: 976800
D23: Հ-20, /Մ-1/ -Ագարակ- Բյուրական-/Մ-3/ հանրապետական նշանակության ավտոճանապարհի կմ2+380-կմ5+093 հատվածի միջին նորոգման աշխատանքներ | E23: 104499
D24: Հ-62 /Մ-1/-Թալին-Քարակերտ-Շենիկ-Բագարան- ՀՀ սահման հանրապետական նշանակության ավտոճանապարհի կմ 7+706-կմ18+972 հատվածի միջին նորոգման աշխատանքներ | E24: 458001
D25: Մ-4 Երևան - Սևան - Իջևան – ՀՀ սահման միջպետական նշանակության ավտոճանապարհի կմ74+600 ÷ կմ80+702 հատվածի միջին նորոգման աշխատանքներ | E25: 287400
D26: Արմավիր քաղաքից դեպի զորամաս տանող ճանապարհի կմ0+000-կմ1+973 հատվածի միջին նորոգման աշխատանքներ | E26: 72000
D27: Տ-7-58,/Մ-1/ (Գյումրի)-Ախուրյան-Կառնուտ-Բասեն-Ջրառատ կմ4+800 ÷ կմ17+000 հատված և 0.57 կմ դեպի գերեզմաններ հատվածի միջին նորոգման աշխատանքներ | E27: 417000
... D37: Գյումրու Արևմտյան շրջանցիկ ճանապարհի կմ 0+000-կմ3+445 և Գործարանային փողոցի կմ0+000-կմ2+888 հատվածների միջին նորոգման աշխատանքներ | E37: 498221.1
D38: ՀՀ կառավարություն | E38: =E40 -> -8896075.8
D39: այդ թվում՛
B40: 1139 | C40: 11003 | D40: Հարկաբյուջետային ռիսկերի կառավարման պահուստ | E40: =E42 -> -8896075.8
D41: այդ թվում` ըստ կատարողների
D42: ՀՀ կառավարություն | E42: ='3'!E39 -> -8896075.8
C46: ՀԱՅԱՍՏԱՆԻ ՀԱՆՐԱՊԵՏՈՒԹՅԱՆ ՎԱՐՉԱՊԵՏԻ ԱՇԽԱՏԱԿԱԶՄԻ ՂԵԿԱՎԱՐ՝ Լ․ ՄԱԿՈՒՆՑ

Sheet 5.
K1: Հավելված N 5
K2: ՀՀ կառավարության 2026 թվականի
K3: ______________ ի ___Ն որոշման
B5: ՀԱՅԱՍՏԱՆԻ ՀԱՆՐԱՊԵՏՈՒԹՅԱՆ ԿԱՌԱՎԱՐՈՒԹՅԱՆ 2025 ԹՎԱԿԱՆԻ ԴԵԿՏԵՄԲԵՐԻ 25-Ի № 1910-Ն ՈՐՈՇՄԱՆ № 9 ՀԱՎԵԼՎԱԾՈՒՄ ԿԱՏԱՐՎՈՂ ՓՈՓՈԽՈՒԹՅՈՒՆՆԵՐԸ ԵՎ ԼՐԱՑՈՒՄՆԵՐԸ
K7: հազար դրամներով
B8: ԲԳԿ | C8: Ծրագիր | E8: Միջոցառում | I8: Իրականացնողը/ ակտիվն օգտագործողը/ շահառուի ընտրության չափորոշիչը | J8: Արդյունքային չափորոշիչը | K8: Ցուցանիշների փոփոխությունը (ավելացումները նշված են դրական նշանով, իսկ նվազեցումները՝ փակագծերում)
C9: Դասիչը | D9: Անվանումը | E9: Դասիչը | F9: Անվանումը | G9: Նկարագրությունը | H9: Տեսակը | K9: Տարի
B10: ԸՆԴԱՄԵՆԸ | K10: =K11+K18 -> 0
B11: ՀՀ տարածքային կառավարման և ենթակառուցվածքների նախարարություն | K11: =K12 -> 8896075.8
C12: 1049 | D12: Ճանապարհային ցանցի բարելավում | K12: =K13 -> 8896075.8
E13: 1049 - 21020 | F13: Պետական նշանակության ավտոճանապարհների միջին նորոգում | K13: ='1'!H13 -> 8896075.8
G14: Միջպետական, հանրապետական և մարզային նշանակության ավտոճանապարհների պատվածքի մաշված վերին շերտի վերականգնում և շինարարական նորմերով նախատեսված սկզբնական որակական ցուցանիշների ապահովում
H15: Հանրության կողմից անմիջականորեն օգտագործվող ակտիվների հետ կապված միջոցառումներ
I16: ՀՀ տարածքային կառավարման և ենթակառուցվածքների նախարարություն, մրցութային կարգով ընտրված կազմակերպություններ
J17: Միջին նորոգման ենթակա ճանապարհների երկարությունը, կիլոմետր | K17: ='6.'!K16+'6.'!K24 -> 144.045
B18: ՀՀ կառավարություն | K18: =K19 -> -8896075.8
C19: 1139 | D19: ՀՀ կառավարության պահուստային ֆոնդ | K19: =K20+K24+K28 -> -8896075.8
E20: 1139 - 11001 | F20: ՀՀ կառավարության պահուստային ֆոնդ | K20: ='1'!H16 -> -8896075.8
G21: ՀՀ պետական բյուջեում նախատեսված ելքերի լրացուցիչ ֆինանսավորման, պետական բյուջեում չկանխատեսված ելքերի, ինչպես նաև բյուջետային երաշխիքների ապահովման ելքերի ֆինանսավորման ապահովում
H22: Ծառայությունների մատուցում
I23: Ծառայությունը մատուցողի անվանումը` ՀՀ կառավարություն
E24: 1139 - 11001 | F24: ՀՀ կառավարության պահուստային ֆոնդ | K24: ='1'!H17 -> 8896075.8
G25: ՀՀ պետական բյուջեում նախատեսված ելքերի լրացուցիչ ֆինանսավորման, պետական բյուջեում չկանխատեսված ելքերի, ինչպես նաև բյուջետային երաշխիքների ապահովման ելքերի ֆինանսավորման ապահովում
H26: Ծառայությունների մատուցում
I27: Ծառայությունը մատուցողի անվանումը` ՀՀ կառավարություն
E28: 1139 - 11003 | F28: Հարկաբյուջետային ռիսկերի կառավարման պահուստ | K28: ='1'!H18 -> -8896075.8
G29: Հարկաբյուջետային ռիսկերի կառավարման նպատակով նախատեսված միջոցներ
H30: Ծառայությունների մատուցում
I31: Ծառայությունը մատուցողի անվանումը` ՀՀ կառավարություն
D38: ՀԱՅԱՍՏԱՆԻ ՀԱՆՐԱՊԵՏՈՒԹՅԱՆ ՎԱՐՉԱՊԵՏԻ ԱՇԽԱՏԱԿԱԶՄԻ ՂԵԿԱՎԱՐ՝ Լ․ ՄԱԿՈՒՆՑ

Sheet 6.
K1: Հավելված N6
K2: ՀՀ կառավարության 2026 թվականի
K3: ______________ ի ___Ն որոշման
B5: ՀԱՅԱՍՏԱՆԻ ՀԱՆՐԱՊԵՏՈՒԹՅԱՆ ԿԱՌԱՎԱՐՈՒԹՅԱՆ 2025 ԹՎԱԿԱՆԻ ԴԵԿՏԵՄԲԵՐԻ 25-Ի № 1910-Ն ՈՐՈՇՄԱՆ № 9.1 ՀԱՎԵԼՎԱԾՈՒՄ ԿԱՏԱՐՎՈՂ ՓՈՓՈԽՈՒԹՅՈՒՆՆԵՐԸ ԵՎ ԼՐԱՑՈՒՄՆԵՐԸ
K6: հազար դրամներով
B7: ԲՍԿ | C7: Ծրագիր | E7: Միջոցառում | I7: Իրականացնողը/ ակտիվն օգտագործողը/ շահառուի ընտրության չափորոշիչը | J7: Արդյունքային չափորոշիչը | K7: Ցուցանիշների փոփոխությունը (ավելացումները նշված են դրական նշանով, իսկ նվազեցումները` փակագծերում)
C8: Դասիչը | D8: Անվանումը | E8: Դասիչը | F8: Անվանումը | G8: Նկարագրությունը | H8: Տեսակը | K8: Տարի
B9: ԸՆԴԱՄԵՆԸ | K9: =K10+K18 -> 0
B10: ՀՀ տարածքային կառավարման և ենթակառուցվածքների նախարարություն | K10: =K11 -> 8896075.8
C11: 1049 | D11: Ճանապարհային ցանցի բարելավում | K11: =K12 -> 8896075.8
E12: 1049 - 21020 | F12: Պետական նշանակության ավտոճանապարհների միջին նորոգում | K12: ='1'!H13 -> 8896075.8
G13: Միջպետական, հանրապետական և մարզային նշանակության ավտոճանապարհների պատվածքի մաշված վերին շերտի վերականգնում և շինարարական նորմերով նախատեսված սկզբնական որակական ցուցանիշների ապահովում
H14: Հանրության կողմից անմիջականորեն օգտագործվող ակտիվների հետ կապված միջոցառումներ
I15: ՀՀ տարածքային կառավարման և ենթակառուցվածքների նախարարություն, մրցութային կարգով ընտրված կազմակերպություններ
J16: Միջին նորոգման ենթակա ճանապարհների երկարությունը, կիլոմետր | K16: 176.115
J17: Աշխատանքների ավարտվածության աստիճան, % | K17: =-K25 -> 94
B18: ՀՀ կառավարություն | K18: =K19+K26 -> -8896075.8
C19: 1049 | D19: Ճանապարհային ցանցի բարելավում | K19: 0
E20: 1049 - 21020 | F20: Պետական նշանակության ավտոճանապարհների միջին նորոգում | K20: 0
G21: Միջպետական, հանրապետական և մարզային նշանակության ավտոճանապարհների պատվածքի մաշված վերին շերտի վերականգնում և շինարարական նորմերով նախատեսված սկզբնական որակական ցուցանիշների ապահովում
H22: Հանրության կողմից անմիջականորեն օգտագործվող ակտիվների հետ կապված միջոցառումներ
I23: ՀՀ տարածքային կառավարման և ենթակառուցվածքների նախարարություն, մրցութային կարգով ընտրված կազմակերպություններ
J24: Միջին նորոգման ենթակա ճանապարհների երկարությունը, կիլոմետր | K24: -32.07
J25: Աշխատանքների ավարտվածության աստիճան, % | K25: -94
C26: 1139 | D26: ՀՀ կառավարության պահուստային ֆոնդ | K26: =K27+K31+K35 -> -8896075.8
E27: 1139 - 11001 | F27: ՀՀ կառավարության պահուստային ֆոնդ | K27: =-K31 -> -8896075.8
G28: ՀՀ պետական բյուջեում նախատեսված ելքերի լրացուցիչ ֆինանսավորման, պետական բյուջեում չկանխատեսված ելքերի, ինչպես նաև բյուջետային երաշխիքների ապահովման ելքերի ֆինանսավորման ապահովում
H29: Ծառայությունների մատուցում
I30: Ծառայությունը մատուցողի անվանումը` ՀՀ կառավարություն
E31: 1139 - 11001 | F31: ՀՀ կառավարության պահուստային ֆոնդ | K31: ='2'!H53 -> 8896075.8
G32: ՀՀ պետական բյուջեում նախատեսված ելքերի լրացուցիչ ֆինանսավորման, պետական բյուջեում չկանխատեսված ելքերի, ինչպես նաև բյուջետային երաշխիքների ապահովման ելքերի ֆինանսավորման ապահովում
H33: Ծառայությունների մատուցում
I34: Ծառայությունը մատուցողի անվանումը` ՀՀ կառավարություն
E35: 1139 - 11003 | F35: Հարկաբյուջետային ռիսկերի կառավարման պահուստ | K35: ='5.'!K28 -> -8896075.8
G36: Հարկաբյուջետային ռիսկերի կառավարման նպատակով նախատեսված միջոցներ
H37: Ծառայությունների մատուցում
I38: Ծառայությունը մատուցողի անվանումը` ՀՀ կառավարություն
E40: ՀԱՅԱՍՏԱՆԻ ՀԱՆՐԱՊԵՏՈՒԹՅԱՆ ՎԱՐՉԱՊԵՏԻ ԱՇԽԱՏԱԿԱԶՄԻ ՂԵԿԱՎԱՐ՝ Լ․ ՄԱԿՈՒՆՑ

Sheet 7.
I1: Հավելված N 7
I2: ՀՀ կառավարության 2026 թվականի
I3: ______________ ի ___Ն որոշման
C5: ՀԱՅԱՍՏԱՆԻ ՀԱՆՐԱՊԵՏՈՒԹՅԱՆ ԿԱՌԱՎԱՐՈՒԹՅԱՆ 2025 ԹՎԱԿԱՆԻ ԴԵԿՏԵՄԲԵՐԻ 25-Ի N 1910-Ն ՈՐՈՇՄԱՆ N 10 ՀԱՎԵԼՎԱԾՈՒՄ ԿԱՏԱՐՎՈՂ ԼՐԱՑՈՒՄՆԵՐԸ
C7: Կոդը | D7: Անվանումը | E7: Գնման ձևը | F7: Չափման միավորը | G7: Միավորի գինը | H7: Ցուցանիշների փոփոխությունը (ավելացումները նշված են դրական նշանով)
H8: Քանակը | I8: Գումարը (հազար դրամով)
C9: ՀՀ տարածքային կառավարման և ենթակառուցվածքների նախարարություն | I9: =+I10 -> 8896075.7
C10: Բաժին N 04 | D10: Խումբ N 05 | E10: Դաս N 01 | F10: Ճանապարհային տրանսպորտ | I10: =I11 -> 8896075.7
C11: 1049 21020 | D11: Պետական նշանակության ավտոճանապարհների միջին նորոգում | I11: =SUM(I13:I33) -> 8896075.7
C12: ՄԱՍ II ԱՇԽԱՏԱՆՔՆԵՐ | I12: =SUM(I13:I33) -> 8896075.7
C13: 45231177/550 | D13: ճանապարհների վերանորոգման աշխատանքներ | E13: ՀԲՄ | F13: դրամ | G13: 168900000 | H13: 1 | I13: =+H13*G13/1000 -> 168900
C14: 45231177/551 | D14: ճանապարհների վերանորոգման աշխատանքներ | E14: ՀԲՄ | F14: դրամ | G14: 468000000 | H14: 1 | I14: =+H14*G14/1000 -> 468000
C15: 45231177/556 | D15: ճանապարհների վերանորոգման աշխատանքներ | E15: ՀԲՄ | F15: դրամ | G15: 481002000 | H15: 1 | I15: =+H15*G15/1000 -> 481002
C16: 45231177/570 | D16: ճանապարհների վերանորոգման աշխատանքներ | E16: ՀԲՄ | F16: դրամ | G16: 72000000 | H16: 1 | I16: =+H16*G16/1000 -> 72000
C17: 45231177/572 | D17: ճանապարհների վերանորոգման աշխատանքներ | E17: ՀԲՄ | F17: դրամ | G17: 104499000 | H17: 1 | I17: =+H17*G17/1000 -> 104499
C18: 45231177/573 | D18: ճանապարհների վերանորոգման աշխատանքներ | E18: ՀԲՄ | F18: դրամ | G18: 458001000 | H18: 1 | I18: =+H18*G18/1000 -> 458001
C19: 45231177/574 | D19: ճանապարհների վերանորոգման աշխատանքներ | E19: ՀԲՄ | F19: դրամ | G19: 287400000 | H19: 1 | I19: =+H19*G19/1000 -> 287400
C20: 45231177/580 | D20: ճանապարհների վերանորոգման աշխատանքներ | E20: ՀԲՄ | F20: դրամ | G20: 333000000 | H20: 1 | I20: =+H20*G20/1000 -> 333000
C21: 45231177/581 | D21: ճանապարհների վերանորոգման աշխատանքներ | E21: ՀԲՄ | F21: դրամ | G21: 417000000 | H21: 1 | I21: =+H21*G21/1000 -> 417000
C22: 45231177/583 | D22: ճանապարհների վերանորոգման աշխատանքներ | E22: ՀԲՄ | F22: դրամ | G22: 392700000 | H22: 1 | I22: =+H22*G22/1000 -> 392700
C23: 45231177/586 | D23: ճանապարհների վերանորոգման աշխատանքներ | E23: ՀԲՄ | F23: դրամ | G23: 976800000 | H23: 1 | I23: =+H23*G23/1000 -> 976800
C24: 45231177/588 | D24: ճանապարհների վերանորոգման աշխատանքներ | E24: ՀԲՄ | F24: դրամ | G24: 498000000 | H24: 1 | I24: =+H24*G24/1000 -> 498000
... C33: 45231177/621 | D33: ճանապարհների վերանորոգման աշխատանքներ | E33: ՀԲՄ | F33: դրամ | G33: 498221009 | H33: 1 | I33: =+H33*G33/1000 -> 498221.01
C35: ՀԱՅԱՍՏԱՆԻ ՀԱՆՐԱՊԵՏՈՒԹՅԱՆ
C36: ՎԱՐՉԱՊԵՏԻ ԱՇԽԱՏԱԿԱԶՄԻ
D37: ՂԵԿԱՎԱՐ ՝ Լ․ՄԱԿՈՒՆՑ

Sheet 8.
G1: Հավելված N 8.
F2: ՀՀ կառավարության 2026 թվականի
G3: N ------------ -Ն որոշման
A5: ՀԱՅԱՍՏԱՆԻ ՀԱՆՐԱՊԵՏՈՒԹՅԱՆ 2026 ԹՎԱԿԱՆԻ ՊԵՏԱԿԱՆ ԲՅՈՒՋԵՈՎ ՆԱԽԱՏԵՍՎԱԾ՝ ՀԱՅԱՍՏԱՆԻ ՀԱՆՐԱՊԵՏՈՒԹՅԱՆ ԿԱՌԱՎԱՐՈՒԹՅԱՆ ՊԱՀՈՒՍՏԱՅԻՆ ՖՈՆԴԻՑ ՀԱՏԿԱՑՈՒՄՆԵՐ ԿԱՏԱՐԵԼՈՒ ՎԵՐԱԲԵՐՅԱԼ
G7: հազար դրամներով
A8: Գործառական դասիչը | D8: Ծրագրային դասիչը | F8: Բյուջետային հատկացումների գլխավոր կարգադրիչների, ծրագրերի, միջոցառումների և միջոցառումները կատարող պետական մարմինների անվանումները | G8: Ցուցանիշների փոփոխությունը (ավելացումները նշված են դրական նշանով, իսկ նվազեցումները` փակագծերում)
A9: Բաժին | B9: Խումբ | C9: Դաս | D9: Ծրագիր | E9: Միջոցառում | G9: Տարի
F10: ԸՆԴԱՄԵՆԸ ԾԱԽՍԵՐ | G10: =G12+G33 -> 0
F11: այդ թվում՝
F12: ՀՀ տարածքային կառավարման և ենթակառուցվածքների նախարարություն | G12: =G14 -> 8896075.8
F13: այդ թվում`
A14: 04 | F14: ՏՆՏԵՍԱԿԱՆ ՀԱՐԱԲԵՐՈՒԹՅՈՒՆՆԵՐ | G14: =G16 -> 8896075.8
F15: այդ թվում`
B16: 05 | F16: Տրանսպորտ | G16: =G18 -> 8896075.8
F17: այդ թվում`
C18: 01 | F18: Ճանապարհային տրանսպորտ | G18: =G20 -> 8896075.8
F19: այդ թվում`
F20: ՀՀ տարածքային կառավարման և ենթակառուցվածքների նախարարություն | G20: =G22 -> 8896075.8
F21: այդ թվում`
D22: 1049 | F22: Ճանապարհային ցանցի բարելավում | G22: =G24 -> 8896075.8
F23: այդ թվում`
E24: 21020 | F24: Պետական նշանակության ավտոճանապարհների միջին նորոգում | G24: =G26 -> 8896075.8
F25: այդ թվում` ըստ կատարողների
F26: ՀՀ տարածքային կառավարման և ենթակառուցվածքների նախարարություն | G26: =G28 -> 8896075.8
F27: այդ թվում` բյուջետային ծախսերի տնտեսագիտական դասակարգման հոդվածներ
F28: ԸՆԴԱՄԵՆԸ ԾԱԽՍԵՐ | G28: =G29 -> 8896075.8
F29: ՈՉ ՖԻՆԱՆՍԱԿԱՆ ԱԿՏԻՎՆԵՐԻ ԳԾՈՎ ԾԱԽՍԵՐ | G29: =G30 -> 8896075.8
F30: ՀԻՄՆԱԿԱՆ ՄԻՋՈՑՆԵՐ | G30: =G31 -> 8896075.8
F31: ՇԵՆՔԵՐ ԵՎ ՇԻՆՈՒԹՅՈՒՆՆԵՐ | G31: =G32 -> 8896075.8
F32: - Շենքերի և շինությունների կապիտալ վերանորոգում | G32: =-G33 -> 8896075.8
F33: ՀՀ կառավարություն | G33: =G35 -> -8896075.8
F34: այդ թվում`
A35: 11 | F35: ՀԻՄՆԱԿԱՆ ԲԱԺԻՆՆԵՐԻՆ ՉԴԱՍՎՈՂ ՊԱՀՈՒՍՏԱՅԻՆ ՖՈՆԴԵՐ | G35: =G37 -> -8896075.8
F36: այդ թվում`
B37: 01 | F37: ՀՀ կառավարության և համայնքների պահուստային ֆոնդ | G37: =G39 -> -8896075.8
F38: այդ թվում`
C39: 01 | F39: ՀՀ կառավարության պահուստային ֆոնդ | G39: =G41 -> -8896075.8
F40: այդ թվում`
F41: ՀՀ կառավարություն | G41: =G43 -> -8896075.8
F42: այդ թվում`
...
