Workbook
Name a: #REF!
Name a: #REF!
Name a: #REF!
Name a: #REF!
Name a: #REF!
Name AgencyCode: #REF!
Name AgencyCode: #REF!
Name AgencyCode: #REF!
Name AgencyCode: #REF!
Name AgencyCode: #REF!
Name AgencyName: #REF!
Name AgencyName: #REF!
Name AgencyName: #REF!
Name AgencyName: #REF!
Name åû: #REF!
Name åû: #REF!
Name åû: #REF!
Name BOP: #REF!
Name BOPfoot: #REF!
Name davit: #REF!
Name davit: #REF!
Name davit: #REF!
Name DebtCG: #REF!
Name DebtGG: #REF!
Name Functional1: #REF!
Name Functional1: #REF!
Name Functional1: #REF!
Name Functional1: #REF!
Name ggg: #REF!
Name ggg: #REF!
Name ggg: #REF!
Name hav: #REF!
Name mas: #REF!
Name mas: #REF!
Name mas: #REF!
Name mass: #REF!
Name mass: #REF!
Name mass: #REF!
Name MonExo: #REF!
Name MonGrow: #REF!
Name PANature: #REF!
Name PANature: #REF!
Name PANature: #REF!
Name PANature: #REF!
Name PAType: #REF!
Name PAType: #REF!
Name PAType: #REF!
Name PAType: #REF!
Name Performance2: #REF!
Name Performance2: #REF!
Name Performance2: #REF!
Name Performance2: #REF!
Name PerformanceType: #REF!
Name PerformanceType: #REF!
Name PerformanceType: #REF!
Name PerformanceType: #REF!
Name RealExo: #REF!
Name RealPercent: #REF!
Name Table_2._Turkey__Exogenous_assumptions: #REF!
Name vlom: #REF!

Sheet Հավելված N 1 
F1: Հավելված N 1
F2: ՀՀ կառավարության 2026 թվականի
F3: ______________ ի ___Ն որոշման
A6: «ՀԱՅԱUՏԱՆԻ ՀԱՆՐԱՊԵՏՈՒԹՅԱՆ 2026 ԹՎԱԿԱՆԻ ՊԵՏԱԿԱՆ ԲՅՈՒՋԵԻ ՄԱUԻՆ» ՀԱՅԱUՏԱՆԻ ՀԱՆՐԱՊԵՏՈՒԹՅԱՆ OՐԵՆՔԻ N 1 ՀԱՎԵԼՎԱԾԻ N 2 ԱՂՅՈՒՍԱԿՈՒՄ ԿԱՏԱՐՎՈՂ ՎԵՐԱԲԱՇԽՈՒՄԸ ԵՎ ՀԱՅԱՍՏԱՆԻ ՀԱՆՐԱՊԵՏՈՒԹՅԱՆ ԿԱՌԱՎԱՐՈՒԹՅԱՆ 2025 ԹՎԱԿԱՆԻ ԴԵԿՏԵՄԲԵՐԻ 25-Ի N 1910-Ն ՈՐՈՇՄԱՆ N 5 ՀԱՎԵԼՎԱԾԻ N 1 ԱՂՅՈՒՍԱԿՈՒՄ ԿԱՏԱՐՎՈՂ ՓՈՓՈԽՈՒԹՅՈՒՆԸ ԵՎ ԼՐԱՑՈՒՄԸ
H9: հազ. դրամներով
A10: ԲԳԿ | B10: Ծրագրային դասիչը | D10: ԲԳԿ/Ծրագրի /միջոցառման անվանումը | E10: Ծրագրի նպատակը/Միջոցառման նկարագրությունը | F10: Վերջնական արդյունքի նկարագրությունը/Միջոցառման տեսակը | G10: Ցուցանիշների փոփոխությունը (ավելացումները նշված են դրական նշանով, իսկ նվազեցումները փակագծերում)
G11: Ինն ամիս | H11: Տարի
B12: Ծրագիր | C12: Միջոցառում
A13: ԸՆԴԱՄԵՆԸ | G13: =+G15 -> 0 | H13: =+H15 -> 0
A14: այդ թվում՝
A15: ՀՀ ԿՐԹՈՒԹՅԱՆ, ԳԻՏՈՒԹՅԱՆ, ՄՇԱԿՈՒՅԹԻ ԵՎ ՍՊՈՐՏԻ ՆԱԽԱՐԱՐՈՒԹՅՈՒՆ | G15: =+G16 -> 0 | H15: =+H16 -> 0
B16: 1041 | D16: Մեծ նվաճումների սպորտ | E16: Նպաստել Հայաստանում մեծ սպորտի շարունակական զարգացմանը և միջազգային հարթակներում ՀՀ դիրքի բարելավմանը | F16: ՀՀ առաջնությունների ընդլայնում, միջազգային սպորտային միջոցառումներին մասնակցության և նվաճումների ապահովում | G16: =SUM(G17:G18) -> 0 | H16: =SUM(H17:H18) -> 0
C17: 1041 - 11051 | D17: Հայաստանում Ֆրանկոֆոնիայի մարզամշակութային խաղերի նախապատրաստում և անցկացում | E17: Հայաստանում Ֆրանկոֆոնիայի մարզամշակութային խաղերի նախապատրաստում և անցկացման ապահովում | F17: Ծառայությունների մատուցում | G17: =+'Հավելված N 2'!G26 -> -46426 | H17: =+'Հավելված N 2'!H26 -> -120000
C18: 1041 - 21001 | D18: Հայաստանում Ֆրանկոֆոնիայի խաղերի անցկացման համար անհրաժեշտ ենթակառուցվածքների ապահովում | E18: Հայաստանում 2027 թվականին Ֆրանկոֆոնիայի խաղերի անցկացման նպատակով համապատասխան ենթակառուցվածքների ստեղծում, բարելավում | F18: Հանրության կողմից անմիջականորեն օգտագործվող ակտիվների հետ կապված միջոցառումներ | G18: =+'Հավելված N 2'!G35 -> 46426 | H18: =+'Հավելված N 2'!H35 -> 120000

Sheet Հավելված N 2
F1: Հավելված N 2
F2: ՀՀ կառավարության 2026 թվականի
F3: ______________ ի ___Ն որոշման
A7: ՀԱՅԱՍՏԱՆԻ ՀԱՆՐԱՊԵՏՈՒԹՅԱՆ ԿԱՌԱՎԱՐՈՒԹՅԱՆ 2025 ԹՎԱԿԱՆԻ ԴԵԿՏԵՄԲԵՐԻ 25-Ի N 1910-Ն ՈՐՈՇՄԱՆ N 3 ԵՎ N 4 ՀԱՎԵԼՎԱԾՆԵՐՈՒՄ ԿԱՏԱՐՎՈՂ ՓՈՓՈԽՈՒԹՅՈՒՆՆԵՐԸ ԵՎ ԼՐԱՑՈՒՄԸ
H10: հազ. դրամներով
A11: Գործառական դասիչը | D11: Ծրագրային դասիչը | F11: Բյուջետային հատկացումների գլխավոր կարգադրիչների, ծրագրերի, միջոցառումների և միջոցառումները կատարող պետական մարմինների անվանումները | G11: Ցուցանիշների փոփոխությունը (ավելացումները նշված են դրական նշանով, իսկ նվազեցումները փակագծերում)
A12: Բաժին | B12: Խումբ | C12: Դաս | D12: Ծրագիր | E12: Միջոցառում | G12: Ինն ամիս | H12: Տարի
F13: ԸՆԴԱՄԵՆԸ | G13: =+G15 -> 0 | H13: =+H15 -> 0
F14: այդ թվում՝
F15: ՀՀ ԿՐԹՈՒԹՅԱՆ, ԳԻՏՈՒԹՅԱՆ, ՄՇԱԿՈՒՅԹԻ ԵՎ ՍՊՈՐՏԻ ՆԱԽԱՐԱՐՈՒԹՅՈՒՆ | G15: =+G16 -> 0 | H15: =+H16 -> 0
A16: 08 | F16: ՀԱՆԳԻՍՏ, ՄՇԱԿՈՒՅԹ ԵՎ ԿՐՈՆ | G16: =+G18 -> 0 | H16: =+H18 -> 0
F17: այդ թվում`
B18: 01 | F18: Հանգստի և սպորտի ծառայություններ | G18: =+G20 -> 0 | H18: =+H20 -> 0
F19: այդ թվում`
C20: 01 | F20: Հանգստի և սպորտի ծառայություններ | G20: =+G22 -> 0 | H20: =+H22 -> 0
F21: այդ թվում`
F22: ՀՀ կրթության, գիտության, մշակույթի և սպորտի նախարարություն | G22: =+G24 -> 0 | H22: =+H24 -> 0
F23: այդ թվում`
D24: 1041 | E24: Մեծ նվաճումների սպորտ | G24: =+G26+G35 -> 0 | H24: =+H26+H35 -> 0
F25: այդ թվում`
E26: 11051 | F26: Հայաստանում Ֆրանկոֆոնիայի մարզամշակութային խաղերի նախապատրաստում և անցկացում | G26: =+G28 -> -46426 | H26: =+H28 -> -120000
F27: այդ թվում` ըստ կատարողների
F28: ՀՀ կրթության, գիտության, մշակույթի և սպորտի նախարարություն | G28: =+G30 -> -46426 | H28: =+H30 -> -120000
F29: այդ թվում` բյուջետային ծախսերի տնտեսագիտական դասակարգման հոդվածներ
F30: ԸՆԴԱՄԵՆԸ ԾԱԽՍԵՐ | G30: =G31 -> -46426 | H30: =H31 -> -120000
F31: ԸՆԹԱՑԻԿ ԾԱԽՍԵՐ | G31: =+G32 -> -46426 | H31: =+H32 -> -120000
F32: ԴՐԱՄԱՇՆՈՐՀՆԵՐ | G32: =+G33 -> -46426 | H32: =+H33 -> -120000
F33: Ընթացիկ դրամաշնորհներ պետական հատվածի այլ մակարդակներին | G33: =+G34 -> -46426 | H33: =+H34 -> -120000
F34: - Այլ ընթացիկ դրամաշնորհներ | G34: -46426 | H34: =+'Հավելված N 5'!G12 -> -120000
E35: 21001 | F35: Հայաստանում Ֆրանկոֆոնիայի խաղերի անցկացման համար անհրաժեշտ ենթակառուցվածքների ապահովում | G35: =+G37+G44 -> 46426 | H35: =+H37+H44 -> 120000
F36: այդ թվում` ըստ կատարողների
F37: ՀՀ կրթության, գիտության, մշակույթի և սպորտի նախարարություն | G37: =+G39 -> -553574 | H37: =+H39 -> -480000
F38: այդ թվում` բյուջետային ծախսերի տնտեսագիտական դասակարգման հոդվածներ
F39: ԸՆԴԱՄԵՆԸ ԾԱԽՍԵՐ | G39: =G40 -> -553574 | H39: =H40 -> -480000
F40: ՈՉ ՖԻՆԱՆՍԱԿԱՆ ԱԿՏԻՎՆԵՐԻ ԳԾՈՎ ԾԱԽՍԵՐ | G40: =+G41 -> -553574 | H40: =+H41 -> -480000
F41: ՀԻՄՆԱԿԱՆ ՄԻՋՈՑՆԵՐ | G41: =+G42 -> -553574 | H41: =+H42 -> -480000
F42: ՄԵՔԵՆԱՆԵՐ ԵՎ ՍԱՐՔԱՎՈՐՈՒՄՆԵՐ | G42: =+G43 -> -553574 | H42: =+H43 -> -480000
F43: - Այլ մեքենաներ և սարքավորումներ | G43: =+'Հավելված N 4'!E15 -> -553574 | H43: =+'Հավելված N 4'!F15 -> -480000
F44: ՀՀ քաղաքաշինության կոմիտե | G44: =+G46 -> 600000 | H44: =+H46 -> 600000
F45: այդ թվում` բյուջետային ծախսերի տնտեսագիտական դասակարգման հոդվածներ
...

Sheet Հավելված N 3
F1: Հավելված N 3
F2: ՀՀ կառավարության 2026 թվականի
F3: ______________ ի ___Ն որոշման
A5: «ՀԱՅԱUՏԱՆԻ ՀԱՆՐԱՊԵՏՈՒԹՅԱՆ 2026 ԹՎԱԿԱՆԻ ՊԵՏԱԿԱՆ ԲՅՈՒՋԵԻ ՄԱUԻՆ» ՀԱՅԱUՏԱՆԻ ՀԱՆՐԱՊԵՏՈՒԹՅԱՆ OՐԵՆՔԻ N 1 ՀԱՎԵԼՎԱԾԻ N 3 ԱՂՅՈՒՍԱԿՈՒՄ ԿԱՏԱՐՎՈՂ ՓՈՓՈԽՈՒԹՅՈՒՆԸ ԵՎ ԼՐԱՑՈՒՄԸ
G8: հազ. դրամներով
A9: Ծրագրային դասիչ | C9: Բյուջետային գլխավոր կարգադրիչների, ծրագրերի, միջոցառումների, միջոցառումները կատարող պետական մարմինների և ուղղությունների անվանումները | D9: Ընդամենը | E9: Ցուցանիշների փոփոխությունը (ավելացումները նշված են դրական նշանով, իսկ նվազեցումները՝ փակագծերում)
A10: Ծրագիր | B10: Միջոցառում | E10: Կառուցման աշխատանքներ | F10: Վերակառուցման, վերանորոգման և վերականգնման աշխատանքներ | G10: Նախագծահե- տազոտական, գեոդեզիա- քարտեզագրա- կան աշխա- տանքներ | H10: Ոչ ֆինանսական այլ ակտիվների ձեռքբերում
C11: ԸՆԴԱՄԵՆԸ | D11: =SUM(E11:H11) -> 120000 | E11: =+E13 -> 0 | F11: =+F13 -> 600000 | G11: =+G13 -> 0 | H11: =+H13 -> -480000
C12: այդ թվում՝
C13: ՀՀ ԿՐԹՈՒԹՅԱՆ, ԳԻՏՈՒԹՅԱՆ, ՄՇԱԿՈՒՅԹԻ ԵՎ ՍՊՈՐՏԻ ՆԱԽԱՐԱՐՈՒԹՅՈՒՆ | D13: =SUM(E13:H13) -> 120000 | E13: =+E15 -> 0 | F13: =+F15 -> 600000 | G13: =+G15 -> 0 | H13: =+H15 -> -480000
C14: այդ թվում`
A15: 1041 | B15: 21001 | C15: Հայաստանում Ֆրանկոֆոնիայի խաղերի անցկացման համար անհրաժեշտ ենթակառուցվածքների ապահովում | D15: =SUM(E15:H15) -> 120000 | E15: 0 | F15: =+'Հավելված N 8'!I38+'Հավելված N 8'!I40+'Հավելված N 8'!I41 -> 600000 | G15: 0 | H15: =+'Հավելված N 8'!I16 -> -480000

Sheet Հավելված N 4
E1: Հավելված N 4
D2: ՀՀ կառավարության 2026 թվականի
E3: ______________ ի ___Ն որոշման
B6: ՀԱՅԱՍՏԱՆԻ ՀԱՆՐԱՊԵՏՈՒԹՅԱՆ ԿԱՌԱՎԱՐՈՒԹՅԱՆ 2025 ԹՎԱԿԱՆԻ ԴԵԿՏԵՄԲԵՐԻ 25-Ի N 1910-Ն ՈՐՈՇՄԱՆ N 5 ՀԱՎԵԼՎԱԾԻ N 2 ԱՂՅՈՒՍԱԿՈՒՄ ԿԱՏԱՐՎՈՂ ՓՈՓՈԽՈՒԹՅՈՒՆԸ ԵՎ ԼՐԱՑՈՒՄԸ
F8: հազ. դրամներով
B9: Ծրագրային դասիչ | D9: Բյուջետային գլխավոր կարգադրիչների, ծրագրերի, միջոցառումների, միջոցառումները կատարող պետական մարմինների և ուղղությունների անվանումները | E9: Ցուցանիշների փոփոխությունը (ավելացումները նշված են դրական նշանով, իսկ նվազեցումները՝ փակագծերում)
B10: Ծրագիր | C10: Միջոցառում | E10: Ինն ամիս | F10: Տարի
D11: ՀՀ ԿՐԹՈՒԹՅԱՆ, ԳԻՏՈՒԹՅԱՆ, ՄՇԱԿՈՒՅԹԻ ԵՎ ՍՊՈՐՏԻ ՆԱԽԱՐԱՐՈՒԹՅՈՒՆ | E11: =+E13 -> 46426 | F11: =+F13 -> 120000
D12: այդ թվում՝
B13: 1041 | C13: 21001 | D13: Հայաստանում Ֆրանկոֆոնիայի խաղերի անցկացման համար անհրաժեշտ ենթակառուցվածքների ապահովում | E13: =+E15+E16 -> 46426 | F13: =+F15+F16 -> 120000
D14: այդ թվում` ըստ կատարողների
D15: ՀՀ կրթության, գիտության, մշակությի և սպորտի նախարարություն | E15: -553574 | F15: =+'Հավելված N 3'!H15 -> -480000
D16: ՀՀ քաղաքաշինության կոմիտե | E16: =+F16 -> 600000 | F16: =+'Հավելված N 3'!F15 -> 600000

Sheet Հավելված N 5
F1: Հավելված 5
F2: ՀՀ կառավարության 2026 թվականի
F3: ______________ ի ___Ն որոշման
A6: ՀԱՅԱՍՏԱՆԻ ՀԱՆՐԱՊԵՏՈՒԹՅԱՆ ԿԱՌԱՎԱՐՈՒԹՅԱՆ 2025 ԹՎԱԿԱՆԻ ԴԵԿՏԵՄԲԵՐԻ 25-Ի N 1910-Ն ՈՐՈՇՄԱՆ N 5 ՀԱՎԵԼՎԱԾԻ N 7 ԱՂՅՈՒՍԱԿՈՒՄ ԿԱՏԱՐՎՈՂ ՓՈՓՈԽՈՒԹՅՈՒՆԸ
A7: հազար դրամ
A8: Ծրագրային դասիչը | D8: Բյուջետային հատկացումների գլխավոր կարգադրիչների, ծրագրերի, միջոցառումների և միջոցառումները կատարող պետական մարմինների անվանումները | F8: Միջոցառումները կատարող պետական մարմինների և դրամաշնորհ ստացող տնտեսվարող սուբյեկտների անվանումները | G8: Ցուցանիշների փոփոխությունը (նվազեցումները նշված են փակագծերում)
A9: Ծրագիր | B9: Միջոցառում | G9: Տարի
A10: ՀՀ կրթության, գիտության, մշակույթի և սպորտի նախարարություն | G10: =+G11 -> -120000
A11: 1041 | B11: Մեծ նվաճումների սպորտ | G11: =+G12 -> -120000
B12: 11051 | C12: Հայաստանում Ֆրանկոֆոնիայի մարզամշակութային խաղերի նախապատրաստում և անցկացում | F12: ՀՀ կրթության, գիտության, մշակույթի և սպորտի նախարարություն | G12: =+G13 -> -120000
F13: «Սպորտի կառավարման կենտրոն» ՓԲԸ | G13: -120000

Sheet Հավելված N 6
J1: Հավելված N 6
I2: ՀՀ կառավարության 2026 թվականի
J3: ______________ ի ___Ն որոշման
A6: ՀԱՅԱՍՏԱՆԻ ՀԱՆՐԱՊԵՏՈՒԹՅԱՆ ԿԱՌԱՎԱՐՈՒԹՅԱՆ 2025 ԹՎԱԿԱՆԻ ԴԵԿՏԵՄԲԵՐԻ 25-Ի N 1910-Ն ՈՐՈՇՄԱՆ N 9 ՀԱՎԵԼՎԱԾՈՒՄ ԿԱՏԱՐՎՈՂ ՓՈՓՈԽՈՒԹՅՈՒՆԸ ԵՎ ԼՐԱՑՈՒՄԸ
J8: հազար դրամներոով
A9: ԲԳԿ | B9: Ծրագիր | D9: Միջոցառում | H9: Իրականացնողը/ ակտիվն օգտագործողը/ շահառուի ընտրության չափորոշիչը | I9: Արդյունքային չափորոշիչը | J9: Ցուցանիշների փոփոխությունը (ավելացումները նշված են դրական նշանով, իսկ նվազեցումները՝ փակագծերում)
B10: Դասիչը | C10: Անվանումը | D10: Դասիչը | E10: Անվանումը | F10: Նկարագրությունը | G10: Տեսակը | J10: Ինն ամիս | K10: Տարի
A11: ԸՆԴԱՄԵՆԸ | J11: =+J13 -> 0 | K11: =+K13 -> 0
A12: այդ թվում՝
A13: ՀՀ ԿՐԹՈՒԹՅԱՆ, ԳԻՏՈՒԹՅԱՆ, ՄՇԱԿՈԻՅԹԻ ԵՎ ՍՊՈՐՏԻ ՆԱԽԱՐԱՐՈՒԹՅՈՒՆ | J13: =+J14 -> 0 | K13: =+K14 -> 0
B14: 1041 | C14: Մեծ նվաճումների սպորտ | J14: =+J15+J19 -> 0 | K14: =+K15+K19 -> 0
D15: 1041 - 11051 | E15: Հայաստանում Ֆրանկոֆոնիայի մարզամշակութային խաղերի նախապատրաստում և անցկացում | J15: =+'Հավելված N 1 '!G17 -> -46426 | K15: =+'Հավելված N 1 '!H17 -> -120000
F16: Հայաստանում Ֆրանկոֆոնիայի մարզամշակութային խաղերի նախապատրաստում և անցկացման ապահովում
G17: Ծառայությունների մատուցում
H18: Ծառայությունը մատուցողի անվանումը` Մասնագիտացված կազմակերպություններ
D19: 1041 - 21001 | E19: Հայաստանում Ֆրանկոֆոնիայի խաղերի անցկացման համար անհրաժեշտ ենթակառուցվածքների ապահովում | J19: =+'Հավելված N 1 '!G18 -> 46426 | K19: =+'Հավելված N 1 '!H18 -> 120000
F20: Հայաստանում 2027 թվականին Ֆրանկոֆոնիայի խաղերի անցկացման նպատակով համապատասխան ենթակառուցվածքների ստեղծում, բարելավում
G21: Հանրության կողմից անմիջականորեն օգտագործվող ակտիվների հետ կապված միջոցառումներ
H22: Ծառայությունը մատուցողի անվանումը` Մասնագիտացված կազմակերպություն
I23: Հիմնանորոգման ենթակա օբյեկտների թիվ, հատ | K23: 1

Sheet Հավելված N 7
J1: Հավելված N 7
I2: ՀՀ կառավարության 2026 թվականի
J3: ______________ ի ___Ն որոշման
A6: ՀԱՅԱՍՏԱՆԻ ՀԱՆՐԱՊԵՏՈՒԹՅԱՆ ԿԱՌԱՎԱՐՈՒԹՅԱՆ 2025 ԹՎԱԿԱՆԻ ԴԵԿՏԵՄԲԵՐԻ 25-Ի N 1910-Ն ՈՐՈՇՄԱՆ N 9.1 ՀԱՎԵԼՎԱԾՈՒՄ ԿԱՏԱՐՎՈՂ ՓՈՓՈԽՈՒԹՅՈՒՆՆԵՐԸ ԵՎ ԼՐԱՑՈՒՄԸ
J8: հազար դրամներոով
A9: ԲՍԿ | B9: Ծրագիր | D9: Միջոցառում | H9: Իրականացնողը/ ակտիվն օգտագործողը/ շահառուի ընտրության չափորոշիչը | I9: Արդյունքային չափորոշիչը | J9: Ցուցանիշների փոփոխությունը (ավելացումները նշված են դրական նշանով, իսկ նվազեցումները՝ փակագծերում)
B10: Դասիչը | C10: Անվանումը | D10: Դասիչը | E10: Անվանումը | F10: Նկարագրությունը | G10: Տեսակը | J10: Ինն ամիս | K10: Տարի
A11: ԸՆԴԱՄԵՆԸ | J11: =+J13+J24 -> 0 | K11: =+K13+K24 -> 0
A12: այդ թվում՝
A13: ՀՀ ԿՐԹՈՒԹՅԱՆ, ԳԻՏՈՒԹՅԱՆ, ՄՇԱԿՈԻՅԹԻ ԵՎ ՍՊՈՐՏԻ ՆԱԽԱՐԱՐՈՒԹՅՈՒՆ | J13: =+J14 -> -600000 | K13: =+K14 -> -600000
B14: 1041 | C14: Մեծ նվաճումների սպորտ | J14: =+J15+J19 -> -600000 | K14: =+K15+K19 -> -600000
D15: 1041 - 11051 | E15: Հայաստանում Ֆրանկոֆոնիայի մարզամշակութային խաղերի նախապատրաստում և անցկացում | J15: =+'Հավելված N 2'!G28 -> -46426 | K15: =+'Հավելված N 2'!H28 -> -120000
F16: Հայաստանում Ֆրանկոֆոնիայի մարզամշակութային խաղերի նախապատրաստում և անցկացման ապահովում
G17: Ծառայությունների մատուցում
H18: Ծառայությունը մատուցողի անվանումը` Մասնագիտացված կազմակերպություններ
D19: 1041 - 21001 | E19: Հայաստանում Ֆրանկոֆոնիայի խաղերի անցկացման համար անհրաժեշտ ենթակառուցվածքների ապահովում | J19: =+'Հավելված N 2'!G37 -> -553574 | K19: =+'Հավելված N 2'!H37 -> -480000
F20: Հայաստանում 2027 թվականին Ֆրանկոֆոնիայի խաղերի անցկացման նպատակով համապատասխան ենթակառուցվածքների ստեղծում, բարելավում
G21: Հանրության կողմից անմիջականորեն օգտագործվող ակտիվների հետ կապված միջոցառումներ
H22: Ծառայությունը մատուցողի անվանումը` Մասնագիտացված կազմակերպություն
A24: ՀՀ ՔԱՂԱՔԱՇԻՆՈՒԹՅԱՆ ԿՈՄԻՏԵ | J24: =+J25 -> 600000 | K24: =+K25 -> 600000
B25: 1041 | C25: Մեծ նվաճումների սպորտ | J25: =+J26 -> 600000 | K25: =+K26 -> 600000
D26: 1041 - 21001 | E26: Հայաստանում Ֆրանկոֆոնիայի խաղերի անցկացման համար անհրաժեշտ ենթակառուցվածքների ապահովում | J26: =+'Հավելված N 2'!G44 -> 600000 | K26: =+'Հավելված N 2'!H44 -> 600000
F27: Հայաստանում 2027 թվականին Ֆրանկոֆոնիայի խաղերի անցկացման նպատակով համապատասխան ենթակառուցվածքների ստեղծում, բարելավում
G28: Հանրության կողմից անմիջականորեն օգտագործվող ակտիվների հետ կապված միջոցառումներ
H29: Ծառայությունը մատուցողի անվանումը` Մասնագիտացված կազմակերպություն
I30: Հիմնանորոգման ենթակա օբյեկտների թիվ, հատ | K30: 1

Sheet Հավելված N 8
H1: Հավելված N 8
H2: ՀՀ կառավարության 2026 թվականի
H3: ______________ ի ___Ն որոշման
A6: ՀԱՅԱՍՏԱՆԻ ՀԱՆՐԱՊԵՏՈՒԹՅԱՆ ԿԱՌԱՎԱՐՈՒԹՅԱՆ 2025 ԹՎԱԿԱՆԻ ԴԵԿՏԵՄԲԵՐԻ 25-Ի N 1910-Ն N 10 ՀԱՎԵԼՎԱԾՈՒՄ ԿԱՏԱՐՎՈՂ ՓՈՓՈԽՈՒԹՅՈՒՆԵՐԸ ԵՎ ԼՐԱՑՈՒՄՆԵՐԸ
A10: Կոդը | B10: Անվանումը | E10: Գնման ձևը | F10: Չափման միավորը | G10: Միավորի գինը | H10: Ցուցանիշների փոփոխությունը (ավելացումները նշված են դրական նշանով, իսկ նվազեցումները՝ փակագծերում)
H11: Քանակը | I11: Գումարը (հազար դրամ)
A12: 1 | B12: 2 | E12: 3 | F12: 4 | G12: 5 | H12: 6 | I12: 7
A13: ՀՀ կրթության, գիտության, մշակույթի և սպորտի նախարարություն | I13: =+I14 -> -480000
A14: Բաժին N 08 | B14: Խումբ N 01 | C14: Դաս N 01 | D14: Հանգստի և սպորտի ծառայություններ | I14: =+I15 -> -480000
A15: 1041-21001 | B15: Հայաստանում Ֆրանկոֆոնիայի խաղերի անցկացման համար անհրաժեշտ ենթակառուցվածքների ապահովում | I15: =+I16 -> -480000
B16: ՄԱՍ I. ԱՊՐԱՆՔՆԵՐ | I16: =SUM(I17:I32) -> -480000
A17: 37451420-5 | B17: բասկետբոլի ամբողջական խաղային կոմպլեքսներ | E17: ԷԱՃ | F17: հատ | G17: 18865000 | H17: -1 | I17: =+ROUNDDOWN(G17*H17/1000,1) -> -18865
A18: 30232130-1 | B18: գունավոր տպիչներ | E18: ԷԱՃ | F18: հատ | G18: 400000 | H18: -9 | I18: =+ROUNDDOWN(G18*H18/1000,1) -> -3600
A19: 30211220-1 | B19: սեղանի համակարգիչներ | E19: ԷԱՃ | F19: հատ | G19: 400000 | H19: -50 | I19: =+ROUNDDOWN(G19*H19/1000,1) -> -20000
A20: 30211280-1 | B20: համակարգիչ ամբողջը մեկում | E20: ԷԱՃ | F20: հատ | G20: 455000 | H20: -30 | I20: =+ROUNDDOWN(G20*H20/1000,1) -> -13650
A21: 30211280-2 | B21: համակարգիչ ամբողջը մեկում | E21: ԷԱՃ | F21: հատ | G21: 600000 | H21: -50 | I21: =+ROUNDDOWN(G21*H21/1000,1) -> -30000
A22: 30211280-3 | B22: համակարգիչ ամբողջը մեկում | E22: ԷԱՃ | F22: հատ | G22: 900000 | H22: -20 | I22: =+ROUNDDOWN(G22*H22/1000,1) -> -18000
A23: 30237490-1 | B23: համակարգչային մոնիտոր | E23: ԷԱՃ | F23: հատ | G23: 80000 | H23: -50 | I23: =+ROUNDDOWN(G23*H23/1000,1) -> -4000
A24: 30239110-1 | B24: տպիչ սարք, բազմաֆունկցիոնալ, A4, 18 էջ/րոպե արագության | E24: ԷԱՃ | F24: հատ | G24: 100000 | H24: -10 | I24: =+ROUNDDOWN(G24*H24/1000,1) -> -1000
A25: 31151120-18 | B25: անխափան սնուցման աղբյուրներ | E25: ԷԱՃ | F25: հատ | G25: 271000 | H25: -10 | I25: =+ROUNDDOWN(G25*H25/1000,1) -> -2710
A26: 37431282-3 | B26: ծանրաձողեր | E26: ԷԱՃ | F26: լրակազմ | G26: 5120500 | H26: -30 | I26: =+ROUNDDOWN(G26*H26/1000,1) -> -153615
A27: 37421131-1 | B27: ձյուդոյի տատամի | E27: ԷԱՃ | F27: լրակազմ | G27: 6000000 | H27: -6 | I27: =+ROUNDDOWN(G27*H27/1000,1) -> -36000
A28: 37431281-1 | B28: ծանրաձողի կանգնակ | E28: ԷԱՃ | F28: զույգ | G28: 994000 | H28: -30 | I28: =+ROUNDDOWN(G28*H28/1000,1) -> -29820
... A32: 37451412-1 | B32: բասկետբոլի լուսատախտակ | E32: ԷԱՃ | F32: լրակազմ | G32: 11000000 | H32: -5 | I32: =+ROUNDDOWN(G32*H32/1000,1) -> -55000
A34: ՀՀ քաղաքաշինության կոմիտե | I34: =+I35 -> 600000
A35: Բաժին N 08 | B35: Խումբ N 01 | C35: Դաս N 01 | D35: Հանգստի և սպորտի ծառայություններ | I35: =+I36 -> 600000
A36: 1041-21001 | B36: Հայաստանում Ֆրանկոֆոնիայի խաղերի անցկացման համար անհրաժեշտ ենթակառուցվածքների ապահովում | I36: =+I37+I39 -> 600000
B37: ՄԱՍ II. ԱՇԽԱՏԱՆՔՆԵՐ | I37: =+I38 -> 579151
A38: 45211131 | B38: մարզական օբյեկտների շինարարական աշխատանքներ | E38: ՀՄԱ | F38: դրամ | G38: 579151000 | H38: 1 | I38: =+ROUNDUP(G38*H38/1000,1) -> 579151
B39: ՄԱՍ III. ԾԱՌԱՅՈՒԹՅՈՒՆՆԵՐ | I39: =SUM(I40:I41) -> 20849
A40: 71351540 | B40: տեխնիկական հսկողության ծառայություններ | E40: ՀՄԱ | F40: դրամ | G40: 17374000 | H40: 1 | I40: =+ROUNDUP(G40*H40/1000,1) -> 17374
A41: 98111140 | B41: հեղինակային հսկողության ծառայություններ | E41: ՄԱ | F41: դրամ | G41: 3475000 | H41: 1 | I41: =+ROUNDUP(G41*H41/1000,1) -> 3475
