Workbook
Name \A: #REF!
Name _tab10: #REF!
Name _tab11: #REF!
Name _tab12: #REF!
Name _tab13: #REF!
Name _tab14: #REF!
Name _tab15: #REF!
Name _tab16: #REF!
Name _tab17: #REF!
Name _tab18: #REF!
Name _tab19: #REF!
Name _tab20: #REF!
Name _tab21: #REF!
Name _tab22: #REF!
Name _tab23: #REF!
Name _tab24: #REF!
Name _tab5: #REF!
Name _tab6: #REF!
Name _tab7: #REF!
Name _tab8: #REF!
Name _tab9: #REF!
Name aaa: #REF!
Name aaaa: #REF!
Name aaaaa: #REF!
Name AgencyCode: #REF!
Name AgencyName: #REF!
Name alis: #REF!
Name alisa: #REF!
Name als: #REF!
Name ampop_krchat: #REF!
Name Armata: #REF!
Name asd: #REF!
Name åû: #REF!
Name BOP: #REF!
Name BOPfoot: #REF!
Name davit: #REF!
Name DebtCG: '[1]Fis-Debt'!#REF!
Name DebtGG: #REF!
Name fff: #REF!
Name Functional1: #REF!
Name ggg: #REF!
Name h: #REF!
Name Hav: #REF!,#REF!
Name havelvac: #REF!
Name mas: #REF!
Name mass: #REF!
Name MonExo: #REF!
Name MonGrow: [2]BM!#REF!
Name PANature: #REF!
Name par_count: #REF!,#REF!,#REF!,#REF!,#REF!,#REF!,#REF!,#REF!,#REF!,#REF!,#REF!,#REF!,#REF!,#REF!,#REF!
Name par_qual: #REF!,#REF!,#REF!,#REF!,#REF!
Name par_time: #REF!,#REF!,#REF!,#REF!
Name par2.12s: #REF!
Name par2.4s: #REF!,#REF!,#REF!,#REF!,#REF!,#REF!,#REF!,#REF!,#REF!,#REF!,#REF!,#REF!,#REF!,#REF!,#REF!,#REF!
Name par2.5s: #REF!,#REF!
Name par2.6s: #REF!,#REF!,#REF!,#REF!
Name par2.7s: #REF!,#REF!
Name par2.9s: #REF!,#REF!,#REF!,#REF!,#REF!,#REF!,#REF!,#REF!,#REF!,#REF!,#REF!,#REF!,#REF!,#REF!,#REF!,#REF!
Name par4.10s: #REF!,#REF!
Name par4.11d: #REF!,#REF!,#REF!,#REF!,#REF!

Sheet Հավելված 1
A1: Հավելված N 1 ՀՀ կառավարության 2026 թվականի ____________ի N _____-Ն որոշման
A3: «ՀԱՅԱՍՏԱՆԻ ՀԱՆՐԱՊԵՏՈՒԹՅԱՆ 2026 ԹՎԱԿԱՆԻ ՊԵՏԱԿԱՆ ԲՅՈՒՋԵԻ ՄԱՍԻՆ» ՕՐԵՆՔԻ N 1 ՀԱՎԵԼՎԱԾԻ N 2 ԱՂՅՈՒՍԱԿՈՒՄ ԿԱՏԱՐՎՈՂ ՎԵՐԱԲԱՇԽՈՒՄԸ, ԼՐԱՑՈՒՄԸ ԵՎ ՀԱՅԱՍՏԱՆԻ ՀԱՆՐԱՊԵՏՈՒԹՅԱՆ ԿԱՌԱՎԱՐՈՒԹՅԱՆ 2025 ԹՎԱԿԱՆԻ ԴԵԿՏԵՄԲԵՐԻ 25-Ի N 1910-Ն ՈՐՈՇՄԱՆ N 5 ՀԱՎԵԼՎԱԾԻ N 1 ԱՂՅՈՒՍԱԿՈՒՄ ԿԱՏԱՐՎՈՂ ՓՈՓՈԽՈՒԹՅՈՒՆՆԵՐԸ ԵՎ ԼՐԱՑՈՒՄԸ
G4: հազար դրամներով
A5: ԲԳԿ | B5: Ծրագրային դասիչը | D5: ԲԳԿ/Ծրագրի /միջոցառման անվանումը | E5: Ծրագրի նպատակը/Միջոցառման նկարագրությունը | F5: Վերջնական արդյունքի նկարագրությունը/Միջոցառման տեսակը | G5: Ցուցանիշների փոփոխությունները (ավելացումները նշված են դրական նշանով, նվազեցումները՝ փակագծերում)
B6: Ծրագիր | C6: Միջոցառում | G6: Ինն ամիս | H6: Տարի
A7: ԸՆԴԱՄԵՆԸ | G7: =+G8+G17+G14 -> 0 | H7: =+H8+H17+H14 -> 0
A8: ՀՀ էկոնոմիկայի նախարարություն | G8: =+G9+G11 -> 4521239.2 | H8: =+H9+H11 -> 4521239.2
B9: 1022 | D9: Գյուղատնտեսության խթանման ծրագիր | E9: Գյուղատնտեսական մթերքի և դրանց վերամշակումից ստացվող սննդամթերքի ծավալների ավելացում | F9: Գյուղատնտեսական մթերքների ծավալների ավելացում: Օգտագործվող վարելահողերի ավելացում: Պտուղբանջարեղենի և խաղողի վերամշակումից ստացված արտադրանքի ծավալների աճ | G9: =+G10 -> 660125 | H9: =+H10 -> 660125
C10: 1022-12022 | D10: Վերամշակման նպատակով Սյունիքի մարզից թզի և ՀՀ տարածքից դեղձի մթերման գործընթացի շրջանակներում տնտեսավարող սուբյեկտներին սուբսիդավորում | E10: Վերամշակման նպատակով Սյունիքի մարզից մթերվող թզի և ՀՀ տարածքից մթերվող դեղձի արտադրությամբ զբաղվող տնտեսավարող սուբյեկտներին մթերման գործընթացին աջակցելու նպատակով սուբսիդավորում | F10: Տրանսֆերտների տրամադրում | G10: =+'Հավելված 2'!G47 -> 660125 | H10: =+'Հավելված 2'!H47 -> 660125
B11: 1165 | D11: Ներդրումների և արտահանման խթանման ծրագիր | E11: Ներդրումների ներգրավման և արտահանման խթանում | F11: Նախորդ տարվա համեմատ ներդրումների և արտահանման ծավալների աճ | G11: =+G12+G13 -> 3861114.2 | H11: =+H12+H13 -> 3861114.2
C12: 1165 - 12014 | D12: Հայաստանի Հանրապետության տարածքից ջերմատնային արտադրության առանձին ապրանքների արտահանման աջակցություն | E12: Հայաստանի Հանրապետության տարածքից արտահանվող ջերմատնային արտադրության առանձին ապրանքների մրցունակության բարձրացման նպատակով արտահանված արտադրանքի համար փոխհատուցման տրամադրում | F12: Տրանսֆերտների տրամադրում | G12: =+'Հավելված 2'!G21 -> 2065069.2 | H12: =+'Հավելված 2'!H21 -> 2065069.2
C13: 1165 - 12015 | D13: Հայաստանի Հանրապետության տարածքից թարմ պտղի և սննդամթերքի ու խմիչքի առանձին տեսակների արտահանման աջակցություն | E13: Հայաստանի Հանրապետության տարածքից արտահանվող թարմ պտղի և սննդամթերքի ու խմիչքի առանձին տեսակների մրցունակության բարձրացման նպատակով արտահանված արտադրանքի համար փոխհատուցման տրամադրում | F13: Տրանսֆերտների տրամադրում | G13: =+'Հավելված 2'!G30 -> 1796045 | H13: =+'Հավելված 2'!H30 -> 1796045
A14: ՀՀ ֆինանսների նախարարություն | G14: =+G15 -> -4521239.2 | H14: =+H15 -> -4521239.2
B15: 1006 | D15: Պետական պարտքի կառավարում | E15: Կառավարության ֆինանսական կարիքների բավարարման մշտական հնարավորության ապահովումը` երկարաժամկետ հատվածում նվազեցնելով պարտքի սպասարկման մեծությունը | F15: Կառավարության պարտքի օպտիմալ կառուցվածքի ձևավորում՝ հաշվի առնելով պոտենցիալ ռիսկերը | G15: =+G16 -> -4521239.2 | H15: =+H16 -> -4521239.2
C16: 1006 - 13001 | D16: Կառավարության պարտքի սպասարկում | E16: Կառավարության պարտքի սպասարկում (տոկոսավճարներ) | F16: Ֆինանսավորման ծախսերի իրականացում | G16: =+G8*-1 -> -4521239.2 | H16: =+H8*-1 -> -4521239.2
A17: ՀՀ կառավարություն | G17: =+G18 -> 0 | H17: =+H18 -> 0
B18: 1139 | D18: ՀՀ կառավարության պահուստային ֆոնդ | E18: Պետական բյուջեում չկանխատեսված, ինչպես նաեւ բյուջետային երաշխիքների ապահովման ծախսերի ֆինանսավորման ապահովում | F18: Պահուստային ֆոնդի կառավարման արդյունավետության և թափանցիկության ապահովում | G18: =+G19+G20 -> 0 | H18: =+H19+H20 -> 0
C19: 1139 - 11001 | D19: ՀՀ կառավարության պահուստային ֆոնդ | E19: ՀՀ պետական բյուջեում նախատեսված ելքերի լրացուցիչ ֆինանսավորման, պետական բյուջեում չկանխատեսված ելքերի, ինչպես նաև բյուջետային երաշխիքների ապահովման ելքերի ֆինանսավորման ապահովում | F19: Ծառայությունների մատուցում | G19: =+'Հավելված 2'!G94 -> -4521239.2 | H19: =+'Հավելված 2'!H94 -> -4521239.2
C20: 1139 - 11001 | D20: ՀՀ կառավարության պահուստային ֆոնդ | E20: ՀՀ պետական բյուջեում նախատեսված ելքերի լրացուցիչ ֆինանսավորման, պետական բյուջեում չկանխատեսված ելքերի, ինչպես նաև բյուջետային երաշխիքների ապահովման ելքերի ֆինանսավորման ապահովում | F20: Ծառայությունների մատուցում | G20: =+'Հավելված 2'!G86 -> 4521239.2 | H20: =+'Հավելված 2'!H86 -> 4521239.2

Sheet Հավելված 2
F1: Հավելված 2 ՀՀ կառավարության 2026 թվականի ____________ի N _____-Ն որոշման
A3: ՀԱՅԱՍՏԱՆԻ ՀԱՆՐԱՊԵՏՈՒԹՅԱՆ ԿԱՌԱՎԱՐՈՒԹՅԱՆ 2025 ԹՎԱԿԱՆԻ ԴԵԿՏԵՄԲԵՐԻ 25-Ի N 1910-Ն ՈՐՈՇՄԱՆ NN 3 ԵՎ 4 ՀԱՎԵԼՎԱԾՆԵՐՈՒՄ ԿԱՏԱՐՎՈՂ ՓՈՓՈԽՈՒԹՅՈՒՆՆԵՐԸ ԵՎ ԼՐԱՑՈՒՄԸ
H4: հազար դրամներով
A5: Գործառնական դասիչ | D5: Ծրագրային դասիչը | F5: Բյուջետային ծախսերի գործառական դասակարգման բաժինների, խմբերի և դասերի, բյուջետային ծրագրերի միջոցառումների, բյուջետային հատկացումների գլխավոր կարգադրիչների անվանումները | G5: Ցուցանիշների փոփոխությունները (ավելացումներ նշված են դրական նշանով, նվազեցումները՝ փակագծերում)
A6: Բաժին | B6: Խումբ | C6: Դաս | D6: Ծրագիր | E6: Միջոցառում | G6: Ինն ամիս | H6: Տարի
F7: ԸՆԴԱՄԵՆԸ ԾԱԽՍԵՐ | G7: =+G9+G76+G56 -> 0 | H7: =+H9+H76+H56 -> 0
F8: այդ թվում`
F9: ՀՀ էկոնոմիկայի նախարարություն | G9: =+G11 -> 4521239.2 | H9: =+H11 -> 4521239.2
F10: այդ թվում`
A11: 04 | F11: ՏՆՏԵՍԱԿԱՆ ՀԱՐԱԲԵՐՈՒԹՅՈՒՆՆԵՐ | G11: =+G13+G39 -> 4521239.2 | H11: =+H13+H39 -> 4521239.2
F12: այդ թվում`
B13: 01 | F13: Ընդհանուր բնույթի տնտեսական, առևտրային և աշխատանքի գծով հարաբերություններ | G13: =+G15 -> 3861114.2 | H13: =+H15 -> 3861114.2
F14: այդ թվում`
C15: 01 | F15: Ընդհանուր բնույթի տնտեսական և առևտրային հարաբերություններ | G15: =+G17 -> 3861114.2 | H15: =+H17 -> 3861114.2
F16: այդ թվում`
F17: ՀՀ էկոնոմիկայի նախարարություն | G17: =+G19 -> 3861114.2 | H17: =+H19 -> 3861114.2
F18: այդ թվում`
D19: 1165 | F19: Ներդրումների և արտահանման խթանման ծրագիր | G19: =+G21+G30 -> 3861114.2 | H19: =+H21+H30 -> 3861114.2
F20: այդ թվում`
E21: 12014 | F21: =+'Հավելված 1'!D12 -> Հայաստանի Հանրապետության տարածքից ջերմատնային արտադրության առանձին ապրանքների արտահանման աջակցություն | G21: =+G23 -> 2065069.2 | H21: =+H23 -> 2065069.2
F22: այդ թվում` ըստ կատարողների
F23: ՀՀ էկոնոմիկայի նախարարություն | G23: =+G25 -> 2065069.2 | H23: =+H25 -> 2065069.2
F24: այդ թվում` բյուջետային ծախսերի տնտեսագիտական դասակարգման հոդվածներ
F25: ԸՆԴԱՄԵՆԸ ԾԱԽՍԵՐ | G25: =+G26 -> 2065069.2 | H25: =+H26 -> 2065069.2
F26: ԸՆԹԱՑԻԿ ԾԱԽՍԵՐ | G26: =+G27 -> 2065069.2 | H26: =+H27 -> 2065069.2
F27: ՍՈՒԲՍԻԴԻԱՆԵՐ | G27: =+G28 -> 2065069.2 | H27: =+H28 -> 2065069.2
F28: Սուբսիդիաներ ոչ պետական կազմակերպություններին | G28: =+G29 -> 2065069.2 | H28: =+H29 -> 2065069.2
F29: - Սուբսիդիաներ ոչ պետական ոչ ֆինանսական կազմակերպություններին | G29: 2065069.2 | H29: 2065069.2
E30: 12015 | F30: =+'Հավելված 1'!D13 -> Հայաստանի Հանրապետության տարածքից թարմ պտղի և սննդամթերքի ու խմիչքի առանձին տեսակների արտահանման աջակցություն | G30: =+G32 -> 1796045 | H30: =+H32 -> 1796045
F31: այդ թվում` ըստ կատարողների
F32: ՀՀ էկոնոմիկայի նախարարություն | G32: =+G35 -> 1796045 | H32: =+H35 -> 1796045
F33: այդ թվում` բյուջետային ծախսերի տնտեսագիտական դասակարգման հոդվածներ
F34: ԸՆԴԱՄԵՆԸ ԾԱԽՍԵՐ
F35: ԸՆԹԱՑԻԿ ԾԱԽՍԵՐ | G35: =+G36 -> 1796045 | H35: =+H36 -> 1796045
F36: ՍՈՒԲՍԻԴԻԱՆԵՐ | G36: =+G37 -> 1796045 | H36: =+H37 -> 1796045
F37: Սուբսիդիաներ ոչ պետական կազմակերպություններին | G37: =+G38 -> 1796045 | H37: =+H38 -> 1796045
F38: - Սուբսիդիաներ ոչ պետական ոչ ֆինանսական կազմակերպություններին | G38: 1796045 | H38: 1796045
B39: 02 | F39: Գյուղատնտեսություն, անտառային տնտեսություն, ձկնորսություն և որսորդություն | G39: =+G41 -> 660125 | H39: =+H41 -> 660125
F40: այդ թվում`
C41: ՛01 | F41: Գյուղատնտեսություն | G41: =+G43 -> 660125 | H41: =+H43 -> 660125
F42: այդ թվում`
F43: ՀՀ էկոնոմիկայի նախարարություն | G43: =+G45 -> 660125 | H43: =+H45 -> 660125
F44: այդ թվում`
D45: 1022 | F45: =+'Հավելված 1'!D9 -> Գյուղատնտեսության խթանման ծրագիր | G45: =+G47 -> 660125 | H45: =+H47 -> 660125
F46: այդ թվում`
E47: 12022 | F47: =+'Հավելված 1'!D10 -> Վերամշակման նպատակով Սյունիքի մարզից թզի և ՀՀ տարածքից դեղձի մթերման գործընթացի շրջանակներում տնտեսավարող սուբյեկտներին սուբսիդավորում | G47: =+G49 -> 660125 | H47: =+H49 -> 660125
F48: այդ թվում` ըստ կատարողների
F49: ՀՀ էկոնոմիկայի նախարարություն | G49: =+G51 -> 660125 | H49: =+H51 -> 660125
F50: այդ թվում` բյուջետային ծախսերի տնտեսագիտական դասակարգման հոդվածներ
F51: ԸՆԴԱՄԵՆԸ ԾԱԽՍԵՐ | G51: =+G52 -> 660125 | H51: =+H52 -> 660125
F52: ԸՆԹԱՑԻԿ ԾԱԽՍԵՐ | G52: =+G53 -> 660125 | H52: =+H53 -> 660125
F53: ՍՈՒԲՍԻԴԻԱՆԵՐ | G53: =G54 -> 660125 | H53: =H54 -> 660125
F54: Սուբսիդիաներ ոչ պետական կազմակերպություններին | G54: =G55 -> 660125 | H54: =H55 -> 660125
F55: - Սուբսիդիաներ ոչ պետական ոչ ֆինանսական կազմակերպություններին | G55: 660125 | H55: 660125
F56: ՀՀ ֆինանսների նախարարություն | G56: =+G58 -> -4521239.2 | H56: =+H58 -> -4521239.2
F57: այդ թվում`
A58: 01 | F58: ԸՆԴՀԱՆՈՒՐ ԲՆՈՒՅԹԻ ՀԱՆՐԱՅԻՆ ԾԱՌԱՅՈՒԹՅՈՒՆՆԵՐ | G58: =+G60 -> -4521239.2 | H58: =+H60 -> -4521239.2
F59: այդ թվում`
B60: 07 | F60: Պետական պարտքի գծով գործառնություններ | G60: =+G62 -> -4521239.2 | H60: =+H62 -> -4521239.2
F61: այդ թվում`
C62: 01 | F62: Պետական պարտքի գծով գործառնություններ | G62: =+G64 -> -4521239.2 | H62: =+H64 -> -4521239.2
F63: այդ թվում`
F64: ՀՀ ֆինանսների նախարարություն | G64: =+G66 -> -4521239.2 | H64: =+H66 -> -4521239.2
F65: այդ թվում`
D66: 1006 | F66: Պետական պարտքի կառավարում | G66: =+G68 -> -4521239.2 | H66: =+H68 -> -4521239.2
F67: այդ թվում`
E68: 13001 | F68: Կառավարության պարտքի սպասարկում | G68: =+G70 -> -4521239.2 | H68: =+H70 -> -4521239.2
F69: այդ թվում` ըստ կատարողների
F70: ՀՀ ֆինանսների նախարարություն | G70: =+G72 -> -4521239.2 | H70: =+H72 -> -4521239.2
F71: այդ թվում` բյուջետային ծախսերի տնտեսագիտական դասակարգման հոդվածներ
F72: ԸՆԴԱՄԵՆԸ ԾԱԽՍԵՐ | G72: =+G73 -> -4521239.2 | H72: =+H73 -> -4521239.2
F73: ԸՆԹԱՑԻԿ ԾԱԽՍԵՐ | G73: =+G74 -> -4521239.2 | H73: =+H74 -> -4521239.2
F74: ՏՈԿՈՍԱՎՃԱՐՆԵՐ | G74: =+G75 -> -4521239.2 | H74: =+H75 -> -4521239.2
F75: - Արտաքին տոկոսավճարներ | G75: -4521239.2 | H75: -4521239.2
F76: ՀՀ կառավարություն | G76: =+G78 -> 0 | H76: =+H78 -> 0
F77: այդ թվում`
A78: 11 | F78: ՀԻՄՆԱԿԱՆ ԲԱԺԻՆՆԵՐԻՆ ՉԴԱՍՎՈՂ ՊԱՀՈՒՍՏԱՅԻՆ ՖՈՆԴԵՐ | G78: =G80 -> 0 | H78: =H80 -> 0
F79: այդ թվում`
B80: 01 | F80: ՀՀ կառավարության և համայնքների պահուստային ֆոնդ | G80: =G82 -> 0 | H80: =H82 -> 0
F81: այդ թվում`
C82: 01 | F82: ՀՀ կառավարության պահուստային ֆոնդ | G82: =G84 -> 0 | H82: =H84 -> 0
F83: այդ թվում`
D84: 1139 | F84: ՀՀ կառավարություն | G84: =+G86+G94 -> 0 | H84: =+H86+H94 -> 0
F85: այդ թվում`
E86: 11001 | F86: ՀՀ կառավարության պահուստային ֆոնդ | G86: =G88 -> 4521239.2 | H86: =H88 -> 4521239.2
F87: այդ թվում` ըստ կատարողների
F88: ՀՀ կառավարություն | G88: =G90 -> 4521239.2 | H88: =H90 -> 4521239.2
F89: այդ թվում` բյուջետային ծախսերի տնտեսագիտական դասակարգման հոդվածներ
F90: ԸՆԴԱՄԵՆԸ ԾԱԽՍԵՐ | G90: =G91 -> 4521239.2 | H90: =H91 -> 4521239.2
F91: ԸՆԹԱՑԻԿ ԾԱԽՍԵՐ | G91: =G92 -> 4521239.2 | H91: =H92 -> 4521239.2
F92: ԱՅԼ ԾԱԽՍԵՐ | G92: =G93 -> 4521239.2 | H92: =H93 -> 4521239.2
F93: Պահուստային միջոցներ | G93: =+G101*-1 -> 4521239.2 | H93: =+H101*-1 -> 4521239.2
E94: 11001 | F94: ՀՀ կառավարության պահուստային ֆոնդ | G94: =G96 -> -4521239.2 | H94: =H96 -> -4521239.2
F95: այդ թվում` ըստ կատարողների
F96: ՀՀ կառավարություն | G96: =G98 -> -4521239.2 | H96: =H98 -> -4521239.2
F97: այդ թվում` բյուջետային ծախսերի տնտեսագիտական դասակարգման հոդվածներ
F98: ԸՆԴԱՄԵՆԸ ԾԱԽՍԵՐ | G98: =G99 -> -4521239.2 | H98: =H99 -> -4521239.2
F99: ԸՆԹԱՑԻԿ ԾԱԽՍԵՐ | G99: =G100 -> -4521239.2 | H99: =H100 -> -4521239.2
F100: ԱՅԼ ԾԱԽՍԵՐ | G100: =G101 -> -4521239.2 | H100: =H101 -> -4521239.2
F101: Պահուստային միջոցներ | G101: -4521239.2 | H101: -4521239.2

Sheet Հավելված 3
A1: Հավելված 3 ՀՀ կառավարության 2026 թվականի ____________ի N _____-Ն որոշման
A2: ՀԱՅԱՍՏԱՆԻ ՀԱՆՐԱՊԵՏՈՒԹՅԱՆ ԿԱՌԱՎԱՐՈՒԹՅԱՆ 2025 ԹՎԱԿԱՆԻ ԴԵԿՏԵՄԲԵՐԻ 25-Ի N 1910-Ն ՈՐՈՇՄԱՆ N N 9 ԵՎ 9.1 ՀԱՎԵԼՎԱԾՆԵՐՈՒՄ ԿԱՏԱՐՎՈՂ ՓՈՓՈԽՈՒԹՅՈՒՆՆԵՐԸ ԵՎ ԼՐԱՑՈՒՄՆԵՐԸ
K3: հազար դրամներով
A4: ԲԳԿ/ԲՍԿ | B4: Ծրագիր | D4: Միջոցառում | H4: Իրականացնողը/ ակտիվն օգտագործողը/ շահառուի ընտրության չափորոշիչը | I4: Արդյունքային չափորոշիչը | J4: Ցուցանիշների փոփոխությունը (ավելացումները նշված են դրական նշանով, իսկ նվազեցումները՝ փակագծերում)
B5: Դասիչը | C5: Անվա-նումը | D5: Դասիչը | E5: Անվա-նումը | F5: Նկարագրու-թյունը | G5: Տեսակը | J5: Ինն ամիս | K5: Տարի
A6: ԸՆԴԱՄԵՆԸ | J6: =+J7+J47+J53 -> 0 | K6: =+K7+K47+K53 -> 0
A7: ՀՀ էկոնոմիկայի նախարարություն | J7: =+J8+J15 -> 4521239.2 | K7: =+K8+K15 -> 4521239.2
B8: 1022 | C8: =+'Հավելված 1'!D9 -> Գյուղատնտեսության խթանման ծրագիր | J8: =+J9 -> 660125 | K8: =+K9 -> 660125
D9: 1022-12022 | E9: =+'Հավելված 1'!D10 -> Վերամշակման նպատակով Սյունիքի մարզից թզի և ՀՀ տարածքից դեղձի մթերման գործընթացի շրջանակներում տնտեսավարող սուբյեկտներին սուբսիդավորում | J9: =+'Հավելված 2'!G39 -> 660125 | K9: =+'Հավելված 2'!H39 -> 660125
F10: =+'Հավելված 1'!E10 -> Վերամշակման նպատակով Սյունիքի մարզից մթերվող թզի և ՀՀ տարածքից մթերվող դեղձի արտադրությամբ զբաղվող տնտեսավարող սուբյեկտներին մթերման գործընթացին աջակցելու նպատակով սուբսիդավորում
G11: =+'Հավելված 1'!F10 -> Տրանսֆերտների տրամադրում
H12: Շահառուների ընտրության չափորոշիչները` ՀՀ կառավարության 2026 թվականի հունիսի 11-ի N-839-Լ որոշմամբ հաստատված ծրագրի չափանիշները բավարարող տնտեսավարող սուբյեկտներ
H13: վերամշակման նպատակով մթերվող դեղձի ծավալ, տոննա | K13: 5200
H14: վերամշակման նպատակով մթերվող թզի ծավալ, տոննա | K14: 81
B15: 1165 | C15: Ներդրումների և արտահանման խթանման ծրագիր | J15: =+J16+J27 -> 3861114.2 | K15: =+K16+K27 -> 3861114.2
D16: 1165 - 12014 | E16: =+'Հավելված 1'!D12 -> Հայաստանի Հանրապետության տարածքից ջերմատնային արտադրության առանձին ապրանքների արտահանման աջակցություն | J16: =+'Հավելված 2'!G21 -> 2065069.2 | K16: =+'Հավելված 2'!H21 -> 2065069.2 | M16: =SUM(M20:M26) -> 0
F17: =+'Հավելված 1'!E12 -> Հայաստանի Հանրապետության տարածքից արտահանվող ջերմատնային արտադրության առանձին ապրանքների մրցունակության բարձրացման նպատակով արտահանված արտադրանքի համար փոխհատուցման տրամադրում
G18: Տրանսֆերտների տրամադրում
H19: Շահառուների ընտրության չափորոշիչները` ՀՀ կառավարության 2026 թվականի հունիսի 4-ի N-800-Լ որոշմամբ հաստատված ծրագրի չափանիշները բավարարող տնտեսավարող սուբյեկտներ
I20: լոլիկի արտահանված ծավալ, տոննա | K20: 2481
I21: չերրի տեսակի լոլիկի արտահանված ծավալ, տոննա | K21: 460
I22: պղպեղի արտահանված ծավալ, տոննա | K22: 1580
I23: պալերմո տեսակի պղպեղի արտահանված ծավալ, տոննա | K23: 624
I24: ելակի արտահանված ծավալ, տոննա | K24: 124
I25: ծաղիկի արտահանված ծավալ, հազ. հատ | K25: 3176.6
I26: ծաղիկի արտահանված ծավալ ԵՄ անդամ երկրներ հազ. հատ | K26: 835.6
D27: 1165 - 12015 | E27: =+'Հավելված 1'!D13 -> Հայաստանի Հանրապետության տարածքից թարմ պտղի և սննդամթերքի ու խմիչքի առանձին տեսակների արտահանման աջակցություն | J27: =+'Հավելված 2'!G30 -> 1796045 | K27: =+'Հավելված 2'!H30 -> 1796045
F28: =+'Հավելված 1'!E13 -> Հայաստանի Հանրապետության տարածքից արտահանվող թարմ պտղի և սննդամթերքի ու խմիչքի առանձին տեսակների մրցունակության բարձրացման նպատակով արտահանված արտադրանքի համար փոխհատուցման տրամադրում
G29: Տրանսֆերտների տրամադրում
H30: Շահառուների ընտրության չափորոշիչները` ՀՀ կառավարության 2026 թվականի հունիսի 11-ի N-839-Լ որոշմամբ հաստատված ծրագրի չափանիշները բավարարող տնտեսավարող սուբյեկտներ
I31: Ծիրանի արտահանված ծավալ, տոննա | K31: 10
I32: խնձորի արտահանված ծավալ, տոննա | K32: 390
I33: սալորի արտահանված ծավալ, տոննա | K33: 322
I34: կեռասի արտահանված ծավալ, տոննա | K34: 159
I35: դեղձի կամ նեկտարինի արտահանված ծավալ, տոննա | K35: 2203
I36: խաղողի արտահանված ծավալ, տոննա | K36: 120
I37: թզի, ազնվամորու, մոշի և հոնի արտահանված ծավալ, տոննա | K37: 94
I38: տոմատի մածուկի ԵՄ անդամ երկրներ արտահանված ծավալ, տոննա | K38: 45
I39: շշալցված խաղողի գինու արտահանված ծավալ, հազ. լիտր | K39: 154
I40: շշալցված պտղահատապտղային գինու արտահանված ծավալ, հազ. լիտր | K40: 358.78
I41: շշալցված հայկական բրենդիի կամ հայկական կոնյակի արտահանված ծավալ, հազ. լիտր / 100 % սպիրտի հաշվարկով/ | K41: 1004
I42: շշալցված բնական հանքային ջրի արտահանված ծավալ, հազ. լիտր | K42: 300
... I46: թառափ տեսակի ձկան արտահանված ծավալ, տոննա | K46: -53.5
A47: ՀՀ ֆինանսների նախարարություն | J47: =+J48 -> -4521239.2 | K47: =+K48 -> -4521239.2
B48: 1006 | C48: Պետական պարտքի կառավարում | J48: =+J49 -> -4521239.2 | K48: =+K49 -> -4521239.2
D49: 1006-13001 | E49: Կառավարության պարտքի սպասարկում | J49: =+'Հավելված 2'!G68 -> -4521239.2 | K49: =+'Հավելված 2'!H68 -> -4521239.2
F50: Կառավարության պարտքի սպասարկում (տոկոսավճարներ)
G51: Ֆինանսավորման ծախսերի իրականացում
H52: Միջոցառումն իրականացնողի անվանումը` ՀՀ ֆինանսների նախարարություն
A53: ՀՀ կառավարություն | J53: =+J54 -> 0 | K53: =+K54 -> 0
B54: 1139 | C54: ՀՀ կառավարության պահուստային ֆոնդ | J54: =+J55+J59 -> 0 | K54: =+K55+K59 -> 0
D55: 1139 - 11001 | E55: ՀՀ կառավարության պահուստային ֆոնդ | J55: =+'Հավելված 2'!G86 -> 4521239.2 | K55: =+'Հավելված 2'!H86 -> 4521239.2
F56: ՀՀ պետական բյուջեում նախատեսված ելքերի լրացուցիչ ֆինանսավորման, պետական բյուջեում չկանխատեսված ելքերի, ինչպես նաև բյուջետային երաշխիքների ապահովման ելքերի ֆինանսավորման ապահովում
G57: Ծառայությունների մատուցում
H58: Ծառայությունը մատուցողի անվանումը` ՀՀ կառավարություն
D59: 1139 - 11001 | E59: ՀՀ կառավարության պահուստային ֆոնդ | J59: =+'Հավելված 2'!G94 -> -4521239.2 | K59: =+'Հավելված 2'!H94 -> -4521239.2
F60: ՀՀ պետական բյուջեում նախատեսված ելքերի լրացուցիչ ֆինանսավորման, պետական բյուջեում չկանխատեսված ելքերի, ինչպես նաև բյուջետային երաշխիքների ապահովման ելքերի ֆինանսավորման ապահովում
G61: Ծառայությունների մատուցում
H62: Ծառայությունը մատուցողի անվանումը` ՀՀ կառավարություն
