Workbook
Name _1__հայտարարվել_է_նախ_մրցույթ: #REF!
Name _tab10: #REF!
Name _tab10: #REF!
Name _tab10: #REF!
Name _tab10: #REF!
Name _tab10: #REF!
Name _tab10: #REF!
Name _tab10: #REF!
Name _tab11: #REF!
Name _tab11: #REF!
Name _tab11: #REF!
Name _tab11: #REF!
Name _tab11: #REF!
Name _tab11: #REF!
Name _tab11: #REF!
Name _tab12: #REF!
Name _tab12: #REF!
Name _tab12: #REF!
Name _tab12: #REF!
Name _tab12: #REF!
Name _tab12: #REF!
Name _tab12: #REF!
Name _tab13: #REF!
Name _tab13: #REF!
Name _tab13: #REF!
Name _tab13: #REF!
Name _tab13: #REF!
Name _tab13: #REF!
Name _tab13: #REF!
Name _tab14: #REF!
Name _tab14: #REF!
Name _tab14: #REF!
Name _tab14: #REF!
Name _tab14: #REF!
Name _tab14: #REF!
Name _tab14: #REF!
Name _tab15: #REF!
Name _tab15: #REF!
Name _tab15: #REF!
Name _tab15: #REF!
Name _tab15: #REF!
Name _tab15: #REF!
Name _tab15: #REF!
Name _tab16: #REF!
Name _tab16: #REF!
Name _tab16: #REF!
Name _tab16: #REF!
Name _tab16: #REF!
Name _tab16: #REF!
Name _tab16: #REF!
Name _tab17: #REF!
Name _tab17: #REF!
Name _tab17: #REF!
Name _tab17: #REF!
Name _tab17: #REF!
Name _tab17: #REF!
Name _tab17: #REF!
Name _tab18: #REF!
Name _tab18: #REF!
Name _tab18: #REF!

Sheet 1
A1: Հավելված № 1
A2: ՀՀ կառավարության 2026 թվականի
A3: __________ «____» -ի
A4: N_____ -Ն որոշման
A5: «ՀԱՅԱՍՏԱՆԻ ՀԱՆՐԱՊԵՏՈՒԹՅԱՆ 2026 ԹՎԱԿԱՆԻ ՊԵՏԱԿԱՆ ԲՅՈՒՋԵԻ ՄԱՍԻՆ» ՕՐԵՆՔԻ N 2 ՀՈԴՎԱԾԻ ԱՂՅՈՒՍԱԿՈՒՄ ԿԱՏԱՐՎՈՂ ՓՈՓՈԽՈՒԹՅՈՒՆՆԵՐԸ
B6: (հազար դրամներով)
B7: Ցուցանիշների փոփոխությունը (նվազեցումները նշված են փակագծերում)
A8: 1. Եկամուտների գծով
A9: 2. Ծախսերի գծով | B9: =+'2'!C16 -> -485814.3
A10: 3. Դեֆիցիտը (պակասուրդը) | B10: =+B9 -> -485814.3

Sheet 2
A1: Հավելված № 2
A2: ՀՀ կառավարության 2026 թվականի
A3: __________ «____» -ի
A4: N_____ -Ն որոշման
A5: «ՀԱՅԱՍՏԱՆԻ ՀԱՆՐԱՊԵՏՈՒԹՅԱՆ 2026 ԹՎԱԿԱՆԻ ՊԵՏԱԿԱՆ ԲՅՈՒՋԵԻ ՄԱՍԻՆ» ՀԱՅԱՍՏԱՆԻ ՀԱՆՐԱՊԵՏՈՒԹՅԱՆ ՕՐԵՆՔԻ 3-ՐԴ ՀՈԴՎԱԾԻ ԱՂՅՈՒՍԱԿՈՒՄ, N 3 ՀԱՎԵԼՎԱԾԻ N 1 ԱՂՅՈՒՍԱԿՈՒՄ ԵՎ ՀԱՅԱՍՏԱՆԻ ՀԱՆՐԱՊԵՏՈՒԹՅԱՆ ԿԱՌԱՎԱՐՈՒԹՅԱՆ 2025 ԹՎԱԿԱՆԻ ԴԵԿՏԵՄԲԵՐԻ 25-Ի N 1910-Ն ՈՐՈՇՄԱՆ N 1 ՀԱՎԵԼՎԱԾԻ N 1 ԱՂՅՈՒՍԱԿՈՒՄ ԿԱՏԱՐՎՈՂ ՓՈՓՈԽՈՒԹՅՈՒՆՆԵՐԸ ԵՎ ԼՐԱՑՈՒՄՆԵՐԸ
A6: (հազար դրամներով)
A7: Պետական բյուջեի դեֆիցիտի (պակասուրդի) ֆինանսավորման աղբյուրներն ու դրանց տարրերի անվանումները | B7: Ցուցանիշների փոփոխությունը (նվազեցումները նշված են փակագծերում)
B8: Ինն ամիս | C8: Տարի
A9: ԸՆԴԱՄԵՆԸ | B9: =B11 -> -485814.3 | C9: =C11 -> -485814.3
A10: այդ թվում`
A11: Ա.Ներքին աղբյուրներ-ընդամենը | B11: =B13 -> -485814.3 | C11: =C13 -> -485814.3
A12: այդ թվում`
A13: 2.Ֆինանսական զուտ ակտիվներ | B13: =B16 -> -485814.3 | C13: =C16 -> -485814.3
A14: այդ թվում`
A15: 2.2 Բաժնետոմսերի և կապիտալում այլ մասնակցության ձեռքբերում | B15: =B16 -> -485814.3 | C15: =C16 -> -485814.3
A16: ՀՀ առողջապահության նախարարություն | B16: =+B18+B19 -> -485814.3 | C16: =+C18+C19 -> -485814.3
A17: որից`
A18: «Ավան» հոգեկան առողջության կենտրոն» ՓԲԸ | B18: =+-'3'!G12 -> -219000.4 | C18: =+-'3'!H12 -> -219000.4
A19: «Զարիշատ (Արամ) Մարտինի Մկրտչյանի անվան Արմավիրի բժշկական կենտրոն» ՓԲԸ | B19: =+-'3'!G13 -> -266813.9 | C19: =+-'3'!H13 -> -266813.9

Sheet 3
A1: Հավելված № 3
A2: ՀՀ կառավարության 2026 թվականի
A3: __________ «____» -ի
A4: N_____ -Ն որոշման
A5: «ՀԱՅԱՍՏԱՆԻ ՀԱՆՐԱՊԵՏՈՒԹՅԱՆ 2026 ԹՎԱԿԱՆԻ ՊԵՏԱԿԱՆ ԲՅՈՒՋԵԻ ՄԱՍԻՆ» ՀԱՅԱՍՏԱՆԻ ՀԱՆՐԱՊԵՏՈՒԹՅԱՆ ՕՐԵՆՔԻ N 3 ՀԱՎԵԼՎԱԾԻ N 1.1 ԱՂՅՈՒՍԱԿՈՒՄ ԵՎ ՀԱՅԱՍՏԱՆԻ ՀԱՆՐԱՊԵՏՈՒԹՅԱՆ ԿԱՌԱՎԱՐՈՒԹՅԱՆ 2025 ԹՎԱԿԱՆԻ ԴԵԿՏԵՄԲԵՐԻ 25-Ի N 1910-Ն ՈՐՈՇՄԱՆ N 1 ՀԱՎԵԼՎԱԾԻ N 2 ԱՂՅՈՒՍԱԿՈՒՄ ԿԱՏԱՐՎՈՂ ՓՈՓՈԽՈՒԹՅՈՒՆՆԵՐԸ ԵՎ ԼՐԱՑՈՒՄՆԵՐԸ
A6: (հազար դրամներով)
A7: ԲԳԿ | B7: Ծրագրային դասիչը | D7: ԲԳԿ/Ծրագրի /միջոցառման անվանումը | E7: Ծրագրի նպատակը/Միջոցառման նկարագրությունը | F7: Վերջնական արդյունքի նկարագրությունը/Միջոցառման տեսակը | G7: Ցուցանիշների փոփոխությունները (ավելացումները նշված են դրական նշանով)
B8: Ծրագիր | C8: Միջոցառում | G8: Ինն ամիս | H8: Տարի
A9: ԸՆԴԱՄԵՆԸ | G9: =+G11 -> 485814.3 | H9: =+H11 -> 485814.3
A10: ՀՀ առողջապահության նախարարություն
B11: 1126 | D11: Առողջապահության ոլորտում պետական քաղաքականության մշակում, ծրագրերի համակարգում և մոնիտորինգ | E11: Մարդու և հանրության առողջության պահպանում, բնակչության առողջության բարելավում, հիվանդությունների կանխարգելում, հաշմանդամության և մահացության ցուցանիշների նվազեցում | F11: Առողջապահության ոլորտում իրականացվող ծրագրերի ազդեցության և արդյունավետության բարելավում | G11: =+G12+G13 -> 485814.3 | H11: =+H12+H13 -> 485814.3
C12: 1126-44001 | D12: «Ավան» հոգեկան առողջության կենտրոն» ՓԲԸ-ում տնտեսական երկարաժամկետ զարգացմանն ուղղված միջոցառում | E12: Ներդրումների խթանում | F12: Բաժնետոմսերի ձեռքբերում | G12: 219000.4 | H12: 219000.4
C13: 1126-44002 | D13: «Զարիշատ (Արամ) Մարտինի Մկրտչյանի անվան Արմավիրի բժշկական կենտրոն» ՓԲԸ-ում տնտեսական երկարաժամկետ զարգացմանն ուղղված միջոցառում | E13: Ներդրումների խթանում | F13: Բաժնետոմսերի ձեռքբերում | G13: 266813.9 | H13: 266813.9

Sheet 4
A1: Հավելված № 4
A2: ՀՀ կառավարության 2026 թվականի
A3: __________ «____» -ի
A4: N_____ -Ն որոշման
A5: ՀԱՅԱՍՏԱՆԻ ՀԱՆՐԱՊԵՏՈՒԹՅԱՆ ԿԱՌԱՎԱՐՈՒԹՅԱՆ 2025 ԹՎԱԿԱՆԻ ԴԵԿՏԵՄԲԵՐԻ 25-Ի № 1910-Ն ՈՐՈՇՄԱՆ № 1 ՀԱՎԵԼՎԱԾԻ № 5 ԱՂՅՈՒՍԱԿՈՒՄ ԿԱՏԱՐՎՈՂ ՓՈՓՈԽՈՒԹՅՈՒՆՆԵՐԸ ԵՎ ԼՐԱՑՈՒՄՆԵՐԸ
A6: (հազար դրամներով)
A7: ԲԳԿ | B7: Ծրագիր | D7: Միջոցառում | H7: Իրականացնողը/ ակտիվն օգտագործողը/ շահառուի ընտրության չափորոշիչը | I7: Արդյունքային չափորոշիչը | J7: Ցուցանիշների փոփոխությունները (ավելացումները նշված են դրական նշանով)
B8: Դասիչը | C8: Անվանումը | D8: Դասիչը | E8: Անվանումը | F8: Նկարագրությունը | G8: Տեսակը | J8: Ինն ամիս | K8: Տարի
A9: ԸՆԴԱՄԵՆԸ | J9: =+J10 -> 485814.3 | K9: =+K10 -> 485814.3
A10: ՀՀ առողջապահության նախարարություն | J10: =+J11 -> 485814.3 | K10: =+K11 -> 485814.3
B11: 1126 | C11: Առողջապահության ոլորտում պետական քաղաքականության մշակում, ծրագրերի համակարգում և մոնիտորինգ | J11: =+J12+J17 -> 485814.3 | K11: =+K12+K17 -> 485814.3
D12: 1126-44001 | E12: «Ավան» հոգեկան առողջության կենտրոն» ՓԲԸ-ում տնտեսական երկարաժամկետ զարգացմանն ուղղված միջոցառում | J12: =+'3'!G12 -> 219000.4 | K12: =+'3'!H12 -> 219000.4
F13: Ներդրումների խթանում
G14: Բաժնետոմսերի ձեռքբերում
H15: «Ավան» հոգեկան առողջության կենտրոն» ՓԲԸ
I16: Ներդրումային ֆոնդի ներդրումների քանակը (հատ) | K16: 1
D17: 1126-44002 | E17: «Զարիշատ (Արամ) Մարտինի Մկրտչյանի անվան Արմավիրի բժշկական կենտրոն» ՓԲԸ-ում տնտեսական երկարաժամկետ զարգացմանն ուղղված միջոցառում | J17: =+'3'!G13 -> 266813.9 | K17: =+'3'!H13 -> 266813.9
F18: Ներդրումների խթանում
G19: Բաժնետոմսերի ձեռքբերում
H20: «Զարիշատ (Արամ) Մարտինի Մկրտչյանի անվան Արմավիրի բժշկական կենտրոն» ՓԲԸ
I21: Ներդրումային ֆոնդի ներդրումների քանակը (հատ) | K21: 1

Sheet 5
B1: Հավելված № 5
B2: ՀՀ կառավարության 2026 թվականի
B3: __________ «____» -ի
B4: N_____ -Ն որոշման
A5: «ՀԱՅԱՍՏԱՆԻ ՀԱՆՐԱՊԵՏՈՒԹՅԱՆ 2026 ԹՎԱԿԱՆԻ ՊԵՏԱԿԱՆ ԲՅՈՒՋԵԻ ՄԱՍԻՆ» ՀԱՅԱՍՏԱՆԻ ՀԱՆՐԱՊԵՏՈՒԹՅԱՆ ՕՐԵՆՔԻ № 1 ՀԱՎԵԼՎԱԾԻ № 1 ԱՂՅՈՒՍԱԿՈՒՄ ԿԱՏԱՐՎՈՂ ԿԱՏԱՐՎՈՂ ՓՈՓՈԽՈՒԹՅՈՒՆՆԵՐԸ
C6: (հազար դրամներով)
A7: Ծրագրային դասիչը | B7: Ծրագրի անվանումը | C7: Ցուցանիշների փոփոխությունները (ավելացումը նշված է դրական նշանով, իսկ նվազեցումը` փակագծերում)
A8: ԸՆԴԱՄԵՆԸ | C8: =+C9+C10 -> -485814.3
A9: 1006 | B9: Պետական պարտքի կառավարում | C9: =+'6'!H14 -> -2460025.2
A10: 1126 | B10: Առողջապահության ոլորտում պետական քաղաքականության մշակում, ծրագրերի համակարգում և մոնիտորինգ | C10: =+'6'!H11 -> 1974210.9

Sheet 6
A1: Հավելված № 6
A2: ՀՀ կառավարության 2026 թվականի
A3: __________ «____» -ի
A4: N_____ -Ն որոշման
A5: «ՀԱՅԱՍՏԱՆԻ ՀԱՆՐԱՊԵՏՈՒԹՅԱՆ 2026 ԹՎԱԿԱՆԻ ՊԵՏԱԿԱՆ ԲՅՈՒՋԵԻ ՄԱՍԻՆ» ՀԱՅԱՍՏԱՆԻ ՀԱՆՐԱՊԵՏՈՒԹՅԱՆ ՕՐԵՆՔԻ № 1 ՀԱՎԵԼՎԱԾԻ № 2 ԱՂՅՈՒՍԱԿՈՒՄ ԿԱՏԱՐՎՈՂ ՎԵՐԱԲԱՇԽՈՒՄԸ ԵՎ ՀԱՅԱՍՏԱՆԻ ՀԱՆՐԱՊԵՏՈՒԹՅԱՆ ԿԱՌԱՎԱՐՈՒԹՅԱՆ 2025 ԹՎԱԿԱՆԻ ԴԵԿՏԵՄԲԵՐԻ 25-Ի № 1910-Ն ՈՐՈՇՄԱՆ № 5 ՀԱՎԵԼՎԱԾԻ № 1 ԱՂՅՈՒՍԱԿՈՒՄ ԿԱՏԱՐՎՈՂ ՓՈՓՈԽՈՒԹՅՈՒՆՆԵՐԸ
A6: (հազար դրամներով)
A7: ԲԳԿ | B7: Ծրագրային դասիչը | D7: ԲԳԿ/Ծրագրի /միջոցառման անվանումը | E7: Ծրագրի նպատակը/Միջոցառման նկարագրությունը | F7: Վերջնական արդյունքի նկարագրությունը/Միջոցառման տեսակը | G7: Ցուցանիշների փոփոխությունները (ավելացումը նշված է դրական նշանով, իսկ նվազեցումը` փակագծերում)
B8: Ծրագիր | C8: Միջոցառում | G8: Ինն ամիս | H8: Տարի
A9: ԸՆԴԱՄԵՆԸ | G9: =+G10+G14 -> -485814.3 | H9: =+H10+H14 -> -485814.3
A10: ՀՀ առողջապահության նախարարություն | G10: =+G11 -> 216033.9 | H10: =+H11 -> 1974210.9
B11: 1126 | D11: Առողջապահության ոլորտում պետական քաղաքականության մշակում, ծրագրերի համակարգում և մոնիտորինգ | E11: Մարդու և հանրության առողջության պահպանում, բնակչության առողջության բարելավում, հիվանդությունների կանխարգելում, հաշմանդամության և մահացության ցուցանիշների նվազեցում | F11: Առողջապահության ոլորտում իրականացվող ծրագրերի ազդեցության և արդյունավետության բարելավում | G11: =+G12+G13 -> 216033.9 | H11: =+H12+H13 -> 1974210.9
C12: 1126 - 12006 | D12: Առողջապահական համակարգի պետական առևտրային և ոչ առևտրային կազմակերպություններին ֆինանսական աջակցության հատկացում | E12: Առողջապահական համակարգի պետական առևտրային և ոչ առևտրային կազմակերպություններին ֆինանսական աջակցության տրամադրում ընթացիկ գործունեության արդյունավետության բարձրացմանն ուղղված | F12: Տրանսֆերտի տրամադրում | G12: =+'8'!G20 -> 216033.9 | H12: =+'10'!E12 -> 216033.9
C13: 1126 - 31003 | D13: Առողջապահական կազմակերպությունների կառուցում, վերակառուցում | E13: Բնակչությանը որակյալ բժշկական օգնության և սպասարկման ծառայություններ մատուցելու նպատակով առողջապահական կազմակերպությունների կառուցում, վերակառուցում | F13: Պետական մարմինների կողմից օգտագործվող ոչ ֆինանսական ակտիվների հետ գործառնություններ | G13: =+'9'!D11 -> 0 | H13: =+'9'!E11 -> 1758177
A14: ՀՀ ֆինանսների նախարարություն | G14: =+G15 -> -701848.2 | H14: =+H15 -> -2460025.2
B15: 1006 | D15: Պետական պարտքի կառավարում | E15: Կառավարության ֆինանսական կարիքների բավարարման մշտական հնարավորության ապահովումը` երկարաժամկետ հատվածում նվազեցնելով պարտքի սպասարկման մեծությունը | F15: Կառավարության պարտքի օպտիմալ կառուցվածքի ձևավորում՛ հաշվի առնելով պոտենցիալ ռիսկերը | G15: =+G16 -> -701848.2 | H15: =+H16 -> -2460025.2
C16: 1006 - 13001 | D16: Կառավարության պարտքի սպասարկում | E16: Կառավարության պարտքի սպասարկում (տոկոսավճարներ) | F16: Ֆինանսավորման ծախսերի իրականացում | G16: =+-G13-G12-'4'!J17-'4'!J12 -> -701848.2 | H16: =+-H13-H12-'4'!K17-'4'!K12 -> -2460025.2

Sheet 7
A1: Հավելված № 7
A2: ՀՀ կառավարության 2026 թվականի
A3: __________ «____» -ի
A4: N_____ -Ն որոշման
A5: «ՀԱՅԱՍՏԱՆԻ ՀԱՆՐԱՊԵՏՈՒԹՅԱՆ 2026 ԹՎԱԿԱՆԻ ՊԵՏԱԿԱՆ ԲՅՈՒՋԵԻ ՄԱՍԻՆ» ՀԱՅԱՍՏԱՆԻ ՀԱՆՐԱՊԵՏՈՒԹՅԱՆ ՕՐԵՆՔԻ № 1 ՀԱՎԵԼՎԱԾԻ № 3 ԱՂՅՈՒՍԱԿՈՒՄ ԿԱՏԱՐՎՈՂ ՓՈՓՈԽՈՒԹՅՈՒՆՆԵՐԸ
A6: (հազար դրամներով)
A7: Ծրագրային դասիչ | C7: Բյուջետային գլխավոր կարգադրիչների, ծրագրերի, միջոցառումների և ուղղությունների անվանումները | D7: Ցուցանիշների փոփոխությունները (ավելացումները նշված են դրական նշանով, իսկ նվազեցումը` փակագծերում)
D8: Ընդամենը | E8: այդ թվում`
A9: Ծրագիր | B9: Միջոց առում | E9: Կառուցման աշխատանքներ | F9: Վերակառուցման, վերանորոգման և վերականգնման աշխատանքներ | G9: Նախագծահե- տազոտական, գեոդեզիա- քարտեզագրական աշխատանքներ | H9: Ոչ ֆինանսական այլ ակտիվների ձեռքբերում
C10: ԸՆԴԱՄԵՆԸ | D10: =+D11 -> 1758177 | E10: =+E11 -> 1433417 | F10: =+F11 -> 324760 | G10: =+G11 -> 0 | H10: =+H11 -> 0
C11: ՀՀ առողջապահության նախարարություն | D11: =+D13 -> 1758177 | E11: =+E13 -> 1433417 | F11: =+F13 -> 324760 | G11: =+G13 -> 0 | H11: =+H13 -> 0
C12: այդ թվում՛
A13: 1126 | B13: 31003 | C13: Առողջապահական կազմակերպությունների կառուցում, վերակառուցում | D13: =+D15+D18+D23+D29+D36+D38+D40+D43+D47+D51 -> 1758177 | E13: =+E15+E18+E23+E29+E36+E38+E40+E43+E47+E51 -> 1433417 | F13: =+F15+F18+F23+F29+F36+F38+F40+F43+F47+F51 -> 324760 | G13: =+G15+G18+G23+G29+G36+G38+G40+G43+G47+G51 -> 0 | H13: =+H15+H18+H23+H29+H36+H38+H40+H43+H47+H51 -> 0
C14: այդ թվում`
C15: Երևան քաղաք | D15: =+D16+D17 -> 309260 | E15: =+E16+E17 -> 0 | F15: =+F16+F17 -> 309260 | G15: =+G16+G17 -> 0 | H15: =+H16+H17 -> 0
C16: ՀՀ ԱՆ «Հանրապետական շտապ օգնության ծառայություն» ՓԲԸ | D16: =+E16+F16+G16+H16 -> 160160 | E16: 0 | F16: =+'9'!E16 -> 160160 | G16: 0 | H16: 0
C17: Առողջության համընդհանուր ապահովագրության հիմնադրամ | D17: =+E17+F17+G17+H17 -> 149100 | E17: 0 | F17: =+'9'!E17 -> 149100 | G17: 0 | H17: 0
C18: ՀՀ Արագածոտնի մարզ | D18: =+D20+D21+D22+D19 -> 257842.4 | E18: =+E20+E21+E22+E19 -> 257842.4 | F18: =+F20+F21+F22+F19 -> 0 | G18: =+G20+G21+G22+G19 -> 0 | H18: =+H20+H21+H22+H19 -> 0
C19: ՀՀ Արագածոտնի մարզի «Ծաղկահովիտի առողջության կենտրոն» ՓԲԸ | D19: =+E19+F19+G19+H19 -> 80000 | E19: =+'9'!E55 -> 80000
C20: ՀՀ Արագածոտնի մարզ «Ոսկևազի ԱԱՊԿ» ՀՈԱԿ | D20: =+E20+F20+G20+H20 -> 66560.6 | E20: =+'9'!E19 -> 66560.6 | F20: 0 | G20: 0 | H20: 0
C21: ՀՀ Արագածոտնի մարզի «Մաստարայի ԲԱ» ՀՈԱԿ | D21: =+E21+F21+G21+H21 -> 91281.8 | E21: =+'9'!E20 -> 91281.8 | F21: 0 | G21: 0 | H21: 0
C22: ՀՀ Արագածոտնի մարզի «Նոր Երզնկայի ԱԱՊԿ» ՊՈԱԿ | D22: =+E22+F22+G22+H22 -> 20000 | E22: =+'9'!E21 -> 20000 | F22: 0 | G22: 0 | H22: 0
C23: ՀՀ Արարատի մարզ | D23: =SUM(D24:D28) -> 306481.1 | E23: =SUM(E24:E28) -> 290981.1 | F23: =SUM(F24:F28) -> 15500 | G23: =SUM(G24:G28) -> 0 | H23: =SUM(H24:H28) -> 0
C24: ՀՀ ԱՆ «Մասիսի բժշկական կենտրոն» ՓԲԸ | D24: =+E24+F24+G24+H24 -> 311787 | E24: =+'9'!E57 -> 311787 | F24: 0 | G24: 0 | H24: 0
C25: ՀՀ ԱՆ «Արտաշատի բժշկական կենտրոն» ՓԲԸ | D25: =+E25+F25+G25+H25 -> 15500 | E25: 0 | F25: =+'9'!E58 -> 15500 | G25: 0 | H25: 0
C26: ՀՀ Արարատի մարզ «Դիմիտրովի ԱԱՊԿ» ՊՈԱԿ | D26: =+E26+F26+G26+H26 -> -22050.6 | E26: =+'9'!E23 -> -22050.6 | F26: 0 | G26: 0 | H26: 0
C27: ՀՀ Արարատի մարզի «Այգեստանի ԱԱՊԿ» ՊՈԱԿ | D27: =+E27+F27+G27+H27 -> 2472 | E27: =+'9'!E24 -> 2472 | F27: 0 | G27: 0 | H27: 0
C28: ՀՀ Արարատի մարզի «Դվինի ԱԱՊԿ» ՊՈԱԿ | D28: =+E28+F28+G28+H28 -> -1227.3 | E28: =+'9'!E25 -> -1227.3 | F28: 0 | G28: 0 | H28: 0
C29: ՀՀ Արմավիրի մարզ | D29: =SUM(D30:D35) -> 208159.3 | E29: =SUM(E30:E35) -> 208159.3 | F29: =SUM(F30:F35) -> 0 | G29: =SUM(G30:G35) -> 0 | H29: =SUM(H30:H35) -> 0
C30: ՀՀ Արմավիրի մարզի «Գայի ԲԱ» ՀՈԱԿ | D30: =+E30+F30+G30+H30 -> 35000.1 | E30: =+'9'!E27 -> 35000.1 | F30: 0 | G30: 0 | H30: 0
C31: ՀՀ Արմավիրի մարզի «Ջրառատի ԲԱ» ՀՈԱԿ | D31: =+E31+F31+G31+H31 -> 21718.2 | E31: =+'9'!E28 -> 21718.2 | F31: 0 | G31: 0 | H31: 0
C32: ՀՀ Արմավիրի մարզի «Վարդանաշենի ԲԱ» ՀՈԱԿ | D32: =+E32+F32+G32+H32 -> 6091.9 | E32: =+'9'!E29 -> 6091.9 | F32: 0 | G32: 0 | H32: 0
C33: ՀՀ Արմավիրի մարզի «Տանձուտի ԲԱ» ՀՈԱԿ | D33: =+E33+F33+G33+H33 -> 45000.1 | E33: =+'9'!E30 -> 45000.1 | F33: 0 | G33: 0 | H33: 0
C34: ՀՀ Արմավիրի մարզի «Խանջյանի ԲԱ» ՀՈԱԿ | D34: =+E34+F34+G34+H34 -> 6572.2 | E34: =+'9'!E31 -> 6572.2 | F34: 0 | G34: 0 | H34: 0
C35: ՀՀ Արմավիրի մարզի «Լենուղու ԱԿ» ՀՈԱԿ | D35: =+E35+F35+G35+H35 -> 93776.8 | E35: =+'9'!E32 -> 93776.8 | F35: 0 | G35: 0 | H35: 0
C36: ՀՀ Գեղարքունիքի մարզ | D36: =SUM(D37:D37) -> 90680.6 | E36: =SUM(E37:E37) -> 90680.6 | F36: =SUM(F37:F37) -> 0 | G36: =SUM(G37:G37) -> 0 | H36: =SUM(H37:H37) -> 0
C37: ՀՀ Գեղարքունիքի մարզի «Ծակքարի ԱԱՊԿ» ՊՈԱԿ | D37: =+E37+F37+G37+H37 -> 90680.6 | E37: =+'9'!E34 -> 90680.6 | F37: 0 | G37: 0 | H37: 0
C38: ՀՀ Կոտայքի մարզ | D38: =+D39 -> 22752.6 | E38: =+E39 -> 22752.6 | F38: =+F39 -> 0 | G38: =+G39 -> 0 | H38: =+H39 -> 0
C39: ՀՀ Կոտայքի մարզի «Ձորաղբյուրի ԱԱՊԿ» ՊՈԱԿ | D39: =+E39+F39+G39+H39 -> 22752.6 | E39: =+'9'!E36 -> 22752.6 | F39: 0 | G39: 0 | H39: 0
C40: ՀՀ Սյունիքի մարզ | D40: =SUM(D41:D42) -> 171561.5 | E40: =SUM(E41:E42) -> 171561.5 | F40: =SUM(F41:F42) -> 0 | G40: =SUM(G41:G42) -> 0 | H40: =SUM(H41:H42) -> 0
...

Sheet 8
A1: Հավելված № 8
A2: ՀՀ կառավարության 2026 թվականի
A3: __________ «____» -ի
A4: N_____ -Ն որոշման
A5: ՀԱՅԱՍՏԱՆԻ ՀԱՆՐԱՊԵՏՈՒԹՅԱՆ ԿԱՌԱՎԱՐՈՒԹՅԱՆ 2025 ԹՎԱԿԱՆԻ ԴԵԿՏԵՄԲԵՐԻ 25-Ի № 1910-Ն ՈՐՈՇՄԱՆ №№ 3 ԵՎ 4 ՀԱՎԵԼՎԱԾՆԵՐՈՒՄ ԿԱՏԱՐՎՈՂ ՓՈՓՈԽՈՒԹՅՈՒՆՆԵՐԸ
A6: (հազար դրամներով)
A7: Գործառական դասիչը | D7: Ծրագրային դասիչը | F7: Բյուջետային հատկացումների գլխավոր կարգադրիչների, ծրագրերի, միջոցառումների և միջոցառումները կատարող պետական մարմինների անվանումները | G7: Ցուցանիշների փոփոխությունները (ավելացումը նշված է դրական նշանով, իսկ նվազեցումը` փակագծերում)
A8: բաժին | B8: խումբ | C8: դաս | D8: Ծրագիր | E8: Միջոցառում | G8: Ինն ամիս | H8: Տարի
A9: ԸՆԴԱՄԵՆԸ | G9: =+G10+G47 -> -485814.3 | H9: =+H10+H47 -> -485814.3
A10: 07 | F10: ԱՌՈՂՋԱՊԱՀՈՒԹՅՈՒՆ | G10: =+G12 -> 216033.9 | H10: =+H12 -> 1974210.9
F11: այդ թվում՝
B12: 06 | F12: Առողջապահություն (այլ դասերին չպատկանող) | G12: =+G14 -> 216033.9 | H12: =+H14 -> 1974210.9
F13: այդ թվում՝
C14: 02 | F14: Առողջապահություն (այլ դասերին չպատկանող) | G14: =+G16 -> 216033.9 | H14: =+H16 -> 1974210.9
F15: այդ թվում՝
D16: 1126 | F16: Առողջապահության ոլորտում պետական քաղաքականության մշակում, ծրագրերի համակարգում և մոնիտորինգ | G16: =+G18+G29 -> 216033.9 | H16: =+H18+H29 -> 1974210.9
F17: այդ թվում՝
F18: ՀՀ առողջապահության նախարարություն | G18: =+G20 -> 216033.9 | H18: =+H20 -> 216033.9
F19: այդ թվում`
E20: 12006 | F20: Առողջապահական համակարգի պետական առևտրային և ոչ առևտրային կազմակերպություններին ֆինանսական աջակցության հատկացում | G20: =+G22 -> 216033.9 | H20: =+H22 -> 216033.9
F21: այդ թվում ըստ կատարողների
F22: ՀՀ առողջապահության նախարարություն | G22: =+G24 -> 216033.9 | H22: =+H24 -> 216033.9
F23: այդ թվում` բյուջետային ծախսերի տնտեսագիտական դասակարգման հոդվածներ
F24: ԸՆԴԱՄԵՆԸ ԾԱԽՍԵՐ | G24: =+G25 -> 216033.9 | H24: =+H25 -> 216033.9
F25: ԸՆԹԱՑԻԿ ԾԱԽՍԵՐ | G25: =+G26 -> 216033.9 | H25: =+H26 -> 216033.9
F26: ԴՐԱՄԱՇՆՈՐՀՆԵՐ | G26: =+G27 -> 216033.9 | H26: =+H27 -> 216033.9
F27: Ընթացիկ դրամաշնորհներ պետական հատվածի այլ մակարդակներին | G27: =+G28 -> 216033.9 | H27: =+H28 -> 216033.9
F28: - Ընթացիկ դրամաշնորհներ պետական և համայնքների առևտրային կազմակերպություններին | G28: =+H28 -> 216033.9 | H28: =+'10'!E12 -> 216033.9
E29: 31003 | F29: Առողջապահական կազմակերպությունների կառուցում, վերակառուցում | G29: =+G31+G39 -> 0 | H29: =+H31+H39 -> 1758177
F30: այդ թվում ըստ կատարողների
F31: ՀՀ առողջապահության նախարարություն | G31: =+G33 -> 0 | H31: =+H33 -> 1350890
F32: այդ թվում` բյուջետային ծախսերի տնտեսագիտական դասակարգման հոդվածներ
F33: ԸՆԴԱՄԵՆԸ ԾԱԽՍԵՐ | G33: =+G34 -> 0 | H33: =+H34 -> 1350890
F34: ՈՉ ՖԻՆԱՆՍԱԿԱՆ ԱԿՏԻՎՆԵՐԻ ԳԾՈՎ ԾԱԽՍԵՐ | G34: =+G35 -> 0 | H34: =+H35 -> 1350890
F35: ՀԻՄՆԱԿԱՆ ՄԻՋՈՑՆԵՐ | G35: =+G36 -> 0 | H35: =+H36 -> 1350890
F36: ՇԵՆՔԵՐ ԵՎ ՇԻՆՈՒԹՅՈՒՆՆԵՐ | G36: =+G37+G38 -> 0 | H36: =+H37+H38 -> 1350890
F37: - Շենքերի և շինությունների շինարարություն | G37: =+'9'!D18+'9'!D22+'9'!D26+'9'!D34+'9'!D36+'9'!D39+'9'!D40+'9'!D45+'9'!D46+'9'!D47+'9'!D49+'9'!D50+'9'!D51 -> 0 | H37: =+'9'!E13-'9'!E15 -> 1041630
F38: - Շենքերի և շինությունների կապիտալ վերանորոգում | G38: =+'9'!D16+'9'!D17 -> 0 | H38: =+'9'!E16+'9'!E17 -> 309260
F39: ՀՀ քաղաքաշինության կոմիտե | G39: =+G41 -> 0 | H39: =+H41 -> 407287
F40: այդ թվում` բյուջետային ծախսերի տնտեսագիտական դասակարգման հոդվածներ
...

Sheet 9
A1: Հավելված № 9
A2: ՀՀ կառավարության 2026 թվականի
A3: __________ «____» -ի
A4: N_____ -Ն որոշման
A5: ՀԱՅԱՍՏԱՆԻ ՀԱՆՐԱՊԵՏՈՒԹՅԱՆ ԿԱՌԱՎԱՐՈՒԹՅԱՆ 2025 ԹՎԱԿԱՆԻ ԴԵԿՏԵՄԲԵՐԻ 25-Ի № 1910-Ն ՈՐՈՇՄԱՆ № 5 ՀԱՎԵԼՎԱԾԻ № 2 ԱՂՅՈՒՍԱԿՈՒՄ ԿԱՏԱՐՎՈՂ ՓՈՓՈԽՈՒԹՅՈՒՆՆԵՐԸ
A6: (հազար դրամներով)
A7: Ծրագրային դասիչ | C7: Բյուջետային գլխավոր կարգադրիչների, ծրագրերի, միջոցառումների և ուղղությունների անվանումները | D7: Ցուցանիշների փոփոխությունները (ավելացումները նշված են դրական նշանով, իսկ նվազեցումները` փակագծերում)
A8: Ծրագիր | B8: Միջոցառում | D8: Ինն ամիս | E8: Տարի
C9: ՀՀ ԱՌՈՂՋԱՊԱՀՈՒԹՅԱՆ ՆԱԽԱՐԱՐՈՒԹՅՈՒՆ | D9: =+D11 -> 0 | E9: =+E11 -> 1758177
C10: այդ թվում՝
A11: 1126 | B11: 31003 | C11: Առողջապահական կազմակերպությունների կառուցում, վերակառուցում | D11: =+D13+D52 -> 0 | E11: =+E13+E52 -> 1758177
C12: այդ թվում` ըստ կատարողների
C13: ՀՀ առողջապահության նախարարություն | D13: =+D18+D22+D26+D33+D35+D37+D40+D44+D48+D15 -> 0 | E13: =+E18+E22+E26+E33+E35+E37+E40+E44+E48+E15 -> 1350890
C14: այդ թվում` ըստ ուղղությունների
C15: Երևան քաղաք | D15: =+D16+D17 -> 0 | E15: =+E16+E17 -> 309260
C16: ՀՀ ԱՆ «Հանրապետական շտապ օգնության ծառայություն» ՓԲԸ | D16: 0 | E16: 160160
C17: Առողջության համընդհանուր ապահովագրության հիմնադրամ | D17: 0 | E17: 149100
C18: ՀՀ Արագածոտնի մարզ | D18: =SUM(D19:D21) -> 0 | E18: =SUM(E19:E21) -> 177842.4
C19: ՀՀ Արագածոտնի մարզ «Ոսկևազի ԱԱՊԿ» ՀՈԱԿ | D19: 0 | E19: 66560.6
C20: ՀՀ Արագածոտնի մարզի «Մաստարայի ԲԱ» ՀՈԱԿ | D20: 0 | E20: 91281.8
C21: ՀՀ Արագածոտնի մարզի «Նոր Երզնկայի ԱԱՊԿ» ՊՈԱԿ | D21: 0 | E21: 20000
C22: ՀՀ Արարատի մարզ | D22: =SUM(D23:D25) -> 0 | E22: =SUM(E23:E25) -> -20805.9
C23: ՀՀ Արարատի մարզ «Դիմիտրովի ԱԱՊԿ» ՊՈԱԿ | D23: 0 | E23: -22050.6
C24: ՀՀ Արարատի մարզի «Այգեստանի ԱԱՊԿ» ՊՈԱԿ | D24: 0 | E24: 2472
C25: ՀՀ Արարատի մարզի «Դվինի ԱԱՊԿ» ՊՈԱԿ | D25: 0 | E25: -1227.3
C26: ՀՀ Արմավիրի մարզ | D26: =SUM(D27:D32) -> 0 | E26: =SUM(E27:E32) -> 208159.3
C27: ՀՀ Արմավիրի մարզի «Գայի ԲԱ» ՀՈԱԿ | D27: 0 | E27: 35000.1
C28: ՀՀ Արմավիրի մարզի «Ջրառատի ԲԱ» ՀՈԱԿ | D28: 0 | E28: 21718.2
C29: ՀՀ Արմավիրի մարզի «Վարդանաշենի ԲԱ» ՀՈԱԿ | D29: 0 | E29: 6091.9
C30: ՀՀ Արմավիրի մարզի «Տանձուտի ԲԱ» ՀՈԱԿ | D30: 0 | E30: 45000.1
C31: ՀՀ Արմավիրի մարզի «Խանջյանի ԲԱ» ՀՈԱԿ | D31: 0 | E31: 6572.2
C32: ՀՀ Արմավիրի մարզի «Լենուղու ԱԿ» ՀՈԱԿ | D32: 0 | E32: 93776.8
C33: ՀՀ Գեղարքունիքի մարզ | D33: =SUM(D34:D34) -> 0 | E33: =SUM(E34:E34) -> 90680.6
C34: ՀՀ Գեղարքունիքի մարզի «Ծակքարի ԱԱՊԿ» ՊՈԱԿ | D34: 0 | E34: 90680.6
C35: ՀՀ Կոտայքի մարզ | D35: =SUM(D36) -> 0 | E35: =SUM(E36) -> 22752.6
C36: ՀՀ Կոտայքի մարզի «Ձորաղբյուրի ԱԱՊԿ» ՊՈԱԿ | D36: 0 | E36: 22752.6
C37: ՀՀ Սյունիքի մարզ | D37: =SUM(D38:D39) -> 0 | E37: =SUM(E38:E39) -> 171561.5
C38: ՀՀ ԱՆ «Սիսիանի բժշկական կենտրոն» ՓԲԸ | D38: 0 | E38: 74500
C39: ՀՀ Սյունիքի մարզի «Անգեղակոթի ԲԱ» ՊՈԱԿ | D39: 0 | E39: 97061.5
C40: ՀՀ Լոռու մարզ | D40: =SUM(D41:D43) -> 0 | E40: =SUM(E41:E43) -> 134616
...

Sheet 10
A1: Հավելված № 10
A2: ՀՀ կառավարության 2026 թվականի
A3: __________ «____» -ի
A4: N_____ -Ն որոշման
A5: ՀԱՅԱՍՏԱՆԻ ՀԱՆՐԱՊԵՏՈՒԹՅԱՆ ԿԱՌԱՎԱՐՈՒԹՅԱՆ 2025 ԹՎԱԿԱՆԻ ԴԵԿՏԵՄԲԵՐԻ 25-Ի № 1910-Ն ՈՐՈՇՄԱՆ № 5 ՀԱՎԵԼՎԱԾԻ № 7 ԱՂՅՈՒՍԱԿՈՒՄ ԿԱՏԱՐՎՈՂ ՓՈՓՈԽՈՒԹՅՈՒՆՆԵՐԸ ԵՎ ԼՐԱՑՈՒՄՆԵՐԸ
A6: (հազար դրամներով)
A7: Ծրագրային դասիչ | C7: Բյուջետային հատկացումների գլխավոր կարգադրիչների, ծրագրերի, միջոցառումների, ծախսային ուղղությունների անվանումները | D7: Միջոցառումները կատարող պետական մարմինների և դրամաշնորհ ստացող տնտեսվարող սուբյեկտների անվանումները | E7: Ցուցանիշների փոփոխությունները (ավելացումները նշված են դրական նշանով)
A8: Ծրագիր | B8: Միջոցառում | E8: Տարի
A9: 1 | B9: 2 | C9: 3 | D9: 4 | E9: 5
A10: ՀՀ առողջապահության նախարարություն | E10: =+E11 -> 216033.9
A11: 1126 | B11: Առողջապահության ոլորտում պետական քաղաքականության մշակում, ծրագրերի համակարգում և մոնիտորինգ | E11: =+E12 -> 216033.9
B12: 12006 | C12: Առողջապահական համակարգի պետական առևտրային և ոչ առևտրային կազմակերպություններին ֆինանսական աջակցության հատկացում | D12: ՀՀ առողջապահության նախարարություն | E12: =SUM(E13:E16) -> 216033.9
D13: ՀՀ ԱՆ «Սևանի» հոգեկան առողջության կենտրոն» ՓԲԸ | E13: 90460.9
D14: ՀՀ ԱՆ «Ինֆեկցիոն հիվանդությունների ազգային կենտրոն» ՓԲԸ | E14: 82373
D15: ՀՀ ԱՆ «Սիսիանի բժշկական կենտրոն» ՓԲԸ | E15: 9000
D16: ՀՀ ԱՆ «Աշտարակի բժշկական կենտրոն» ՓԲԸ | E16: 34200

Sheet 11
B1: Հավելված № 11
B2: ՀՀ կառավարության 2025 թվականի
B3: __________ «____» -ի
B4: N_____ -Ն որոշման
B5: ՀԱՅԱՍՏԱՆԻ ՀԱՆՐԱՊԵՏՈՒԹՅԱՆ ԿԱՌԱՎԱՐՈՒԹՅԱՆ 2025 ԹՎԱԿԱՆԻ ԴԵԿՏԵՄԲԵՐԻ 25-Ի № 1910-Ն ՈՐՈՇՄԱՆ № 9 ՀԱՎԵԼՎԱԾՈՒՄ ԿԱՏԱՐՎՈՂ ՓՈՓՈԽՈՒԹՅՈՒՆՆԵՐԸ ԵՎ ԼՐԱՑՈՒՄՆԵՐԸ
A6: (հազար դրամներով)
A7: ԲԳԿ | B7: Ծրագիր | D7: Միջոցառում | H7: Իրականացնողը/ ակտիվն օգտագործողը/ շահառուի ընտրության չափորոշիչը | I7: Արդյունքային չափորոշիչը | J7: Ցուցանիշների փոփոխությունները (ավելացումները նշված են դրական նշանով, իսկ նվազեցումները` փակագծերում)
B8: Դասիչը | C8: Անվանումը | D8: Դասիչը | E8: Անվանումը | F8: Նկարագրությունը | G8: Տեսակը | J8: Ինն ամիս | K8: Տարի
A9: ԸՆԴԱՄԵՆԸ | J9: =+J10+J21 -> -485814.3 | K9: =+K10+K21 -> -485814.3
A10: ՀՀ առողջապահության նախարարություն | J10: =+J11 -> 216033.9 | K10: =+K11 -> 1974210.9
B11: 1126 | C11: Առողջապահության ոլորտում պետական քաղաքականության մշակում, ծրագրերի համակարգում և մոնիտորինգ | J11: =+J12+J17 -> 216033.9 | K11: =+K12+K17 -> 1974210.9
D12: 1126-12006 | E12: Առողջապահական համակարգի պետական առևտրային և ոչ առևտրային կազմակերպություններին ֆինանսական աջակցության հատկացում | J12: =+'6'!G12 -> 216033.9 | K12: =+'6'!H12 -> 216033.9
F13: Առողջապահական համակարգի պետական առևտրային և ոչ առևտրային կազմակերպություններին ֆինանսական աջակցության տրամադրում ընթացիկ գործունեության արդյունավետության բարձրացմանն ուղղված
G14: Տրանսֆերտի տրամադրում
H15: Առողջապահական կազմակերպություններ
I16: Ֆինանսական աջակցություն ստացող բժշկական հաստատությունների թիվ, հատ | K16: 4
D17: 1126-31003 | E17: Առողջապահական կազմակերպությունների կառուցում, վերակառուցում | J17: =+'6'!G13 -> 0 | K17: =+'6'!H13 -> 1758177
F18: Բնակչությանը որակյալ բժշկական օգնության և սպասարկման ծառայություններ մատուցելու նպատակով առողջապահական կազմակերպությունների կառուցում, վերակառուցում
G19: Պետական մարմինների կողմից օգտագործվող ոչ ֆինանսական ակտիվների հետ գործառնություններ
H20: Ակտիվն օգտագործող կազմակերպության անվանումը` Բժշկական կազմակերպություններ
A21: ՀՀ ֆինանսների նախարարություն | J21: =+J22 -> -701848.2 | K21: =+K22 -> -2460025.2
B22: 1006 | C22: Պետական պարտքի կառավարում | J22: =+J23 -> -701848.2 | K22: =+K23 -> -2460025.2
D23: 1006 - 13001 | E23: Կառավարության պարտքի սպասարկում | J23: =+'6'!G16 -> -701848.2 | K23: =+'6'!H16 -> -2460025.2
F24: Կառավարության պարտքի սպասարկում (տոկոսավճարներ)
G25: Ֆինանսավորման ծախսերի իրականացում
H26: Միջոցառումն իրականացնողի անվանումը` ՀՀ ֆինանսների նախարարություն

Sheet 12
B1: Հավելված № 12
B2: ՀՀ կառավարության 2025 թվականի
B3: __________ «____» -ի
B4: N_____ -Ն որոշման
B5: ՀԱՅԱՍՏԱՆԻ ՀԱՆՐԱՊԵՏՈՒԹՅԱՆ ԿԱՌԱՎԱՐՈՒԹՅԱՆ 2025 ԹՎԱԿԱՆԻ ԴԵԿՏԵՄԲԵՐԻ 25-Ի № 1910-Ն ՈՐՈՇՄԱՆ № 9.1 ՀԱՎԵԼՎԱԾՈՒՄ ԿԱՏԱՐՎՈՂ ՓՈՓՈԽՈՒԹՅՈՒՆՆԵՐԸ ԵՎ ԼՐԱՑՈՒՄՆԵՐԸ
A6: (հազար դրամներով)
A7: ԲՍԿ | B7: Ծրագիր | D7: Միջոցառում | H7: Իրականացնողը/ ակտիվն օգտագործողը/ շահառուի ընտրության չափորոշիչը | I7: Արդյունքային չափորոշիչը | J7: Ցուցանիշների փոփոխությունները (ավելացումները նշված են դրական նշանով, իսկ նվազեցումները` փակագծերում)
B8: Դասիչը | C8: Անվանումը | D8: Դասիչը | E8: Անվանումը | F8: Նկարագրությունը | G8: Տեսակը | J8: Ինն ամիս | K8: Տարի
A9: ԸՆԴԱՄԵՆԸ | J9: =+J10+J21+J26 -> -485814.3 | K9: =+K10+K21+K26 -> -485814.3
A10: ՀՀ առողջապահության նախարարություն | J10: =+J11 -> 216033.9 | K10: =+K11 -> 1566923.9
B11: 1126 | C11: Առողջապահության ոլորտում պետական քաղաքականության մշակում, ծրագրերի համակարգում և մոնիտորինգ | J11: =+J12+J17 -> 216033.9 | K11: =+K12+K17 -> 1566923.9
D12: 1126-12006 | E12: Առողջապահական համակարգի պետական առևտրային և ոչ առևտրային կազմակերպություններին ֆինանսական աջակցության հատկացում | J12: =+'6'!G12 -> 216033.9 | K12: =+'6'!H12 -> 216033.9
F13: Առողջապահական համակարգի պետական առևտրային և ոչ առևտրային կազմակերպություններին ֆինանսական աջակցության տրամադրում ընթացիկ գործունեության արդյունավետության բարձրացմանն ուղղված
G14: Տրանսֆերտի տրամադրում
H15: Առողջապահական կազմակերպություններ
I16: Ֆինանսական աջակցություն ստացող բժշկական հաստատությունների թիվ, հատ | K16: 4
D17: 1126-31003 | E17: Առողջապահական կազմակերպությունների կառուցում, վերակառուցում | J17: =+'9'!D13 -> 0 | K17: =+'9'!E13 -> 1350890
F18: Բնակչությանը որակյալ բժշկական օգնության և սպասարկման ծառայություններ մատուցելու նպատակով առողջապահական կազմակերպությունների կառուցում, վերակառուցում
G19: Պետական մարմինների կողմից օգտագործվող ոչ ֆինանսական ակտիվների հետ գործառնություններ
H20: Ակտիվն օգտագործող կազմակերպության անվանումը` Բժշկական կազմակերպություններ
A21: ՀՀ քաղաքաշինության կոմիտե | J21: =+J22 -> 0 | K21: =+K22 -> 407287
D22: 1126 - 31003 | E22: Առողջապահական կազմակերպությունների կառուցում, վերակառուցում | J22: =+'9'!D52 -> 0 | K22: =+'9'!E52 -> 407287
F23: Բնակչությանը որակյալ բժշկական օգնության և սպասարկման ծառայություններ մատուցելու նպատակով առողջապահական կազմակերպությունների կառուցում, վերակառուցում
G24: Պետական մարմինների կողմից օգտագործվող ոչ ֆինանսական ակտիվների հետ գործառնություններ
H25: Ակտիվն օգտագործող կազմակերպության անվանումը` Բժշկական կազմակերպություններ
A26: ՀՀ ֆինանսների նախարարություն | J26: =+J27 -> -701848.2 | K26: =+K27 -> -2460025.2
B27: 1006 | C27: Պետական պարտքի կառավարում | J27: =+J28 -> -701848.2 | K27: =+K28 -> -2460025.2
D28: 1006 - 13001 | E28: Կառավարության պարտքի սպասարկում | J28: =+'11'!J23 -> -701848.2 | K28: =+'11'!K23 -> -2460025.2
F29: Կառավարության պարտքի սպասարկում (տոկոսավճարներ)
G30: Ֆինանսավորման ծախսերի իրականացում
H31: Միջոցառումն իրականացնողի անվանումը` ՀՀ ֆինանսների նախարարություն

Sheet 13
A1: Հավելված № 13
A2: ՀՀ կառավարության 2026 թվականի
A3: __________ «____» -ի
A4: N_____ -Ն որոշման
A5: ՀԱՅԱՍՏԱՆԻ ՀԱՆՐԱՊԵՏՈՒԹՅԱՆ ԿԱՌԱՎԱՐՈՒԹՅԱՆ 2025 ԹՎԱԿԱՆԻ ԴԵԿՏԵՄԲԵՐԻ 25-Ի № 1910-Ն ՈՐՈՇՄԱՆ № 10 ՀԱՎԵԼՎԱԾՈՒՄ ԿԱՏԱՐՎՈՂ ՓՈՓՈԽՈՒԹՅՈՒՆՆԵՐԸ ԵՎ ԼՐԱՑՈՒՄՆԵՐԸ
A6: Կոդը | B6: Անվանումը | E6: Գնման ձևը | F6: Չափման միավորը | G6: Միավորի գինը | H6: Քանակը | I6: Ցուցանիշների փոփոխությունները (ավելացումները նշված են դրական նշանով, իսկ նվազեցումները` փակագծերում)
I7: (հազար դրամներով)
A8: ԸՆԴԱՄԵՆԸ | I8: =+I9+I63 -> 1758177
A9: ՀՀ առողջապահության նախարարություն | I9: =+I10 -> 1350890
A10: Բաժին 07 | B10: Խումբ 06 | C10: Դաս 02 | D10: Առողջապահություն (այլ դասերին չպատկանող) | I10: =+I11 -> 1350890
A11: 1126 31003 | B11: Առողջապահական կազմակերպությունների կառուցում, վերակառուցում | I11: =+I12+I39 -> 1350890
B12: ՄԱՍ II. ԱՇԽԱՏԱՆՔՆԵՐ | I12: =SUM(I13:I38) -> 1286923.9
A13: 45211250/2 | B13: առողջապահության հետ կապված շենքերի կառուցման աշխատանքներ | E13: ՀԲՄ | F13: դրամ | I13: 64312.1
A14: 45211250/3 | B14: առողջապահության հետ կապված շենքերի կառուցման աշխատանքներ | E14: ՀԲՄ | F14: դրամ | I14: 88693.8
A15: 45211250/5 | B15: առողջապահության հետ կապված շենքերի կառուցման աշխատանքներ | E15: ՀԲՄ | F15: դրամ | I15: 20000
A16: 45211250/6 | B16: առողջապահության հետ կապված շենքերի կառուցման աշխատանքներ | E16: ՀԲՄ | F16: դրամ | I16: -24315.8
A17: 45211250/8 | B17: առողջապահության հետ կապված շենքերի կառուցման աշխատանքներ | E17: ՀԲՄ | F17: դրամ | I17: -3136.7
A18: 45211250/11 | B18: առողջապահության հետ կապված շենքերի կառուցման աշխատանքներ | E18: ՀԲՄ | F18: դրամ | I18: 29853
A19: 45211250/12 | B19: առողջապահության հետ կապված շենքերի կառուցման աշխատանքներ | E19: ՀԲՄ | F19: դրամ | I19: 20000
A20: 45211250/13 | B20: առողջապահության հետ կապված շենքերի կառուցման աշխատանքներ | E20: ՀԲՄ | F20: դրամ | I20: 5000
A21: 45211250/14 | B21: առողջապահության հետ կապված շենքերի կառուցման աշխատանքներ | E21: ՀԲՄ | F21: դրամ | I21: 42307.2
A22: 45211250/15 | B22: առողջապահության հետ կապված շենքերի կառուցման աշխատանքներ | E22: ՀԲՄ | F22: դրամ | I22: 5000
A23: 45211250/16 | B23: առողջապահության հետ կապված շենքերի կառուցման աշխատանքներ | E23: ՀԲՄ | F23: դրամ | I23: 90948.7
A24: 45211250/18 | B24: առողջապահության հետ կապված շենքերի կառուցման աշխատանքներ | E24: ՀԲՄ | F24: դրամ | I24: 87949.8
... A35: 45211250/31 | B35: առողջապահության հետ կապված շենքերի կառուցման աշխատանքներ | E35: ՀԲՄ | F35: դրամ | I35: 703.2
A36: 45451700/1 | B36: վերակառուցման աշխատանքներ | E36: ԲՄ | F36: դրամ | I36: =+'9'!E38 -> 74500
A37: 45451700-501 | B37: վերակառուցման աշխատանքներ | E37: ԲՄ | F37: դրամ | I37: 160160
A38: 45451700-502 | B38: վերակառուցման աշխատանքներ | E38: ԲՄ | F38: դրամ | I38: 149100
B39: ՄԱՍ III. ԾԱՌԱՅՈՒԹՅՈՒՆՆԵՐ | I39: =SUM(I40:I62) -> 63966.1
A40: 71351540/1 | B40: տեխնիկական հսկողության ծառայություններ | E40: ԳՀ | F40: դրամ | I40: 2248.5
A41: 71351540/817 | B41: տեխնիկական հսկողության ծառայություններ | E41: ԳՀ | F41: դրամ | I41: 2588
A42: 71351540/3 | B42: տեխնիկական հսկողության ծառայություններ | E42: ԳՀ | F42: դրամ | I42: 2265.2
A43: 71351540/4 | B43: տեխնիկական հսկողության ծառայություններ | E43: ԳՀ | F43: դրամ | I43: 2472
A44: 71351540/5 | B44: տեխնիկական հսկողության ծառայություններ | E44: ԳՀ | F44: դրամ | I44: 1909.4
A45: 71351540/6 | B45: տեխնիկական հսկողության ծառայություններ | E45: ԳՀ | F45: դրամ | I45: 5147.1
A46: 71351540/7 | B46: տեխնիկական հսկողության ծառայություններ | E46: ԳՀ | F46: դրամ | I46: 1718.2
A47: 71351540/8 | B47: տեխնիկական հսկողության ծառայություններ | E47: ԳՀ | F47: դրամ | I47: 1091.9
A48: 71351540/9 | B48: տեխնիկական հսկողության ծառայություններ | E48: ԳՀ | F48: դրամ | I48: 2692.9
A49: 71351540/10 | B49: տեխնիկական հսկողության ծառայություններ | E49: ԳՀ | F49: դրամ | I49: 1572.2
A50: 71351540/40 | B50: տեխնիկական հսկողության ծառայություններ | E50: ԳՀ | F50: դրամ | I50: 2828.1
...
