Workbook
Name _tab10: #REF!
Name _tab10: #REF!
Name _tab10: #REF!
Name _tab11: #REF!
Name _tab11: #REF!
Name _tab11: #REF!
Name _tab12: #REF!
Name _tab12: #REF!
Name _tab12: #REF!
Name _tab13: #REF!
Name _tab13: #REF!
Name _tab13: #REF!
Name _tab14: #REF!
Name _tab14: #REF!
Name _tab14: #REF!
Name _tab15: #REF!
Name _tab15: #REF!
Name _tab15: #REF!
Name _tab16: #REF!
Name _tab16: #REF!
Name _tab16: #REF!
Name _tab17: #REF!
Name _tab17: #REF!
Name _tab17: #REF!
Name _tab18: #REF!
Name _tab18: #REF!
Name _tab18: #REF!
Name _tab19: #REF!
Name _tab19: #REF!
Name _tab19: #REF!
Name _tab20: #REF!
Name _tab20: #REF!
Name _tab20: #REF!
Name _tab21: #REF!
Name _tab21: #REF!
Name _tab21: #REF!
Name _tab22: #REF!
Name _tab22: #REF!
Name _tab22: #REF!
Name _tab23: #REF!
Name _tab23: #REF!
Name _tab23: #REF!
Name _tab24: #REF!
Name _tab24: #REF!
Name _tab24: #REF!
Name _tab5: #REF!
Name _tab5: #REF!
Name _tab5: #REF!
Name _tab6: #REF!
Name _tab6: #REF!
Name _tab6: #REF!
Name _tab7: #REF!
Name _tab7: #REF!
Name _tab7: #REF!
Name _tab8: #REF!
Name _tab8: #REF!
Name _tab8: #REF!
Name _tab9: #REF!
Name _tab9: #REF!
Name _tab9: #REF!

Sheet 1
H2: Հավելված N 1
E3: ՀՀ կառավարության 2026 թվականի
E4: -----------------ի N -----------Ն որոշման
A6: «ՀԱՅԱՍՏԱՆԻ ՀԱՆՐԱՊԵՏՈՒԹՅԱՆ 2026 ԹՎԱԿԱՆԻ ՊԵՏԱԿԱՆ ԲՅՈՒՋԵԻ ՄԱՍԻՆ» ՕՐԵՆՔԻ N 1 ՀԱՎԵԼՎԱԾԻ N 2 ԱՂՅՈՒՍԱԿՈՒՄ ԿԱՏԱՐՎՈՂ ՎԵՐԱԲԱՇԽՈՒՄԸ, ՀԱՅԱՍՏԱՆԻ ՀԱՆՐԱՊԵՏՈՒԹՅԱՆ ԿԱՌԱՎԱՐՈՒԹՅԱՆ 2025 ԹՎԱԿԱՆԻ ԴԵԿՏԵՄԲԵՐԻ 25-Ի N 1910-Ն ՈՐՈՇՄԱՆ N 5 ՀԱՎԵԼՎԱԾԻ N 1 ԱՂՅՈՒՍԱԿՈՒՄ ԿԱՏԱՐՎՈՂ ՓՈՓՈԽՈՒԹՅՈՒՆԸ
H7: հազար դրամներով
A8: ԲԳԿ | B8: Ծրագրային դասիչը | D8: ԲԳԿ/Ծրագրի /միջոցառման անվանումը | E8: Ծրագրի նպատակը/Միջոցառման նկարագրույունը | F8: Վերջնական արդյունքի նկարագրությունը/Միջոցառման տեսակը | G8: Ցուցանիշների փոփոխությունները ավելացումները նշված են դրական նշանով, իսկ նվազեցումները՝ փակագծերում
B9: Ծրագիր | C9: Միջոցառում | G9: Ինն ամիս | H9: Տարի
A10: ԸՆԴԱՄԵՆԸ | G10: =G11+G14 -> 0 | H10: =H11+H14 -> 0
A11: Հակակոռուպցիոն կոմիտե | G11: =G12 -> 87000 | H11: =H12 -> 87000
B12: 1231 | D12: Կոռուպցիոն հանցագործությունների բացահայտման և քննության ապահովում | E12: ՀՀ քրեական դատավարության օրենսգրքով ՀՀ հակակոռուպցիոն կոմիտեի ենթակայությանը վերապահված քրեական գործերի քննության իրականացումը և օպերատիվ -հետախուզական գործունեությունը | F12: Արդյունավետ օպերատիվ-հետախուզական գործունեություն, հետաքննություն և նախաքննություն` դրանց ողջամիտ ժամկետներում իրականացում | G12: =G13 -> 87000 | H12: =H13 -> 87000
C13: 1231 - 11001 | D13: Կոռուպցիոն հանցագործությունների բացահայտում և քննություն | E13: Կոռուպցիոն դեպքերի բացահայտման և քննության ապահովում, դրանց արդյունավետության բարձրացում | F13: Ծառայությունների մատուցում | G13: 87000 | H13: =+G13 -> 87000
A14: ՀՀ կառավարություն | G14: =G15 -> -87000 | H14: =H15 -> -87000
B15: 1139 | D15: ՀՀ կառավարության պահուստային ֆոնդ | E15: Պետական բյուջեում չկանխատեսված, ինչպես նաեւ բյուջետային երաշխիքների ապահովման ծախսերի ֆինանսավորման ապահովում | F15: Պահուստային ֆոնդի կառավարման արդյունավետության և թափանցիկության ապահովում | G15: =G16 -> -87000 | H15: =H16 -> -87000
C16: 1139 - 11001 | D16: ՀՀ կառավարության պահուստային ֆոնդ | E16: ՀՀ պետական բյուջեում նախատեսված ելքերի լրացուցիչ ֆինանսավորման, պետական բյուջեում չկանխատեսված ելքերի, ինչպես նաև բյուջետային երաշխիքների ապահովման ելքերի ֆինանսավորման ապահովում | F16: Ծառայությունների մատուցում | G16: -87000 | H16: =+G16 -> -87000

Sheet 2
H2: Հավելված N 2
F3: ՀՀ կառավարության 2026 թվականի
F4: -----------------ի N -----------Ն որոշման
A6: ՀԱՅԱՍՏԱՆԻ ՀԱՆՐԱՊԵՏՈՒԹՅԱՆ ԿԱՌԱՎԱՐՈՒԹՅԱՆ 2025 ԹՎԱԿԱՆԻ ԴԵԿՏԵՄԲԵՐԻ 25-Ի N 1910-Ն ՈՐՈՇՄԱՆ NN 3 ԵՎ 4 ՀԱՎԵԼՎԱԾՆԵՐՈՒՄ ԿԱՏԱՐՎՈՂ ՓՈՓՈԽՈՒԹՅՈՒՆՆԵՐԸ
G7: հազար դրամներով
A8: Գործառական դասիչը | D8: Ծրագրային դասիչը | F8: Բյուջետային ծախսերի գործառական դասակարգման բաժինների, խմբերի և դասերի, բյուջետային ծրագրերի միջոցառումների, բյուջետային հատկացումների գլխավոր կարգադրիչների անվանումները | G8: Ցուցանիշների փոփոխությունները ավելացումները նշված են դրական նշանով, իսկ նվազեցումները՝ փակագծերում
A9: Բաժինը | B9: Խումբը | C9: Դասը | D9: Ծրագիր | E9: Միջոցառում | G9: Ինն ամիս | H9: Տարի
F10: ԸՆԴԱՄԵՆԸ ԾԱԽՍԵՐ | G10: =G12+G33 -> 0 | H10: =H12+H33 -> 0
F11: այդ թվում`
F12: ՀՀ հակակոռուպցիոն կոմիտե | G12: =G14 -> 87000 | H12: =H14 -> 87000
F13: այդ թվում՝
A14: 03 | F14: ՀԱՍԱՐԱԿԱԿԱՆ ԿԱՐԳ, ԱՆՎՏԱՆԳՈՒԹՅՈՒՆ ԵՎ ԴԱՏԱԿԱՆ ԳՈՐԾՈՒՆԵՈՒԹՅՈՒՆ | G14: =G16 -> 87000 | H14: =H16 -> 87000
F15: այդ թվում՝
B16: 07 | F16: Նախաքննություն | G16: =G18 -> 87000 | H16: =H18 -> 87000
F17: այդ թվում`
C18: 01 | F18: Նախաքննություն | G18: =G20 -> 87000 | H18: =H20 -> 87000
F19: այդ թվում՝
F20: Հակակոռուպցիոն կոմիտե | G20: =G22 -> 87000 | H20: =H22 -> 87000
F21: այդ թվում՝
D22: 1231 | F22: Կոռուպցիոն հանցագործությունների բացահայտման և քննության ապահովում | G22: =G24 -> 87000 | H22: =H24 -> 87000
F23: այդ թվում`
E24: 11001 | F24: Կոռուպցիոն հանցագործությունների բացահայտում և քննություն | G24: =G26 -> 87000 | H24: =H26 -> 87000
F25: այդ թվում` ըստ կատարողների
F26: Հակակոռուպցիոն կոմիտե | G26: =G28 -> 87000 | H26: =H28 -> 87000
F27: այդ թվում` բյուջետային ծախսերի տնտեսագիտական դասակարգման հոդվածներ
F28: ԸՆԴԱՄԵՆԸ ԾԱԽՍԵՐ | G28: =G29 -> 87000 | H28: =H29 -> 87000
F29: ԸՆԹԱՑԻԿ ԾԱԽՍԵՐ | G29: =G30 -> 87000 | H29: =H30 -> 87000
F30: ԱՇԽԱՏԱՆՔԻ ՎԱՐՁԱՏՐՈՒԹՅՈՒՆ | G30: =G31 -> 87000 | H30: =H31 -> 87000
F31: Դրամով վճարվող աշխատավարձեր և հավելավճարներ | G31: =G32 -> 87000 | H31: =H32 -> 87000
F32: - Պարգևատրումներ, դրամական խրախուսումներ և հատուկ վճարներ | G32: 87000 | H32: =+G32 -> 87000
F33: ՀՀ կառավարություն | G33: =G35 -> -87000 | H33: =H35 -> -87000
F34: այդ թվում՝
A35: 11 | F35: ՀԻՄՆԱԿԱՆ ԲԱԺԻՆՆԵՐԻՆ ՉԴԱՍՎՈՂ ՊԱՀՈՒՍՏԱՅԻՆ ՖՈՆԴԵՐ | G35: =G37 -> -87000 | H35: =H37 -> -87000
F36: այդ թվում՝
B37: 01 | F37: ՀՀ կառավարության և համայնքների պահուստային ֆոնդ | G37: =G39 -> -87000 | H37: =H39 -> -87000
F38: այդ թվում՝
C39: 01 | F39: ՀՀ կառավարության պահուստային ֆոնդ | G39: =G41 -> -87000 | H39: =H41 -> -87000
F40: այդ թվում՝
F41: ՀՀ կառավարություն | G41: =G43 -> -87000 | H41: =H43 -> -87000
F42: այդ թվում՝
...

Sheet 3
K2: Հավելված N 3
K3: ՀՀ կառավարության 2026 թվականի
K4: -----------------ի N -----------Ն որոշման
A7: ՀԱՅԱՍՏԱՆԻ ՀԱՆՐԱՊԵՏՈՒԹՅԱՆ ԿԱՌԱՎԱՐՈՒԹՅԱՆ 2025 ԹՎԱԿԱՆԻ ԴԵԿՏԵՄԲԵՐԻ 25-Ի N 1910-Ն ՈՐՈՇՄԱՆ N 9 ՀԱՎԵԼՎԱԾՈՒՄ ԿԱՏԱՐՎՈՂ ՓՈՓՈԽՈՒԹՅՈՒՆՆԵՐԸ
J8: հազար դրամներով
A9: ԲԳԿ | B9: Ծրագիր | D9: Միջոցառում | H9: Իրականացնողը/ ակտիվն օգտագործողը/ շահառուի ընտրության չափորոշիչը | I9: Արդյունքային չափորոշիչը | J9: Ցուցանիշների փոփոխությունները ավելացումները նշված են դրական նշանով, իսկ նվազեցումները՝ փակագծերում
B10: Դասիչը | C10: Անվանումը | D10: Դասիչը | E10: Անվանումը | F10: Նկարագրությունը | G10: Տեսակը | J10: Ինն ամիս | K10: Տարի
A11: ԸՆԴԱՄԵՆԸ | J11: =J12+J19 -> 0 | K11: =K12+K19 -> 0
A12: =+'1'!A11:F11 -> Հակակոռուպցիոն կոմիտե | J12: =J13 -> 87000 | K12: =K13 -> 87000
B13: ='1'!B12 -> 1231 | C13: ='1'!D12 -> Կոռուպցիոն հանցագործությունների բացահայտման և քննության ապահովում | J13: =J14 -> 87000 | K13: =K14 -> 87000
D14: ='1'!C13 -> 1231 - 11001 | E14: ='1'!D13 -> Կոռուպցիոն հանցագործությունների բացահայտում և քննություն | J14: ='1'!G13 -> 87000 | K14: ='1'!H13 -> 87000
F15: ='1'!E13 -> Կոռուպցիոն դեպքերի բացահայտման և քննության ապահովում, դրանց արդյունավետության բարձրացում
G16: ='1'!F13 -> Ծառայությունների մատուցում
H17: Ծառայությունը մատուցողի անվանումը` Հակակոռուպցիոն կոմիտե
A19: ՀՀ կառավարություն | J19: =J20 -> -87000 | K19: =K20 -> -87000
B20: 1139 | C20: ՀՀ կառավարության պահուստային ֆոնդ | J20: =J21 -> -87000 | K20: =K21 -> -87000
D21: 1139 - 11001 | E21: ՀՀ կառավարության պահուստային ֆոնդ | J21: =-87000 -> -87000 | K21: =+J21 -> -87000
F22: ՀՀ պետական բյուջեում նախատեսված ելքերի լրացուցիչ ֆինանսավորման, պետական բյուջեում չկանխատեսված ելքերի, ինչպես նաև բյուջետային երաշխիքների ապահովման ելքերի ֆինանսավորման ապահովում
G23: Ծառայությունների մատուցում
H24: Ծառայությունը մատուցողի անվանումը` ՀՀ կառավարություն

Sheet 4
K2: Հավելված N 4
K3: ՀՀ կառավարության 2026 թվականի
K4: -----------------ի N -----------Ն որոշման
A7: ՀԱՅԱՍՏԱՆԻ ՀԱՆՐԱՊԵՏՈՒԹՅԱՆ ԿԱՌԱՎԱՐՈՒԹՅԱՆ 2025 ԹՎԱԿԱՆԻ ԴԵԿՏԵՄԲԵՐԻ 25-Ի N 1910-Ն ՈՐՈՇՄԱՆ N 9.1 ՀԱՎԵԼՎԱԾՈՒՄ ԿԱՏԱՐՎՈՂ ՓՈՓՈԽՈՒԹՅՈՒՆՆԵՐԸ
J8: հազար դրամներով
A9: ԲՍԿ | B9: Ծրագիր | D9: Միջոցառում | H9: Իրականացնողը/ ակտիվն օգտագործողը/ շահառուի ընտրության չափորոշիչը | I9: Արդյունքային չափորոշիչը | J9: Ցուցանիշների փոփոխությունները ավելացումները նշված են դրական նշանով, իսկ նվազեցումները՝ փակագծերում
B10: Դասիչը | C10: Անվանումը | D10: Դասիչը | E10: Անվանումը | F10: Նկարագրությունը | G10: Տեսակը | J10: Ինն ամիս | K10: Տարի
A11: ԸՆԴԱՄԵՆԸ | J11: =J12+J19 -> 0 | K11: =K12+K19 -> 0
A12: =+'3'!A12:I12 -> Հակակոռուպցիոն կոմիտե | J12: =J13 -> 87000 | K12: =K13 -> 87000
B13: ='1'!B12 -> 1231 | C13: ='1'!D12 -> Կոռուպցիոն հանցագործությունների բացահայտման և քննության ապահովում | J13: =J14 -> 87000 | K13: =K14 -> 87000
D14: ='1'!C13 -> 1231 - 11001 | E14: ='1'!D13 -> Կոռուպցիոն հանցագործությունների բացահայտում և քննություն | J14: ='1'!G13 -> 87000 | K14: ='1'!H13 -> 87000
F15: ='1'!E13 -> Կոռուպցիոն դեպքերի բացահայտման և քննության ապահովում, դրանց արդյունավետության բարձրացում
G16: ='1'!F13 -> Ծառայությունների մատուցում
H17: Ծառայությունը մատուցողի անվանումը` Հակակոռուպցիոն կոմիտե
A19: ՀՀ կառավարություն | J19: =J20 -> -87000 | K19: =K20 -> -87000
B20: 1139 | C20: ՀՀ կառավարության պահուստային ֆոնդ | J20: =J21 -> -87000 | K20: =K21 -> -87000
D21: 1139 - 11001 | E21: ՀՀ կառավարության պահուստային ֆոնդ | J21: -87000 | K21: =+J21 -> -87000
F22: ՀՀ պետական բյուջեում նախատեսված ելքերի լրացուցիչ ֆինանսավորման, պետական բյուջեում չկանխատեսված ելքերի, ինչպես նաև բյուջետային երաշխիքների ապահովման ելքերի ֆինանսավորման ապահովում
G23: Ծառայությունների մատուցում
H24: Ծառայությունը մատուցողի անվանումը` ՀՀ կառավարություն
