Workbook
Name a: #REF!
Name a: #REF!
Name a: #REF!
Name a: #REF!
Name a: #REF!
Name AgencyCode: #REF!
Name AgencyCode: #REF!
Name AgencyCode: #REF!
Name AgencyCode: #REF!
Name AgencyCode: #REF!
Name AgencyName: #REF!
Name AgencyName: #REF!
Name AgencyName: #REF!
Name AgencyName: #REF!
Name åû: #REF!
Name åû: #REF!
Name BOP: #REF!
Name BOPfoot: #REF!
Name davit: #REF!
Name davit: #REF!
Name davit: #REF!
Name DebtCG: #REF!
Name DebtGG: #REF!
Name Functional1: #REF!
Name Functional1: #REF!
Name Functional1: #REF!
Name Functional1: #REF!
Name ggg: #REF!
Name ggg: #REF!
Name ggg: #REF!
Name hav: #REF!
Name mas: #REF!
Name mas: #REF!
Name mass: #REF!
Name mass: #REF!
Name MonExo: #REF!
Name MonGrow: #REF!
Name PANature: #REF!
Name PANature: #REF!
Name PANature: #REF!
Name PANature: #REF!
Name PAType: #REF!
Name PAType: #REF!
Name PAType: #REF!
Name PAType: #REF!
Name Performance2: #REF!
Name Performance2: #REF!
Name Performance2: #REF!
Name Performance2: #REF!
Name PerformanceType: #REF!
Name PerformanceType: #REF!
Name PerformanceType: #REF!
Name PerformanceType: #REF!
Name RealExo: #REF!
Name RealPercent: #REF!
Name Table_2._Turkey__Exogenous_assumptions: #REF!
Name vlom: #REF!
Name x: #REF!
Name x: #REF!
Name x: #REF!

Sheet Հավելված N 1
C1: Հավելված N 1
C2: ՀՀ կառավարության 2026 թվականի
C3: ______________ ի ___Ն որոշման
A5: «ՀԱՅԱՍՏԱՆԻ ՀԱՆՐԱՊԵՏՈՒԹՅԱՆ 2026 ԹՎԱԿԱՆԻ ՊԵՏԱԿԱՆ ԲՅՈՒՋԵԻ ՄԱՍԻՆ» ՕՐԵՆՔԻ 3-ՐԴ ՀՈԴՎԱԾԻ, N 3 ՀԱՎԵԼՎԱԾԻ N 1 ԱՂՅՈՒՍԱԿՈՒՄ ԵՎ ՀԱՅԱՍՏԱՆԻ ՀԱՆՐԱՊԵՏՈՒԹՅԱՆ ԿԱՌԱՎԱՐՈՒԹՅԱՆ 2025 ԹՎԱԿԱՆԻ ԴԵԿՏԵՄԲԵՐԻ 25-Ի N 1910-Ն ՈՐՈՇՄԱՆ N 1 ՀԱՎԵԼՎԱԾԻ N 1 ԱՂՅՈՒՍԱԿՈՒՄ ԿԱՏԱՐՎՈՂ ՓՈՓՈԽՈՒԹՅՈՒՆԸ
C7: հազ. դրամ
A8: Պետական բյուջեի դեֆիցիտի ֆինանսավորման աղբյուրներն ու դրանց տարրերի անվանումները | B8: Ցուցանիշների փոփոխությունը (ավելացումները նշված են դրական նշանով)
B9: Ինն ամիս | C9: Տարի
A10: ԸՆԴԱՄԵՆԸ | B10: =+B12 -> 384883.1 | C10: =+C12 -> 0
A11: այդ թվում՝
A12: Ա.Ներքին աղբյուրներ-ընդամենը | B12: =+B14 -> 384883.1 | C12: =+C14 -> 0
A13: այդ թվում՝
A14: 2. Ֆինանսական զուտ ակտիվներ | B14: =+B16 -> 384883.1 | C14: =+C16 -> 0
A15: այդ թվում՝
A16: 2.6.Այլ | B16: =+B18 -> 384883.1 | C16: =+C18 -> 0
A17: որից՝
A18: Ժամանակավորապես ազատ միջոցներ | B18: =+'Հավելված N 2'!G13 -> 384883.1 | C18: =+'Հավելված N 2'!H13 -> 0

Sheet Հավելված N 2
F1: Հավելված N 2
F2: ՀՀ կառավարության 2026 թվականի
F3: ______________ ի ___Ն որոշման
A6: «ՀԱՅԱUՏԱՆԻ ՀԱՆՐԱՊԵՏՈՒԹՅԱՆ 2026 ԹՎԱԿԱՆԻ ՊԵՏԱԿԱՆ ԲՅՈՒՋԵԻ ՄԱUԻՆ» ՀԱՅԱUՏԱՆԻ ՀԱՆՐԱՊԵՏՈՒԹՅԱՆ OՐԵՆՔԻ N 1 ՀԱՎԵԼՎԱԾԻ N 2 ԱՂՅՈՒՍԱԿՈՒՄ ԿԱՏԱՐՎՈՂ ՎԵՐԱԲԱՇԽՈՒՄԸ ԵՎ ՀԱՅԱՍՏԱՆԻ ՀԱՆՐԱՊԵՏՈՒԹՅԱՆ ԿԱՌԱՎԱՐՈՒԹՅԱՆ 2025 ԹՎԱԿԱՆԻ ԴԵԿՏԵՄԲԵՐԻ 25-Ի N 1910-Ն ՈՐՈՇՄԱՆ N 5 ՀԱՎԵԼՎԱԾԻ N 1 ԱՂՅՈՒՍԱԿՈՒՄ ԿԱՏԱՐՎՈՂ ՓՈՓՈԽՈՒԹՅՈՒՆՆԵՐԸ ԵՎ ԼՐԱՑՈՒՄՆԵՐԸ
H9: հազ. դրամներով
A10: ԲԳԿ | B10: Ծրագրային դասիչը | D10: ԲԳԿ/Ծրագրի /միջոցառման անվանումը | E10: Ծրագրի նպատակը/Միջոցառման նկարագրությունը | F10: Վերջնական արդյունքի նկարագրությունը/Միջոցառման տեսակը | G10: Ցուցանիշների փոփոխությունը (ավելացումները նշված են դրական նշանով, իսկ նվազեցումները փակագծերում)
G11: Ինն ամիս | H11: Տարի
B12: Ծրագիր | C12: Միջոցառում
A13: ԸՆԴԱՄԵՆԸ | G13: =+G15+G34 -> 384883.1 | H13: =+H15+H34 -> 0
A14: այդ թվում՝
A15: ՀՀ ԿՐԹՈՒԹՅԱՆ, ԳԻՏՈՒԹՅԱՆ, ՄՇԱԿՈՒՅԹԻ ԵՎ ՍՊՈՐՏԻ ՆԱԽԱՐԱՐՈՒԹՅՈՒՆ | G15: =+G16+G18+G20+G22+G25+G27+G29 -> 355865.4 | H15: =+H16+H18+H20+H22+H25+H27+H29 -> -29017.7
B16: 1045 | D16: Մասնագիտական կրթության և ուսուցման ծրագիր | E16: Աշխատաշուկայի արդի պահանջներին համապատասխան արհեստագործական և միջին մասնագիտական կրթության որակավորում ունեցող մասնագետների պատրաստում, կրթության մատչելիության ապահովում: | F16: Արհեստագործական և միջին մասնագիտական կրթության գրավչության բարձրացում, մատչելի և մրցունակ արհեստագործական և միջին մասնագիտական կրթության ապահովում | G16: =SUM(G17:G17) -> -155118.4 | H16: =SUM(H17:H17) -> -162800
C17: 1045 - 32005 | D17: Մասնագիտական ուսումնական հաստատությունների շենքերի կառուցում | E17: Մասնագիտական ուսումնական հաստատությունների շենքերի (մասնաշենքերի) կառուցման և նախագծման աշխատանքների իրականացում | F17: Այլ պետական կազմակերպությունների կողմից օգտագործվող ոչ ֆինանսական ակտիվների հետ գործառնություններ | G17: =+'Հավելված N 3'!G117 -> -155118.4 | H17: =+'Հավելված N 3'!H117 -> -162800
B18: 1075 | D18: Մշակութային ժառանգության ծրագիր | E18: Մշակութային ժառանգության պահպանում, օգտագործում, համալրում և հանրահռչակում | F18: Մշակութային ժառանգության շարունակական պահպանում, մշակութային զբոսաշրջության զարգացում և խթանում | G18: =+G19 -> 292.4 | H18: =+H19 -> 0
C19: 1075 - 21001 | D19: Հուշարձանների ամրակայում, նորոգում և վերականգնում | E19: Հուշարձանների գիտանախագծային փաստաթղթերի կազմում, հրատապ ուսումնասիրում, վավերագրման և ուսումնասիրման աշխատանքներ, հետախուզում և հնագիտական պեղում, ամրակայում, նորոգում և վերականգնում | F19: Հանրության կողմից անմիջականորեն օգտագործվող ակտիվների հետ կապված միջոցառումներ | G19: =+'Հավելված N 3'!G56 -> 292.4 | H19: =+'Հավելված N 3'!H56 -> 0
B20: 1124 | D20: Գրահրատարակչության և գրադարանների ծրագիր | E20: Նպաստել գրականության զարգացմանը, տարածմանը և հանրահռչակմանը | F20: Գրքի և գրական արտադրանքի բազմազանության և հասանելիության ապահովում, ստեղծագործական գործընթացների խթանում | G20: =SUM(G21) -> 1299 | H20: =SUM(H21) -> 1299
C21: 1124 - 32001 | D21: Հանրային գրադարանների նյութատեխնիկական բազայի զարգացում | E21: Հանրային գրադարանների նյութատեխնիկական բազայի զարգացում | F21: Այլ պետական կազմակերպությունների կողմից օգտագործվող ոչ ֆինանսական ակտիվների հետ գործառնություններ | G21: =+'Հավելված N 3'!G26 -> 1299 | H21: =+'Հավելված N 3'!H26 -> 1299
B22: 1163 | D22: Մասսայական սպորտ | E22: Բնակչության շրջանում առողջ ապրելակերպի արմատավորում, անհատի բազմակողմանի ու ներդաշնակ զարգացման գործում ֆիզիկական կուլտուրայի և սպորտի դերի բարձրացում | F22: Սպորտի նկատմամբ հետաքրքրվածության և մասնակցության ընդլայնում | G22: =SUM(G23:G24) -> 451332.4 | H22: =SUM(H23:H24) -> 460920.6
C23: 1163 - 32001 | D23: Մարզական օբյեկտների շինարարություն | E23: Մարզական օբյեկտների շենքերի (մասնաշենքերի) կառուցում (համաշինարարական աշխատանքներ, ջեռուցման համակարգի իրականացում, ներքին հարդարում, տարածքի բարեկարգում) և նախագծում | F23: Այլ պետական կազմակերպությունների կողմից օգտագործվող ոչ ֆինանսական ակտիվների հետ գործառնություններ | G23: =+'Հավելված N 3'!G130 -> 350513.6 | H23: =+'Հավելված N 3'!H130 -> 360101.8
C24: 1163 - 32002 | D24: Մարզական օբյեկտների հիմնանորոգում | E24: Մարզական օբյեկտների շենքերի (մասնաշենքերի) հիմնանորոգում (համաշինարարական աշխատանքներ, ջեռուցման համակարգի իրականացում, ներքին հարդարում, տարածքի բարեկարգում) և նախագծում | F24: Այլ պետական կազմակերպությունների կողմից օգտագործվող ոչ ֆինանսական ակտիվների հետ գործառնություններ | G24: =+'Հավելված N 3'!G141 -> 100818.8 | H24: =+'Հավելված N 3'!H141 -> 100818.8
B25: 1168 | D25: Արվեստների ծրագիր | E25: Նպաստել ազգային հենքի վրա ժամանակակից թատերարվեստի, երաժշտարվեստի, կերպարվեստի և պարարվեստի զարգացմանը և հանրահռչակմանը | F25: Մրցունակ արվեստային արտադրանքի ստեղծում, ստեղծագործական գործընթացների խթանում, արվեստի նոր նախագծերի ներդրում և մշակութային կյանքում հասարակության ներգրավում | G25: =SUM(G26:G26) -> -166248.3 | H25: =SUM(H26:H26) -> -128909.6
C26: 1168 - 32001 | D26: Ներդրումներ թատրոնների և համերգային կազմակերպությունների շենքերի կապիտալ վերանորոգման համար | E26: Թատրոնների և համերգային կազմակերպությունների շենքերի մասնաշենքերի հիմնանորոգում, համաշինարարական աշխատանքներ, ջեռուցման համակարգի իրականացում, ներքին հարդարում, տարածքի բարեկարգում և նախագծում | F26: Այլ պետական կազմակերպությունների կողմից օգտագործվող ոչ ֆինանսական ակտիվների հետ գործառնություններ | G26: =+'Հավելված N 3'!G41 -> -166248.3 | H26: =+'Հավելված N 3'!H41 -> -128909.6
B27: 1183 | D27: Ապահով դպրոց | E27: Դպրոցներին սպառնացող աղետների ռիսկի կառավարման կարողությունների հզորացում, դպրոցի անձնակազմի և աշակերտների անվտանգության ապահովման մակարդակի բարձրացում՛ կիրառելով ներառական և երեխայակենտրոն մոտեցում | F27: Դպրոցական միջավայրի բարելավում | G27: =SUM(G28:G28) -> -76039.7 | H27: =SUM(H28:H28) -> -199875.7
C28: 1183 - 32009 | D28: Հանրակրթական կրթություն իրականացնող ուսումնական հաստատությունների մարզադահլիճների վերակառուցում | E28: Հանրակրթական ուսուցում իրականացնող ուսումնական հաստատությունների մարզադահլիճների վերակառուցման նախագծանախահաշվային փաստաթղթերի մշակում | F28: Այլ պետական կազմակերպությունների կողմից օգտագործվող ոչ ֆինանսական ակտիվների հետ գործառնություններ | G28: =+'Հավելված N 3'!G152 -> -76039.7 | H28: =+'Հավելված N 3'!H152 -> -199875.7
B29: 1236 | D29: Հանրակրթական և նախադպրոցական հաստատությունների հիմնում, կառուցում, բարելավում | E29: Առնվազն 300 դպրոցի և 500 մանկապարտեզի կառուցման, վերակառուցման, հիմնանորոգման ծրագրերի իրականացում ՀՀ պետական բյուջեի միջոցների շրջանակներում | F29: Կրթական միջավայրի բարելավում | G29: =SUM(G30:G32) -> 300348 | H29: =SUM(H30:H32) -> 348
C30: 1236 - 32003 | D30: Հանրակրթական դպրոցների նոր շենքերի կառուցում | E30: ՀՀ մարզերում կրթական որակյալ ծառայությունների հասանելիության ապահովման ծրագրի շրջանակներում հանրակրթական և նախադպրոցական կրթության հասանելիության ապահովման նպատակով կրթական կենտրոնների կառուցում | F30: Այլ պետական կազմակերպությունների կողմից օգտագործվող ոչ ֆինանսական ակտիվների հետ գործառնություններ | G30: =+'Հավելված N 3'!G75 -> -700000 | H30: =+'Հավելված N 3'!H75 -> -700000
C31: 1236 - 32005 | D31: Կրթահամալիրների կառուցում | E31: ՀՀ մարզերում կրթական որակյալ ծառայությունների հասանելիության ապահովման ծրագրի շրջանակներում հանրակրթական և նախադպրոցական կրթության հասանելիության ապահովման նպատակով կրթական կենտրոնների կառուցում | F31: Այլ պետական կազմակերպությունների կողմից օգտագործվող ոչ ֆինանսական ակտիվների հետ գործառնություններ | G31: =+'Հավելված N 3'!G84 -> 0 | H31: =+'Հավելված N 3'!H84 -> -300000
C32: 1236 - 32006 | D32: Հանրակրթական դպրոցների, մանկապարտեզների և կրթահամալիրների գույքով և տեխնիկայով ապահովում | E32: Կրթական ժամանակակից նորմերին և կրթական չափորոշիչներին համապատասխան ուսուցման ծրագրերն իրականացնելու նպատակով հանրակրթական և նախադպրոցական հաստատությունների համար գույքի և տեխնիկայի ձեռքբերում | F32: Այլ պետական կազմակերպությունների կողմից օգտագործվող ոչ ֆինանսական ակտիվների հետ գործառնություններ | G32: =+'Հավելված N 3'!G93 -> 1000348 | H32: =+'Հավելված N 3'!H93 -> 1000348
A34: ՀՀ ԿԱՌԱՎԱՐՈՒԹՅՈՒՆ | G34: =+G35 -> 29017.7 | H34: =+H35 -> 29017.7
B35: 1139 | D35: ՀՀ կառավարության պահուստային ֆոնդ | E35: Պետական բյուջեում չկանխատեսված, ինչպես նաեւ բյուջետային երաշխիքների ապահովման ծախսերի ֆինանսավորման ապահովում | F35: Պահուստային ֆոնդի կառավարման արդյունավետության և թափանցիկության ապահովում | G35: =SUM(G36) -> 29017.7 | H35: =SUM(H36) -> 29017.7
C36: 1139 - 11001 | D36: ՀՀ կառավարության պահուստային ֆոնդ | E36: ՀՀ պետական բյուջեում նախատեսված ելքերի լրացուցիչ ֆինանսավորման, պետական բյուջեում չկանխատեսված ելքերի, ինչպես նաև բյուջետային երաշխիքների ապահովման ելքերի ֆինանսավորման ապահովում | F36: Ծառայությունների մատուցում | G36: =+'Հավելված N 3'!G173 -> 29017.7 | H36: =+'Հավելված N 3'!H173 -> 29017.7

Sheet Հավելված N 3
F1: Հավելված N 3
F2: ՀՀ կառավարության 2026 թվականի
F3: ______________ ի ___Ն որոշման
A7: ՀԱՅԱՍՏԱՆԻ ՀԱՆՐԱՊԵՏՈՒԹՅԱՆ ԿԱՌԱՎԱՐՈՒԹՅԱՆ 2025 ԹՎԱԿԱՆԻ ԴԵԿՏԵՄԲԵՐԻ 25-Ի N 1910-Ն ՈՐՈՇՄԱՆ N 3 ԵՎ N 4 ՀԱՎԵԼՎԱԾՆԵՐՈՒՄ ԿԱՏԱՐՎՈՂ ՓՈՓՈԽՈՒԹՅՈՒՆՆԵՐԸ ԵՎ ԼՐԱՑՈՒՄՆԵՐԸ
H10: հազ. դրամներով
A11: Գործառական դասիչը | D11: Ծրագրային դասիչը | F11: Բյուջետային հատկացումների գլխավոր կարգադրիչների, ծրագրերի, միջոցառումների և միջոցառումները կատարող պետական մարմինների անվանումները | G11: Ցուցանիշների փոփոխությունը (ավելացումները նշված են դրական նշանով, իսկ նվազեցումները փակագծերում)
A12: Բաժին | B12: Խումբ | C12: Դաս | D12: Ծրագիր | E12: Միջոցառում | G12: Ինն ամիս | H12: Տարի
F13: ԸՆԴԱՄԵՆԸ | G13: =+G15+G162 -> 384883.1 | H13: =+H15+H162 -> 0
F14: այդ թվում՝
F15: ՀՀ ԿՐԹՈՒԹՅԱՆ, ԳԻՏՈՒԹՅԱՆ, ՄՇԱԿՈՒՅԹԻ ԵՎ ՍՊՈՐՏԻ ՆԱԽԱՐԱՐՈՒԹՅՈՒՆ | G15: =+G16+G65 -> 355865.4 | H15: =+H16+H65 -> -29017.7
A16: 08 | F16: ՀԱՆԳԻՍՏ, ՄՇԱԿՈՒՅԹ ԵՎ ԿՐՈՆ | G16: =+G18 -> -164656.9 | H16: =+H18 -> -127610.6
F17: այդ թվում`
B18: 02 | F18: Մշակութային ծառայություններ | G18: =G20+G35+G50 -> -164656.9 | H18: =H20+H35+H50 -> -127610.6
F19: այդ թվում`
C20: 01 | F20: Գրադարաններ | G20: =+G22 -> 1299 | H20: =+H22 -> 1299
F21: այդ թվում`
F22: ՀՀ կրթության, գիտության, մշակույթի և սպորտի նախարարություն | G22: =+G24 -> 1299 | H22: =+H24 -> 1299
F23: այդ թվում`
D24: 1124 | E24: Գրահրատարակչության և գրադարանների ծրագիր | G24: =+G26 -> 1299 | H24: =+H26 -> 1299
F25: այդ թվում`
E26: 32001 | F26: Հանրային գրադարանների նյութատեխնիկական բազայի զարգացում | G26: =+G28 -> 1299 | H26: =+H28 -> 1299
F27: այդ թվում` ըստ կատարողների
F28: ՀՀ կրթության, գիտության, մշակույթի և սպորտի նախարարություն | G28: =+G30 -> 1299 | H28: =+H30 -> 1299
F29: այդ թվում` բյուջետային ծախսերի տնտեսագիտական դասակարգման հոդվածներ
F30: ԸՆԴԱՄԵՆԸ ԾԱԽՍԵՐ | G30: =G31 -> 1299 | H30: =H31 -> 1299
F31: ՈՉ ՖԻՆԱՆՍԱԿԱՆ ԱԿՏԻՎՆԵՐԻ ԳԾՈՎ ԾԱԽՍԵՐ | G31: =+G32 -> 1299 | H31: =+H32 -> 1299
F32: ՀԻՄՆԱԿԱՆ ՄԻՋՈՑՆԵՐ | G32: =+G33 -> 1299 | H32: =+H33 -> 1299
F33: ՄԵՔԵՆԱՆԵՐ ԵՎ ՍԱՐՔԱՎՈՐՈՒՄՆԵՐ | G33: =+G34 -> 1299 | H33: =+H34 -> 1299
F34: - Այլ մեքենաներ և սարքավորումներ | G34: =+'Հավելված N 5'!E33 -> 1299 | H34: =+'Հավելված N 5'!F33 -> 1299
C35: 05 | F35: Արվեստ | G35: =+G37 -> -166248.3 | H35: =+H37 -> -128909.6
F36: այդ թվում`
F37: ՀՀ կրթության, գիտության, մշակույթի և սպորտի նախարարություն | G37: =+G39 -> -166248.3 | H37: =+H39 -> -128909.6
F38: այդ թվում`
D39: 1168 | E39: Արվեստների ծրագիր | G39: =+G41 -> -166248.3 | H39: =+H41 -> -128909.6
F40: այդ թվում`
E41: 32001 | F41: Ներդրումներ թատրոնների և համերգային կազմակերպությունների շենքերի կապիտալ վերանորոգման համար | G41: =+G43 -> -166248.3 | H41: =+H43 -> -128909.6
F42: այդ թվում` ըստ կատարողների
F43: ՀՀ կրթության, գիտության, մշակույթի և սպորտի նախարարություն | G43: =+G45 -> -166248.3 | H43: =+H45 -> -128909.6
F44: այդ թվում` բյուջետային ծախսերի տնտեսագիտական դասակարգման հոդվածներ
F45: ԸՆԴԱՄԵՆԸ ԾԱԽՍԵՐ | G45: =G46 -> -166248.3 | H45: =H46 -> -128909.6
...

Sheet Հավելված N 4
F1: Հավելված N 4
F2: ՀՀ կառավարության 2026 թվականի
F3: ______________ ի ___Ն որոշման
A5: «ՀԱՅԱUՏԱՆԻ ՀԱՆՐԱՊԵՏՈՒԹՅԱՆ 2026 ԹՎԱԿԱՆԻ ՊԵՏԱԿԱՆ ԲՅՈՒՋԵԻ ՄԱUԻՆ» ՀԱՅԱUՏԱՆԻ ՀԱՆՐԱՊԵՏՈՒԹՅԱՆ OՐԵՆՔԻ N 1 ՀԱՎԵԼՎԱԾԻ N 3 ԱՂՅՈՒՍԱԿՈՒՄ ԿԱՏԱՐՎՈՂ ՓՈՓՈԽՈՒԹՅՈՒՆՆԵՐԸ ԵՎ ԼՐԱՑՈՒՄՆԵՐԸ
G8: հազ. դրամներով
A9: Ծրագրային դասիչ | C9: Բյուջետային գլխավոր կարգադրիչների, ծրագրերի, միջոցառումների, միջոցառումները կատարող պետական մարմինների և ուղղությունների անվանումները | D9: Ընդամենը | E9: Ցուցանիշների փոփոխությունը (ավելացումները նշված են դրական նշանով, իսկ նվազեցումները՝ փակագծերում)
A10: Ծրագիր | B10: Միջոցառում | E10: Կառուցման աշխատանքներ | F10: Վերակառուցման, վերանորոգման և վերականգնման աշխատանքներ | G10: Նախագծահե- տազոտական, գեոդեզիա- քարտեզագրա- կան աշխա- տանքներ | H10: Ոչ ֆինանսական այլ ակտիվների ձեռքբերում
C11: ԸՆԴԱՄԵՆԸ | D11: =SUM(E11:H11) -> -29017.7 | E11: =+E13 -> -123086.4 | F11: =+F13 -> -227966.5 | G11: =+G13 -> -679611.8 | H11: =+H13 -> 1001647
C12: այդ թվում՝
C13: ՀՀ ԿՐԹՈՒԹՅԱՆ, ԳԻՏՈՒԹՅԱՆ, ՄՇԱԿՈՒՅԹԻ ԵՎ ՍՊՈՐՏԻ ՆԱԽԱՐԱՐՈՒԹՅՈՒՆ | D13: =SUM(E13:H13) -> -29017.7 | E13: =+E15+E21+E22+E30+E34+E40+E46+E49+E52 -> -123086.4 | F13: =+F15+F21+F22+F30+F34+F40+F46+F49+F52 -> -227966.5 | G13: =+G15+G21+G22+G30+G34+G40+G46+G49+G52 -> -679611.8 | H13: =+H15+H21+H22+H30+H34+H40+H46+H49+H52 -> 1001647
C14: այդ թվում`
A15: 1045 | B15: 32005 | C15: Մասնագիտական ուսումնական հաստատությունների շենքերի կառուցում | D15: =SUM(E15:H15) -> -162800 | E15: =+E17+E19 -> -173600 | F15: =+F17+F19 -> 0 | G15: =+G17+G19 -> 10800 | H15: =+H17+H19 -> 0
C16: այդ թվում`
C17: ՀՀ Լոռու մարզ | D17: =SUM(E17:H17) -> -92800 | E17: =+E18 -> -103600 | F17: =+F18 -> 0 | G17: =+G18 -> 10800 | H17: =+H18 -> 0
C18: «Ստեփանավանի պրոֆ. Քալանթարի անվան պետական գյուղատնտեսական քոլեջ» ՊՈԱԿ | D18: =+E18+F18+G18+H18 -> -92800 | E18: =+'Հավելված N 8'!I33+'Հավելված N 8'!I36+'Հավելված N 8'!I38 -> -103600 | G18: =+'Հավելված N 8'!I40+'Հավելված N 8'!I41 -> 10800
C19: ՀՀ Կոտայքի մարզ | D19: =SUM(E19:H19) -> -70000 | E19: =+E20 -> -70000 | F19: =+F20 -> 0 | G19: =+G20 -> 0 | H19: =+H20 -> 0
C20: «Նոր Գեղիի ակադեմիկոս Գ. Աղաջանյանի անվան պետական գյուղատնտեսական քոլեջ» ՊՈԱԿ | D20: =+E20+F20+G20+H20 -> -70000 | E20: =+'Հավելված N 8'!I34+'Հավելված N 8'!I37+'Հավելված N 8'!I39 -> -70000
A21: 1124 | B21: 32001 | C21: Հանրային գրադարանների նյութատեխնիկական բազայի զարգացում | D21: =SUM(E21:H21) -> 1299 | E21: 0 | F21: 0 | G21: 0 | H21: =+'Հավելված N 8'!I16 -> 1299
A22: 1163 | B22: 32001 | C22: Մարզական օբյեկտների շինարարություն | D22: =SUM(E22:H22) -> 360101.8 | E22: =+E24+E26+E28 -> 350513.6 | F22: =+F24+F26+F28 -> 0 | G22: =+G24+G26+G28 -> 9588.2 | H22: =+H24+H26+H28 -> 0
C23: այդ թվում`
C24: Երևան քաղաք | D24: =SUM(E24:H24) -> 350513.6 | E24: =+E25 -> 350513.6 | F24: =+F25 -> 0 | G24: =+G25 -> 0 | H24: =+H25 -> 0
C25: Արթուր Աբրահամի անվան մարզահամալիր | D25: =+E25+F25+G25+H25 -> 350513.6 | E25: =+'Հավելված N 8'!I44+'Հավելված N 8'!I46+'Հավելված N 8'!I47 -> 350513.6
C26: ՀՀ Լոռու մարզ | D26: =SUM(E26:H26) -> 2485.4 | E26: =+E27 -> 0 | F26: =+F27 -> 0 | G26: =+G27 -> 2485.4 | H26: =+H27 -> 0
C27: Ստեփան Սարգսյանի անվան ըմբշամարտի մարզադահլիճ | D27: =+E27+F27+G27+H27 -> 2485.4 | G27: =+'Հավելված N 8'!I48+'Հավելված N 8'!I50 -> 2485.4
C28: ՀՀ Շիրակի մարզ | D28: =SUM(E28:H28) -> 7102.8 | E28: =+E29 -> 0 | F28: =+F29 -> 0 | G28: =+G29 -> 7102.8 | H28: =+H29 -> 0
C29: ՀՀ Շիրակի մարզի Աշոցք համայնքում նոր մարզադպրոցի կառուցում | D29: =+E29+F29+G29+H29 -> 7102.8 | G29: =+'Հավելված N 8'!I49 -> 7102.8
A30: 1163 | B30: 32002 | C30: Մարզական օբյեկտների հիմնանորոգում | D30: =SUM(E30:H30) -> 100818.8 | E30: =+E32 -> 0 | F30: =+F32 -> 100818.8 | G30: =+G32 -> 0 | H30: =+H32 -> 0
C31: այդ թվում`
C32: Երևան քաղաք | D32: =SUM(E32:H32) -> 100818.8 | E32: =+E33 -> 0 | F32: =+F33 -> 100818.8 | G32: =+G33 -> 0 | H32: =+H33 -> 0
C33: «Երևանի օլիմպիական հերթափոխի պետական մարզական քոլեջ» ՊՈԱԿ | D33: =+E33+F33+G33+H33 -> 100818.8 | F33: =+'Հավելված N 8'!I53+'Հավելված N 8'!I55+'Հավելված N 8'!I56 -> 100818.8
A34: 1168 | B34: 32001 | C34: Ներդրումներ թատրոնների և համերգային կազմակերպությունների շենքերի կապիտալ վերանորոգման համար | D34: =SUM(E34:H34) -> -128909.6 | E34: =+E36+E38 -> 0 | F34: =+F36+F38 -> -128909.6 | G34: =+G36+G38 -> 0 | H34: =+H36+H38 -> 0
C35: այդ թվում`
C36: Երևան քաղաք | D36: =SUM(E36:H36) -> -24146.8 | E36: =SUM(E37:E37) -> 0 | F36: =SUM(F37:F37) -> -24146.8 | G36: =SUM(G37:G37) -> 0 | H36: =SUM(H37:H37) -> 0
C37: «Հայաստանի պետական սիմֆոնիկ նվագախումբ» ՊՈԱԿ | D37: =+E37+F37+G37+H37 -> -24146.8 | F37: =+'Հավելված N 8'!I21+'Հավելված N 8'!I24+'Հավելված N 8'!I26 -> -24146.8
C38: ՀՀ Սյունիքի մարզ | D38: =SUM(E38:H38) -> -104762.8 | E38: =SUM(E39:E39) -> 0 | F38: =SUM(F39:F39) -> -104762.8 | G38: =SUM(G39:G39) -> 0 | H38: =SUM(H39:H39) -> 0
C39: «Գորիսի Վ․Վաղարշյանի անվան դրամատիկական թատրոն» ՊՈԱԿ | D39: =+E39+F39+G39+H39 -> -104762.8 | F39: =+'Հավելված N 8'!I22+'Հավելված N 8'!I25+'Հավելված N 8'!I27 -> -104762.8
A40: 1183 | B40: 32009 | C40: Հանրակրթական կրթություն իրականացնող ուսումնական հաստատությունների մարզադահլիճների վերակառուցում | D40: =SUM(E40:H40) -> -199875.7 | E40: =+E42+E44 -> 0 | F40: =+F42+F44 -> -199875.7 | G40: =+G42+G44 -> 0 | H40: =+H42+H44 -> 0
C41: այդ թվում`
C42: ՀՀ Շիրակի մարզ | D42: =SUM(E42:H42) -> -77773.8 | E42: =SUM(E43:E43) -> 0 | F42: =SUM(F43:F43) -> -77773.8 | G42: =SUM(G43:G43) -> 0 | H42: =SUM(H43:H43) -> 0
C43: «ք. Մարալիկի թիվ 1 միջնակարգ դպրոց» ՊՈԱԿ | D43: =+E43+F43+G43+H43 -> -77773.8 | F43: =+'Հավելված N 8'!I59+'Հավելված N 8'!I62 -> -77773.8
...

Sheet Հավելված N 5
E1: Հավելված N 5
D2: ՀՀ կառավարության 2026 թվականի
E3: ______________ ի ___Ն որոշման
B6: ՀԱՅԱՍՏԱՆԻ ՀԱՆՐԱՊԵՏՈՒԹՅԱՆ ԿԱՌԱՎԱՐՈՒԹՅԱՆ 2025 ԹՎԱԿԱՆԻ ԴԵԿՏԵՄԲԵՐԻ 25-Ի N 1910-Ն ՈՐՈՇՄԱՆ N 5 ՀԱՎԵԼՎԱԾԻ N 2 ԱՂՅՈՒՍԱԿՈՒՄ ԿԱՏԱՐՎՈՂ ՓՈՓՈԽՈՒԹՅՈՒՆՆԵՐԸ ԵՎ ԼՐԱՑՈՒՄՆԵՐԸ
F8: հազ. դրամներով
B9: Ծրագրային դասիչ | D9: Բյուջետային գլխավոր կարգադրիչների, ծրագրերի, միջոցառումների, միջոցառումները կատարող պետական մարմինների և ուղղությունների անվանումները | E9: Ցուցանիշների փոփոխությունը (ավելացումները նշված են դրական նշանով, իսկ նվազեցումները՝ փակագծերում)
B10: Ծրագիր | C10: Միջոցառում | E10: Ինն ամիս | F10: Տարի
D11: ՀՀ ԿՐԹՈՒԹՅԱՆ, ԳԻՏՈՒԹՅԱՆ, ՄՇԱԿՈՒՅԹԻ ԵՎ ՍՊՈՐՏԻ ՆԱԽԱՐԱՐՈՒԹՅՈՒՆ | E11: =+E13+E23+E31+E34+E44+E50+E58+E66+E71+E76 -> 355865.4 | F11: =+F13+F23+F31+F34+F44+F50+F58+F66+F71+F76 -> -29017.7
D12: այդ թվում՝
B13: 1045 | C13: 32005 | D13: Մասնագիտական ուսումնական հաստատությունների շենքերի կառուցում | E13: =+E15 -> -155118.4 | F13: =+F15 -> -162800
D14: այդ թվում` ըստ կատարողների
D15: ՀՀ քաղաքաշինության կոմիտե | E15: =+E17+E19+E21 -> -155118.4 | F15: =+F17+F19+F21 -> -162800
D16: այդ թվում՝ ըստ ուղղությունների
D17: ՀՀ Լոռու մարզ | E17: =+E18 -> -61720 | F17: =+F18 -> -92800
D18: =+'Հավելված N 4'!C18 -> «Ստեփանավանի պրոֆ. Քալանթարի անվան պետական գյուղատնտեսական քոլեջ» ՊՈԱԿ | E18: =-72520+'Հավելված N 4'!G18 -> -61720 | F18: =+'Հավելված N 4'!D18 -> -92800
D19: ՀՀ Կոտայքի մարզ | E19: =+E20 -> -20878.4 | F19: =+F20 -> -70000
D20: =+'Հավելված N 4'!C20 -> «Նոր Գեղիի ակադեմիկոս Գ. Աղաջանյանի անվան պետական գյուղատնտեսական քոլեջ» ՊՈԱԿ | E20: -20878.4 | F20: =+'Հավելված N 4'!D20 -> -70000
D21: ՀՀ Տավուշի մարզ | E21: =+E22 -> -72520 | F21: =+F22 -> 0
D22: «Նոյեմբերյանի պետական քոլեջ» ՊՈԱԿ | E22: -72520 | F22: =+'Հավելված N 4'!D23 -> 0
B23: 1075 | C23: 21001 | D23: Հուշարձանների ամրակայում, նորոգում և վերականգնում | E23: =+E25 -> 292.4 | F23: =+F25 -> 0
D24: այդ թվում` ըստ կատարողների
D25: ՀՀ կրթության, գիտության, մշակությի և սպորտի նախարարություն | E25: =+E27 -> 292.4 | F25: =+F27 -> 0
D26: այդ թվում՝ ըստ ուղղությունների
D27: 1. Վերականգնողական աշխատանքներ | E27: =+E29 -> 292.4 | F27: =+F29 -> 0
D28: որից`
D29: ՀՀ Վայոց Ձորի մարզ | E29: =+E30 -> 292.4 | F29: =+F30 -> 0
D30: Եղեգիս խոշորացված համայնքի Շատիվանքի Սբ․ Սիոն եկեղեցու որմնանկարների ամրակայում և վերականգնում | E30: 292.4 | F30: 0
B31: 1124 | C31: 32001 | D31: Հանրային գրադարանների նյութատեխնիկական բազայի զարգացում | E31: =+E33 -> 1299 | F31: =+F33 -> 1299
D32: այդ թվում` ըստ կատարողների
D33: ՀՀ կրթության, գիտության, մշակությի և սպորտի նախարարություն | E33: =+F33 -> 1299 | F33: =+'Հավելված N 4'!D21 -> 1299
B34: 1163 | C34: 32001 | D34: Մարզական օբյեկտների շինարարություն | E34: =+E36 -> 350513.6 | F34: =+F36 -> 360101.8
D35: այդ թվում` ըստ կատարողների
D36: ՀՀ քաղաքաշինության կոմիտե | E36: =+E38+E40+E42 -> 350513.6 | F36: =+F38+F40+F42 -> 360101.8
D37: այդ թվում՝ ըստ ուղղությունների
D38: Երևան քաղաք | E38: =+E39 -> 350513.6 | F38: =+F39 -> 350513.6
D39: =+'Հավելված N 4'!C25 -> Արթուր Աբրահամի անվան մարզահամալիր | E39: =+F39 -> 350513.6 | F39: =+'Հավելված N 4'!D25 -> 350513.6
D40: ՀՀ Լոռու մարզ | E40: =+E41 -> 0 | F40: =+F41 -> 2485.4
D41: =+'Հավելված N 4'!C27 -> Ստեփան Սարգսյանի անվան ըմբշամարտի մարզադահլիճ | E41: 0 | F41: =+'Հավելված N 4'!D27 -> 2485.4
D42: ՀՀ Շիրակի մարզ | E42: =+E43 -> 0 | F42: =+F43 -> 7102.8
D43: =+'Հավելված N 4'!C29 -> ՀՀ Շիրակի մարզի Աշոցք համայնքում նոր մարզադպրոցի կառուցում | E43: 0 | F43: =+'Հավելված N 4'!D29 -> 7102.8
...

Sheet Հավելված N 6
J1: Հավելված N 6
I2: ՀՀ կառավարության 2026 թվականի
J3: ______________ ի ___Ն որոշման
A6: ՀԱՅԱՍՏԱՆԻ ՀԱՆՐԱՊԵՏՈՒԹՅԱՆ ԿԱՌԱՎԱՐՈՒԹՅԱՆ 2025 ԹՎԱԿԱՆԻ ԴԵԿՏԵՄԲԵՐԻ 25-Ի N 1910-Ն ՈՐՈՇՄԱՆ N 9 ՀԱՎԵԼՎԱԾՈՒՄ ԿԱՏԱՐՎՈՂ ՓՈՓՈԽՈՒԹՅՈՒՆՆԵՐԸ ԵՎ ԼՐԱՑՈՒՄՆԵՐԸ
J8: հազար դրամներոով
A9: ԲԳԿ | B9: Ծրագիր | D9: Միջոցառում | H9: Իրականացնողը/ ակտիվն օգտագործողը/ շահառուի ընտրության չափորոշիչը | I9: Արդյունքային չափորոշիչը | J9: Ցուցանիշների փոփոխությունը (ավելացումները նշված են դրական նշանով, իսկ նվազեցումները՝ փակագծերում)
B10: Դասիչը | C10: Անվանումը | D10: Դասիչը | E10: Անվանումը | F10: Նկարագրությունը | G10: Տեսակը | J10: Ինն ամիս | K10: Տարի
A11: ԸՆԴԱՄԵՆԸ | J11: =+J13+J72 -> 384883.1 | K11: =+K13+K72 -> 0
A12: այդ թվում՝
A13: ՀՀ ԿՐԹՈՒԹՅԱՆ, ԳԻՏՈՒԹՅԱՆ, ՄՇԱԿՈԻՅԹԻ ԵՎ ՍՊՈՐՏԻ ՆԱԽԱՐԱՐՈՒԹՅՈՒՆ | J13: =+J14+J22+J28+J34+J44+J50+J57 -> 355865.4 | K13: =+K14+K22+K28+K34+K44+K50+K57 -> -29017.7
B14: 1045 | C14: Մասնագիտական կրթության և ուսուցման ծրագիր | J14: =+J15 -> -155118.4 | K14: =+K15 -> -162800
D15: 1045 - 32005 | E15: Մասնագիտական ուսումնական հաստատությունների շենքերի կառուցում | J15: =+'Հավելված N 2'!G17 -> -155118.4 | K15: =+'Հավելված N 2'!H17 -> -162800
F16: Մասնագիտական ուսումնական հաստատությունների շենքերի (մասնաշենքերի) կառուցման և նախագծման աշխատանքների իրականացում
G17: Այլ պետական կազմակերպությունների կողմից օգտագործվող ոչ ֆինանսական ակտիվների հետ գործառնություններ
H18: Ակտիվն օգտագործող կազմակերպությունների անվանումները` Մասնագիտական ուսումնական հաստատություններ
I19: Կառուցվող մասնագիտական ուսումնական հաստատությունների քանակ, հատ | K19: -2
I20: Նախագծանախահաշվային փաստաթղթերի քանակ, հատ | K20: 1
B22: 1075 | C22: Մշակութային ժառանգության ծրագիր | J22: =+J23 -> 292.4 | K22: =+K23 -> 0
D23: 1075 - 21001 | E23: Հուշարձանների ամրակայում, նորոգում և վերականգնում | J23: =+'Հավելված N 2'!G19 -> 292.4 | K23: =+'Հավելված N 2'!H19 -> 0
F24: Հուշարձանների գիտանախագծային փաստաթղթերի կազմում, հրատապ ուսումնասիրում, վավերագրման և ուսումնասիրման աշխատանքներ, հետախուզում և հնագիտական պեղում, ամրակայում, նորոգում և վերականգնում
G25: Հանրության կողմից անմիջականորեն օգտագործվող ակտիվների հետ կապված միջոցառումներ
H26: Ծառայությունը մատուցող կազմակերպության անվանումը` Մասնագիտացված կազմակերպություններ
B28: 1124 | C28: Գրահրատարակչության և գրադարանների ծրագիր | J28: =+J29 -> 1299 | K28: =+K29 -> 1299
D29: 1124 - 32001 | E29: Հանրային գրադարանների նյութատեխնիկական բազայի զարգացում | J29: =+'Հավելված N 2'!G21 -> 1299 | K29: =+'Հավելված N 2'!H21 -> 1299
F30: Հանրային գրադարանների նյութատեխնիկական բազայի զարգացում
G31: Այլ պետական կազմակերպությունների կողմից օգտագործվող ոչ ֆինանսական ակտիվների հետ գործառնություններ
H32: Ակտիվն օգտագործող կազմակերպության անվանումը` Հանրային գրադարաններ
B34: 1163 | C34: Մասսայական սպորտ | J34: =+J35+J39 -> 451332.4 | K34: =+K35+K39 -> 460920.6
D35: 1163 - 32001 | E35: Մարզական օբյեկտների շինարարություն | J35: =+'Հավելված N 2'!G23 -> 350513.6 | K35: =+'Հավելված N 2'!H23 -> 360101.8
F36: Մարզական օբյեկտների շենքերի (մասնաշենքերի) կառուցում (համաշինարարական աշխատանքներ, ջեռուցման համակարգի իրականացում, ներքին հարդարում, տարածքի բարեկարգում) և նախագծում
G37: Այլ պետական կազմակերպությունների կողմից օգտագործվող ոչ ֆինանսական ակտիվների հետ գործառնություններ
H38: Ակտիվն օգտագործող կազմակերպության անվանումը` Մարզական հաստատություններ
D39: 1163 - 32002 | E39: Մարզական օբյեկտների հիմնանորոգում | J39: =+'Հավելված N 2'!G24 -> 100818.8 | K39: =+'Հավելված N 2'!H24 -> 100818.8
F40: Մարզական օբյեկտների շենքերի (մասնաշենքերի) հիմնանորոգում (համաշինարարական աշխատանքներ, ջեռուցման համակարգի իրականացում, ներքին հարդարում, տարածքի բարեկարգում) և նախագծում
G41: Այլ պետական կազմակերպությունների կողմից օգտագործվող ոչ ֆինանսական ակտիվների հետ գործառնություններ
H42: Ակտիվն օգտագործող կազմակերպության անվանումը` Մարզական հաստատություններ
B44: 1168 | C44: Արվեստների ծրագիր | J44: =+J45 -> -166248.3 | K44: =+K45 -> -128909.6
D45: 1168 - 32001 | E45: Ներդրումներ թատրոնների և համերգային կազմակերպությունների շենքերի կապիտալ վերանորոգման համար | J45: =+'Հավելված N 2'!G26 -> -166248.3 | K45: =+'Հավելված N 2'!H26 -> -128909.6
F46: Թատրոնների և համերգային կազմակերպությունների շենքերի մասնաշենքերի հիմնանորոգում, համաշինարարական աշխատանքներ, ջեռուցման համակարգի իրականացում, ներքին հարդարում, տարածքի բարեկարգում և նախագծում
G47: Այլ պետական կազմակերպությունների կողմից օգտագործվող ոչ ֆինանսական ակտիվների հետ գործառնություններ
...

Sheet Հավելված N 7
J1: Հավելված N 7
I2: ՀՀ կառավարության 2026 թվականի
J3: ______________ ի ___Ն որոշման
A6: ՀԱՅԱՍՏԱՆԻ ՀԱՆՐԱՊԵՏՈՒԹՅԱՆ ԿԱՌԱՎԱՐՈՒԹՅԱՆ 2025 ԹՎԱԿԱՆԻ ԴԵԿՏԵՄԲԵՐԻ 25-Ի N 1910-Ն ՈՐՈՇՄԱՆ N 9.1 ՀԱՎԵԼՎԱԾՈՒՄ ԿԱՏԱՐՎՈՂ ՓՈՓՈԽՈՒԹՅՈՒՆՆԵՐԸ ԵՎ ԼՐԱՑՈՒՄՆԵՐԸ
J8: հազար դրամներոով
A9: ԲՍԿ | B9: Ծրագիր | D9: Միջոցառում | H9: Իրականացնողը/ ակտիվն օգտագործողը/ շահառուի ընտրության չափորոշիչը | I9: Արդյունքային չափորոշիչը | J9: Ցուցանիշների փոփոխությունը (ավելացումները նշված են դրական նշանով, իսկ նվազեցումները՝ փակագծերում)
B10: Դասիչը | C10: Անվանումը | D10: Դասիչը | E10: Անվանումը | F10: Նկարագրությունը | G10: Տեսակը | J10: Ինն ամիս | K10: Տարի
A11: ԸՆԴԱՄԵՆԸ | J11: =+J13+J42+J74+J82 -> 384883.1 | K11: =+K13+K42+K74+K82 -> 0
A12: այդ թվում՝
A13: ՀՀ ԿՐԹՈՒԹՅԱՆ, ԳԻՏՈՒԹՅԱՆ, ՄՇԱԿՈԻՅԹԻ ԵՎ ՍՊՈՐՏԻ ՆԱԽԱՐԱՐՈՒԹՅՈՒՆ | J13: =+J14+J20+J26+J32 -> 135343.1 | K13: =+K14+K20+K26+K32 -> 172389.4
B14: 1075 | C14: Մշակութային ժառանգության ծրագիր | J14: =+J15 -> 292.4 | K14: =+K15 -> 0
D15: 1075 - 21001 | E15: Հուշարձանների ամրակայում, նորոգում և վերականգնում | J15: =+'Հավելված N 3'!G58 -> 292.4 | K15: =+'Հավելված N 3'!H58 -> 0
F16: Հուշարձանների գիտանախագծային փաստաթղթերի կազմում, հրատապ ուսումնասիրում, վավերագրման և ուսումնասիրման աշխատանքներ, հետախուզում և հնագիտական պեղում, ամրակայում, նորոգում և վերականգնում
G17: Հանրության կողմից անմիջականորեն օգտագործվող ակտիվների հետ կապված միջոցառումներ
H18: Ծառայությունը մատուցող կազմակերպության անվանումը` Մասնագիտացված կազմակերպություններ
B20: 1124 | C20: Գրահրատարակչության և գրադարանների ծրագիր | J20: =+J21 -> 1299 | K20: =+K21 -> 1299
D21: 1124 - 32001 | E21: Հանրային գրադարանների նյութատեխնիկական բազայի զարգացում | J21: =+'Հավելված N 3'!G28 -> 1299 | K21: =+'Հավելված N 3'!H28 -> 1299
F22: Հանրային գրադարանների նյութատեխնիկական բազայի զարգացում
G23: Այլ պետական կազմակերպությունների կողմից օգտագործվող ոչ ֆինանսական ակտիվների հետ գործառնություններ
H24: Ակտիվն օգտագործող կազմակերպության անվանումը` Հանրային գրադարաններ
B26: 1168 | C26: Արվեստների ծրագիր | J26: =+J27 -> -166248.3 | K26: =+K27 -> -128909.6
D27: 1168 - 32001 | E27: Ներդրումներ թատրոնների և համերգային կազմակերպությունների շենքերի կապիտալ վերանորոգման համար | J27: =+'Հավելված N 3'!G43 -> -166248.3 | K27: =+'Հավելված N 3'!H43 -> -128909.6
F28: Թատրոնների և համերգային կազմակերպությունների շենքերի մասնաշենքերի հիմնանորոգում, համաշինարարական աշխատանքներ, ջեռուցման համակարգի իրականացում, ներքին հարդարում, տարածքի բարեկարգում և նախագծում
G29: Այլ պետական կազմակերպությունների կողմից օգտագործվող ոչ ֆինանսական ակտիվների հետ գործառնություններ
H30: Ակտիվն օգտագործող կազմակերպության անվանումը` Թատրոններ և համերգային կազմակերպություններ
B32: 1236 | C32: Հանրակրթական և նախադպրոցական հաստատությունների հիմնում, կառուցում, բարելավում | J32: =+J33+J37 -> 300000 | K32: =+K33+K37 -> 300000
D33: 1236 - 32003 | E33: Հանրակրթական դպրոցների նոր շենքերի կառուցում | J33: =+'Հավելված N 3'!G77 -> -700000 | K33: =+'Հավելված N 3'!H77 -> -700000
F34: ՀՀ մարզերում կրթական որակյալ ծառայությունների հասանելիության ապահովման ծրագրի շրջանակներում հանրակրթական և նախադպրոցական կրթության հասանելիության ապահովման նպատակով կրթական կենտրոնների կառուցում
G35: Այլ պետական կազմակերպությունների կողմից օգտագործվող ոչ ֆինանսական ակտիվների հետ գործառնություններ
H36: Ակտիվն օգտագործող կազմակերպության անվանումը` Հանրակրթական դպրոցներ
D37: 1236 - 32006 | E37: Հանրակրթական դպրոցների, մանկապարտեզների և կրթահամալիրների գույքով և տեխնիկայով ապահովում | J37: =+'Հավելված N 3'!G95 -> 1000000 | K37: =+'Հավելված N 3'!H95 -> 1000000
F38: Կրթական ժամանակակից նորմերին և կրթական չափորոշիչներին համապատասխան ուսուցման ծրագրերն իրականացնելու նպատակով հանրակրթական և նախադպրոցական հաստատությունների համար գույքի և տեխնիկայի ձեռքբերում
G39: Այլ պետական կազմակերպությունների կողմից օգտագործվող ոչ ֆինանսական ակտիվների հետ գործառնություններ
H40: Ակտիվն օգտագործող կազմակերպությունների անվանումները` Հանրակրթական դպրոցներ, մանկապարտեզներ և կրթահամալիրներ
A42: ՀՀ ՔԱՂԱՔԱՇԻՆՈՒԹՅԱՆ ԿՈՄԻՏԵ | J42: =+J43+J51+J61+J68 -> 220174.3 | K42: =+K43+K51+K61+K68 -> -201755.1
B43: 1045 | C43: Մասնագիտական կրթության և ուսուցման ծրագիր | J43: =+J44 -> -155118.4 | K43: =+K44 -> -162800
D44: 1045 - 32005 | E44: Մասնագիտական ուսումնական հաստատությունների շենքերի կառուցում | J44: =+'Հավելված N 3'!G119 -> -155118.4 | K44: =+'Հավելված N 3'!H119 -> -162800
F45: Մասնագիտական ուսումնական հաստատությունների շենքերի (մասնաշենքերի) կառուցման և նախագծման աշխատանքների իրականացում
G46: Այլ պետական կազմակերպությունների կողմից օգտագործվող ոչ ֆինանսական ակտիվների հետ գործառնություններ
H47: Ակտիվն օգտագործող կազմակերպությունների անվանումները` Մասնագիտական ուսումնական հաստատություններ
...

Sheet Հավելված N 8
H1: Հավելված N 8
H2: ՀՀ կառավարության 2026 թվականի
H3: ______________ ի ___Ն որոշման
A6: ՀԱՅԱՍՏԱՆԻ ՀԱՆՐԱՊԵՏՈՒԹՅԱՆ ԿԱՌԱՎԱՐՈՒԹՅԱՆ 2025 ԹՎԱԿԱՆԻ ԴԵԿՏԵՄԲԵՐԻ 25-Ի N 1910-Ն N 10 ՀԱՎԵԼՎԱԾՈՒՄ ԿԱՏԱՐՎՈՂ ՓՈՓՈԽՈՒԹՅՈՒՆՆԵՐԸ ԵՎ ԼՐԱՑՈՒՄՆԵՐԸ
A10: Կոդը | B10: Անվանումը | E10: Գնման ձևը | F10: Չափման միավորը | G10: Միավորի գինը | H10: Ցուցանիշների փոփոխությունը (ավելացումները նշված են դրական նշանով, իսկ նվազեցումները՝ փակագծերում)
H11: Քանակը | I11: Գումարը (հազար դրամ)
A12: 1 | B12: 2 | E12: 3 | F12: 4 | G12: 5 | H12: 6 | I12: 7
A13: ՀՀ կրթության, գիտության, մշակույթի և սպորտի նախարարություն | I13: =I14+I18 -> -127610.6
A14: Բաժին N 08 | B14: Խումբ N 02 | C14: Դաս N 01 | D14: Գրադարաններ | I14: =+I15 -> 1299
A15: 1124-32001 | B15: Հանրային գրադարանների նյութատեխնիկական բազայի զարգացում | I15: =+I16 -> 1299
B16: ՄԱՍ I. ԱՊՐԱՆՔՆԵՐ | I16: =SUM(I17:I17) -> 1299
A17: 30191200 | B17: կռունկաձ―պրոեկտոր | E17: ԷԱՃ | F17: հատ | G17: 259800 | H17: 5 | I17: =+ROUNDUP(G17*H17/1000,1) -> 1299
A18: Բաժին N 08 | B18: Խումբ N 02 | C18: Դաս N 05 | D18: Արվեստ | I18: =+I19 -> -128909.6
A19: 1168-32001 | B19: Ներդրումներ թատրոնների և համերգային կազմակերպությունների շենքերի կապիտալ վերանորոգման համար | I19: =+I20+I23 -> -128909.6
B20: ՄԱՍ II. ԱՇԽԱՏԱՆՔՆԵՐ | I20: =SUM(I21:I22) -> -126891.4
A21: 45611200-1 | B21: մշակութային օբյեկտների հիմնանորոգում | E21: ԲՄ | F21: դրամ | I21: -23728.7 | J21: Սիմֆոնիկ
A22: 45611200-2 | B22: մշակութային օբյեկտների հիմնանորոգում | E22: ԲՄ | F22: դրամ | I22: =-29017.7-74145 -> -103162.7 | J22: Գորիս
B23: ՄԱՍ III. ԾԱՌԱՅՈՒԹՅՈՒՆՆԵՐ | I23: =SUM(I24:I27) -> -2018.2
A24: 71351540-1 | B24: տեխնիկական հսկողության ծառայություններ | E24: ԳՀ | F24: դրամ | I24: -286.1 | J24: Սիմֆոնիկ
A25: 71351540-2 | B25: տեխնիկական հսկողության ծառայություններ | E25: ԳՀ | F25: դրամ | I25: -579.9 | J25: Գորիս
A26: 98111140-1 | B26: հեղինակային հսկողության ծառայություններ | E26: ՄԱ | F26: դրամ | I26: -132 | J26: Սիմֆոնիկ
A27: 98111140-2 | B27: հեղինակային հսկողության ծառայություններ | E27: ՄԱ | F27: դրամ | G27: 1020200 | H27: -1 | I27: =+ROUNDDOWN(G27*H27/1000,1) -> -1020.2 | J27: Գորիս
A29: ՀՀ քաղաքաշինության կոմիտե | I29: =+I30 -> 98244.9
A30: Բաժին N 09 | B30: Խումբ N 06 | C30: Դաս N 01 | D30: Կրթությանը տրամադրվող օժանդակ ծառայություններ | I30: =+I31+I42+I51+I57 -> 98244.9
A31: 1045-32005 | B31: Մասնագիտական ուսումնական հաստատությունների շենքերի կառուցում | I31: =+I32+I35 -> -162800
B32: ՄԱՍ II. ԱՇԽԱՏԱՆՔՆԵՐ | I32: =SUM(I33:I34) -> -167567.6
A33: 45221142-2 | B33: ընդհանուր շինարարական աշխատանքներ | E33: ԲՄ | F33: դրամ | G33: 100000000 | H33: -1 | I33: =+ROUNDDOWN(G33*H33/1000,1) -> -100000 | J33: Ստեփանավան
A34: 45221142-3 | B34: ընդհանուր շինարարական աշխատանքներ | E34: ԲՄ | F34: դրամ | G34: 67567600 | H34: -1 | I34: =+ROUNDDOWN(G34*H34/1000,1) -> -67567.6 | J34: Նոր Գեղի
B35: ՄԱՍ III. ԾԱՌԱՅՈՒԹՅՈՒՆՆԵՐ | I35: =SUM(I36:I41) -> 4767.6
A36: 71351540-2 | B36: տեխնիկական հսկողության ծառայություններ | E36: ԳՀ | F36: դրամ | G36: 3000000 | H36: -1 | I36: =+ROUNDDOWN(G36*H36/1000,1) -> -3000 | J36: Ստեփանավան
A37: 71351540-3 | B37: տեխնիկական հսկողության ծառայություններ | E37: ԳՀ | F37: դրամ | G37: 2027000 | H37: -1 | I37: =+ROUNDDOWN(G37*H37/1000,1) -> -2027 | J37: Նոր Գեղի
A38: 98111140-2 | B38: հեղինակային հսկողության ծառայություններ | E38: ՄԱ | F38: դրամ | G38: 600000 | H38: -1 | I38: =+ROUNDDOWN(G38*H38/1000,1) -> -600 | J38: Ստեփանավան
A39: 98111140-3 | B39: հեղինակային հսկողության ծառայություններ | E39: ՄԱ | F39: դրամ | G39: 405400 | H39: -1 | I39: =+ROUNDDOWN(G39*H39/1000,1) -> -405.4 | J39: Նոր Գեղի
A40: 71241200 | B40: նախագծերի պատրաստում, ծախսերի գնահատում | E40: ԳՀ | F40: դրամ | G40: 10000000 | H40: 1 | I40: =+ROUNDDOWN(G40*H40/1000,1) -> 10000 | J40: Ստեփանավան
A41: 50531140 | B41: փորձաքննության ծառայություններ | E41: ԳՀ | F41: դրամ | G41: 800000 | H41: 1 | I41: =+ROUNDDOWN(G41*H41/1000,1) -> 800 | J41: Ստեփանավան
A42: 1163-32001 | B42: Մարզական օբյեկտների շինարարություն | I42: =+I43+I45 -> 360101.8
B43: ՄԱՍ II. ԱՇԽԱՏԱՆՔՆԵՐ | I43: =+I44 -> 350000
A44: 45221142-1 | B44: ընդհանուր շինարարական աշխատանքներ | E44: ԲՄ | F44: դրամ | I44: 350000 | J44: Արթուր Աբրահամ
B45: ՄԱՍ III. ԾԱՌԱՅՈՒԹՅՈՒՆՆԵՐ | I45: =SUM(I46:I50) -> 10101.8
A46: 71351540-1 | B46: տեխնիկական հսկողության ծառայություններ | E46: ԳՀ | F46: դրամ | I46: -2597.7 | J46: Արթուր Աբրահամ
...
